{"text_format":"1","workbook":"xlsx","n_sheets":21,"sheets":["REGISTRATION","HOME","Sale Price","Chart1","PURCH1","PURCH2","PURCH3","PURCH4","PURCH5","Day1","Day2","Day3","Day4","Day5","REPORT1","REPORT2","REPORT3","REPORT4","REPORT5","Consl_Rpt","HELP"],"not_rendered":{"charts":2,"images":1,"macros":1,"external_links":0,"defined_names":5,"comments":0,"pivot_tables":0},"unopened":[{"sheet":"Chart1","index":3,"reason":"not_a_worksheet"}],"bounds":{"document_bytes":16777216,"sheet_cells":100000,"rows_first":2000,"rows_last":500,"rows_between":2000,"halvings":0,"cell_chars":16384,"cell_head_chars":4096},"cells_cut":0,"cells_raw":0,"read":"whole","date_system":"1900"}

{"sheet":"REGISTRATION","index":0,"n_rows":18,"n_cols":6,"rows_kept":18,"cut":false,"hidden":false,"merged":[[12,5,12,10],[14,5,14,10],[17,5,20,10],[0,0,0,10],[1,0,1,10],[2,0,2,10],[4,0,4,10],[6,5,6,10],[8,5,8,10],[10,5,10,10]]}
["DEPARTMENT OF AGRICULTURE DEVELOPMENT AND FARMERS' WELFARE"]
["ONAM VEGETABLE MARKET"]
[]
[]
["MARKET REGISTRATION FORM"]
[]
["NAME OF MARKET",null,null,null,null,"jj"]
[]
["DISTRICT"]
[]
["BLOCK"]
[]
["KRISHI BHAVAN"]
[]
["NAME OF OFFICER IN CHARGE"]
[]
[]
["DESIGNATION & ADDRESS"]

{"sheet":"HOME","index":1,"n_rows":12,"n_cols":7,"rows_kept":12,"cut":false,"hidden":false,"merged":[[0,0,0,10],[1,0,1,10],[2,0,2,10]]}
["DEPARTMENT OF AGRICULTURE DEVELOPMENT AND FARMERS' WELFARE"]
["VISHU VIPANI"]
[]
[]
[]
[]
[]
[]
[]
[]
[]
[null,null,null,null,null,null,"Developed by IT Division, Directorate of Agriculture"]

{"sheet":"Sale Price","index":2,"n_rows":64,"n_cols":9,"rows_kept":64,"cut":false,"hidden":false,"merged":[[2,1,3,1],[2,2,3,2],[2,3,3,3],[0,1,0,8]]}
[null,"APPROVED SALE RATE OF VEGETABLES "]
[null,1,2,3,4,5,6,7,8]
[null,"Code","Item","Short code","DAY1","DAY2","DAY3","DAY4","DAY5"]
[null,null,null,null,"Rate","Rate","Rate","Rate","Rate"]
[null,1,"Nendran","Nendrn"]
[null,2,"Banana Green","Ban G"]
[null,3,"Palayanthodan","Palaya"]
[null,4,"Poovan","Puvan"]
[null,5,"Rasakadali","RasaK"]
[null,6,"Red banana","RedB"]
[null,7,"Robusta","Robst"]
[null,8,"Peyan/Monthan","Peyn"]
[null,9,"Amorphophallus","Chena"]
[null,10,"Beans","Beans"]
[null,11,"Cluster beans","Amara"]
[null,12,"Carrot","Carot"]
[null,13,"Beetroot","BeetR"]
[null,14,"Cabbage","Cabag"]
[null,15,"Cauliflower","CauliF"]
[null,16,"Capsicum","Capsic"]
[null,17,"Tomato","Tomat"]
[null,18,"Green chillies ","ChillS"]
[null,19,"Sambar Mulaku","ChillB"]
[null,20,"Bitter gourd","BittrG"]
[null,21,"Bottle gourd","BottG"]
[null,22,"Snakegourd","SnakG"]
[null,23,"Brinjal kathiri","BrinjR"]
[null,24,"Brinjal Vazhuthana","Vazhut"]
[null,25,"Pumpkin","Pumpk"]
[null,26,"Onion Big","Savala"]
[null,27,"Onion Small","Ulli"]
[null,28,"Garlic","Garlc"]
[null,29,"Ginger","Ginger"]
[null,30,"Cucumber","Cucum"]
[null,31,"Colocaisa","Chemb"]
[null,32,"Cowpea","Cowp"]
[null,33,"Ashgourd/Thadiyan","AshG"]
[null,34,"Ladies finger","Venda"]
[null,35,"Drumstick","Drumst"]
[null,36,"Koval","Koval"]
[null,37,"CurryLeaf","CryLef"]
[null,38,"MintLeaf","MntLf"]
[null,39,"Coriander Leaf","CorLf"]
[null,40,"Amaranthus","Cheera"]
[null,41,"Lemon Big","LemnB"]
[null,42,"Lemon small","LemnS"]
[null,43,"Mango","Mango"]
[null,44,"Pineapple","PineA"]
[null,45,"Potato","Potat"]
[null,46,"Amla","Amla"]
[null,47,"Tapioca","Tap"]
[null,48]
[null,49]
[null,50]
[null,51]
[null,52]
[null,53]
[null,54]
[null,55]
[null,56]
[null,57]
[null,58]
[null,59]
[null,60]

{"sheet":"PURCH1","index":4,"n_rows":65,"n_cols":14,"rows_kept":65,"cut":false,"hidden":false,"merged":[[2,12,2,13],[0,1,0,13],[2,1,3,1],[2,2,3,2],[2,3,3,3],[2,4,2,11]]}
[null,"VEGETABLE PURCHASE DETAILS DAY 1"]
[null,1,2,3,4,5,6,7,8,9,10,11,12,13]
[null,"Code","Item","Short code","DAY1",null,null,null,null,null,null,null,"TOTAL"]
[null,null,null,null,"P1Q","R1","P2Q","R2","P3Q","R3","P4Q","R4","QTY","Rs."]
[null,1,{"$f":"'Sale Price'!C5","v":"Nendran"},{"$f":"'Sale Price'!D5","v":"Nendrn"},null,null,null,null,null,null,null,null,{"$f":"E5+G5+I5+K5","v":0},{"$f":"E5*F5+G5*H5+I5*J5+K5*L5","v":0}]
[null,2,{"$f":"'Sale Price'!C6","v":"Banana Green"},{"$f":"'Sale Price'!D6","v":"Ban G"},null,null,null,null,null,null,null,null,{"$f":"E6+G6+I6+K6","v":0},{"$f":"E6*F6+G6*H6+I6*J6+K6*L6","v":0}]
[null,3,{"$f":"'Sale Price'!C7","v":"Palayanthodan"},{"$f":"'Sale Price'!D7","v":"Palaya"},null,null,null,null,null,null,null,null,0,0]
[null,4,{"$f":"'Sale Price'!C8","v":"Poovan"},{"$f":"'Sale Price'!D8","v":"Puvan"},null,null,null,null,null,null,null,null,0,0]
[null,5,{"$f":"'Sale Price'!C9","v":"Rasakadali"},{"$f":"'Sale Price'!D9","v":"RasaK"},null,null,null,null,null,null,null,null,0,0]
[null,6,{"$f":"'Sale Price'!C10","v":"Red banana"},{"$f":"'Sale Price'!D10","v":"RedB"},null,null,null,null,null,null,null,null,0,0]
[null,7,{"$f":"'Sale Price'!C11","v":"Robusta"},{"$f":"'Sale Price'!D11","v":"Robst"},null,null,null,null,null,null,null,null,0,0]
[null,8,{"$f":"'Sale Price'!C12","v":"Peyan/Monthan"},{"$f":"'Sale Price'!D12","v":"Peyn"},null,null,null,null,null,null,null,null,0,0]
[null,9,{"$f":"'Sale Price'!C13","v":"Amorphophallus"},{"$f":"'Sale Price'!D13","v":"Chena"},null,null,null,null,null,null,null,null,0,0]
[null,10,{"$f":"'Sale Price'!C14","v":"Beans"},{"$f":"'Sale Price'!D14","v":"Beans"},null,null,null,null,null,null,null,null,0,0]
[null,11,{"$f":"'Sale Price'!C15","v":"Cluster beans"},{"$f":"'Sale Price'!D15","v":"Amara"},null,null,null,null,null,null,null,null,0,0]
[null,12,{"$f":"'Sale Price'!C16","v":"Carrot"},{"$f":"'Sale Price'!D16","v":"Carot"},null,null,null,null,null,null,null,null,0,0]
[null,13,{"$f":"'Sale Price'!C17","v":"Beetroot"},{"$f":"'Sale Price'!D17","v":"BeetR"},null,null,null,null,null,null,null,null,0,0]
[null,14,{"$f":"'Sale Price'!C18","v":"Cabbage"},{"$f":"'Sale Price'!D18","v":"Cabag"},null,null,null,null,null,null,null,null,0,0]
[null,15,{"$f":"'Sale Price'!C19","v":"Cauliflower"},{"$f":"'Sale Price'!D19","v":"CauliF"},null,null,null,null,null,null,null,null,0,0]
[null,16,{"$f":"'Sale Price'!C20","v":"Capsicum"},{"$f":"'Sale Price'!D20","v":"Capsic"},null,null,null,null,null,null,null,null,0,0]
[null,17,{"$f":"'Sale Price'!C21","v":"Tomato"},{"$f":"'Sale Price'!D21","v":"Tomat"},null,null,null,null,null,null,null,null,0,0]
[null,18,{"$f":"'Sale Price'!C22","v":"Green chillies "},{"$f":"'Sale Price'!D22","v":"ChillS"},null,null,null,null,null,null,null,null,0,0]
[null,19,{"$f":"'Sale Price'!C23","v":"Sambar Mulaku"},{"$f":"'Sale Price'!D23","v":"ChillB"},null,null,null,null,null,null,null,null,0,0]
[null,20,{"$f":"'Sale Price'!C24","v":"Bitter gourd"},{"$f":"'Sale Price'!D24","v":"BittrG"},null,null,null,null,null,null,null,null,0,0]
[null,21,{"$f":"'Sale Price'!C25","v":"Bottle gourd"},{"$f":"'Sale Price'!D25","v":"BottG"},null,null,null,null,null,null,null,null,0,0]
[null,22,{"$f":"'Sale Price'!C26","v":"Snakegourd"},{"$f":"'Sale Price'!D26","v":"SnakG"},null,null,null,null,null,null,null,null,0,0]
[null,23,{"$f":"'Sale Price'!C27","v":"Brinjal kathiri"},{"$f":"'Sale Price'!D27","v":"BrinjR"},null,null,null,null,null,null,null,null,0,0]
[null,24,{"$f":"'Sale Price'!C28","v":"Brinjal Vazhuthana"},{"$f":"'Sale Price'!D28","v":"Vazhut"},null,null,null,null,null,null,null,null,0,0]
[null,25,{"$f":"'Sale Price'!C29","v":"Pumpkin"},{"$f":"'Sale Price'!D29","v":"Pumpk"},null,null,null,null,null,null,null,null,0,0]
[null,26,{"$f":"'Sale Price'!C30","v":"Onion Big"},{"$f":"'Sale Price'!D30","v":"Savala"},null,null,null,null,null,null,null,null,0,0]
[null,27,{"$f":"'Sale Price'!C31","v":"Onion Small"},{"$f":"'Sale Price'!D31","v":"Ulli"},null,null,null,null,null,null,null,null,0,0]
[null,28,{"$f":"'Sale Price'!C32","v":"Garlic"},{"$f":"'Sale Price'!D32","v":"Garlc"},null,null,null,null,null,null,null,null,0,0]
[null,29,{"$f":"'Sale Price'!C33","v":"Ginger"},{"$f":"'Sale Price'!D33","v":"Ginger"},null,null,null,null,null,null,null,null,0,0]
[null,30,{"$f":"'Sale Price'!C34","v":"Cucumber"},{"$f":"'Sale Price'!D34","v":"Cucum"},null,null,null,null,null,null,null,null,0,0]
[null,31,{"$f":"'Sale Price'!C35","v":"Colocaisa"},{"$f":"'Sale Price'!D35","v":"Chemb"},null,null,null,null,null,null,null,null,{"$f":"E35+G35+I35+K35","v":0},{"$f":"E35*F35+G35*H35+I35*J35+K35*L35","v":0}]
[null,32,{"$f":"'Sale Price'!C36","v":"Cowpea"},{"$f":"'Sale Price'!D36","v":"Cowp"},null,null,null,null,null,null,null,null,0,0]
[null,33,{"$f":"'Sale Price'!C37","v":"Ashgourd/Thadiyan"},{"$f":"'Sale Price'!D37","v":"AshG"},null,null,null,null,null,null,null,null,0,0]
[null,34,{"$f":"'Sale Price'!C38","v":"Ladies finger"},{"$f":"'Sale Price'!D38","v":"Venda"},null,null,null,null,null,null,null,null,0,0]
[null,35,{"$f":"'Sale Price'!C39","v":"Drumstick"},{"$f":"'Sale Price'!D39","v":"Drumst"},null,null,null,null,null,null,null,null,0,0]
[null,36,{"$f":"'Sale Price'!C40","v":"Koval"},{"$f":"'Sale Price'!D40","v":"Koval"},null,null,null,null,null,null,null,null,0,0]
[null,37,{"$f":"'Sale Price'!C41","v":"CurryLeaf"},{"$f":"'Sale Price'!D41","v":"CryLef"},null,null,null,null,null,null,null,null,0,0]
[null,38,{"$f":"'Sale Price'!C42","v":"MintLeaf"},{"$f":"'Sale Price'!D42","v":"MntLf"},null,null,null,null,null,null,null,null,0,0]
[null,39,{"$f":"'Sale Price'!C43","v":"Coriander Leaf"},{"$f":"'Sale Price'!D43","v":"CorLf"},null,null,null,null,null,null,null,null,0,0]
[null,40,{"$f":"'Sale Price'!C44","v":"Amaranthus"},{"$f":"'Sale Price'!D44","v":"Cheera"},null,null,null,null,null,null,null,null,0,0]
[null,41,{"$f":"'Sale Price'!C45","v":"Lemon Big"},{"$f":"'Sale Price'!D45","v":"LemnB"},null,null,null,null,null,null,null,null,0,0]
[null,42,{"$f":"'Sale Price'!C46","v":"Lemon small"},{"$f":"'Sale Price'!D46","v":"LemnS"},null,null,null,null,null,null,null,null,0,0]
[null,43,{"$f":"'Sale Price'!C47","v":"Mango"},{"$f":"'Sale Price'!D47","v":"Mango"},null,null,null,null,null,null,null,null,0,0]
[null,44,{"$f":"'Sale Price'!C48","v":"Pineapple"},{"$f":"'Sale Price'!D48","v":"PineA"},null,null,null,null,null,null,null,null,0,0]
[null,45,{"$f":"'Sale Price'!C49","v":"Potato"},{"$f":"'Sale Price'!D49","v":"Potat"},null,null,null,null,null,null,null,null,0,0]
[null,46,{"$f":"'Sale Price'!C50","v":"Amla"},{"$f":"'Sale Price'!D50","v":"Amla"},null,null,null,null,null,null,null,null,0,0]
[null,47,{"$f":"'Sale Price'!C51","v":"Tapioca"},{"$f":"'Sale Price'!D51","v":"Tap"},null,null,null,null,null,null,null,null,0,0]
[null,48,{"$f":"'Sale Price'!C52","v":0},{"$f":"'Sale Price'!D52","v":0},null,null,null,null,null,null,null,null,0,0]
[null,49,{"$f":"'Sale Price'!C53","v":0},{"$f":"'Sale Price'!D53","v":0},null,null,null,null,null,null,null,null,0,0]
[null,50,{"$f":"'Sale Price'!C54","v":0},{"$f":"'Sale Price'!D54","v":0},null,null,null,null,null,null,null,null,0,0]
[null,51,{"$f":"'Sale Price'!C55","v":0},{"$f":"'Sale Price'!D55","v":0},null,null,null,null,null,null,null,null,0,0]
[null,52,{"$f":"'Sale Price'!C56","v":0},{"$f":"'Sale Price'!D56","v":0},null,null,null,null,null,null,null,null,0,0]
[null,53,{"$f":"'Sale Price'!C57","v":0},{"$f":"'Sale Price'!D57","v":0},null,null,null,null,null,null,null,null,0,0]
[null,54,{"$f":"'Sale Price'!C58","v":0},{"$f":"'Sale Price'!D58","v":0},null,null,null,null,null,null,null,null,0,0]
[null,55,{"$f":"'Sale Price'!C59","v":0},{"$f":"'Sale Price'!D59","v":0},null,null,null,null,null,null,null,null,0,0]
[null,56,{"$f":"'Sale Price'!C60","v":0},{"$f":"'Sale Price'!D60","v":0},null,null,null,null,null,null,null,null,0,0]
[null,57,{"$f":"'Sale Price'!C61","v":0},{"$f":"'Sale Price'!D61","v":0},null,null,null,null,null,null,null,null,0,0]
[null,58,{"$f":"'Sale Price'!C62","v":0},{"$f":"'Sale Price'!D62","v":0},null,null,null,null,null,null,null,null,0,0]
[null,59,{"$f":"'Sale Price'!C63","v":0},{"$f":"'Sale Price'!D63","v":0},null,null,null,null,null,null,null,null,0,0]
[null,60,{"$f":"'Sale Price'!C64","v":0},{"$f":"'Sale Price'!D64","v":0},null,null,null,null,null,null,null,null,0,0]
[null,"Total",null,null,{"$f":"SUM(E5:E64)","v":0},null,0,null,0,null,0,null,0,{"$f":"SUM(N5:N64)","v":0}]

{"sheet":"PURCH2","index":5,"n_rows":66,"n_cols":14,"rows_kept":66,"cut":false,"hidden":false,"merged":[[1,1,1,13],[3,1,4,1],[3,2,4,2],[3,3,4,3],[3,4,3,11],[3,12,3,13]]}
[]
[null,"VEGETABLE PURCHASE DETAILS DAY 2"]
[null,1,2,3,4,5,6,7,8,9,10,11,12,13]
[null,"Code","Item","Short code","DAY2",null,null,null,null,null,null,null,"TOTAL"]
[null,null,null,null,"P1Q","R1","P2Q","R2","P3Q","R3","P4Q","R4","QTY","Rs."]
[null,1,{"$f":"'Sale Price'!C5","v":"Nendran"},{"$f":"'Sale Price'!D5","v":"Nendrn"},null,null,null,null,null,null,null,null,{"$f":"E6+G6+I6+K6","v":0},{"$f":"E6*F6+G6*H6+I6*J6+K6*L6","v":0}]
[null,2,{"$f":"'Sale Price'!C6","v":"Banana Green"},{"$f":"'Sale Price'!D6","v":"Ban G"},null,null,null,null,null,null,null,null,{"$f":"E7+G7+I7+K7","v":0},{"$f":"E7*F7+G7*H7+I7*J7+K7*L7","v":0}]
[null,3,{"$f":"'Sale Price'!C7","v":"Palayanthodan"},{"$f":"'Sale Price'!D7","v":"Palaya"},null,null,null,null,null,null,null,null,0,0]
[null,4,{"$f":"'Sale Price'!C8","v":"Poovan"},{"$f":"'Sale Price'!D8","v":"Puvan"},null,null,null,null,null,null,null,null,0,0]
[null,5,{"$f":"'Sale Price'!C9","v":"Rasakadali"},{"$f":"'Sale Price'!D9","v":"RasaK"},null,null,null,null,null,null,null,null,0,0]
[null,6,{"$f":"'Sale Price'!C10","v":"Red banana"},{"$f":"'Sale Price'!D10","v":"RedB"},null,null,null,null,null,null,null,null,0,0]
[null,7,{"$f":"'Sale Price'!C11","v":"Robusta"},{"$f":"'Sale Price'!D11","v":"Robst"},null,null,null,null,null,null,null,null,0,0]
[null,8,{"$f":"'Sale Price'!C12","v":"Peyan/Monthan"},{"$f":"'Sale Price'!D12","v":"Peyn"},null,null,null,null,null,null,null,null,0,0]
[null,9,{"$f":"'Sale Price'!C13","v":"Amorphophallus"},{"$f":"'Sale Price'!D13","v":"Chena"},null,null,null,null,null,null,null,null,0,0]
[null,10,{"$f":"'Sale Price'!C14","v":"Beans"},{"$f":"'Sale Price'!D14","v":"Beans"},null,null,null,null,null,null,null,null,0,0]
[null,11,{"$f":"'Sale Price'!C15","v":"Cluster beans"},{"$f":"'Sale Price'!D15","v":"Amara"},null,null,null,null,null,null,null,null,0,0]
[null,12,{"$f":"'Sale Price'!C16","v":"Carrot"},{"$f":"'Sale Price'!D16","v":"Carot"},null,null,null,null,null,null,null,null,0,0]
[null,13,{"$f":"'Sale Price'!C17","v":"Beetroot"},{"$f":"'Sale Price'!D17","v":"BeetR"},null,null,null,null,null,null,null,null,0,0]
[null,14,{"$f":"'Sale Price'!C18","v":"Cabbage"},{"$f":"'Sale Price'!D18","v":"Cabag"},null,null,null,null,null,null,null,null,0,0]
[null,15,{"$f":"'Sale Price'!C19","v":"Cauliflower"},{"$f":"'Sale Price'!D19","v":"CauliF"},null,null,null,null,null,null,null,null,0,0]
[null,16,{"$f":"'Sale Price'!C20","v":"Capsicum"},{"$f":"'Sale Price'!D20","v":"Capsic"},null,null,null,null,null,null,null,null,0,0]
[null,17,{"$f":"'Sale Price'!C21","v":"Tomato"},{"$f":"'Sale Price'!D21","v":"Tomat"},null,null,null,null,null,null,null,null,0,0]
[null,18,{"$f":"'Sale Price'!C22","v":"Green chillies "},{"$f":"'Sale Price'!D22","v":"ChillS"},null,null,null,null,null,null,null,null,0,0]
[null,19,{"$f":"'Sale Price'!C23","v":"Sambar Mulaku"},{"$f":"'Sale Price'!D23","v":"ChillB"},null,null,null,null,null,null,null,null,0,0]
[null,20,{"$f":"'Sale Price'!C24","v":"Bitter gourd"},{"$f":"'Sale Price'!D24","v":"BittrG"},null,null,null,null,null,null,null,null,0,0]
[null,21,{"$f":"'Sale Price'!C25","v":"Bottle gourd"},{"$f":"'Sale Price'!D25","v":"BottG"},null,null,null,null,null,null,null,null,0,0]
[null,22,{"$f":"'Sale Price'!C26","v":"Snakegourd"},{"$f":"'Sale Price'!D26","v":"SnakG"},null,null,null,null,null,null,null,null,0,0]
[null,23,{"$f":"'Sale Price'!C27","v":"Brinjal kathiri"},{"$f":"'Sale Price'!D27","v":"BrinjR"},null,null,null,null,null,null,null,null,0,0]
[null,24,{"$f":"'Sale Price'!C28","v":"Brinjal Vazhuthana"},{"$f":"'Sale Price'!D28","v":"Vazhut"},null,null,null,null,null,null,null,null,0,0]
[null,25,{"$f":"'Sale Price'!C29","v":"Pumpkin"},{"$f":"'Sale Price'!D29","v":"Pumpk"},null,null,null,null,null,null,null,null,0,0]
[null,26,{"$f":"'Sale Price'!C30","v":"Onion Big"},{"$f":"'Sale Price'!D30","v":"Savala"},null,null,null,null,null,null,null,null,0,0]
[null,27,{"$f":"'Sale Price'!C31","v":"Onion Small"},{"$f":"'Sale Price'!D31","v":"Ulli"},null,null,null,null,null,null,null,null,0,0]
[null,28,{"$f":"'Sale Price'!C32","v":"Garlic"},{"$f":"'Sale Price'!D32","v":"Garlc"},null,null,null,null,null,null,null,null,0,0]
[null,29,{"$f":"'Sale Price'!C33","v":"Ginger"},{"$f":"'Sale Price'!D33","v":"Ginger"},null,null,null,null,null,null,null,null,0,0]
[null,30,{"$f":"'Sale Price'!C34","v":"Cucumber"},{"$f":"'Sale Price'!D34","v":"Cucum"},null,null,null,null,null,null,null,null,0,0]
[null,31,{"$f":"'Sale Price'!C35","v":"Colocaisa"},{"$f":"'Sale Price'!D35","v":"Chemb"},null,null,null,null,null,null,null,null,{"$f":"E36+G36+I36+K36","v":0},{"$f":"E36*F36+G36*H36+I36*J36+K36*L36","v":0}]
[null,32,{"$f":"'Sale Price'!C36","v":"Cowpea"},{"$f":"'Sale Price'!D36","v":"Cowp"},null,null,null,null,null,null,null,null,0,0]
[null,33,{"$f":"'Sale Price'!C37","v":"Ashgourd/Thadiyan"},{"$f":"'Sale Price'!D37","v":"AshG"},null,null,null,null,null,null,null,null,0,0]
[null,34,{"$f":"'Sale Price'!C38","v":"Ladies finger"},{"$f":"'Sale Price'!D38","v":"Venda"},null,null,null,null,null,null,null,null,0,0]
[null,35,{"$f":"'Sale Price'!C39","v":"Drumstick"},{"$f":"'Sale Price'!D39","v":"Drumst"},null,null,null,null,null,null,null,null,0,0]
[null,36,{"$f":"'Sale Price'!C40","v":"Koval"},{"$f":"'Sale Price'!D40","v":"Koval"},null,null,null,null,null,null,null,null,0,0]
[null,37,{"$f":"'Sale Price'!C41","v":"CurryLeaf"},{"$f":"'Sale Price'!D41","v":"CryLef"},null,null,null,null,null,null,null,null,0,0]
[null,38,{"$f":"'Sale Price'!C42","v":"MintLeaf"},{"$f":"'Sale Price'!D42","v":"MntLf"},null,null,null,null,null,null,null,null,0,0]
[null,39,{"$f":"'Sale Price'!C43","v":"Coriander Leaf"},{"$f":"'Sale Price'!D43","v":"CorLf"},null,null,null,null,null,null,null,null,0,0]
[null,40,{"$f":"'Sale Price'!C44","v":"Amaranthus"},{"$f":"'Sale Price'!D44","v":"Cheera"},null,null,null,null,null,null,null,null,0,0]
[null,41,{"$f":"'Sale Price'!C45","v":"Lemon Big"},{"$f":"'Sale Price'!D45","v":"LemnB"},null,null,null,null,null,null,null,null,0,0]
[null,42,{"$f":"'Sale Price'!C46","v":"Lemon small"},{"$f":"'Sale Price'!D46","v":"LemnS"},null,null,null,null,null,null,null,null,0,0]
[null,43,{"$f":"'Sale Price'!C47","v":"Mango"},{"$f":"'Sale Price'!D47","v":"Mango"},null,null,null,null,null,null,null,null,0,0]
[null,44,{"$f":"'Sale Price'!C48","v":"Pineapple"},{"$f":"'Sale Price'!D48","v":"PineA"},null,null,null,null,null,null,null,null,0,0]
[null,45,{"$f":"'Sale Price'!C49","v":"Potato"},{"$f":"'Sale Price'!D49","v":"Potat"},null,null,null,null,null,null,null,null,0,0]
[null,46,{"$f":"'Sale Price'!C50","v":"Amla"},{"$f":"'Sale Price'!D50","v":"Amla"},null,null,null,null,null,null,null,null,0,0]
[null,47,{"$f":"'Sale Price'!C51","v":"Tapioca"},{"$f":"'Sale Price'!D51","v":"Tap"},null,null,null,null,null,null,null,null,0,0]
[null,48,{"$f":"'Sale Price'!C52","v":0},{"$f":"'Sale Price'!D52","v":0},null,null,null,null,null,null,null,null,0,0]
[null,49,{"$f":"'Sale Price'!C53","v":0},{"$f":"'Sale Price'!D53","v":0},null,null,null,null,null,null,null,null,0,0]
[null,50,{"$f":"'Sale Price'!C54","v":0},{"$f":"'Sale Price'!D54","v":0},null,null,null,null,null,null,null,null,0,0]
[null,51,{"$f":"'Sale Price'!C55","v":0},{"$f":"'Sale Price'!D55","v":0},null,null,null,null,null,null,null,null,0,0]
[null,52,{"$f":"'Sale Price'!C56","v":0},{"$f":"'Sale Price'!D56","v":0},null,null,null,null,null,null,null,null,0,0]
[null,53,{"$f":"'Sale Price'!C57","v":0},{"$f":"'Sale Price'!D57","v":0},null,null,null,null,null,null,null,null,0,0]
[null,54,{"$f":"'Sale Price'!C58","v":0},{"$f":"'Sale Price'!D58","v":0},null,null,null,null,null,null,null,null,0,0]
[null,55,{"$f":"'Sale Price'!C59","v":0},{"$f":"'Sale Price'!D59","v":0},null,null,null,null,null,null,null,null,0,0]
[null,56,{"$f":"'Sale Price'!C60","v":0},{"$f":"'Sale Price'!D60","v":0},null,null,null,null,null,null,null,null,0,0]
[null,57,{"$f":"'Sale Price'!C61","v":0},{"$f":"'Sale Price'!D61","v":0},null,null,null,null,null,null,null,null,0,0]
[null,58,{"$f":"'Sale Price'!C62","v":0},{"$f":"'Sale Price'!D62","v":0},null,null,null,null,null,null,null,null,0,0]
[null,59,{"$f":"'Sale Price'!C63","v":0},{"$f":"'Sale Price'!D63","v":0},null,null,null,null,null,null,null,null,0,0]
[null,60,{"$f":"'Sale Price'!C64","v":0},{"$f":"'Sale Price'!D64","v":0},null,null,null,null,null,null,null,null,0,0]
[null,"Total",null,null,{"$f":"SUM(E6:E65)","v":0},null,0,null,0,null,0,null,0,{"$f":"SUM(N6:N65)","v":0}]

{"sheet":"PURCH3","index":6,"n_rows":66,"n_cols":15,"rows_kept":66,"cut":false,"hidden":false,"merged":[[1,2,1,14],[3,2,4,2],[3,3,4,3],[3,4,4,4],[3,5,3,12],[3,13,3,14]]}
[]
[null,null,"VEGETABLE PURCHASE DETAILS DAY 3"]
[null,null,1,2,3,4,5,6,7,8,9,10,11,12,13]
[null,null,"Code","Item","Short code","DAY3",null,null,null,null,null,null,null,"TOTAL"]
[null,null,null,null,null,"P1Q","R1","P2Q","R2","P3Q","R3","P4Q","R4","QTY","Rs."]
[null,null,1,{"$f":"'Sale Price'!C5","v":"Nendran"},{"$f":"'Sale Price'!D5","v":"Nendrn"},null,null,null,null,null,null,null,null,{"$f":"F6+H6+J6+L6","v":0},{"$f":"F6*G6+H6*I6+J6*K6+L6*M6","v":0}]
[null,null,2,{"$f":"'Sale Price'!C6","v":"Banana Green"},{"$f":"'Sale Price'!D6","v":"Ban G"},null,null,null,null,null,null,null,null,{"$f":"F7+H7+J7+L7","v":0},{"$f":"F7*G7+H7*I7+J7*K7+L7*M7","v":0}]
[null,null,3,{"$f":"'Sale Price'!C7","v":"Palayanthodan"},{"$f":"'Sale Price'!D7","v":"Palaya"},null,null,null,null,null,null,null,null,0,0]
[null,null,4,{"$f":"'Sale Price'!C8","v":"Poovan"},{"$f":"'Sale Price'!D8","v":"Puvan"},null,null,null,null,null,null,null,null,0,0]
[null,null,5,{"$f":"'Sale Price'!C9","v":"Rasakadali"},{"$f":"'Sale Price'!D9","v":"RasaK"},null,null,null,null,null,null,null,null,0,0]
[null,null,6,{"$f":"'Sale Price'!C10","v":"Red banana"},{"$f":"'Sale Price'!D10","v":"RedB"},null,null,null,null,null,null,null,null,0,0]
[null,null,7,{"$f":"'Sale Price'!C11","v":"Robusta"},{"$f":"'Sale Price'!D11","v":"Robst"},null,null,null,null,null,null,null,null,0,0]
[null,null,8,{"$f":"'Sale Price'!C12","v":"Peyan/Monthan"},{"$f":"'Sale Price'!D12","v":"Peyn"},null,null,null,null,null,null,null,null,0,0]
[null,null,9,{"$f":"'Sale Price'!C13","v":"Amorphophallus"},{"$f":"'Sale Price'!D13","v":"Chena"},null,null,null,null,null,null,null,null,0,0]
[null,null,10,{"$f":"'Sale Price'!C14","v":"Beans"},{"$f":"'Sale Price'!D14","v":"Beans"},null,null,null,null,null,null,null,null,0,0]
[null,null,11,{"$f":"'Sale Price'!C15","v":"Cluster beans"},{"$f":"'Sale Price'!D15","v":"Amara"},null,null,null,null,null,null,null,null,0,0]
[null,null,12,{"$f":"'Sale Price'!C16","v":"Carrot"},{"$f":"'Sale Price'!D16","v":"Carot"},null,null,null,null,null,null,null,null,0,0]
[null,null,13,{"$f":"'Sale Price'!C17","v":"Beetroot"},{"$f":"'Sale Price'!D17","v":"BeetR"},null,null,null,null,null,null,null,null,0,0]
[null,null,14,{"$f":"'Sale Price'!C18","v":"Cabbage"},{"$f":"'Sale Price'!D18","v":"Cabag"},null,null,null,null,null,null,null,null,0,0]
[null,null,15,{"$f":"'Sale Price'!C19","v":"Cauliflower"},{"$f":"'Sale Price'!D19","v":"CauliF"},null,null,null,null,null,null,null,null,0,0]
[null,null,16,{"$f":"'Sale Price'!C20","v":"Capsicum"},{"$f":"'Sale Price'!D20","v":"Capsic"},null,null,null,null,null,null,null,null,0,0]
[null,null,17,{"$f":"'Sale Price'!C21","v":"Tomato"},{"$f":"'Sale Price'!D21","v":"Tomat"},null,null,null,null,null,null,null,null,0,0]
[null,null,18,{"$f":"'Sale Price'!C22","v":"Green chillies "},{"$f":"'Sale Price'!D22","v":"ChillS"},null,null,null,null,null,null,null,null,0,0]
[null,null,19,{"$f":"'Sale Price'!C23","v":"Sambar Mulaku"},{"$f":"'Sale Price'!D23","v":"ChillB"},null,null,null,null,null,null,null,null,0,0]
[null,null,20,{"$f":"'Sale Price'!C24","v":"Bitter gourd"},{"$f":"'Sale Price'!D24","v":"BittrG"},null,null,null,null,null,null,null,null,0,0]
[null,null,21,{"$f":"'Sale Price'!C25","v":"Bottle gourd"},{"$f":"'Sale Price'!D25","v":"BottG"},null,null,null,null,null,null,null,null,0,0]
[null,null,22,{"$f":"'Sale Price'!C26","v":"Snakegourd"},{"$f":"'Sale Price'!D26","v":"SnakG"},null,null,null,null,null,null,null,null,0,0]
[null,null,23,{"$f":"'Sale Price'!C27","v":"Brinjal kathiri"},{"$f":"'Sale Price'!D27","v":"BrinjR"},null,null,null,null,null,null,null,null,0,0]
[null,null,24,{"$f":"'Sale Price'!C28","v":"Brinjal Vazhuthana"},{"$f":"'Sale Price'!D28","v":"Vazhut"},null,null,null,null,null,null,null,null,0,0]
[null,null,25,{"$f":"'Sale Price'!C29","v":"Pumpkin"},{"$f":"'Sale Price'!D29","v":"Pumpk"},null,null,null,null,null,null,null,null,0,0]
[null,null,26,{"$f":"'Sale Price'!C30","v":"Onion Big"},{"$f":"'Sale Price'!D30","v":"Savala"},null,null,null,null,null,null,null,null,0,0]
[null,null,27,{"$f":"'Sale Price'!C31","v":"Onion Small"},{"$f":"'Sale Price'!D31","v":"Ulli"},null,null,null,null,null,null,null,null,0,0]
[null,null,28,{"$f":"'Sale Price'!C32","v":"Garlic"},{"$f":"'Sale Price'!D32","v":"Garlc"},null,null,null,null,null,null,null,null,0,0]
[null,null,29,{"$f":"'Sale Price'!C33","v":"Ginger"},{"$f":"'Sale Price'!D33","v":"Ginger"},null,null,null,null,null,null,null,null,0,0]
[null,null,30,{"$f":"'Sale Price'!C34","v":"Cucumber"},{"$f":"'Sale Price'!D34","v":"Cucum"},null,null,null,null,null,null,null,null,0,0]
[null,null,31,{"$f":"'Sale Price'!C35","v":"Colocaisa"},{"$f":"'Sale Price'!D35","v":"Chemb"},null,null,null,null,null,null,null,null,{"$f":"F36+H36+J36+L36","v":0},{"$f":"F36*G36+H36*I36+J36*K36+L36*M36","v":0}]
[null,null,32,{"$f":"'Sale Price'!C36","v":"Cowpea"},{"$f":"'Sale Price'!D36","v":"Cowp"},null,null,null,null,null,null,null,null,0,0]
[null,null,33,{"$f":"'Sale Price'!C37","v":"Ashgourd/Thadiyan"},{"$f":"'Sale Price'!D37","v":"AshG"},null,null,null,null,null,null,null,null,0,0]
[null,null,34,{"$f":"'Sale Price'!C38","v":"Ladies finger"},{"$f":"'Sale Price'!D38","v":"Venda"},null,null,null,null,null,null,null,null,0,0]
[null,null,35,{"$f":"'Sale Price'!C39","v":"Drumstick"},{"$f":"'Sale Price'!D39","v":"Drumst"},null,null,null,null,null,null,null,null,0,0]
[null,null,36,{"$f":"'Sale Price'!C40","v":"Koval"},{"$f":"'Sale Price'!D40","v":"Koval"},null,null,null,null,null,null,null,null,0,0]
[null,null,37,{"$f":"'Sale Price'!C41","v":"CurryLeaf"},{"$f":"'Sale Price'!D41","v":"CryLef"},null,null,null,null,null,null,null,null,0,0]
[null,null,38,{"$f":"'Sale Price'!C42","v":"MintLeaf"},{"$f":"'Sale Price'!D42","v":"MntLf"},null,null,null,null,null,null,null,null,0,0]
[null,null,39,{"$f":"'Sale Price'!C43","v":"Coriander Leaf"},{"$f":"'Sale Price'!D43","v":"CorLf"},null,null,null,null,null,null,null,null,0,0]
[null,null,40,{"$f":"'Sale Price'!C44","v":"Amaranthus"},{"$f":"'Sale Price'!D44","v":"Cheera"},null,null,null,null,null,null,null,null,0,0]
[null,null,41,{"$f":"'Sale Price'!C45","v":"Lemon Big"},{"$f":"'Sale Price'!D45","v":"LemnB"},null,null,null,null,null,null,null,null,0,0]
[null,null,42,{"$f":"'Sale Price'!C46","v":"Lemon small"},{"$f":"'Sale Price'!D46","v":"LemnS"},null,null,null,null,null,null,null,null,0,0]
[null,null,43,{"$f":"'Sale Price'!C47","v":"Mango"},{"$f":"'Sale Price'!D47","v":"Mango"},null,null,null,null,null,null,null,null,0,0]
[null,null,44,{"$f":"'Sale Price'!C48","v":"Pineapple"},{"$f":"'Sale Price'!D48","v":"PineA"},null,null,null,null,null,null,null,null,0,0]
[null,null,45,{"$f":"'Sale Price'!C49","v":"Potato"},{"$f":"'Sale Price'!D49","v":"Potat"},null,null,null,null,null,null,null,null,0,0]
[null,null,46,{"$f":"'Sale Price'!C50","v":"Amla"},{"$f":"'Sale Price'!D50","v":"Amla"},null,null,null,null,null,null,null,null,0,0]
[null,null,47,{"$f":"'Sale Price'!C51","v":"Tapioca"},{"$f":"'Sale Price'!D51","v":"Tap"},null,null,null,null,null,null,null,null,0,0]
[null,null,48,{"$f":"'Sale Price'!C52","v":0},{"$f":"'Sale Price'!D52","v":0},null,null,null,null,null,null,null,null,0,0]
[null,null,49,{"$f":"'Sale Price'!C53","v":0},{"$f":"'Sale Price'!D53","v":0},null,null,null,null,null,null,null,null,0,0]
[null,null,50,{"$f":"'Sale Price'!C54","v":0},{"$f":"'Sale Price'!D54","v":0},null,null,null,null,null,null,null,null,0,0]
[null,null,51,{"$f":"'Sale Price'!C55","v":0},{"$f":"'Sale Price'!D55","v":0},null,null,null,null,null,null,null,null,0,0]
[null,null,52,{"$f":"'Sale Price'!C56","v":0},{"$f":"'Sale Price'!D56","v":0},null,null,null,null,null,null,null,null,0,0]
[null,null,53,{"$f":"'Sale Price'!C57","v":0},{"$f":"'Sale Price'!D57","v":0},null,null,null,null,null,null,null,null,0,0]
[null,null,54,{"$f":"'Sale Price'!C58","v":0},{"$f":"'Sale Price'!D58","v":0},null,null,null,null,null,null,null,null,0,0]
[null,null,55,{"$f":"'Sale Price'!C59","v":0},{"$f":"'Sale Price'!D59","v":0},null,null,null,null,null,null,null,null,0,0]
[null,null,56,{"$f":"'Sale Price'!C60","v":0},{"$f":"'Sale Price'!D60","v":0},null,null,null,null,null,null,null,null,0,0]
[null,null,57,{"$f":"'Sale Price'!C61","v":0},{"$f":"'Sale Price'!D61","v":0},null,null,null,null,null,null,null,null,0,0]
[null,null,58,{"$f":"'Sale Price'!C62","v":0},{"$f":"'Sale Price'!D62","v":0},null,null,null,null,null,null,null,null,0,0]
[null,null,59,{"$f":"'Sale Price'!C63","v":0},{"$f":"'Sale Price'!D63","v":0},null,null,null,null,null,null,null,null,0,0]
[null,null,60,{"$f":"'Sale Price'!C64","v":0},{"$f":"'Sale Price'!D64","v":0},null,null,null,null,null,null,null,null,0,0]
[null,null,"Total",null,null,{"$f":"SUM(F6:F65)","v":0},null,0,null,0,null,0,null,0,{"$f":"SUM(O6:O65)","v":0}]

{"sheet":"PURCH4","index":7,"n_rows":66,"n_cols":15,"rows_kept":66,"cut":false,"hidden":false,"merged":[[1,2,1,14],[3,2,4,2],[3,3,4,3],[3,4,4,4],[3,5,3,12],[3,13,3,14]]}
[]
[null,null,"VEGETABLE PURCHASE DETAILS DAY 4"]
[null,null,1,2,3,4,5,6,7,8,9,10,11,12,13]
[null,null,"Code","Item","Short code","DAY4",null,null,null,null,null,null,null,"TOTAL"]
[null,null,null,null,null,"P1Q","R1","P2Q","R2","P3Q","R3","P4Q","R4","QTY","Rs."]
[null,null,1,{"$f":"'Sale Price'!C5","v":"Nendran"},{"$f":"'Sale Price'!D5","v":"Nendrn"},null,null,null,null,null,null,null,null,{"$f":"F6+H6+J6+L6","v":0},{"$f":"F6*G6+H6*I6+J6*K6+L6*M6","v":0}]
[null,null,2,{"$f":"'Sale Price'!C6","v":"Banana Green"},{"$f":"'Sale Price'!D6","v":"Ban G"},null,null,null,null,null,null,null,null,{"$f":"F7+H7+J7+L7","v":0},{"$f":"F7*G7+H7*I7+J7*K7+L7*M7","v":0}]
[null,null,3,{"$f":"'Sale Price'!C7","v":"Palayanthodan"},{"$f":"'Sale Price'!D7","v":"Palaya"},null,null,null,null,null,null,null,null,0,0]
[null,null,4,{"$f":"'Sale Price'!C8","v":"Poovan"},{"$f":"'Sale Price'!D8","v":"Puvan"},null,null,null,null,null,null,null,null,0,0]
[null,null,5,{"$f":"'Sale Price'!C9","v":"Rasakadali"},{"$f":"'Sale Price'!D9","v":"RasaK"},null,null,null,null,null,null,null,null,0,0]
[null,null,6,{"$f":"'Sale Price'!C10","v":"Red banana"},{"$f":"'Sale Price'!D10","v":"RedB"},null,null,null,null,null,null,null,null,0,0]
[null,null,7,{"$f":"'Sale Price'!C11","v":"Robusta"},{"$f":"'Sale Price'!D11","v":"Robst"},null,null,null,null,null,null,null,null,0,0]
[null,null,8,{"$f":"'Sale Price'!C12","v":"Peyan/Monthan"},{"$f":"'Sale Price'!D12","v":"Peyn"},null,null,null,null,null,null,null,null,0,0]
[null,null,9,{"$f":"'Sale Price'!C13","v":"Amorphophallus"},{"$f":"'Sale Price'!D13","v":"Chena"},null,null,null,null,null,null,null,null,0,0]
[null,null,10,{"$f":"'Sale Price'!C14","v":"Beans"},{"$f":"'Sale Price'!D14","v":"Beans"},null,null,null,null,null,null,null,null,0,0]
[null,null,11,{"$f":"'Sale Price'!C15","v":"Cluster beans"},{"$f":"'Sale Price'!D15","v":"Amara"},null,null,null,null,null,null,null,null,0,0]
[null,null,12,{"$f":"'Sale Price'!C16","v":"Carrot"},{"$f":"'Sale Price'!D16","v":"Carot"},null,null,null,null,null,null,null,null,0,0]
[null,null,13,{"$f":"'Sale Price'!C17","v":"Beetroot"},{"$f":"'Sale Price'!D17","v":"BeetR"},null,null,null,null,null,null,null,null,0,0]
[null,null,14,{"$f":"'Sale Price'!C18","v":"Cabbage"},{"$f":"'Sale Price'!D18","v":"Cabag"},null,null,null,null,null,null,null,null,0,0]
[null,null,15,{"$f":"'Sale Price'!C19","v":"Cauliflower"},{"$f":"'Sale Price'!D19","v":"CauliF"},null,null,null,null,null,null,null,null,0,0]
[null,null,16,{"$f":"'Sale Price'!C20","v":"Capsicum"},{"$f":"'Sale Price'!D20","v":"Capsic"},null,null,null,null,null,null,null,null,0,0]
[null,null,17,{"$f":"'Sale Price'!C21","v":"Tomato"},{"$f":"'Sale Price'!D21","v":"Tomat"},null,null,null,null,null,null,null,null,0,0]
[null,null,18,{"$f":"'Sale Price'!C22","v":"Green chillies "},{"$f":"'Sale Price'!D22","v":"ChillS"},null,null,null,null,null,null,null,null,0,0]
[null,null,19,{"$f":"'Sale Price'!C23","v":"Sambar Mulaku"},{"$f":"'Sale Price'!D23","v":"ChillB"},null,null,null,null,null,null,null,null,0,0]
[null,null,20,{"$f":"'Sale Price'!C24","v":"Bitter gourd"},{"$f":"'Sale Price'!D24","v":"BittrG"},null,null,null,null,null,null,null,null,0,0]
[null,null,21,{"$f":"'Sale Price'!C25","v":"Bottle gourd"},{"$f":"'Sale Price'!D25","v":"BottG"},null,null,null,null,null,null,null,null,0,0]
[null,null,22,{"$f":"'Sale Price'!C26","v":"Snakegourd"},{"$f":"'Sale Price'!D26","v":"SnakG"},null,null,null,null,null,null,null,null,0,0]
[null,null,23,{"$f":"'Sale Price'!C27","v":"Brinjal kathiri"},{"$f":"'Sale Price'!D27","v":"BrinjR"},null,null,null,null,null,null,null,null,0,0]
[null,null,24,{"$f":"'Sale Price'!C28","v":"Brinjal Vazhuthana"},{"$f":"'Sale Price'!D28","v":"Vazhut"},null,null,null,null,null,null,null,null,0,0]
[null,null,25,{"$f":"'Sale Price'!C29","v":"Pumpkin"},{"$f":"'Sale Price'!D29","v":"Pumpk"},null,null,null,null,null,null,null,null,0,0]
[null,null,26,{"$f":"'Sale Price'!C30","v":"Onion Big"},{"$f":"'Sale Price'!D30","v":"Savala"},null,null,null,null,null,null,null,null,0,0]
[null,null,27,{"$f":"'Sale Price'!C31","v":"Onion Small"},{"$f":"'Sale Price'!D31","v":"Ulli"},null,null,null,null,null,null,null,null,0,0]
[null,null,28,{"$f":"'Sale Price'!C32","v":"Garlic"},{"$f":"'Sale Price'!D32","v":"Garlc"},null,null,null,null,null,null,null,null,0,0]
[null,null,29,{"$f":"'Sale Price'!C33","v":"Ginger"},{"$f":"'Sale Price'!D33","v":"Ginger"},null,null,null,null,null,null,null,null,0,0]
[null,null,30,{"$f":"'Sale Price'!C34","v":"Cucumber"},{"$f":"'Sale Price'!D34","v":"Cucum"},null,null,null,null,null,null,null,null,0,0]
[null,null,31,{"$f":"'Sale Price'!C35","v":"Colocaisa"},{"$f":"'Sale Price'!D35","v":"Chemb"},null,null,null,null,null,null,null,null,{"$f":"F36+H36+J36+L36","v":0},{"$f":"F36*G36+H36*I36+J36*K36+L36*M36","v":0}]
[null,null,32,{"$f":"'Sale Price'!C36","v":"Cowpea"},{"$f":"'Sale Price'!D36","v":"Cowp"},null,null,null,null,null,null,null,null,0,0]
[null,null,33,{"$f":"'Sale Price'!C37","v":"Ashgourd/Thadiyan"},{"$f":"'Sale Price'!D37","v":"AshG"},null,null,null,null,null,null,null,null,0,0]
[null,null,34,{"$f":"'Sale Price'!C38","v":"Ladies finger"},{"$f":"'Sale Price'!D38","v":"Venda"},null,null,null,null,null,null,null,null,0,0]
[null,null,35,{"$f":"'Sale Price'!C39","v":"Drumstick"},{"$f":"'Sale Price'!D39","v":"Drumst"},null,null,null,null,null,null,null,null,0,0]
[null,null,36,{"$f":"'Sale Price'!C40","v":"Koval"},{"$f":"'Sale Price'!D40","v":"Koval"},null,null,null,null,null,null,null,null,0,0]
[null,null,37,{"$f":"'Sale Price'!C41","v":"CurryLeaf"},{"$f":"'Sale Price'!D41","v":"CryLef"},null,null,null,null,null,null,null,null,0,0]
[null,null,38,{"$f":"'Sale Price'!C42","v":"MintLeaf"},{"$f":"'Sale Price'!D42","v":"MntLf"},null,null,null,null,null,null,null,null,0,0]
[null,null,39,{"$f":"'Sale Price'!C43","v":"Coriander Leaf"},{"$f":"'Sale Price'!D43","v":"CorLf"},null,null,null,null,null,null,null,null,0,0]
[null,null,40,{"$f":"'Sale Price'!C44","v":"Amaranthus"},{"$f":"'Sale Price'!D44","v":"Cheera"},null,null,null,null,null,null,null,null,0,0]
[null,null,41,{"$f":"'Sale Price'!C45","v":"Lemon Big"},{"$f":"'Sale Price'!D45","v":"LemnB"},null,null,null,null,null,null,null,null,0,0]
[null,null,42,{"$f":"'Sale Price'!C46","v":"Lemon small"},{"$f":"'Sale Price'!D46","v":"LemnS"},null,null,null,null,null,null,null,null,0,0]
[null,null,43,{"$f":"'Sale Price'!C47","v":"Mango"},{"$f":"'Sale Price'!D47","v":"Mango"},null,null,null,null,null,null,null,null,0,0]
[null,null,44,{"$f":"'Sale Price'!C48","v":"Pineapple"},{"$f":"'Sale Price'!D48","v":"PineA"},null,null,null,null,null,null,null,null,0,0]
[null,null,45,{"$f":"'Sale Price'!C49","v":"Potato"},{"$f":"'Sale Price'!D49","v":"Potat"},null,null,null,null,null,null,null,null,0,0]
[null,null,46,{"$f":"'Sale Price'!C50","v":"Amla"},{"$f":"'Sale Price'!D50","v":"Amla"},null,null,null,null,null,null,null,null,0,0]
[null,null,47,{"$f":"'Sale Price'!C51","v":"Tapioca"},{"$f":"'Sale Price'!D51","v":"Tap"},null,null,null,null,null,null,null,null,0,0]
[null,null,48,{"$f":"'Sale Price'!C52","v":0},{"$f":"'Sale Price'!D52","v":0},null,null,null,null,null,null,null,null,0,0]
[null,null,49,{"$f":"'Sale Price'!C53","v":0},{"$f":"'Sale Price'!D53","v":0},null,null,null,null,null,null,null,null,0,0]
[null,null,50,{"$f":"'Sale Price'!C54","v":0},{"$f":"'Sale Price'!D54","v":0},null,null,null,null,null,null,null,null,0,0]
[null,null,51,{"$f":"'Sale Price'!C55","v":0},{"$f":"'Sale Price'!D55","v":0},null,null,null,null,null,null,null,null,0,0]
[null,null,52,{"$f":"'Sale Price'!C56","v":0},{"$f":"'Sale Price'!D56","v":0},null,null,null,null,null,null,null,null,0,0]
[null,null,53,{"$f":"'Sale Price'!C57","v":0},{"$f":"'Sale Price'!D57","v":0},null,null,null,null,null,null,null,null,0,0]
[null,null,54,{"$f":"'Sale Price'!C58","v":0},{"$f":"'Sale Price'!D58","v":0},null,null,null,null,null,null,null,null,0,0]
[null,null,55,{"$f":"'Sale Price'!C59","v":0},{"$f":"'Sale Price'!D59","v":0},null,null,null,null,null,null,null,null,0,0]
[null,null,56,{"$f":"'Sale Price'!C60","v":0},{"$f":"'Sale Price'!D60","v":0},null,null,null,null,null,null,null,null,0,0]
[null,null,57,{"$f":"'Sale Price'!C61","v":0},{"$f":"'Sale Price'!D61","v":0},null,null,null,null,null,null,null,null,0,0]
[null,null,58,{"$f":"'Sale Price'!C62","v":0},{"$f":"'Sale Price'!D62","v":0},null,null,null,null,null,null,null,null,0,0]
[null,null,59,{"$f":"'Sale Price'!C63","v":0},{"$f":"'Sale Price'!D63","v":0},null,null,null,null,null,null,null,null,0,0]
[null,null,60,{"$f":"'Sale Price'!C64","v":0},{"$f":"'Sale Price'!D64","v":0},null,null,null,null,null,null,null,null,0,0]
[null,null,"Total",null,null,{"$f":"SUM(F6:F65)","v":0},null,0,null,0,null,0,null,0,{"$f":"SUM(O6:O65)","v":0}]

{"sheet":"PURCH5","index":8,"n_rows":66,"n_cols":15,"rows_kept":66,"cut":false,"hidden":false,"merged":[[1,2,1,14],[3,2,4,2],[3,3,4,3],[3,4,4,4],[3,5,3,12],[3,13,3,14]]}
[]
[null,null,"VEGETABLE PURCHASE DETAILS DAY 5"]
[null,null,1,2,3,4,5,6,7,8,9,10,11,12,13]
[null,null,"Code","Item","Short code","DAY5",null,null,null,null,null,null,null,"TOTAL"]
[null,null,null,null,null,"P1Q","R1","P2Q","R2","P3Q","R3","P4Q","R4","QTY","Rs."]
[null,null,1,{"$f":"'Sale Price'!C5","v":"Nendran"},{"$f":"'Sale Price'!D5","v":"Nendrn"},null,null,null,null,null,null,null,null,{"$f":"F6+H6+J6+L6","v":0},{"$f":"F6*G6+H6*I6+J6*K6+L6*M6","v":0}]
[null,null,2,{"$f":"'Sale Price'!C6","v":"Banana Green"},{"$f":"'Sale Price'!D6","v":"Ban G"},null,null,null,null,null,null,null,null,{"$f":"F7+H7+J7+L7","v":0},{"$f":"F7*G7+H7*I7+J7*K7+L7*M7","v":0}]
[null,null,3,{"$f":"'Sale Price'!C7","v":"Palayanthodan"},{"$f":"'Sale Price'!D7","v":"Palaya"},null,null,null,null,null,null,null,null,0,0]
[null,null,4,{"$f":"'Sale Price'!C8","v":"Poovan"},{"$f":"'Sale Price'!D8","v":"Puvan"},null,null,null,null,null,null,null,null,0,0]
[null,null,5,{"$f":"'Sale Price'!C9","v":"Rasakadali"},{"$f":"'Sale Price'!D9","v":"RasaK"},null,null,null,null,null,null,null,null,0,0]
[null,null,6,{"$f":"'Sale Price'!C10","v":"Red banana"},{"$f":"'Sale Price'!D10","v":"RedB"},null,null,null,null,null,null,null,null,0,0]
[null,null,7,{"$f":"'Sale Price'!C11","v":"Robusta"},{"$f":"'Sale Price'!D11","v":"Robst"},null,null,null,null,null,null,null,null,0,0]
[null,null,8,{"$f":"'Sale Price'!C12","v":"Peyan/Monthan"},{"$f":"'Sale Price'!D12","v":"Peyn"},null,null,null,null,null,null,null,null,0,0]
[null,null,9,{"$f":"'Sale Price'!C13","v":"Amorphophallus"},{"$f":"'Sale Price'!D13","v":"Chena"},null,null,null,null,null,null,null,null,0,0]
[null,null,10,{"$f":"'Sale Price'!C14","v":"Beans"},{"$f":"'Sale Price'!D14","v":"Beans"},null,null,null,null,null,null,null,null,0,0]
[null,null,11,{"$f":"'Sale Price'!C15","v":"Cluster beans"},{"$f":"'Sale Price'!D15","v":"Amara"},null,null,null,null,null,null,null,null,0,0]
[null,null,12,{"$f":"'Sale Price'!C16","v":"Carrot"},{"$f":"'Sale Price'!D16","v":"Carot"},null,null,null,null,null,null,null,null,0,0]
[null,null,13,{"$f":"'Sale Price'!C17","v":"Beetroot"},{"$f":"'Sale Price'!D17","v":"BeetR"},null,null,null,null,null,null,null,null,0,0]
[null,null,14,{"$f":"'Sale Price'!C18","v":"Cabbage"},{"$f":"'Sale Price'!D18","v":"Cabag"},null,null,null,null,null,null,null,null,0,0]
[null,null,15,{"$f":"'Sale Price'!C19","v":"Cauliflower"},{"$f":"'Sale Price'!D19","v":"CauliF"},null,null,null,null,null,null,null,null,0,0]
[null,null,16,{"$f":"'Sale Price'!C20","v":"Capsicum"},{"$f":"'Sale Price'!D20","v":"Capsic"},null,null,null,null,null,null,null,null,0,0]
[null,null,17,{"$f":"'Sale Price'!C21","v":"Tomato"},{"$f":"'Sale Price'!D21","v":"Tomat"},null,null,null,null,null,null,null,null,0,0]
[null,null,18,{"$f":"'Sale Price'!C22","v":"Green chillies "},{"$f":"'Sale Price'!D22","v":"ChillS"},null,null,null,null,null,null,null,null,0,0]
[null,null,19,{"$f":"'Sale Price'!C23","v":"Sambar Mulaku"},{"$f":"'Sale Price'!D23","v":"ChillB"},null,null,null,null,null,null,null,null,0,0]
[null,null,20,{"$f":"'Sale Price'!C24","v":"Bitter gourd"},{"$f":"'Sale Price'!D24","v":"BittrG"},null,null,null,null,null,null,null,null,0,0]
[null,null,21,{"$f":"'Sale Price'!C25","v":"Bottle gourd"},{"$f":"'Sale Price'!D25","v":"BottG"},null,null,null,null,null,null,null,null,0,0]
[null,null,22,{"$f":"'Sale Price'!C26","v":"Snakegourd"},{"$f":"'Sale Price'!D26","v":"SnakG"},null,null,null,null,null,null,null,null,0,0]
[null,null,23,{"$f":"'Sale Price'!C27","v":"Brinjal kathiri"},{"$f":"'Sale Price'!D27","v":"BrinjR"},null,null,null,null,null,null,null,null,0,0]
[null,null,24,{"$f":"'Sale Price'!C28","v":"Brinjal Vazhuthana"},{"$f":"'Sale Price'!D28","v":"Vazhut"},null,null,null,null,null,null,null,null,0,0]
[null,null,25,{"$f":"'Sale Price'!C29","v":"Pumpkin"},{"$f":"'Sale Price'!D29","v":"Pumpk"},null,null,null,null,null,null,null,null,0,0]
[null,null,26,{"$f":"'Sale Price'!C30","v":"Onion Big"},{"$f":"'Sale Price'!D30","v":"Savala"},null,null,null,null,null,null,null,null,0,0]
[null,null,27,{"$f":"'Sale Price'!C31","v":"Onion Small"},{"$f":"'Sale Price'!D31","v":"Ulli"},null,null,null,null,null,null,null,null,0,0]
[null,null,28,{"$f":"'Sale Price'!C32","v":"Garlic"},{"$f":"'Sale Price'!D32","v":"Garlc"},null,null,null,null,null,null,null,null,0,0]
[null,null,29,{"$f":"'Sale Price'!C33","v":"Ginger"},{"$f":"'Sale Price'!D33","v":"Ginger"},null,null,null,null,null,null,null,null,0,0]
[null,null,30,{"$f":"'Sale Price'!C34","v":"Cucumber"},{"$f":"'Sale Price'!D34","v":"Cucum"},null,null,null,null,null,null,null,null,0,0]
[null,null,31,{"$f":"'Sale Price'!C35","v":"Colocaisa"},{"$f":"'Sale Price'!D35","v":"Chemb"},null,null,null,null,null,null,null,null,{"$f":"F36+H36+J36+L36","v":0},{"$f":"F36*G36+H36*I36+J36*K36+L36*M36","v":0}]
[null,null,32,{"$f":"'Sale Price'!C36","v":"Cowpea"},{"$f":"'Sale Price'!D36","v":"Cowp"},null,null,null,null,null,null,null,null,0,0]
[null,null,33,{"$f":"'Sale Price'!C37","v":"Ashgourd/Thadiyan"},{"$f":"'Sale Price'!D37","v":"AshG"},null,null,null,null,null,null,null,null,0,0]
[null,null,34,{"$f":"'Sale Price'!C38","v":"Ladies finger"},{"$f":"'Sale Price'!D38","v":"Venda"},null,null,null,null,null,null,null,null,0,0]
[null,null,35,{"$f":"'Sale Price'!C39","v":"Drumstick"},{"$f":"'Sale Price'!D39","v":"Drumst"},null,null,null,null,null,null,null,null,0,0]
[null,null,36,{"$f":"'Sale Price'!C40","v":"Koval"},{"$f":"'Sale Price'!D40","v":"Koval"},null,null,null,null,null,null,null,null,0,0]
[null,null,37,{"$f":"'Sale Price'!C41","v":"CurryLeaf"},{"$f":"'Sale Price'!D41","v":"CryLef"},null,null,null,null,null,null,null,null,0,0]
[null,null,38,{"$f":"'Sale Price'!C42","v":"MintLeaf"},{"$f":"'Sale Price'!D42","v":"MntLf"},null,null,null,null,null,null,null,null,0,0]
[null,null,39,{"$f":"'Sale Price'!C43","v":"Coriander Leaf"},{"$f":"'Sale Price'!D43","v":"CorLf"},null,null,null,null,null,null,null,null,0,0]
[null,null,40,{"$f":"'Sale Price'!C44","v":"Amaranthus"},{"$f":"'Sale Price'!D44","v":"Cheera"},null,null,null,null,null,null,null,null,0,0]
[null,null,41,{"$f":"'Sale Price'!C45","v":"Lemon Big"},{"$f":"'Sale Price'!D45","v":"LemnB"},null,null,null,null,null,null,null,null,0,0]
[null,null,42,{"$f":"'Sale Price'!C46","v":"Lemon small"},{"$f":"'Sale Price'!D46","v":"LemnS"},null,null,null,null,null,null,null,null,0,0]
[null,null,43,{"$f":"'Sale Price'!C47","v":"Mango"},{"$f":"'Sale Price'!D47","v":"Mango"},null,null,null,null,null,null,null,null,0,0]
[null,null,44,{"$f":"'Sale Price'!C48","v":"Pineapple"},{"$f":"'Sale Price'!D48","v":"PineA"},null,null,null,null,null,null,null,null,0,0]
[null,null,45,{"$f":"'Sale Price'!C49","v":"Potato"},{"$f":"'Sale Price'!D49","v":"Potat"},null,null,null,null,null,null,null,null,0,0]
[null,null,46,{"$f":"'Sale Price'!C50","v":"Amla"},{"$f":"'Sale Price'!D50","v":"Amla"},null,null,null,null,null,null,null,null,0,0]
[null,null,47,{"$f":"'Sale Price'!C51","v":"Tapioca"},{"$f":"'Sale Price'!D51","v":"Tap"},null,null,null,null,null,null,null,null,0,0]
[null,null,48,{"$f":"'Sale Price'!C52","v":0},{"$f":"'Sale Price'!D52","v":0},null,null,null,null,null,null,null,null,0,0]
[null,null,49,{"$f":"'Sale Price'!C53","v":0},{"$f":"'Sale Price'!D53","v":0},null,null,null,null,null,null,null,null,0,0]
[null,null,50,{"$f":"'Sale Price'!C54","v":0},{"$f":"'Sale Price'!D54","v":0},null,null,null,null,null,null,null,null,0,0]
[null,null,51,{"$f":"'Sale Price'!C55","v":0},{"$f":"'Sale Price'!D55","v":0},null,null,null,null,null,null,null,null,0,0]
[null,null,52,{"$f":"'Sale Price'!C56","v":0},{"$f":"'Sale Price'!D56","v":0},null,null,null,null,null,null,null,null,0,0]
[null,null,53,{"$f":"'Sale Price'!C57","v":0},{"$f":"'Sale Price'!D57","v":0},null,null,null,null,null,null,null,null,0,0]
[null,null,54,{"$f":"'Sale Price'!C58","v":0},{"$f":"'Sale Price'!D58","v":0},null,null,null,null,null,null,null,null,0,0]
[null,null,55,{"$f":"'Sale Price'!C59","v":0},{"$f":"'Sale Price'!D59","v":0},null,null,null,null,null,null,null,null,0,0]
[null,null,56,{"$f":"'Sale Price'!C60","v":0},{"$f":"'Sale Price'!D60","v":0},null,null,null,null,null,null,null,null,0,0]
[null,null,57,{"$f":"'Sale Price'!C61","v":0},{"$f":"'Sale Price'!D61","v":0},null,null,null,null,null,null,null,null,0,0]
[null,null,58,{"$f":"'Sale Price'!C62","v":0},{"$f":"'Sale Price'!D62","v":0},null,null,null,null,null,null,null,null,0,0]
[null,null,59,{"$f":"'Sale Price'!C63","v":0},{"$f":"'Sale Price'!D63","v":0},null,null,null,null,null,null,null,null,0,0]
[null,null,60,{"$f":"'Sale Price'!C64","v":0},{"$f":"'Sale Price'!D64","v":0},null,null,null,null,null,null,null,null,0,0]
[null,null,"Total",null,null,{"$f":"SUM(F6:F65)","v":0},null,0,null,0,null,0,null,0,{"$f":"SUM(O6:O65)","v":0}]

{"sheet":"Day1","index":9,"n_rows":515,"n_cols":63,"rows_kept":515,"cut":false,"hidden":false,"merged":[[511,0,511,1],[512,0,512,1],[513,0,513,1],[514,0,514,1],[5,62,7,62],[505,0,505,1],[506,0,506,1],[507,0,507,1],[508,0,508,1],[509,0,509,1],[510,0,510,1],[499,0,499,1],[500,0,500,1],[501,0,501,1],[502,0,502,1],[503,0,503,1],[504,0,504,1],[493,0,493,1],[494,0,494,1],[495,0,495,1],[496,0,496,1],[497,0,497,1],[498,0,498,1],[487,0,487,1],[488,0,488,1],[489,0,489,1],[490,0,490,1],[491,0,491,1],[492,0,492,1],[481,0,481,1],[482,0,482,1],[483,0,483,1],[484,0,484,1],[485,0,485,1],[486,0,486,1],[475,0,475,1],[476,0,476,1],[477,0,477,1],[478,0,478,1],[479,0,479,1],[480,0,480,1],[469,0,469,1],[470,0,470,1],[471,0,471,1],[472,0,472,1],[473,0,473,1],[474,0,474,1],[463,0,463,1],[464,0,464,1],[465,0,465,1],[466,0,466,1],[467,0,467,1],[468,0,468,1],[457,0,457,1],[458,0,458,1],[459,0,459,1],[460,0,460,1],[461,0,461,1],[462,0,462,1],[451,0,451,1],[452,0,452,1],[453,0,453,1],[454,0,454,1],[455,0,455,1],[456,0,456,1],[445,0,445,1],[446,0,446,1],[447,0,447,1],[448,0,448,1],[449,0,449,1],[450,0,450,1],[439,0,439,1],[440,0,440,1],[441,0,441,1],[442,0,442,1],[443,0,443,1],[444,0,444,1],[433,0,433,1],[434,0,434,1],[435,0,435,1],[436,0,436,1],[437,0,437,1],[438,0,438,1],[427,0,427,1],[428,0,428,1],[429,0,429,1],[430,0,430,1],[431,0,431,1],[432,0,432,1],[421,0,421,1],[422,0,422,1],[423,0,423,1],[424,0,424,1],[425,0,425,1],[426,0,426,1],[415,0,415,1],[416,0,416,1],[417,0,417,1],[418,0,418,1],[419,0,419,1],[420,0,420,1],[409,0,409,1],[410,0,410,1],[411,0,411,1],[412,0,412,1],[413,0,413,1],[414,0,414,1],[403,0,403,1],[404,0,404,1],[405,0,405,1],[406,0,406,1],[407,0,407,1],[408,0,408,1],[397,0,397,1],[398,0,398,1],[399,0,399,1],[400,0,400,1],[401,0,401,1],[402,0,402,1],[391,0,391,1],[392,0,392,1],[393,0,393,1],[394,0,394,1],[395,0,395,1],[396,0,396,1],[385,0,385,1],[386,0,386,1],[387,0,387,1],[388,0,388,1],[389,0,389,1],[390,0,390,1],[379,0,379,1],[380,0,380,1],[381,0,381,1],[382,0,382,1],[383,0,383,1],[384,0,384,1],[373,0,373,1],[374,0,374,1],[375,0,375,1],[376,0,376,1],[377,0,377,1],[378,0,378,1],[367,0,367,1],[368,0,368,1],[369,0,369,1],[370,0,370,1],[371,0,371,1],[372,0,372,1],[361,0,361,1],[362,0,362,1],[363,0,363,1],[364,0,364,1],[365,0,365,1],[366,0,366,1],[355,0,355,1],[356,0,356,1],[357,0,357,1],[358,0,358,1],[359,0,359,1],[360,0,360,1],[349,0,349,1],[350,0,350,1],[351,0,351,1],[352,0,352,1],[353,0,353,1],[354,0,354,1],[343,0,343,1],[344,0,344,1],[345,0,345,1],[346,0,346,1],[347,0,347,1],[348,0,348,1],[337,0,337,1],[338,0,338,1],[339,0,339,1],[340,0,340,1],[341,0,341,1],[342,0,342,1],[331,0,331,1],[332,0,332,1],[333,0,333,1],[334,0,334,1],[335,0,335,1],[336,0,336,1],[325,0,325,1],[326,0,326,1],[327,0,327,1],[328,0,328,1],[329,0,329,1],[330,0,330,1],[319,0,319,1],[320,0,320,1],[321,0,321,1],[322,0,322,1],[323,0,323,1],[324,0,324,1],[313,0,313,1],[314,0,314,1],[315,0,315,1],[316,0,316,1],[317,0,317,1],[318,0,318,1],[307,0,307,1],[308,0,308,1],[309,0,309,1],[310,0,310,1],[311,0,311,1],[312,0,312,1],[301,0,301,1],[302,0,302,1],[303,0,303,1],[304,0,304,1],[305,0,305,1],[306,0,306,1],[295,0,295,1],[296,0,296,1],[297,0,297,1],[298,0,298,1],[299,0,299,1],[300,0,300,1],[289,0,289,1],[290,0,290,1],[291,0,291,1],[292,0,292,1],[293,0,293,1],[294,0,294,1],[283,0,283,1],[284,0,284,1],[285,0,285,1],[286,0,286,1],[287,0,287,1],[288,0,288,1],[277,0,277,1],[278,0,278,1],[279,0,279,1],[280,0,280,1],[281,0,281,1],[282,0,282,1],[271,0,271,1],[272,0,272,1],[273,0,273,1],[274,0,274,1],[275,0,275,1],[276,0,276,1],[265,0,265,1],[266,0,266,1],[267,0,267,1],[268,0,268,1],[269,0,269,1],[270,0,270,1],[259,0,259,1],[260,0,260,1],[261,0,261,1],[262,0,262,1],[263,0,263,1],[264,0,264,1],[253,0,253,1],[254,0,254,1],[255,0,255,1],[256,0,256,1],[257,0,257,1],[258,0,258,1],[247,0,247,1],[248,0,248,1],[249,0,249,1],[250,0,250,1],[251,0,251,1],[252,0,252,1],[241,0,241,1],[242,0,242,1],[243,0,243,1],[244,0,244,1],[245,0,245,1],[246,0,246,1],[235,0,235,1],[236,0,236,1],[237,0,237,1],[238,0,238,1],[239,0,239,1],[240,0,240,1],[229,0,229,1],[230,0,230,1],[231,0,231,1],[232,0,232,1],[233,0,233,1],[234,0,234,1],[223,0,223,1],[224,0,224,1],[225,0,225,1],[226,0,226,1],[227,0,227,1],[228,0,228,1],[217,0,217,1],[218,0,218,1],[219,0,219,1],[220,0,220,1],[221,0,221,1],[222,0,222,1],[211,0,211,1],[212,0,212,1],[213,0,213,1],[214,0,214,1],[215,0,215,1],[216,0,216,1],[205,0,205,1],[206,0,206,1],[207,0,207,1],[208,0,208,1],[209,0,209,1],[210,0,210,1],[199,0,199,1],[200,0,200,1],[201,0,201,1],[202,0,202,1],[203,0,203,1],[204,0,204,1],[193,0,193,1],[194,0,194,1],[195,0,195,1],[196,0,196,1],[197,0,197,1],[198,0,198,1],[187,0,187,1],[188,0,188,1],[189,0,189,1],[190,0,190,1],[191,0,191,1],[192,0,192,1],[181,0,181,1],[182,0,182,1],[183,0,183,1],[184,0,184,1],[185,0,185,1],[186,0,186,1],[175,0,175,1],[176,0,176,1],[177,0,177,1],[178,0,178,1],[179,0,179,1],[180,0,180,1],[169,0,169,1],[170,0,170,1],[171,0,171,1],[172,0,172,1],[173,0,173,1],[174,0,174,1],[163,0,163,1],[164,0,164,1],[165,0,165,1],[166,0,166,1],[167,0,167,1],[168,0,168,1],[157,0,157,1],[158,0,158,1],[159,0,159,1],[160,0,160,1],[161,0,161,1],[162,0,162,1],[151,0,151,1],[152,0,152,1],[153,0,153,1],[154,0,154,1],[155,0,155,1],[156,0,156,1],[145,0,145,1],[146,0,146,1],[147,0,147,1],[148,0,148,1],[149,0,149,1],[150,0,150,1],[139,0,139,1],[140,0,140,1],[141,0,141,1],[142,0,142,1],[143,0,143,1],[144,0,144,1],[133,0,133,1],[134,0,134,1],[135,0,135,1],[136,0,136,1],[137,0,137,1],[138,0,138,1],[127,0,127,1],[128,0,128,1],[129,0,129,1],[130,0,130,1],[131,0,131,1],[132,0,132,1],[121,0,121,1],[122,0,122,1],[123,0,123,1],[124,0,124,1],[125,0,125,1],[126,0,126,1],[115,0,115,1],[116,0,116,1],[117,0,117,1],[118,0,118,1],[119,0,119,1],[120,0,120,1],[109,0,109,1],[110,0,110,1],[111,0,111,1],[112,0,112,1],[113,0,113,1],[114,0,114,1],[103,0,103,1],[104,0,104,1],[105,0,105,1],[106,0,106,1],[107,0,107,1],[108,0,108,1],[97,0,97,1],[98,0,98,1],[99,0,99,1],[100,0,100,1],[101,0,101,1],[102,0,102,1],[91,0,91,1],[92,0,92,1],[93,0,93,1],[94,0,94,1],[95,0,95,1],[96,0,96,1],[85,0,85,1],[86,0,86,1],[87,0,87,1],[88,0,88,1],[89,0,89,1],[90,0,90,1],[79,0,79,1],[80,0,80,1],[81,0,81,1],[82,0,82,1],[83,0,83,1],[84,0,84,1],[73,0,73,1],[74,0,74,1],[75,0,75,1],[76,0,76,1],[77,0,77,1],[78,0,78,1],[67,0,67,1],[68,0,68,1],[69,0,69,1],[70,0,70,1],[71,0,71,1],[72,0,72,1],[61,0,61,1],[62,0,62,1],[63,0,63,1],[64,0,64,1],[65,0,65,1],[66,0,66,1],[55,0,55,1],[56,0,56,1],[57,0,57,1],[58,0,58,1],[59,0,59,1],[60,0,60,1],[49,0,49,1],[50,0,50,1],[51,0,51,1],[52,0,52,1],[53,0,53,1],[54,0,54,1],[43,0,43,1],[44,0,44,1],[45,0,45,1],[46,0,46,1],[47,0,47,1],[48,0,48,1],[37,0,37,1],[38,0,38,1],[39,0,39,1],[40,0,40,1],[41,0,41,1],[42,0,42,1],[31,0,31,1],[32,0,32,1],[33,0,33,1],[34,0,34,1],[35,0,35,1],[36,0,36,1],[25,0,25,1],[26,0,26,1],[27,0,27,1],[28,0,28,1],[29,0,29,1],[30,0,30,1],[20,0,20,1],[21,0,21,1],[22,0,22,1],[23,0,23,1],[24,0,24,1],[13,0,13,1],[14,0,14,1],[15,0,15,1],[16,0,16,1],[17,0,17,1],[18,0,18,1],[0,0,0,62],[10,0,12,0],[10,62,12,62],[2,0,2,62],[5,0,5,1],[7,0,7,1],[8,0,8,1],[6,0,6,1],[19,0,19,1],[1,0,1,62],[9,0,9,62],[4,0,4,1]]}
[{"$f":"\"KRISHI\"&\"  BHAVAN\"&\"  \"&REGISTRATION!F13& \"  \"&\"DAY1\"","v":"KRISHI  BHAVAN    DAY1"}]
[{"$f":" REGISTRATION!F7&\" ONAM VEGETABLE MARKET, PURCHASE AND SALES MANAGEMENT SYSTEM\"","v":"jj ONAM VEGETABLE MARKET, PURCHASE AND SALES MANAGEMENT SYSTEM"}]
["INVENTORY MANAGEMENT"]
[null,null,1,2,3,4,5,6,7,8,9,10,11,12,13,14,15,16,17,18,19,20,21,22,23,24,25,26,27,28,29,30,31,32,33,34,35,36,37,38,39,40,41,42,43,44,45,46,47,48,49,50,51,52,53,54,55,56,57,58,59,60]
["Item",null,{"$f":"VLOOKUP(C13,'Sale Price'!$B$3:$I$64,3)","v":"Nendrn"},{"$f":"VLOOKUP(D13,'Sale Price'!$B$3:$I$64,3)","v":"Ban G"},{"$f":"VLOOKUP(E13,'Sale Price'!$B$3:$I$64,3)","v":"Palaya"},{"$f":"VLOOKUP(F13,'Sale Price'!$B$3:$I$64,3)","v":"Puvan"},{"$f":"VLOOKUP(G13,'Sale Price'!$B$3:$I$64,3)","v":"RasaK"},{"$f":"VLOOKUP(H13,'Sale Price'!$B$3:$I$64,3)","v":"RedB"},{"$f":"VLOOKUP(I13,'Sale Price'!$B$3:$I$64,3)","v":"Robst"},{"$f":"VLOOKUP(J13,'Sale Price'!$B$3:$I$64,3)","v":"Peyn"},{"$f":"VLOOKUP(K13,'Sale Price'!$B$3:$I$64,3)","v":"Chena"},{"$f":"VLOOKUP(L13,'Sale Price'!$B$3:$I$64,3)","v":"Beans"},{"$f":"VLOOKUP(M13,'Sale Price'!$B$3:$I$64,3)","v":"Amara"},{"$f":"VLOOKUP(N13,'Sale Price'!$B$3:$I$64,3)","v":"Carot"},{"$f":"VLOOKUP(O13,'Sale Price'!$B$3:$I$64,3)","v":"BeetR"},{"$f":"VLOOKUP(P13,'Sale Price'!$B$3:$I$64,3)","v":"Cabag"},{"$f":"VLOOKUP(Q13,'Sale Price'!$B$3:$I$64,3)","v":"CauliF"},{"$f":"VLOOKUP(R13,'Sale Price'!$B$3:$I$64,3)","v":"Capsic"},{"$f":"VLOOKUP(S13,'Sale Price'!$B$3:$I$64,3)","v":"Tomat"},{"$f":"VLOOKUP(T13,'Sale Price'!$B$3:$I$64,3)","v":"ChillS"},{"$f":"VLOOKUP(U13,'Sale Price'!$B$3:$I$64,3)","v":"ChillB"},{"$f":"VLOOKUP(V13,'Sale Price'!$B$3:$I$64,3)","v":"BittrG"},{"$f":"VLOOKUP(W13,'Sale Price'!$B$3:$I$64,3)","v":"BottG"},{"$f":"VLOOKUP(X13,'Sale Price'!$B$3:$I$64,3)","v":"SnakG"},{"$f":"VLOOKUP(Y13,'Sale Price'!$B$3:$I$64,3)","v":"BrinjR"},{"$f":"VLOOKUP(Z13,'Sale Price'!$B$3:$I$64,3)","v":"Vazhut"},{"$f":"VLOOKUP(AA13,'Sale Price'!$B$3:$I$64,3)","v":"Pumpk"},{"$f":"VLOOKUP(AB13,'Sale Price'!$B$3:$I$64,3)","v":"Savala"},{"$f":"VLOOKUP(AC13,'Sale Price'!$B$3:$I$64,3)","v":"Ulli"},{"$f":"VLOOKUP(AD13,'Sale Price'!$B$3:$I$64,3)","v":"Garlc"},{"$f":"VLOOKUP(AE13,'Sale Price'!$B$3:$I$64,3)","v":"Ginger"},{"$f":"VLOOKUP(AF13,'Sale Price'!$B$3:$I$64,3)","v":"Cucum"},{"$f":"VLOOKUP(AG13,'Sale Price'!$B$3:$I$64,3)","v":"Chemb"},{"$f":"VLOOKUP(AH13,'Sale Price'!$B$3:$I$64,3)","v":"Cowp"},{"$f":"VLOOKUP(AI13,'Sale Price'!$B$3:$I$64,3)","v":"AshG"},{"$f":"VLOOKUP(AJ13,'Sale Price'!$B$3:$I$64,3)","v":"Venda"},{"$f":"VLOOKUP(AK13,'Sale Price'!$B$3:$I$64,3)","v":"Drumst"},{"$f":"VLOOKUP(AL13,'Sale Price'!$B$3:$I$64,3)","v":"Koval"},{"$f":"VLOOKUP(AM13,'Sale Price'!$B$3:$I$64,3)","v":"CryLef"},{"$f":"VLOOKUP(AN13,'Sale Price'!$B$3:$I$64,3)","v":"MntLf"},{"$f":"VLOOKUP(AO13,'Sale Price'!$B$3:$I$64,3)","v":"CorLf"},{"$f":"VLOOKUP(AP13,'Sale Price'!$B$3:$I$64,3)","v":"Cheera"},{"$f":"VLOOKUP(AQ13,'Sale Price'!$B$3:$I$64,3)","v":"LemnB"},{"$f":"VLOOKUP(AR13,'Sale Price'!$B$3:$I$64,3)","v":"LemnS"},{"$f":"VLOOKUP(AS13,'Sale Price'!$B$3:$I$64,3)","v":"Mango"},{"$f":"VLOOKUP(AT13,'Sale Price'!$B$3:$I$64,3)","v":"PineA"},{"$f":"VLOOKUP(AU13,'Sale Price'!$B$3:$I$64,3)","v":"Potat"},{"$f":"VLOOKUP(AV13,'Sale Price'!$B$3:$I$64,3)","v":"Amla"},{"$f":"VLOOKUP(AW13,'Sale Price'!$B$3:$I$64,3)","v":"Tap"},{"$f":"VLOOKUP(AX13,'Sale Price'!$B$3:$I$64,3)","v":0},{"$f":"VLOOKUP(AY13,'Sale Price'!$B$3:$I$64,3)","v":0},{"$f":"VLOOKUP(AZ13,'Sale Price'!$B$3:$I$64,3)","v":0},{"$f":"VLOOKUP(BA13,'Sale Price'!$B$3:$I$64,3)","v":0},{"$f":"VLOOKUP(BB13,'Sale Price'!$B$3:$I$64,3)","v":0},{"$f":"VLOOKUP(BC13,'Sale Price'!$B$3:$I$64,3)","v":0},{"$f":"VLOOKUP(BD13,'Sale Price'!$B$3:$I$64,3)","v":0},{"$f":"VLOOKUP(BE13,'Sale Price'!$B$3:$I$64,3)","v":0},{"$f":"VLOOKUP(BF13,'Sale Price'!$B$3:$I$64,3)","v":0},{"$f":"VLOOKUP(BG13,'Sale Price'!$B$3:$I$64,3)","v":0},{"$f":"VLOOKUP(BH13,'Sale Price'!$B$3:$I$64,3)","v":0},{"$f":"VLOOKUP(BI13,'Sale Price'!$B$3:$I$64,3)","v":0},{"$f":"VLOOKUP(BJ13,'Sale Price'!$B$3:$I$64,3)","v":0}]
["PR. STOCK KG",null,0,0,0,0,0,0,0,0,0,0,0,0,0,0,0,0,0,0,0,0,0,0,0,0,0,0,0,0,0,0,0,0,0,0,0,0,0,0,0,0,0,0,0,0,0,0,0,0,0,0,0,0,0,0,0,0,0,0,0,0,"Total Sales Amount for the day (Rs.)"]
["PURCHASE KG",null,{"$f":"VLOOKUP(C13,PURCH1!$B$3:$N$64,12)","v":0},{"$f":"VLOOKUP(D13,PURCH1!$B$3:$N$64,12)","v":0},{"$f":"VLOOKUP(E13,PURCH1!$B$3:$N$64,12)","v":0},{"$f":"VLOOKUP(F13,PURCH1!$B$3:$N$64,12)","v":0},{"$f":"VLOOKUP(G13,PURCH1!$B$3:$N$64,12)","v":0},{"$f":"VLOOKUP(H13,PURCH1!$B$3:$N$64,12)","v":0},{"$f":"VLOOKUP(I13,PURCH1!$B$3:$N$64,12)","v":0},{"$f":"VLOOKUP(J13,PURCH1!$B$3:$N$64,12)","v":0},{"$f":"VLOOKUP(K13,PURCH1!$B$3:$N$64,12)","v":0},{"$f":"VLOOKUP(L13,PURCH1!$B$3:$N$64,12)","v":0},{"$f":"VLOOKUP(M13,PURCH1!$B$3:$N$64,12)","v":0},{"$f":"VLOOKUP(N13,PURCH1!$B$3:$N$64,12)","v":0},{"$f":"VLOOKUP(O13,PURCH1!$B$3:$N$64,12)","v":0},{"$f":"VLOOKUP(P13,PURCH1!$B$3:$N$64,12)","v":0},{"$f":"VLOOKUP(Q13,PURCH1!$B$3:$N$64,12)","v":0},{"$f":"VLOOKUP(R13,PURCH1!$B$3:$N$64,12)","v":0},{"$f":"VLOOKUP(S13,PURCH1!$B$3:$N$64,12)","v":0},{"$f":"VLOOKUP(T13,PURCH1!$B$3:$N$64,12)","v":0},{"$f":"VLOOKUP(U13,PURCH1!$B$3:$N$64,12)","v":0},{"$f":"VLOOKUP(V13,PURCH1!$B$3:$N$64,12)","v":0},{"$f":"VLOOKUP(W13,PURCH1!$B$3:$N$64,12)","v":0},{"$f":"VLOOKUP(X13,PURCH1!$B$3:$N$64,12)","v":0},{"$f":"VLOOKUP(Y13,PURCH1!$B$3:$N$64,12)","v":0},{"$f":"VLOOKUP(Z13,PURCH1!$B$3:$N$64,12)","v":0},{"$f":"VLOOKUP(AA13,PURCH1!$B$3:$N$64,12)","v":0},{"$f":"VLOOKUP(AB13,PURCH1!$B$3:$N$64,12)","v":0},{"$f":"VLOOKUP(AC13,PURCH1!$B$3:$N$64,12)","v":0},{"$f":"VLOOKUP(AD13,PURCH1!$B$3:$N$64,12)","v":0},{"$f":"VLOOKUP(AE13,PURCH1!$B$3:$N$64,12)","v":0},{"$f":"VLOOKUP(AF13,PURCH1!$B$3:$N$64,12)","v":0},{"$f":"VLOOKUP(AG13,PURCH1!$B$3:$N$64,12)","v":0},{"$f":"VLOOKUP(AH13,PURCH1!$B$3:$N$64,12)","v":0},{"$f":"VLOOKUP(AI13,PURCH1!$B$3:$N$64,12)","v":0},{"$f":"VLOOKUP(AJ13,PURCH1!$B$3:$N$64,12)","v":0},{"$f":"VLOOKUP(AK13,PURCH1!$B$3:$N$64,12)","v":0},{"$f":"VLOOKUP(AL13,PURCH1!$B$3:$N$64,12)","v":0},{"$f":"VLOOKUP(AM13,PURCH1!$B$3:$N$64,12)","v":0},{"$f":"VLOOKUP(AN13,PURCH1!$B$3:$N$64,12)","v":0},{"$f":"VLOOKUP(AO13,PURCH1!$B$3:$N$64,12)","v":0},{"$f":"VLOOKUP(AP13,PURCH1!$B$3:$N$64,12)","v":0},{"$f":"VLOOKUP(AQ13,PURCH1!$B$3:$N$64,12)","v":0},{"$f":"VLOOKUP(AR13,PURCH1!$B$3:$N$64,12)","v":0},{"$f":"VLOOKUP(AS13,PURCH1!$B$3:$N$64,12)","v":0},{"$f":"VLOOKUP(AT13,PURCH1!$B$3:$N$64,12)","v":0},{"$f":"VLOOKUP(AU13,PURCH1!$B$3:$N$64,12)","v":0},{"$f":"VLOOKUP(AV13,PURCH1!$B$3:$N$64,12)","v":0},{"$f":"VLOOKUP(AW13,PURCH1!$B$3:$N$64,12)","v":0},{"$f":"VLOOKUP(AX13,PURCH1!$B$3:$N$64,12)","v":0},{"$f":"VLOOKUP(AY13,PURCH1!$B$3:$N$64,12)","v":0},{"$f":"VLOOKUP(AZ13,PURCH1!$B$3:$N$64,12)","v":0},{"$f":"VLOOKUP(BA13,PURCH1!$B$3:$N$64,12)","v":0},{"$f":"VLOOKUP(BB13,PURCH1!$B$3:$N$64,12)","v":0},{"$f":"VLOOKUP(BC13,PURCH1!$B$3:$N$64,12)","v":0},{"$f":"VLOOKUP(BD13,PURCH1!$B$3:$N$64,12)","v":0},{"$f":"VLOOKUP(BE13,PURCH1!$B$3:$N$64,12)","v":0},{"$f":"VLOOKUP(BF13,PURCH1!$B$3:$N$64,12)","v":0},{"$f":"VLOOKUP(BG13,PURCH1!$B$3:$N$64,12)","v":0},{"$f":"VLOOKUP(BH13,PURCH1!$B$3:$N$64,12)","v":0},{"$f":"VLOOKUP(BI13,PURCH1!$B$3:$N$64,12)","v":0},{"$f":"VLOOKUP(BJ13,PURCH1!$B$3:$N$64,12)","v":0}]
["TOTAL SALE KG",null,{"$f":"C515","v":0},{"$f":"D515","v":0},0,0,0,0,0,0,0,0,0,0,0,0,0,0,0,0,0,0,0,0,0,0,0,0,0,0,0,0,{"$f":"AG515","v":0},0,0,0,0,0,0,0,0,0,0,0,0,0,0,0,0,0,0,0,0,0,0,0,0,0,0,0,0,0]
["BALANCE KG",null,{"$f":"C6+C7-C8","v":0},{"$f":"D6+D7-D8","v":0},0,0,0,0,0,0,0,0,0,0,0,0,0,0,0,0,0,0,0,0,0,0,0,0,0,0,0,0,{"$f":"AG6+AG7-AG8","v":0},0,0,0,0,0,0,0,0,0,0,0,0,0,0,0,0,0,0,0,0,0,0,0,0,0,0,0,0,0,{"$f":"BK515","v":0}]
["SALES MANAGEMENT"]
["Bill No.","S.Price",{"$f":"VLOOKUP('Day1'!C13,'Sale Price'!$B$5:$I$64,4)","v":0},{"$f":"VLOOKUP('Day1'!D13,'Sale Price'!$B$5:$I$64,4)","v":0},{"$f":"VLOOKUP('Day1'!E13,'Sale Price'!$B$5:$I$64,4)","v":0},{"$f":"VLOOKUP('Day1'!F13,'Sale Price'!$B$5:$I$64,4)","v":0},{"$f":"VLOOKUP('Day1'!G13,'Sale Price'!$B$5:$I$64,4)","v":0},{"$f":"VLOOKUP('Day1'!H13,'Sale Price'!$B$5:$I$64,4)","v":0},{"$f":"VLOOKUP('Day1'!I13,'Sale Price'!$B$5:$I$64,4)","v":0},{"$f":"VLOOKUP('Day1'!J13,'Sale Price'!$B$5:$I$64,4)","v":0},{"$f":"VLOOKUP('Day1'!K13,'Sale Price'!$B$5:$I$64,4)","v":0},{"$f":"VLOOKUP('Day1'!L13,'Sale Price'!$B$5:$I$64,4)","v":0},{"$f":"VLOOKUP('Day1'!M13,'Sale Price'!$B$5:$I$64,4)","v":0},{"$f":"VLOOKUP('Day1'!N13,'Sale Price'!$B$5:$I$64,4)","v":0},{"$f":"VLOOKUP('Day1'!O13,'Sale Price'!$B$5:$I$64,4)","v":0},{"$f":"VLOOKUP('Day1'!P13,'Sale Price'!$B$5:$I$64,4)","v":0},{"$f":"VLOOKUP('Day1'!Q13,'Sale Price'!$B$5:$I$64,4)","v":0},{"$f":"VLOOKUP('Day1'!R13,'Sale Price'!$B$5:$I$64,4)","v":0},{"$f":"VLOOKUP('Day1'!S13,'Sale Price'!$B$5:$I$64,4)","v":0},{"$f":"VLOOKUP('Day1'!T13,'Sale Price'!$B$5:$I$64,4)","v":0},{"$f":"VLOOKUP('Day1'!U13,'Sale Price'!$B$5:$I$64,4)","v":0},{"$f":"VLOOKUP('Day1'!V13,'Sale Price'!$B$5:$I$64,4)","v":0},{"$f":"VLOOKUP('Day1'!W13,'Sale Price'!$B$5:$I$64,4)","v":0},{"$f":"VLOOKUP('Day1'!X13,'Sale Price'!$B$5:$I$64,4)","v":0},{"$f":"VLOOKUP('Day1'!Y13,'Sale Price'!$B$5:$I$64,4)","v":0},{"$f":"VLOOKUP('Day1'!Z13,'Sale Price'!$B$5:$I$64,4)","v":0},{"$f":"VLOOKUP('Day1'!AA13,'Sale Price'!$B$5:$I$64,4)","v":0},{"$f":"VLOOKUP('Day1'!AB13,'Sale Price'!$B$5:$I$64,4)","v":0},{"$f":"VLOOKUP('Day1'!AC13,'Sale Price'!$B$5:$I$64,4)","v":0},{"$f":"VLOOKUP('Day1'!AD13,'Sale Price'!$B$5:$I$64,4)","v":0},{"$f":"VLOOKUP('Day1'!AE13,'Sale Price'!$B$5:$I$64,4)","v":0},{"$f":"VLOOKUP('Day1'!AF13,'Sale Price'!$B$5:$I$64,4)","v":0},{"$f":"VLOOKUP('Day1'!AG13,'Sale Price'!$B$5:$I$64,4)","v":0},{"$f":"VLOOKUP('Day1'!AH13,'Sale Price'!$B$5:$I$64,4)","v":0},{"$f":"VLOOKUP('Day1'!AI13,'Sale Price'!$B$5:$I$64,4)","v":0},{"$f":"VLOOKUP('Day1'!AJ13,'Sale Price'!$B$5:$I$64,4)","v":0},{"$f":"VLOOKUP('Day1'!AK13,'Sale Price'!$B$5:$I$64,4)","v":0},{"$f":"VLOOKUP('Day1'!AL13,'Sale Price'!$B$5:$I$64,4)","v":0},{"$f":"VLOOKUP('Day1'!AM13,'Sale Price'!$B$5:$I$64,4)","v":0},{"$f":"VLOOKUP('Day1'!AN13,'Sale Price'!$B$5:$I$64,4)","v":0},{"$f":"VLOOKUP('Day1'!AO13,'Sale Price'!$B$5:$I$64,4)","v":0},{"$f":"VLOOKUP('Day1'!AP13,'Sale Price'!$B$5:$I$64,4)","v":0},{"$f":"VLOOKUP('Day1'!AQ13,'Sale Price'!$B$5:$I$64,4)","v":0},{"$f":"VLOOKUP('Day1'!AR13,'Sale Price'!$B$5:$I$64,4)","v":0},{"$f":"VLOOKUP('Day1'!AS13,'Sale Price'!$B$5:$I$64,4)","v":0},{"$f":"VLOOKUP('Day1'!AT13,'Sale Price'!$B$5:$I$64,4)","v":0},{"$f":"VLOOKUP('Day1'!AU13,'Sale Price'!$B$5:$I$64,4)","v":0},{"$f":"VLOOKUP('Day1'!AV13,'Sale Price'!$B$5:$I$64,4)","v":0},{"$f":"VLOOKUP('Day1'!AW13,'Sale Price'!$B$5:$I$64,4)","v":0},{"$f":"VLOOKUP('Day1'!AX13,'Sale Price'!$B$5:$I$64,4)","v":0},{"$f":"VLOOKUP('Day1'!AY13,'Sale Price'!$B$5:$I$64,4)","v":0},{"$f":"VLOOKUP('Day1'!AZ13,'Sale Price'!$B$5:$I$64,4)","v":0},{"$f":"VLOOKUP('Day1'!BA13,'Sale Price'!$B$5:$I$64,4)","v":0},{"$f":"VLOOKUP('Day1'!BB13,'Sale Price'!$B$5:$I$64,4)","v":0},{"$f":"VLOOKUP('Day1'!BC13,'Sale Price'!$B$5:$I$64,4)","v":0},{"$f":"VLOOKUP('Day1'!BD13,'Sale Price'!$B$5:$I$64,4)","v":0},{"$f":"VLOOKUP('Day1'!BE13,'Sale Price'!$B$5:$I$64,4)","v":0},{"$f":"VLOOKUP('Day1'!BF13,'Sale Price'!$B$5:$I$64,4)","v":0},{"$f":"VLOOKUP('Day1'!BG13,'Sale Price'!$B$5:$I$64,4)","v":0},{"$f":"VLOOKUP('Day1'!BH13,'Sale Price'!$B$5:$I$64,4)","v":0},{"$f":"VLOOKUP('Day1'!BI13,'Sale Price'!$B$5:$I$64,4)","v":0},{"$f":"VLOOKUP('Day1'!BJ13,'Sale Price'!$B$5:$I$64,4)","v":0},"Total Bill Rs."]
[null,"Item",{"$f":"VLOOKUP('Day1'!C13,'Sale Price'!$B$5:$I$64,3)","v":"Nendrn"},{"$f":"VLOOKUP('Day1'!D13,'Sale Price'!$B$5:$I$64,3)","v":"Ban G"},{"$f":"VLOOKUP('Day1'!E13,'Sale Price'!$B$5:$I$64,3)","v":"Palaya"},{"$f":"VLOOKUP('Day1'!F13,'Sale Price'!$B$5:$I$64,3)","v":"Puvan"},{"$f":"VLOOKUP('Day1'!G13,'Sale Price'!$B$5:$I$64,3)","v":"RasaK"},{"$f":"VLOOKUP('Day1'!H13,'Sale Price'!$B$5:$I$64,3)","v":"RedB"},{"$f":"VLOOKUP('Day1'!I13,'Sale Price'!$B$5:$I$64,3)","v":"Robst"},{"$f":"VLOOKUP('Day1'!J13,'Sale Price'!$B$5:$I$64,3)","v":"Peyn"},{"$f":"VLOOKUP('Day1'!K13,'Sale Price'!$B$5:$I$64,3)","v":"Chena"},{"$f":"VLOOKUP('Day1'!L13,'Sale Price'!$B$5:$I$64,3)","v":"Beans"},{"$f":"VLOOKUP('Day1'!M13,'Sale Price'!$B$5:$I$64,3)","v":"Amara"},{"$f":"VLOOKUP('Day1'!N13,'Sale Price'!$B$5:$I$64,3)","v":"Carot"},{"$f":"VLOOKUP('Day1'!O13,'Sale Price'!$B$5:$I$64,3)","v":"BeetR"},{"$f":"VLOOKUP('Day1'!P13,'Sale Price'!$B$5:$I$64,3)","v":"Cabag"},{"$f":"VLOOKUP('Day1'!Q13,'Sale Price'!$B$5:$I$64,3)","v":"CauliF"},{"$f":"VLOOKUP('Day1'!R13,'Sale Price'!$B$5:$I$64,3)","v":"Capsic"},{"$f":"VLOOKUP('Day1'!S13,'Sale Price'!$B$5:$I$64,3)","v":"Tomat"},{"$f":"VLOOKUP('Day1'!T13,'Sale Price'!$B$5:$I$64,3)","v":"ChillS"},{"$f":"VLOOKUP('Day1'!U13,'Sale Price'!$B$5:$I$64,3)","v":"ChillB"},{"$f":"VLOOKUP('Day1'!V13,'Sale Price'!$B$5:$I$64,3)","v":"BittrG"},{"$f":"VLOOKUP('Day1'!W13,'Sale Price'!$B$5:$I$64,3)","v":"BottG"},{"$f":"VLOOKUP('Day1'!X13,'Sale Price'!$B$5:$I$64,3)","v":"SnakG"},{"$f":"VLOOKUP('Day1'!Y13,'Sale Price'!$B$5:$I$64,3)","v":"BrinjR"},{"$f":"VLOOKUP('Day1'!Z13,'Sale Price'!$B$5:$I$64,3)","v":"Vazhut"},{"$f":"VLOOKUP('Day1'!AA13,'Sale Price'!$B$5:$I$64,3)","v":"Pumpk"},{"$f":"VLOOKUP('Day1'!AB13,'Sale Price'!$B$5:$I$64,3)","v":"Savala"},{"$f":"VLOOKUP('Day1'!AC13,'Sale Price'!$B$5:$I$64,3)","v":"Ulli"},{"$f":"VLOOKUP('Day1'!AD13,'Sale Price'!$B$5:$I$64,3)","v":"Garlc"},{"$f":"VLOOKUP('Day1'!AE13,'Sale Price'!$B$5:$I$64,3)","v":"Ginger"},{"$f":"VLOOKUP('Day1'!AF13,'Sale Price'!$B$5:$I$64,3)","v":"Cucum"},{"$f":"VLOOKUP('Day1'!AG13,'Sale Price'!$B$5:$I$64,3)","v":"Chemb"},{"$f":"VLOOKUP('Day1'!AH13,'Sale Price'!$B$5:$I$64,3)","v":"Cowp"},{"$f":"VLOOKUP('Day1'!AI13,'Sale Price'!$B$5:$I$64,3)","v":"AshG"},{"$f":"VLOOKUP('Day1'!AJ13,'Sale Price'!$B$5:$I$64,3)","v":"Venda"},{"$f":"VLOOKUP('Day1'!AK13,'Sale Price'!$B$5:$I$64,3)","v":"Drumst"},{"$f":"VLOOKUP('Day1'!AL13,'Sale Price'!$B$5:$I$64,3)","v":"Koval"},{"$f":"VLOOKUP('Day1'!AM13,'Sale Price'!$B$5:$I$64,3)","v":"CryLef"},{"$f":"VLOOKUP('Day1'!AN13,'Sale Price'!$B$5:$I$64,3)","v":"MntLf"},{"$f":"VLOOKUP('Day1'!AO13,'Sale Price'!$B$5:$I$64,3)","v":"CorLf"},{"$f":"VLOOKUP('Day1'!AP13,'Sale Price'!$B$5:$I$64,3)","v":"Cheera"},{"$f":"VLOOKUP('Day1'!AQ13,'Sale Price'!$B$5:$I$64,3)","v":"LemnB"},{"$f":"VLOOKUP('Day1'!AR13,'Sale Price'!$B$5:$I$64,3)","v":"LemnS"},{"$f":"VLOOKUP('Day1'!AS13,'Sale Price'!$B$5:$I$64,3)","v":"Mango"},{"$f":"VLOOKUP('Day1'!AT13,'Sale Price'!$B$5:$I$64,3)","v":"PineA"},{"$f":"VLOOKUP('Day1'!AU13,'Sale Price'!$B$5:$I$64,3)","v":"Potat"},{"$f":"VLOOKUP('Day1'!AV13,'Sale Price'!$B$5:$I$64,3)","v":"Amla"},{"$f":"VLOOKUP('Day1'!AW13,'Sale Price'!$B$5:$I$64,3)","v":"Tap"},{"$f":"VLOOKUP('Day1'!AX13,'Sale Price'!$B$5:$I$64,3)","v":0},{"$f":"VLOOKUP('Day1'!AY13,'Sale Price'!$B$5:$I$64,3)","v":0},{"$f":"VLOOKUP('Day1'!AZ13,'Sale Price'!$B$5:$I$64,3)","v":0},{"$f":"VLOOKUP('Day1'!BA13,'Sale Price'!$B$5:$I$64,3)","v":0},{"$f":"VLOOKUP('Day1'!BB13,'Sale Price'!$B$5:$I$64,3)","v":0},{"$f":"VLOOKUP('Day1'!BC13,'Sale Price'!$B$5:$I$64,3)","v":0},{"$f":"VLOOKUP('Day1'!BD13,'Sale Price'!$B$5:$I$64,3)","v":0},{"$f":"VLOOKUP('Day1'!BE13,'Sale Price'!$B$5:$I$64,3)","v":0},{"$f":"VLOOKUP('Day1'!BF13,'Sale Price'!$B$5:$I$64,3)","v":0},{"$f":"VLOOKUP('Day1'!BG13,'Sale Price'!$B$5:$I$64,3)","v":0},{"$f":"VLOOKUP('Day1'!BH13,'Sale Price'!$B$5:$I$64,3)","v":0},{"$f":"VLOOKUP('Day1'!BI13,'Sale Price'!$B$5:$I$64,3)","v":0},{"$f":"VLOOKUP('Day1'!BJ13,'Sale Price'!$B$5:$I$64,3)","v":0}]
[null,"Code",1,2,3,4,5,6,7,8,9,10,11,12,13,14,15,16,17,18,19,20,21,22,23,24,25,26,27,28,29,30,31,32,33,34,35,36,37,38,39,40,41,42,43,44,45,46,47,48,49,50,51,52,53,54,55,56,57,58,59,60]
[null,null,null,null,null,null,null,null,null,null,null,null,null,null,null,null,null,null,null,null,null,null,null,null,null,null,null,null,null,null,null,null,null,null,null,null,null,null,null,null,null,null,null,null,null,null,null,null,null,null,null,null,null,null,null,null,null,null,null,null,null,null,{"$f":"C14*$C$11+D14*$D$11+E14*$E$11+F14*$F$11+G14*$G$11+H14*$H$11+I14*$I$11+J14*$J$11+K14*$K$11+L14*$L$11+M14*$M$11+N14*$N$11+O14*$O$11+P14*$P$11+Q14*$Q$11+R14*$R$11+S14*$S$11+T14*$T$11+U14*$U$11+V14*$V$11+W14*$W$11+X14*$X$11+Y14*$Y$11+Z14*$Z$11+AA14*$AA$11+AB14*$AB$11+AC14*$AC$11+AD14*$AD$11+AE14*$AE$11+AF14*$AF$11+AG14*$AG$11+AH14*$AH$11+AI14*$AI$11+AJ14*$AJ$11+AK14*$AK$11+AL14*$AL$11+AM14*$AM$11+AN14*$AN$11+AO14*$AO$11+AP14*$AP$11+AQ14*$AQ$11+AR14*$AR$11+AS14*$AS$11+AT14*$AT$11+AU14*$AU$11+AV14*$AV$11+AW14*$AW$11+AX14*$AX$11+AY14*$AY$11+AZ14*$AZ$11+BA14*$BA$11+BB14*$BB$11+BC14*$BC$11+BD14*$BD$11+BE14*$BE$11+BF14*$BF$11+BG14*$BG$11+BH14*$BH$11+BI14*$BI$11+BJ14*$BJ$11","v":0}]
[null,null,null,null,null,null,null,null,null,null,null,null,null,null,null,null,null,null,null,null,null,null,null,null,null,null,null,null,null,null,null,null,null,null,null,null,null,null,null,null,null,null,null,null,null,null,null,null,null,null,null,null,null,null,null,null,null,null,null,null,null,null,{"$f":"C15*$C$11+D15*$D$11+E15*$E$11+F15*$F$11+G15*$G$11+H15*$H$11+I15*$I$11+J15*$J$11+K15*$K$11+L15*$L$11+M15*$M$11+N15*$N$11+O15*$O$11+P15*$P$11+Q15*$Q$11+R15*$R$11+S15*$S$11+T15*$T$11+U15*$U$11+V15*$V$11+W15*$W$11+X15*$X$11+Y15*$Y$11+Z15*$Z$11+AA15*$AA$11+AB15*$AB$11+AC15*$AC$11+AD15*$AD$11+AE15*$AE$11+AF15*$AF$11+AG15*$AG$11+AH15*$AH$11+AI15*$AI$11+AJ15*$AJ$11+AK15*$AK$11+AL15*$AL$11+AM15*$AM$11+AN15*$AN$11+AO15*$AO$11+AP15*$AP$11+AQ15*$AQ$11+AR15*$AR$11+AS15*$AS$11+AT15*$AT$11+AU15*$AU$11+AV15*$AV$11+AW15*$AW$11+AX15*$AX$11+AY15*$AY$11+AZ15*$AZ$11+BA15*$BA$11+BB15*$BB$11+BC15*$BC$11+BD15*$BD$11+BE15*$BE$11+BF15*$BF$11+BG15*$BG$11+BH15*$BH$11+BI15*$BI$11+BJ15*$BJ$11","v":0}]
[null,null,null,null,null,null,null,null,null,null,null,null,null,null,null,null,null,null,null,null,null,null,null,null,null,null,null,null,null,null,null,null,null,null,null,null,null,null,null,null,null,null,null,null,null,null,null,null,null,null,null,null,null,null,null,null,null,null,null,null,null,null,0]
[null,null,null,null,null,null,null,null,null,null,null,null,null,null,null,null,null,null,null,null,null,null,null,null,null,null,null,null,null,null,null,null,null,null,null,null,null,null,null,null,null,null,null,null,null,null,null,null,null,null,null,null,null,null,null,null,null,null,null,null,null,null,0]
[null,null,null,null,null,null,null,null,null,null,null,null,null,null,null,null,null,null,null,null,null,null,null,null,null,null,null,null,null,null,null,null,null,null,null,null,null,null,null,null,null,null,null,null,null,null,null,null,null,null,null,null,null,null,null,null,null,null,null,null,null,null,0]
[null,null,null,null,null,null,null,null,null,null,null,null,null,null,null,null,null,null,null,null,null,null,null,null,null,null,null,null,null,null,null,null,null,null,null,null,null,null,null,null,null,null,null,null,null,null,null,null,null,null,null,null,null,null,null,null,null,null,null,null,null,null,0]
[null,null,null,null,null,null,null,null,null,null,null,null,null,null,null,null,null,null,null,null,null,null,null,null,null,null,null,null,null,null,null,null,null,null,null,null,null,null,null,null,null,null,null,null,null,null,null,null,null,null,null,null,null,null,null,null,null,null,null,null,null,null,0]
[null,null,null,null,null,null,null,null,null,null,null,null,null,null,null,null,null,null,null,null,null,null,null,null,null,null,null,null,null,null,null,null,null,null,null,null,null,null,null,null,null,null,null,null,null,null,null,null,null,null,null,null,null,null,null,null,null,null,null,null,null,null,0]
[null,null,null,null,null,null,null,null,null,null,null,null,null,null,null,null,null,null,null,null,null,null,null,null,null,null,null,null,null,null,null,null,null,null,null,null,null,null,null,null,null,null,null,null,null,null,null,null,null,null,null,null,null,null,null,null,null,null,null,null,null,null,0]
[null,null,null,null,null,null,null,null,null,null,null,null,null,null,null,null,null,null,null,null,null,null,null,null,null,null,null,null,null,null,null,null,null,null,null,null,null,null,null,null,null,null,null,null,null,null,null,null,null,null,null,null,null,null,null,null,null,null,null,null,null,null,0]
[null,null,null,null,null,null,null,null,null,null,null,null,null,null,null,null,null,null,null,null,null,null,null,null,null,null,null,null,null,null,null,null,null,null,null,null,null,null,null,null,null,null,null,null,null,null,null,null,null,null,null,null,null,null,null,null,null,null,null,null,null,null,0]
[null,null,null,null,null,null,null,null,null,null,null,null,null,null,null,null,null,null,null,null,null,null,null,null,null,null,null,null,null,null,null,null,null,null,null,null,null,null,null,null,null,null,null,null,null,null,null,null,null,null,null,null,null,null,null,null,null,null,null,null,null,null,0]
[null,null,null,null,null,null,null,null,null,null,null,null,null,null,null,null,null,null,null,null,null,null,null,null,null,null,null,null,null,null,null,null,null,null,null,null,null,null,null,null,null,null,null,null,null,null,null,null,null,null,null,null,null,null,null,null,null,null,null,null,null,null,0]
[null,null,null,null,null,null,null,null,null,null,null,null,null,null,null,null,null,null,null,null,null,null,null,null,null,null,null,null,null,null,null,null,null,null,null,null,null,null,null,null,null,null,null,null,null,null,null,null,null,null,null,null,null,null,null,null,null,null,null,null,null,null,0]
[null,null,null,null,null,null,null,null,null,null,null,null,null,null,null,null,null,null,null,null,null,null,null,null,null,null,null,null,null,null,null,null,null,null,null,null,null,null,null,null,null,null,null,null,null,null,null,null,null,null,null,null,null,null,null,null,null,null,null,null,null,null,0]
[null,null,null,null,null,null,null,null,null,null,null,null,null,null,null,null,null,null,null,null,null,null,null,null,null,null,null,null,null,null,null,null,null,null,null,null,null,null,null,null,null,null,null,null,null,null,null,null,null,null,null,null,null,null,null,null,null,null,null,null,null,null,0]
[null,null,null,null,null,null,null,null,null,null,null,null,null,null,null,null,null,null,null,null,null,null,null,null,null,null,null,null,null,null,null,null,null,null,null,null,null,null,null,null,null,null,null,null,null,null,null,null,null,null,null,null,null,null,null,null,null,null,null,null,null,null,0]
[null,null,null,null,null,null,null,null,null,null,null,null,null,null,null,null,null,null,null,null,null,null,null,null,null,null,null,null,null,null,null,null,null,null,null,null,null,null,null,null,null,null,null,null,null,null,null,null,null,null,null,null,null,null,null,null,null,null,null,null,null,null,0]
[null,null,null,null,null,null,null,null,null,null,null,null,null,null,null,null,null,null,null,null,null,null,null,null,null,null,null,null,null,null,null,null,null,null,null,null,null,null,null,null,null,null,null,null,null,null,null,null,null,null,null,null,null,null,null,null,null,null,null,null,null,null,0]
[null,null,null,null,null,null,null,null,null,null,null,null,null,null,null,null,null,null,null,null,null,null,null,null,null,null,null,null,null,null,null,null,null,null,null,null,null,null,null,null,null,null,null,null,null,null,null,null,null,null,null,null,null,null,null,null,null,null,null,null,null,null,0]
[null,null,null,null,null,null,null,null,null,null,null,null,null,null,null,null,null,null,null,null,null,null,null,null,null,null,null,null,null,null,null,null,null,null,null,null,null,null,null,null,null,null,null,null,null,null,null,null,null,null,null,null,null,null,null,null,null,null,null,null,null,null,0]
[null,null,null,null,null,null,null,null,null,null,null,null,null,null,null,null,null,null,null,null,null,null,null,null,null,null,null,null,null,null,null,null,null,null,null,null,null,null,null,null,null,null,null,null,null,null,null,null,null,null,null,null,null,null,null,null,null,null,null,null,null,null,0]
[null,null,null,null,null,null,null,null,null,null,null,null,null,null,null,null,null,null,null,null,null,null,null,null,null,null,null,null,null,null,null,null,null,null,null,null,null,null,null,null,null,null,null,null,null,null,null,null,null,null,null,null,null,null,null,null,null,null,null,null,null,null,0]
[null,null,null,null,null,null,null,null,null,null,null,null,null,null,null,null,null,null,null,null,null,null,null,null,null,null,null,null,null,null,null,null,null,null,null,null,null,null,null,null,null,null,null,null,null,null,null,null,null,null,null,null,null,null,null,null,null,null,null,null,null,null,0]
[null,null,null,null,null,null,null,null,null,null,null,null,null,null,null,null,null,null,null,null,null,null,null,null,null,null,null,null,null,null,null,null,null,null,null,null,null,null,null,null,null,null,null,null,null,null,null,null,null,null,null,null,null,null,null,null,null,null,null,null,null,null,0]
[null,null,null,null,null,null,null,null,null,null,null,null,null,null,null,null,null,null,null,null,null,null,null,null,null,null,null,null,null,null,null,null,null,null,null,null,null,null,null,null,null,null,null,null,null,null,null,null,null,null,null,null,null,null,null,null,null,null,null,null,null,null,0]
[null,null,null,null,null,null,null,null,null,null,null,null,null,null,null,null,null,null,null,null,null,null,null,null,null,null,null,null,null,null,null,null,null,null,null,null,null,null,null,null,null,null,null,null,null,null,null,null,null,null,null,null,null,null,null,null,null,null,null,null,null,null,0]
[null,null,null,null,null,null,null,null,null,null,null,null,null,null,null,null,null,null,null,null,null,null,null,null,null,null,null,null,null,null,null,null,null,null,null,null,null,null,null,null,null,null,null,null,null,null,null,null,null,null,null,null,null,null,null,null,null,null,null,null,null,null,0]
[null,null,null,null,null,null,null,null,null,null,null,null,null,null,null,null,null,null,null,null,null,null,null,null,null,null,null,null,null,null,null,null,null,null,null,null,null,null,null,null,null,null,null,null,null,null,null,null,null,null,null,null,null,null,null,null,null,null,null,null,null,null,0]
[null,null,null,null,null,null,null,null,null,null,null,null,null,null,null,null,null,null,null,null,null,null,null,null,null,null,null,null,null,null,null,null,null,null,null,null,null,null,null,null,null,null,null,null,null,null,null,null,null,null,null,null,null,null,null,null,null,null,null,null,null,null,0]
[null,null,null,null,null,null,null,null,null,null,null,null,null,null,null,null,null,null,null,null,null,null,null,null,null,null,null,null,null,null,null,null,null,null,null,null,null,null,null,null,null,null,null,null,null,null,null,null,null,null,null,null,null,null,null,null,null,null,null,null,null,null,0]
[null,null,null,null,null,null,null,null,null,null,null,null,null,null,null,null,null,null,null,null,null,null,null,null,null,null,null,null,null,null,null,null,null,null,null,null,null,null,null,null,null,null,null,null,null,null,null,null,null,null,null,null,null,null,null,null,null,null,null,null,null,null,0]
[null,null,null,null,null,null,null,null,null,null,null,null,null,null,null,null,null,null,null,null,null,null,null,null,null,null,null,null,null,null,null,null,null,null,null,null,null,null,null,null,null,null,null,null,null,null,null,null,null,null,null,null,null,null,null,null,null,null,null,null,null,null,0]
[null,null,null,null,null,null,null,null,null,null,null,null,null,null,null,null,null,null,null,null,null,null,null,null,null,null,null,null,null,null,null,null,null,null,null,null,null,null,null,null,null,null,null,null,null,null,null,null,null,null,null,null,null,null,null,null,null,null,null,null,null,null,0]
[null,null,null,null,null,null,null,null,null,null,null,null,null,null,null,null,null,null,null,null,null,null,null,null,null,null,null,null,null,null,null,null,null,null,null,null,null,null,null,null,null,null,null,null,null,null,null,null,null,null,null,null,null,null,null,null,null,null,null,null,null,null,0]
[null,null,null,null,null,null,null,null,null,null,null,null,null,null,null,null,null,null,null,null,null,null,null,null,null,null,null,null,null,null,null,null,null,null,null,null,null,null,null,null,null,null,null,null,null,null,null,null,null,null,null,null,null,null,null,null,null,null,null,null,null,null,0]
[null,null,null,null,null,null,null,null,null,null,null,null,null,null,null,null,null,null,null,null,null,null,null,null,null,null,null,null,null,null,null,null,null,null,null,null,null,null,null,null,null,null,null,null,null,null,null,null,null,null,null,null,null,null,null,null,null,null,null,null,null,null,0]
[null,null,null,null,null,null,null,null,null,null,null,null,null,null,null,null,null,null,null,null,null,null,null,null,null,null,null,null,null,null,null,null,null,null,null,null,null,null,null,null,null,null,null,null,null,null,null,null,null,null,null,null,null,null,null,null,null,null,null,null,null,null,0]
[null,null,null,null,null,null,null,null,null,null,null,null,null,null,null,null,null,null,null,null,null,null,null,null,null,null,null,null,null,null,null,null,null,null,null,null,null,null,null,null,null,null,null,null,null,null,null,null,null,null,null,null,null,null,null,null,null,null,null,null,null,null,0]
[null,null,null,null,null,null,null,null,null,null,null,null,null,null,null,null,null,null,null,null,null,null,null,null,null,null,null,null,null,null,null,null,null,null,null,null,null,null,null,null,null,null,null,null,null,null,null,null,null,null,null,null,null,null,null,null,null,null,null,null,null,null,0]
[null,null,null,null,null,null,null,null,null,null,null,null,null,null,null,null,null,null,null,null,null,null,null,null,null,null,null,null,null,null,null,null,null,null,null,null,null,null,null,null,null,null,null,null,null,null,null,null,null,null,null,null,null,null,null,null,null,null,null,null,null,null,0]
[null,null,null,null,null,null,null,null,null,null,null,null,null,null,null,null,null,null,null,null,null,null,null,null,null,null,null,null,null,null,null,null,null,null,null,null,null,null,null,null,null,null,null,null,null,null,null,null,null,null,null,null,null,null,null,null,null,null,null,null,null,null,0]
[null,null,null,null,null,null,null,null,null,null,null,null,null,null,null,null,null,null,null,null,null,null,null,null,null,null,null,null,null,null,null,null,null,null,null,null,null,null,null,null,null,null,null,null,null,null,null,null,null,null,null,null,null,null,null,null,null,null,null,null,null,null,0]
[null,null,null,null,null,null,null,null,null,null,null,null,null,null,null,null,null,null,null,null,null,null,null,null,null,null,null,null,null,null,null,null,null,null,null,null,null,null,null,null,null,null,null,null,null,null,null,null,null,null,null,null,null,null,null,null,null,null,null,null,null,null,0]
[null,null,null,null,null,null,null,null,null,null,null,null,null,null,null,null,null,null,null,null,null,null,null,null,null,null,null,null,null,null,null,null,null,null,null,null,null,null,null,null,null,null,null,null,null,null,null,null,null,null,null,null,null,null,null,null,null,null,null,null,null,null,0]
[null,null,null,null,null,null,null,null,null,null,null,null,null,null,null,null,null,null,null,null,null,null,null,null,null,null,null,null,null,null,null,null,null,null,null,null,null,null,null,null,null,null,null,null,null,null,null,null,null,null,null,null,null,null,null,null,null,null,null,null,null,null,0]
[null,null,null,null,null,null,null,null,null,null,null,null,null,null,null,null,null,null,null,null,null,null,null,null,null,null,null,null,null,null,null,null,null,null,null,null,null,null,null,null,null,null,null,null,null,null,null,null,null,null,null,null,null,null,null,null,null,null,null,null,null,null,0]
[null,null,null,null,null,null,null,null,null,null,null,null,null,null,null,null,null,null,null,null,null,null,null,null,null,null,null,null,null,null,null,null,null,null,null,null,null,null,null,null,null,null,null,null,null,null,null,null,null,null,null,null,null,null,null,null,null,null,null,null,null,null,0]
[null,null,null,null,null,null,null,null,null,null,null,null,null,null,null,null,null,null,null,null,null,null,null,null,null,null,null,null,null,null,null,null,null,null,null,null,null,null,null,null,null,null,null,null,null,null,null,null,null,null,null,null,null,null,null,null,null,null,null,null,null,null,0]
[null,null,null,null,null,null,null,null,null,null,null,null,null,null,null,null,null,null,null,null,null,null,null,null,null,null,null,null,null,null,null,null,null,null,null,null,null,null,null,null,null,null,null,null,null,null,null,null,null,null,null,null,null,null,null,null,null,null,null,null,null,null,0]
[null,null,null,null,null,null,null,null,null,null,null,null,null,null,null,null,null,null,null,null,null,null,null,null,null,null,null,null,null,null,null,null,null,null,null,null,null,null,null,null,null,null,null,null,null,null,null,null,null,null,null,null,null,null,null,null,null,null,null,null,null,null,0]
[null,null,null,null,null,null,null,null,null,null,null,null,null,null,null,null,null,null,null,null,null,null,null,null,null,null,null,null,null,null,null,null,null,null,null,null,null,null,null,null,null,null,null,null,null,null,null,null,null,null,null,null,null,null,null,null,null,null,null,null,null,null,0]
[null,null,null,null,null,null,null,null,null,null,null,null,null,null,null,null,null,null,null,null,null,null,null,null,null,null,null,null,null,null,null,null,null,null,null,null,null,null,null,null,null,null,null,null,null,null,null,null,null,null,null,null,null,null,null,null,null,null,null,null,null,null,0]
[null,null,null,null,null,null,null,null,null,null,null,null,null,null,null,null,null,null,null,null,null,null,null,null,null,null,null,null,null,null,null,null,null,null,null,null,null,null,null,null,null,null,null,null,null,null,null,null,null,null,null,null,null,null,null,null,null,null,null,null,null,null,0]
[null,null,null,null,null,null,null,null,null,null,null,null,null,null,null,null,null,null,null,null,null,null,null,null,null,null,null,null,null,null,null,null,null,null,null,null,null,null,null,null,null,null,null,null,null,null,null,null,null,null,null,null,null,null,null,null,null,null,null,null,null,null,0]
[null,null,null,null,null,null,null,null,null,null,null,null,null,null,null,null,null,null,null,null,null,null,null,null,null,null,null,null,null,null,null,null,null,null,null,null,null,null,null,null,null,null,null,null,null,null,null,null,null,null,null,null,null,null,null,null,null,null,null,null,null,null,0]
[null,null,null,null,null,null,null,null,null,null,null,null,null,null,null,null,null,null,null,null,null,null,null,null,null,null,null,null,null,null,null,null,null,null,null,null,null,null,null,null,null,null,null,null,null,null,null,null,null,null,null,null,null,null,null,null,null,null,null,null,null,null,0]
[null,null,null,null,null,null,null,null,null,null,null,null,null,null,null,null,null,null,null,null,null,null,null,null,null,null,null,null,null,null,null,null,null,null,null,null,null,null,null,null,null,null,null,null,null,null,null,null,null,null,null,null,null,null,null,null,null,null,null,null,null,null,0]
[null,null,null,null,null,null,null,null,null,null,null,null,null,null,null,null,null,null,null,null,null,null,null,null,null,null,null,null,null,null,null,null,null,null,null,null,null,null,null,null,null,null,null,null,null,null,null,null,null,null,null,null,null,null,null,null,null,null,null,null,null,null,0]
[null,null,null,null,null,null,null,null,null,null,null,null,null,null,null,null,null,null,null,null,null,null,null,null,null,null,null,null,null,null,null,null,null,null,null,null,null,null,null,null,null,null,null,null,null,null,null,null,null,null,null,null,null,null,null,null,null,null,null,null,null,null,0]
[null,null,null,null,null,null,null,null,null,null,null,null,null,null,null,null,null,null,null,null,null,null,null,null,null,null,null,null,null,null,null,null,null,null,null,null,null,null,null,null,null,null,null,null,null,null,null,null,null,null,null,null,null,null,null,null,null,null,null,null,null,null,0]
[null,null,null,null,null,null,null,null,null,null,null,null,null,null,null,null,null,null,null,null,null,null,null,null,null,null,null,null,null,null,null,null,null,null,null,null,null,null,null,null,null,null,null,null,null,null,null,null,null,null,null,null,null,null,null,null,null,null,null,null,null,null,0]
[null,null,null,null,null,null,null,null,null,null,null,null,null,null,null,null,null,null,null,null,null,null,null,null,null,null,null,null,null,null,null,null,null,null,null,null,null,null,null,null,null,null,null,null,null,null,null,null,null,null,null,null,null,null,null,null,null,null,null,null,null,null,0]
[null,null,null,null,null,null,null,null,null,null,null,null,null,null,null,null,null,null,null,null,null,null,null,null,null,null,null,null,null,null,null,null,null,null,null,null,null,null,null,null,null,null,null,null,null,null,null,null,null,null,null,null,null,null,null,null,null,null,null,null,null,null,0]
[null,null,null,null,null,null,null,null,null,null,null,null,null,null,null,null,null,null,null,null,null,null,null,null,null,null,null,null,null,null,null,null,null,null,null,null,null,null,null,null,null,null,null,null,null,null,null,null,null,null,null,null,null,null,null,null,null,null,null,null,null,null,0]
[null,null,null,null,null,null,null,null,null,null,null,null,null,null,null,null,null,null,null,null,null,null,null,null,null,null,null,null,null,null,null,null,null,null,null,null,null,null,null,null,null,null,null,null,null,null,null,null,null,null,null,null,null,null,null,null,null,null,null,null,null,null,{"$f":"C79*$C$11+D79*$D$11+E79*$E$11+F79*$F$11+G79*$G$11+H79*$H$11+I79*$I$11+J79*$J$11+K79*$K$11+L79*$L$11+M79*$M$11+N79*$N$11+O79*$O$11+P79*$P$11+Q79*$Q$11+R79*$R$11+S79*$S$11+T79*$T$11+U79*$U$11+V79*$V$11+W79*$W$11+X79*$X$11+Y79*$Y$11+Z79*$Z$11+AA79*$AA$11+AB79*$AB$11+AC79*$AC$11+AD79*$AD$11+AE79*$AE$11+AF79*$AF$11+AG79*$AG$11+AH79*$AH$11+AI79*$AI$11+AJ79*$AJ$11+AK79*$AK$11+AL79*$AL$11+AM79*$AM$11+AN79*$AN$11+AO79*$AO$11+AP79*$AP$11+AQ79*$AQ$11+AR79*$AR$11+AS79*$AS$11+AT79*$AT$11+AU79*$AU$11+AV79*$AV$11+AW79*$AW$11+AX79*$AX$11+AY79*$AY$11+AZ79*$AZ$11+BA79*$BA$11+BB79*$BB$11+BC79*$BC$11+BD79*$BD$11+BE79*$BE$11+BF79*$BF$11+BG79*$BG$11+BH79*$BH$11+BI79*$BI$11+BJ79*$BJ$11","v":0}]
[null,null,null,null,null,null,null,null,null,null,null,null,null,null,null,null,null,null,null,null,null,null,null,null,null,null,null,null,null,null,null,null,null,null,null,null,null,null,null,null,null,null,null,null,null,null,null,null,null,null,null,null,null,null,null,null,null,null,null,null,null,null,0]
[null,null,null,null,null,null,null,null,null,null,null,null,null,null,null,null,null,null,null,null,null,null,null,null,null,null,null,null,null,null,null,null,null,null,null,null,null,null,null,null,null,null,null,null,null,null,null,null,null,null,null,null,null,null,null,null,null,null,null,null,null,null,0]
[null,null,null,null,null,null,null,null,null,null,null,null,null,null,null,null,null,null,null,null,null,null,null,null,null,null,null,null,null,null,null,null,null,null,null,null,null,null,null,null,null,null,null,null,null,null,null,null,null,null,null,null,null,null,null,null,null,null,null,null,null,null,0]
[null,null,null,null,null,null,null,null,null,null,null,null,null,null,null,null,null,null,null,null,null,null,null,null,null,null,null,null,null,null,null,null,null,null,null,null,null,null,null,null,null,null,null,null,null,null,null,null,null,null,null,null,null,null,null,null,null,null,null,null,null,null,0]
[null,null,null,null,null,null,null,null,null,null,null,null,null,null,null,null,null,null,null,null,null,null,null,null,null,null,null,null,null,null,null,null,null,null,null,null,null,null,null,null,null,null,null,null,null,null,null,null,null,null,null,null,null,null,null,null,null,null,null,null,null,null,0]
[null,null,null,null,null,null,null,null,null,null,null,null,null,null,null,null,null,null,null,null,null,null,null,null,null,null,null,null,null,null,null,null,null,null,null,null,null,null,null,null,null,null,null,null,null,null,null,null,null,null,null,null,null,null,null,null,null,null,null,null,null,null,0]
[null,null,null,null,null,null,null,null,null,null,null,null,null,null,null,null,null,null,null,null,null,null,null,null,null,null,null,null,null,null,null,null,null,null,null,null,null,null,null,null,null,null,null,null,null,null,null,null,null,null,null,null,null,null,null,null,null,null,null,null,null,null,0]
[null,null,null,null,null,null,null,null,null,null,null,null,null,null,null,null,null,null,null,null,null,null,null,null,null,null,null,null,null,null,null,null,null,null,null,null,null,null,null,null,null,null,null,null,null,null,null,null,null,null,null,null,null,null,null,null,null,null,null,null,null,null,0]
[null,null,null,null,null,null,null,null,null,null,null,null,null,null,null,null,null,null,null,null,null,null,null,null,null,null,null,null,null,null,null,null,null,null,null,null,null,null,null,null,null,null,null,null,null,null,null,null,null,null,null,null,null,null,null,null,null,null,null,null,null,null,0]
[null,null,null,null,null,null,null,null,null,null,null,null,null,null,null,null,null,null,null,null,null,null,null,null,null,null,null,null,null,null,null,null,null,null,null,null,null,null,null,null,null,null,null,null,null,null,null,null,null,null,null,null,null,null,null,null,null,null,null,null,null,null,0]
[null,null,null,null,null,null,null,null,null,null,null,null,null,null,null,null,null,null,null,null,null,null,null,null,null,null,null,null,null,null,null,null,null,null,null,null,null,null,null,null,null,null,null,null,null,null,null,null,null,null,null,null,null,null,null,null,null,null,null,null,null,null,0]
[null,null,null,null,null,null,null,null,null,null,null,null,null,null,null,null,null,null,null,null,null,null,null,null,null,null,null,null,null,null,null,null,null,null,null,null,null,null,null,null,null,null,null,null,null,null,null,null,null,null,null,null,null,null,null,null,null,null,null,null,null,null,0]
[null,null,null,null,null,null,null,null,null,null,null,null,null,null,null,null,null,null,null,null,null,null,null,null,null,null,null,null,null,null,null,null,null,null,null,null,null,null,null,null,null,null,null,null,null,null,null,null,null,null,null,null,null,null,null,null,null,null,null,null,null,null,0]
[null,null,null,null,null,null,null,null,null,null,null,null,null,null,null,null,null,null,null,null,null,null,null,null,null,null,null,null,null,null,null,null,null,null,null,null,null,null,null,null,null,null,null,null,null,null,null,null,null,null,null,null,null,null,null,null,null,null,null,null,null,null,0]
[null,null,null,null,null,null,null,null,null,null,null,null,null,null,null,null,null,null,null,null,null,null,null,null,null,null,null,null,null,null,null,null,null,null,null,null,null,null,null,null,null,null,null,null,null,null,null,null,null,null,null,null,null,null,null,null,null,null,null,null,null,null,0]
[null,null,null,null,null,null,null,null,null,null,null,null,null,null,null,null,null,null,null,null,null,null,null,null,null,null,null,null,null,null,null,null,null,null,null,null,null,null,null,null,null,null,null,null,null,null,null,null,null,null,null,null,null,null,null,null,null,null,null,null,null,null,0]
[null,null,null,null,null,null,null,null,null,null,null,null,null,null,null,null,null,null,null,null,null,null,null,null,null,null,null,null,null,null,null,null,null,null,null,null,null,null,null,null,null,null,null,null,null,null,null,null,null,null,null,null,null,null,null,null,null,null,null,null,null,null,0]
[null,null,null,null,null,null,null,null,null,null,null,null,null,null,null,null,null,null,null,null,null,null,null,null,null,null,null,null,null,null,null,null,null,null,null,null,null,null,null,null,null,null,null,null,null,null,null,null,null,null,null,null,null,null,null,null,null,null,null,null,null,null,0]
[null,null,null,null,null,null,null,null,null,null,null,null,null,null,null,null,null,null,null,null,null,null,null,null,null,null,null,null,null,null,null,null,null,null,null,null,null,null,null,null,null,null,null,null,null,null,null,null,null,null,null,null,null,null,null,null,null,null,null,null,null,null,0]
[null,null,null,null,null,null,null,null,null,null,null,null,null,null,null,null,null,null,null,null,null,null,null,null,null,null,null,null,null,null,null,null,null,null,null,null,null,null,null,null,null,null,null,null,null,null,null,null,null,null,null,null,null,null,null,null,null,null,null,null,null,null,0]
[null,null,null,null,null,null,null,null,null,null,null,null,null,null,null,null,null,null,null,null,null,null,null,null,null,null,null,null,null,null,null,null,null,null,null,null,null,null,null,null,null,null,null,null,null,null,null,null,null,null,null,null,null,null,null,null,null,null,null,null,null,null,0]
[null,null,null,null,null,null,null,null,null,null,null,null,null,null,null,null,null,null,null,null,null,null,null,null,null,null,null,null,null,null,null,null,null,null,null,null,null,null,null,null,null,null,null,null,null,null,null,null,null,null,null,null,null,null,null,null,null,null,null,null,null,null,0]
[null,null,null,null,null,null,null,null,null,null,null,null,null,null,null,null,null,null,null,null,null,null,null,null,null,null,null,null,null,null,null,null,null,null,null,null,null,null,null,null,null,null,null,null,null,null,null,null,null,null,null,null,null,null,null,null,null,null,null,null,null,null,0]
[null,null,null,null,null,null,null,null,null,null,null,null,null,null,null,null,null,null,null,null,null,null,null,null,null,null,null,null,null,null,null,null,null,null,null,null,null,null,null,null,null,null,null,null,null,null,null,null,null,null,null,null,null,null,null,null,null,null,null,null,null,null,0]
[null,null,null,null,null,null,null,null,null,null,null,null,null,null,null,null,null,null,null,null,null,null,null,null,null,null,null,null,null,null,null,null,null,null,null,null,null,null,null,null,null,null,null,null,null,null,null,null,null,null,null,null,null,null,null,null,null,null,null,null,null,null,0]
[null,null,null,null,null,null,null,null,null,null,null,null,null,null,null,null,null,null,null,null,null,null,null,null,null,null,null,null,null,null,null,null,null,null,null,null,null,null,null,null,null,null,null,null,null,null,null,null,null,null,null,null,null,null,null,null,null,null,null,null,null,null,0]
[null,null,null,null,null,null,null,null,null,null,null,null,null,null,null,null,null,null,null,null,null,null,null,null,null,null,null,null,null,null,null,null,null,null,null,null,null,null,null,null,null,null,null,null,null,null,null,null,null,null,null,null,null,null,null,null,null,null,null,null,null,null,0]
[null,null,null,null,null,null,null,null,null,null,null,null,null,null,null,null,null,null,null,null,null,null,null,null,null,null,null,null,null,null,null,null,null,null,null,null,null,null,null,null,null,null,null,null,null,null,null,null,null,null,null,null,null,null,null,null,null,null,null,null,null,null,0]
[null,null,null,null,null,null,null,null,null,null,null,null,null,null,null,null,null,null,null,null,null,null,null,null,null,null,null,null,null,null,null,null,null,null,null,null,null,null,null,null,null,null,null,null,null,null,null,null,null,null,null,null,null,null,null,null,null,null,null,null,null,null,0]
[null,null,null,null,null,null,null,null,null,null,null,null,null,null,null,null,null,null,null,null,null,null,null,null,null,null,null,null,null,null,null,null,null,null,null,null,null,null,null,null,null,null,null,null,null,null,null,null,null,null,null,null,null,null,null,null,null,null,null,null,null,null,0]
[null,null,null,null,null,null,null,null,null,null,null,null,null,null,null,null,null,null,null,null,null,null,null,null,null,null,null,null,null,null,null,null,null,null,null,null,null,null,null,null,null,null,null,null,null,null,null,null,null,null,null,null,null,null,null,null,null,null,null,null,null,null,0]
[null,null,null,null,null,null,null,null,null,null,null,null,null,null,null,null,null,null,null,null,null,null,null,null,null,null,null,null,null,null,null,null,null,null,null,null,null,null,null,null,null,null,null,null,null,null,null,null,null,null,null,null,null,null,null,null,null,null,null,null,null,null,0]
[null,null,null,null,null,null,null,null,null,null,null,null,null,null,null,null,null,null,null,null,null,null,null,null,null,null,null,null,null,null,null,null,null,null,null,null,null,null,null,null,null,null,null,null,null,null,null,null,null,null,null,null,null,null,null,null,null,null,null,null,null,null,0]
[null,null,null,null,null,null,null,null,null,null,null,null,null,null,null,null,null,null,null,null,null,null,null,null,null,null,null,null,null,null,null,null,null,null,null,null,null,null,null,null,null,null,null,null,null,null,null,null,null,null,null,null,null,null,null,null,null,null,null,null,null,null,0]
[null,null,null,null,null,null,null,null,null,null,null,null,null,null,null,null,null,null,null,null,null,null,null,null,null,null,null,null,null,null,null,null,null,null,null,null,null,null,null,null,null,null,null,null,null,null,null,null,null,null,null,null,null,null,null,null,null,null,null,null,null,null,0]
[null,null,null,null,null,null,null,null,null,null,null,null,null,null,null,null,null,null,null,null,null,null,null,null,null,null,null,null,null,null,null,null,null,null,null,null,null,null,null,null,null,null,null,null,null,null,null,null,null,null,null,null,null,null,null,null,null,null,null,null,null,null,0]
[null,null,null,null,null,null,null,null,null,null,null,null,null,null,null,null,null,null,null,null,null,null,null,null,null,null,null,null,null,null,null,null,null,null,null,null,null,null,null,null,null,null,null,null,null,null,null,null,null,null,null,null,null,null,null,null,null,null,null,null,null,null,0]
[null,null,null,null,null,null,null,null,null,null,null,null,null,null,null,null,null,null,null,null,null,null,null,null,null,null,null,null,null,null,null,null,null,null,null,null,null,null,null,null,null,null,null,null,null,null,null,null,null,null,null,null,null,null,null,null,null,null,null,null,null,null,0]
[null,null,null,null,null,null,null,null,null,null,null,null,null,null,null,null,null,null,null,null,null,null,null,null,null,null,null,null,null,null,null,null,null,null,null,null,null,null,null,null,null,null,null,null,null,null,null,null,null,null,null,null,null,null,null,null,null,null,null,null,null,null,0]
[null,null,null,null,null,null,null,null,null,null,null,null,null,null,null,null,null,null,null,null,null,null,null,null,null,null,null,null,null,null,null,null,null,null,null,null,null,null,null,null,null,null,null,null,null,null,null,null,null,null,null,null,null,null,null,null,null,null,null,null,null,null,0]
[null,null,null,null,null,null,null,null,null,null,null,null,null,null,null,null,null,null,null,null,null,null,null,null,null,null,null,null,null,null,null,null,null,null,null,null,null,null,null,null,null,null,null,null,null,null,null,null,null,null,null,null,null,null,null,null,null,null,null,null,null,null,0]
[null,null,null,null,null,null,null,null,null,null,null,null,null,null,null,null,null,null,null,null,null,null,null,null,null,null,null,null,null,null,null,null,null,null,null,null,null,null,null,null,null,null,null,null,null,null,null,null,null,null,null,null,null,null,null,null,null,null,null,null,null,null,0]
[null,null,null,null,null,null,null,null,null,null,null,null,null,null,null,null,null,null,null,null,null,null,null,null,null,null,null,null,null,null,null,null,null,null,null,null,null,null,null,null,null,null,null,null,null,null,null,null,null,null,null,null,null,null,null,null,null,null,null,null,null,null,0]
[null,null,null,null,null,null,null,null,null,null,null,null,null,null,null,null,null,null,null,null,null,null,null,null,null,null,null,null,null,null,null,null,null,null,null,null,null,null,null,null,null,null,null,null,null,null,null,null,null,null,null,null,null,null,null,null,null,null,null,null,null,null,0]
[null,null,null,null,null,null,null,null,null,null,null,null,null,null,null,null,null,null,null,null,null,null,null,null,null,null,null,null,null,null,null,null,null,null,null,null,null,null,null,null,null,null,null,null,null,null,null,null,null,null,null,null,null,null,null,null,null,null,null,null,null,null,0]
[null,null,null,null,null,null,null,null,null,null,null,null,null,null,null,null,null,null,null,null,null,null,null,null,null,null,null,null,null,null,null,null,null,null,null,null,null,null,null,null,null,null,null,null,null,null,null,null,null,null,null,null,null,null,null,null,null,null,null,null,null,null,0]
[null,null,null,null,null,null,null,null,null,null,null,null,null,null,null,null,null,null,null,null,null,null,null,null,null,null,null,null,null,null,null,null,null,null,null,null,null,null,null,null,null,null,null,null,null,null,null,null,null,null,null,null,null,null,null,null,null,null,null,null,null,null,0]
[null,null,null,null,null,null,null,null,null,null,null,null,null,null,null,null,null,null,null,null,null,null,null,null,null,null,null,null,null,null,null,null,null,null,null,null,null,null,null,null,null,null,null,null,null,null,null,null,null,null,null,null,null,null,null,null,null,null,null,null,null,null,0]
[null,null,null,null,null,null,null,null,null,null,null,null,null,null,null,null,null,null,null,null,null,null,null,null,null,null,null,null,null,null,null,null,null,null,null,null,null,null,null,null,null,null,null,null,null,null,null,null,null,null,null,null,null,null,null,null,null,null,null,null,null,null,0]
[null,null,null,null,null,null,null,null,null,null,null,null,null,null,null,null,null,null,null,null,null,null,null,null,null,null,null,null,null,null,null,null,null,null,null,null,null,null,null,null,null,null,null,null,null,null,null,null,null,null,null,null,null,null,null,null,null,null,null,null,null,null,0]
[null,null,null,null,null,null,null,null,null,null,null,null,null,null,null,null,null,null,null,null,null,null,null,null,null,null,null,null,null,null,null,null,null,null,null,null,null,null,null,null,null,null,null,null,null,null,null,null,null,null,null,null,null,null,null,null,null,null,null,null,null,null,0]
[null,null,null,null,null,null,null,null,null,null,null,null,null,null,null,null,null,null,null,null,null,null,null,null,null,null,null,null,null,null,null,null,null,null,null,null,null,null,null,null,null,null,null,null,null,null,null,null,null,null,null,null,null,null,null,null,null,null,null,null,null,null,0]
[null,null,null,null,null,null,null,null,null,null,null,null,null,null,null,null,null,null,null,null,null,null,null,null,null,null,null,null,null,null,null,null,null,null,null,null,null,null,null,null,null,null,null,null,null,null,null,null,null,null,null,null,null,null,null,null,null,null,null,null,null,null,0]
[null,null,null,null,null,null,null,null,null,null,null,null,null,null,null,null,null,null,null,null,null,null,null,null,null,null,null,null,null,null,null,null,null,null,null,null,null,null,null,null,null,null,null,null,null,null,null,null,null,null,null,null,null,null,null,null,null,null,null,null,null,null,0]
[null,null,null,null,null,null,null,null,null,null,null,null,null,null,null,null,null,null,null,null,null,null,null,null,null,null,null,null,null,null,null,null,null,null,null,null,null,null,null,null,null,null,null,null,null,null,null,null,null,null,null,null,null,null,null,null,null,null,null,null,null,null,0]
[null,null,null,null,null,null,null,null,null,null,null,null,null,null,null,null,null,null,null,null,null,null,null,null,null,null,null,null,null,null,null,null,null,null,null,null,null,null,null,null,null,null,null,null,null,null,null,null,null,null,null,null,null,null,null,null,null,null,null,null,null,null,0]
[null,null,null,null,null,null,null,null,null,null,null,null,null,null,null,null,null,null,null,null,null,null,null,null,null,null,null,null,null,null,null,null,null,null,null,null,null,null,null,null,null,null,null,null,null,null,null,null,null,null,null,null,null,null,null,null,null,null,null,null,null,null,0]
[null,null,null,null,null,null,null,null,null,null,null,null,null,null,null,null,null,null,null,null,null,null,null,null,null,null,null,null,null,null,null,null,null,null,null,null,null,null,null,null,null,null,null,null,null,null,null,null,null,null,null,null,null,null,null,null,null,null,null,null,null,null,0]
[null,null,null,null,null,null,null,null,null,null,null,null,null,null,null,null,null,null,null,null,null,null,null,null,null,null,null,null,null,null,null,null,null,null,null,null,null,null,null,null,null,null,null,null,null,null,null,null,null,null,null,null,null,null,null,null,null,null,null,null,null,null,0]
[null,null,null,null,null,null,null,null,null,null,null,null,null,null,null,null,null,null,null,null,null,null,null,null,null,null,null,null,null,null,null,null,null,null,null,null,null,null,null,null,null,null,null,null,null,null,null,null,null,null,null,null,null,null,null,null,null,null,null,null,null,null,0]
[null,null,null,null,null,null,null,null,null,null,null,null,null,null,null,null,null,null,null,null,null,null,null,null,null,null,null,null,null,null,null,null,null,null,null,null,null,null,null,null,null,null,null,null,null,null,null,null,null,null,null,null,null,null,null,null,null,null,null,null,null,null,0]
[null,null,null,null,null,null,null,null,null,null,null,null,null,null,null,null,null,null,null,null,null,null,null,null,null,null,null,null,null,null,null,null,null,null,null,null,null,null,null,null,null,null,null,null,null,null,null,null,null,null,null,null,null,null,null,null,null,null,null,null,null,null,0]
[null,null,null,null,null,null,null,null,null,null,null,null,null,null,null,null,null,null,null,null,null,null,null,null,null,null,null,null,null,null,null,null,null,null,null,null,null,null,null,null,null,null,null,null,null,null,null,null,null,null,null,null,null,null,null,null,null,null,null,null,null,null,0]
[null,null,null,null,null,null,null,null,null,null,null,null,null,null,null,null,null,null,null,null,null,null,null,null,null,null,null,null,null,null,null,null,null,null,null,null,null,null,null,null,null,null,null,null,null,null,null,null,null,null,null,null,null,null,null,null,null,null,null,null,null,null,{"$f":"C143*$C$11+D143*$D$11+E143*$E$11+F143*$F$11+G143*$G$11+H143*$H$11+I143*$I$11+J143*$J$11+K143*$K$11+L143*$L$11+M143*$M$11+N143*$N$11+O143*$O$11+P143*$P$11+Q143*$Q$11+R143*$R$11+S143*$S$11+T143*$T$11+U143*$U$11+V143*$V$11+W143*$W$11+X143*$X$11+Y143*$Y$11+Z143*$Z$11+AA143*$AA$11+AB143*$AB$11+AC143*$AC$11+AD143*$AD$11+AE143*$AE$11+AF143*$AF$11+AG143*$AG$11+AH143*$AH$11+AI143*$AI$11+AJ143*$AJ$11+AK143*$AK$11+AL143*$AL$11+AM143*$AM$11+AN143*$AN$11+AO143*$AO$11+AP143*$AP$11+AQ143*$AQ$11+AR143*$AR$11+AS143*$AS$11+AT143*$AT$11+AU143*$AU$11+AV143*$AV$11+AW143*$AW$11+AX143*$AX$11+AY143*$AY$11+AZ143*$AZ$11+BA143*$BA$11+BB143*$BB$11+BC143*$BC$11+BD143*$BD$11+BE143*$BE$11+BF143*$BF$11+BG143*$BG$11+BH143*$BH$11+BI143*$BI$11+BJ143*$BJ$11","v":0}]
[null,null,null,null,null,null,null,null,null,null,null,null,null,null,null,null,null,null,null,null,null,null,null,null,null,null,null,null,null,null,null,null,null,null,null,null,null,null,null,null,null,null,null,null,null,null,null,null,null,null,null,null,null,null,null,null,null,null,null,null,null,null,0]
[null,null,null,null,null,null,null,null,null,null,null,null,null,null,null,null,null,null,null,null,null,null,null,null,null,null,null,null,null,null,null,null,null,null,null,null,null,null,null,null,null,null,null,null,null,null,null,null,null,null,null,null,null,null,null,null,null,null,null,null,null,null,0]
[null,null,null,null,null,null,null,null,null,null,null,null,null,null,null,null,null,null,null,null,null,null,null,null,null,null,null,null,null,null,null,null,null,null,null,null,null,null,null,null,null,null,null,null,null,null,null,null,null,null,null,null,null,null,null,null,null,null,null,null,null,null,0]
[null,null,null,null,null,null,null,null,null,null,null,null,null,null,null,null,null,null,null,null,null,null,null,null,null,null,null,null,null,null,null,null,null,null,null,null,null,null,null,null,null,null,null,null,null,null,null,null,null,null,null,null,null,null,null,null,null,null,null,null,null,null,0]
[null,null,null,null,null,null,null,null,null,null,null,null,null,null,null,null,null,null,null,null,null,null,null,null,null,null,null,null,null,null,null,null,null,null,null,null,null,null,null,null,null,null,null,null,null,null,null,null,null,null,null,null,null,null,null,null,null,null,null,null,null,null,0]
[null,null,null,null,null,null,null,null,null,null,null,null,null,null,null,null,null,null,null,null,null,null,null,null,null,null,null,null,null,null,null,null,null,null,null,null,null,null,null,null,null,null,null,null,null,null,null,null,null,null,null,null,null,null,null,null,null,null,null,null,null,null,0]
[null,null,null,null,null,null,null,null,null,null,null,null,null,null,null,null,null,null,null,null,null,null,null,null,null,null,null,null,null,null,null,null,null,null,null,null,null,null,null,null,null,null,null,null,null,null,null,null,null,null,null,null,null,null,null,null,null,null,null,null,null,null,0]
[null,null,null,null,null,null,null,null,null,null,null,null,null,null,null,null,null,null,null,null,null,null,null,null,null,null,null,null,null,null,null,null,null,null,null,null,null,null,null,null,null,null,null,null,null,null,null,null,null,null,null,null,null,null,null,null,null,null,null,null,null,null,0]
[null,null,null,null,null,null,null,null,null,null,null,null,null,null,null,null,null,null,null,null,null,null,null,null,null,null,null,null,null,null,null,null,null,null,null,null,null,null,null,null,null,null,null,null,null,null,null,null,null,null,null,null,null,null,null,null,null,null,null,null,null,null,0]
[null,null,null,null,null,null,null,null,null,null,null,null,null,null,null,null,null,null,null,null,null,null,null,null,null,null,null,null,null,null,null,null,null,null,null,null,null,null,null,null,null,null,null,null,null,null,null,null,null,null,null,null,null,null,null,null,null,null,null,null,null,null,0]
[null,null,null,null,null,null,null,null,null,null,null,null,null,null,null,null,null,null,null,null,null,null,null,null,null,null,null,null,null,null,null,null,null,null,null,null,null,null,null,null,null,null,null,null,null,null,null,null,null,null,null,null,null,null,null,null,null,null,null,null,null,null,0]
[null,null,null,null,null,null,null,null,null,null,null,null,null,null,null,null,null,null,null,null,null,null,null,null,null,null,null,null,null,null,null,null,null,null,null,null,null,null,null,null,null,null,null,null,null,null,null,null,null,null,null,null,null,null,null,null,null,null,null,null,null,null,0]
[null,null,null,null,null,null,null,null,null,null,null,null,null,null,null,null,null,null,null,null,null,null,null,null,null,null,null,null,null,null,null,null,null,null,null,null,null,null,null,null,null,null,null,null,null,null,null,null,null,null,null,null,null,null,null,null,null,null,null,null,null,null,0]
[null,null,null,null,null,null,null,null,null,null,null,null,null,null,null,null,null,null,null,null,null,null,null,null,null,null,null,null,null,null,null,null,null,null,null,null,null,null,null,null,null,null,null,null,null,null,null,null,null,null,null,null,null,null,null,null,null,null,null,null,null,null,0]
[null,null,null,null,null,null,null,null,null,null,null,null,null,null,null,null,null,null,null,null,null,null,null,null,null,null,null,null,null,null,null,null,null,null,null,null,null,null,null,null,null,null,null,null,null,null,null,null,null,null,null,null,null,null,null,null,null,null,null,null,null,null,0]
[null,null,null,null,null,null,null,null,null,null,null,null,null,null,null,null,null,null,null,null,null,null,null,null,null,null,null,null,null,null,null,null,null,null,null,null,null,null,null,null,null,null,null,null,null,null,null,null,null,null,null,null,null,null,null,null,null,null,null,null,null,null,0]
[null,null,null,null,null,null,null,null,null,null,null,null,null,null,null,null,null,null,null,null,null,null,null,null,null,null,null,null,null,null,null,null,null,null,null,null,null,null,null,null,null,null,null,null,null,null,null,null,null,null,null,null,null,null,null,null,null,null,null,null,null,null,0]
[null,null,null,null,null,null,null,null,null,null,null,null,null,null,null,null,null,null,null,null,null,null,null,null,null,null,null,null,null,null,null,null,null,null,null,null,null,null,null,null,null,null,null,null,null,null,null,null,null,null,null,null,null,null,null,null,null,null,null,null,null,null,0]
[null,null,null,null,null,null,null,null,null,null,null,null,null,null,null,null,null,null,null,null,null,null,null,null,null,null,null,null,null,null,null,null,null,null,null,null,null,null,null,null,null,null,null,null,null,null,null,null,null,null,null,null,null,null,null,null,null,null,null,null,null,null,0]
[null,null,null,null,null,null,null,null,null,null,null,null,null,null,null,null,null,null,null,null,null,null,null,null,null,null,null,null,null,null,null,null,null,null,null,null,null,null,null,null,null,null,null,null,null,null,null,null,null,null,null,null,null,null,null,null,null,null,null,null,null,null,0]
[null,null,null,null,null,null,null,null,null,null,null,null,null,null,null,null,null,null,null,null,null,null,null,null,null,null,null,null,null,null,null,null,null,null,null,null,null,null,null,null,null,null,null,null,null,null,null,null,null,null,null,null,null,null,null,null,null,null,null,null,null,null,0]
[null,null,null,null,null,null,null,null,null,null,null,null,null,null,null,null,null,null,null,null,null,null,null,null,null,null,null,null,null,null,null,null,null,null,null,null,null,null,null,null,null,null,null,null,null,null,null,null,null,null,null,null,null,null,null,null,null,null,null,null,null,null,0]
[null,null,null,null,null,null,null,null,null,null,null,null,null,null,null,null,null,null,null,null,null,null,null,null,null,null,null,null,null,null,null,null,null,null,null,null,null,null,null,null,null,null,null,null,null,null,null,null,null,null,null,null,null,null,null,null,null,null,null,null,null,null,0]
[null,null,null,null,null,null,null,null,null,null,null,null,null,null,null,null,null,null,null,null,null,null,null,null,null,null,null,null,null,null,null,null,null,null,null,null,null,null,null,null,null,null,null,null,null,null,null,null,null,null,null,null,null,null,null,null,null,null,null,null,null,null,0]
[null,null,null,null,null,null,null,null,null,null,null,null,null,null,null,null,null,null,null,null,null,null,null,null,null,null,null,null,null,null,null,null,null,null,null,null,null,null,null,null,null,null,null,null,null,null,null,null,null,null,null,null,null,null,null,null,null,null,null,null,null,null,0]
[null,null,null,null,null,null,null,null,null,null,null,null,null,null,null,null,null,null,null,null,null,null,null,null,null,null,null,null,null,null,null,null,null,null,null,null,null,null,null,null,null,null,null,null,null,null,null,null,null,null,null,null,null,null,null,null,null,null,null,null,null,null,0]
[null,null,null,null,null,null,null,null,null,null,null,null,null,null,null,null,null,null,null,null,null,null,null,null,null,null,null,null,null,null,null,null,null,null,null,null,null,null,null,null,null,null,null,null,null,null,null,null,null,null,null,null,null,null,null,null,null,null,null,null,null,null,0]
[null,null,null,null,null,null,null,null,null,null,null,null,null,null,null,null,null,null,null,null,null,null,null,null,null,null,null,null,null,null,null,null,null,null,null,null,null,null,null,null,null,null,null,null,null,null,null,null,null,null,null,null,null,null,null,null,null,null,null,null,null,null,0]
[null,null,null,null,null,null,null,null,null,null,null,null,null,null,null,null,null,null,null,null,null,null,null,null,null,null,null,null,null,null,null,null,null,null,null,null,null,null,null,null,null,null,null,null,null,null,null,null,null,null,null,null,null,null,null,null,null,null,null,null,null,null,0]
[null,null,null,null,null,null,null,null,null,null,null,null,null,null,null,null,null,null,null,null,null,null,null,null,null,null,null,null,null,null,null,null,null,null,null,null,null,null,null,null,null,null,null,null,null,null,null,null,null,null,null,null,null,null,null,null,null,null,null,null,null,null,0]
[null,null,null,null,null,null,null,null,null,null,null,null,null,null,null,null,null,null,null,null,null,null,null,null,null,null,null,null,null,null,null,null,null,null,null,null,null,null,null,null,null,null,null,null,null,null,null,null,null,null,null,null,null,null,null,null,null,null,null,null,null,null,0]
[null,null,null,null,null,null,null,null,null,null,null,null,null,null,null,null,null,null,null,null,null,null,null,null,null,null,null,null,null,null,null,null,null,null,null,null,null,null,null,null,null,null,null,null,null,null,null,null,null,null,null,null,null,null,null,null,null,null,null,null,null,null,0]
[null,null,null,null,null,null,null,null,null,null,null,null,null,null,null,null,null,null,null,null,null,null,null,null,null,null,null,null,null,null,null,null,null,null,null,null,null,null,null,null,null,null,null,null,null,null,null,null,null,null,null,null,null,null,null,null,null,null,null,null,null,null,0]
[null,null,null,null,null,null,null,null,null,null,null,null,null,null,null,null,null,null,null,null,null,null,null,null,null,null,null,null,null,null,null,null,null,null,null,null,null,null,null,null,null,null,null,null,null,null,null,null,null,null,null,null,null,null,null,null,null,null,null,null,null,null,0]
[null,null,null,null,null,null,null,null,null,null,null,null,null,null,null,null,null,null,null,null,null,null,null,null,null,null,null,null,null,null,null,null,null,null,null,null,null,null,null,null,null,null,null,null,null,null,null,null,null,null,null,null,null,null,null,null,null,null,null,null,null,null,0]
[null,null,null,null,null,null,null,null,null,null,null,null,null,null,null,null,null,null,null,null,null,null,null,null,null,null,null,null,null,null,null,null,null,null,null,null,null,null,null,null,null,null,null,null,null,null,null,null,null,null,null,null,null,null,null,null,null,null,null,null,null,null,0]
[null,null,null,null,null,null,null,null,null,null,null,null,null,null,null,null,null,null,null,null,null,null,null,null,null,null,null,null,null,null,null,null,null,null,null,null,null,null,null,null,null,null,null,null,null,null,null,null,null,null,null,null,null,null,null,null,null,null,null,null,null,null,0]
[null,null,null,null,null,null,null,null,null,null,null,null,null,null,null,null,null,null,null,null,null,null,null,null,null,null,null,null,null,null,null,null,null,null,null,null,null,null,null,null,null,null,null,null,null,null,null,null,null,null,null,null,null,null,null,null,null,null,null,null,null,null,0]
[null,null,null,null,null,null,null,null,null,null,null,null,null,null,null,null,null,null,null,null,null,null,null,null,null,null,null,null,null,null,null,null,null,null,null,null,null,null,null,null,null,null,null,null,null,null,null,null,null,null,null,null,null,null,null,null,null,null,null,null,null,null,0]
[null,null,null,null,null,null,null,null,null,null,null,null,null,null,null,null,null,null,null,null,null,null,null,null,null,null,null,null,null,null,null,null,null,null,null,null,null,null,null,null,null,null,null,null,null,null,null,null,null,null,null,null,null,null,null,null,null,null,null,null,null,null,0]
[null,null,null,null,null,null,null,null,null,null,null,null,null,null,null,null,null,null,null,null,null,null,null,null,null,null,null,null,null,null,null,null,null,null,null,null,null,null,null,null,null,null,null,null,null,null,null,null,null,null,null,null,null,null,null,null,null,null,null,null,null,null,0]
[null,null,null,null,null,null,null,null,null,null,null,null,null,null,null,null,null,null,null,null,null,null,null,null,null,null,null,null,null,null,null,null,null,null,null,null,null,null,null,null,null,null,null,null,null,null,null,null,null,null,null,null,null,null,null,null,null,null,null,null,null,null,0]
[null,null,null,null,null,null,null,null,null,null,null,null,null,null,null,null,null,null,null,null,null,null,null,null,null,null,null,null,null,null,null,null,null,null,null,null,null,null,null,null,null,null,null,null,null,null,null,null,null,null,null,null,null,null,null,null,null,null,null,null,null,null,0]
[null,null,null,null,null,null,null,null,null,null,null,null,null,null,null,null,null,null,null,null,null,null,null,null,null,null,null,null,null,null,null,null,null,null,null,null,null,null,null,null,null,null,null,null,null,null,null,null,null,null,null,null,null,null,null,null,null,null,null,null,null,null,0]
[null,null,null,null,null,null,null,null,null,null,null,null,null,null,null,null,null,null,null,null,null,null,null,null,null,null,null,null,null,null,null,null,null,null,null,null,null,null,null,null,null,null,null,null,null,null,null,null,null,null,null,null,null,null,null,null,null,null,null,null,null,null,0]
[null,null,null,null,null,null,null,null,null,null,null,null,null,null,null,null,null,null,null,null,null,null,null,null,null,null,null,null,null,null,null,null,null,null,null,null,null,null,null,null,null,null,null,null,null,null,null,null,null,null,null,null,null,null,null,null,null,null,null,null,null,null,0]
[null,null,null,null,null,null,null,null,null,null,null,null,null,null,null,null,null,null,null,null,null,null,null,null,null,null,null,null,null,null,null,null,null,null,null,null,null,null,null,null,null,null,null,null,null,null,null,null,null,null,null,null,null,null,null,null,null,null,null,null,null,null,0]
[null,null,null,null,null,null,null,null,null,null,null,null,null,null,null,null,null,null,null,null,null,null,null,null,null,null,null,null,null,null,null,null,null,null,null,null,null,null,null,null,null,null,null,null,null,null,null,null,null,null,null,null,null,null,null,null,null,null,null,null,null,null,0]
[null,null,null,null,null,null,null,null,null,null,null,null,null,null,null,null,null,null,null,null,null,null,null,null,null,null,null,null,null,null,null,null,null,null,null,null,null,null,null,null,null,null,null,null,null,null,null,null,null,null,null,null,null,null,null,null,null,null,null,null,null,null,0]
[null,null,null,null,null,null,null,null,null,null,null,null,null,null,null,null,null,null,null,null,null,null,null,null,null,null,null,null,null,null,null,null,null,null,null,null,null,null,null,null,null,null,null,null,null,null,null,null,null,null,null,null,null,null,null,null,null,null,null,null,null,null,0]
[null,null,null,null,null,null,null,null,null,null,null,null,null,null,null,null,null,null,null,null,null,null,null,null,null,null,null,null,null,null,null,null,null,null,null,null,null,null,null,null,null,null,null,null,null,null,null,null,null,null,null,null,null,null,null,null,null,null,null,null,null,null,0]
[null,null,null,null,null,null,null,null,null,null,null,null,null,null,null,null,null,null,null,null,null,null,null,null,null,null,null,null,null,null,null,null,null,null,null,null,null,null,null,null,null,null,null,null,null,null,null,null,null,null,null,null,null,null,null,null,null,null,null,null,null,null,0]
[null,null,null,null,null,null,null,null,null,null,null,null,null,null,null,null,null,null,null,null,null,null,null,null,null,null,null,null,null,null,null,null,null,null,null,null,null,null,null,null,null,null,null,null,null,null,null,null,null,null,null,null,null,null,null,null,null,null,null,null,null,null,0]
[null,null,null,null,null,null,null,null,null,null,null,null,null,null,null,null,null,null,null,null,null,null,null,null,null,null,null,null,null,null,null,null,null,null,null,null,null,null,null,null,null,null,null,null,null,null,null,null,null,null,null,null,null,null,null,null,null,null,null,null,null,null,0]
[null,null,null,null,null,null,null,null,null,null,null,null,null,null,null,null,null,null,null,null,null,null,null,null,null,null,null,null,null,null,null,null,null,null,null,null,null,null,null,null,null,null,null,null,null,null,null,null,null,null,null,null,null,null,null,null,null,null,null,null,null,null,0]
[null,null,null,null,null,null,null,null,null,null,null,null,null,null,null,null,null,null,null,null,null,null,null,null,null,null,null,null,null,null,null,null,null,null,null,null,null,null,null,null,null,null,null,null,null,null,null,null,null,null,null,null,null,null,null,null,null,null,null,null,null,null,0]
[null,null,null,null,null,null,null,null,null,null,null,null,null,null,null,null,null,null,null,null,null,null,null,null,null,null,null,null,null,null,null,null,null,null,null,null,null,null,null,null,null,null,null,null,null,null,null,null,null,null,null,null,null,null,null,null,null,null,null,null,null,null,0]
[null,null,null,null,null,null,null,null,null,null,null,null,null,null,null,null,null,null,null,null,null,null,null,null,null,null,null,null,null,null,null,null,null,null,null,null,null,null,null,null,null,null,null,null,null,null,null,null,null,null,null,null,null,null,null,null,null,null,null,null,null,null,0]
[null,null,null,null,null,null,null,null,null,null,null,null,null,null,null,null,null,null,null,null,null,null,null,null,null,null,null,null,null,null,null,null,null,null,null,null,null,null,null,null,null,null,null,null,null,null,null,null,null,null,null,null,null,null,null,null,null,null,null,null,null,null,0]
[null,null,null,null,null,null,null,null,null,null,null,null,null,null,null,null,null,null,null,null,null,null,null,null,null,null,null,null,null,null,null,null,null,null,null,null,null,null,null,null,null,null,null,null,null,null,null,null,null,null,null,null,null,null,null,null,null,null,null,null,null,null,0]
[null,null,null,null,null,null,null,null,null,null,null,null,null,null,null,null,null,null,null,null,null,null,null,null,null,null,null,null,null,null,null,null,null,null,null,null,null,null,null,null,null,null,null,null,null,null,null,null,null,null,null,null,null,null,null,null,null,null,null,null,null,null,0]
[null,null,null,null,null,null,null,null,null,null,null,null,null,null,null,null,null,null,null,null,null,null,null,null,null,null,null,null,null,null,null,null,null,null,null,null,null,null,null,null,null,null,null,null,null,null,null,null,null,null,null,null,null,null,null,null,null,null,null,null,null,null,0]
[null,null,null,null,null,null,null,null,null,null,null,null,null,null,null,null,null,null,null,null,null,null,null,null,null,null,null,null,null,null,null,null,null,null,null,null,null,null,null,null,null,null,null,null,null,null,null,null,null,null,null,null,null,null,null,null,null,null,null,null,null,null,0]
[null,null,null,null,null,null,null,null,null,null,null,null,null,null,null,null,null,null,null,null,null,null,null,null,null,null,null,null,null,null,null,null,null,null,null,null,null,null,null,null,null,null,null,null,null,null,null,null,null,null,null,null,null,null,null,null,null,null,null,null,null,null,{"$f":"C207*$C$11+D207*$D$11+E207*$E$11+F207*$F$11+G207*$G$11+H207*$H$11+I207*$I$11+J207*$J$11+K207*$K$11+L207*$L$11+M207*$M$11+N207*$N$11+O207*$O$11+P207*$P$11+Q207*$Q$11+R207*$R$11+S207*$S$11+T207*$T$11+U207*$U$11+V207*$V$11+W207*$W$11+X207*$X$11+Y207*$Y$11+Z207*$Z$11+AA207*$AA$11+AB207*$AB$11+AC207*$AC$11+AD207*$AD$11+AE207*$AE$11+AF207*$AF$11+AG207*$AG$11+AH207*$AH$11+AI207*$AI$11+AJ207*$AJ$11+AK207*$AK$11+AL207*$AL$11+AM207*$AM$11+AN207*$AN$11+AO207*$AO$11+AP207*$AP$11+AQ207*$AQ$11+AR207*$AR$11+AS207*$AS$11+AT207*$AT$11+AU207*$AU$11+AV207*$AV$11+AW207*$AW$11+AX207*$AX$11+AY207*$AY$11+AZ207*$AZ$11+BA207*$BA$11+BB207*$BB$11+BC207*$BC$11+BD207*$BD$11+BE207*$BE$11+BF207*$BF$11+BG207*$BG$11+BH207*$BH$11+BI207*$BI$11+BJ207*$BJ$11","v":0}]
[null,null,null,null,null,null,null,null,null,null,null,null,null,null,null,null,null,null,null,null,null,null,null,null,null,null,null,null,null,null,null,null,null,null,null,null,null,null,null,null,null,null,null,null,null,null,null,null,null,null,null,null,null,null,null,null,null,null,null,null,null,null,0]
[null,null,null,null,null,null,null,null,null,null,null,null,null,null,null,null,null,null,null,null,null,null,null,null,null,null,null,null,null,null,null,null,null,null,null,null,null,null,null,null,null,null,null,null,null,null,null,null,null,null,null,null,null,null,null,null,null,null,null,null,null,null,0]
[null,null,null,null,null,null,null,null,null,null,null,null,null,null,null,null,null,null,null,null,null,null,null,null,null,null,null,null,null,null,null,null,null,null,null,null,null,null,null,null,null,null,null,null,null,null,null,null,null,null,null,null,null,null,null,null,null,null,null,null,null,null,0]
[null,null,null,null,null,null,null,null,null,null,null,null,null,null,null,null,null,null,null,null,null,null,null,null,null,null,null,null,null,null,null,null,null,null,null,null,null,null,null,null,null,null,null,null,null,null,null,null,null,null,null,null,null,null,null,null,null,null,null,null,null,null,0]
[null,null,null,null,null,null,null,null,null,null,null,null,null,null,null,null,null,null,null,null,null,null,null,null,null,null,null,null,null,null,null,null,null,null,null,null,null,null,null,null,null,null,null,null,null,null,null,null,null,null,null,null,null,null,null,null,null,null,null,null,null,null,0]
[null,null,null,null,null,null,null,null,null,null,null,null,null,null,null,null,null,null,null,null,null,null,null,null,null,null,null,null,null,null,null,null,null,null,null,null,null,null,null,null,null,null,null,null,null,null,null,null,null,null,null,null,null,null,null,null,null,null,null,null,null,null,0]
[null,null,null,null,null,null,null,null,null,null,null,null,null,null,null,null,null,null,null,null,null,null,null,null,null,null,null,null,null,null,null,null,null,null,null,null,null,null,null,null,null,null,null,null,null,null,null,null,null,null,null,null,null,null,null,null,null,null,null,null,null,null,0]
[null,null,null,null,null,null,null,null,null,null,null,null,null,null,null,null,null,null,null,null,null,null,null,null,null,null,null,null,null,null,null,null,null,null,null,null,null,null,null,null,null,null,null,null,null,null,null,null,null,null,null,null,null,null,null,null,null,null,null,null,null,null,0]
[null,null,null,null,null,null,null,null,null,null,null,null,null,null,null,null,null,null,null,null,null,null,null,null,null,null,null,null,null,null,null,null,null,null,null,null,null,null,null,null,null,null,null,null,null,null,null,null,null,null,null,null,null,null,null,null,null,null,null,null,null,null,0]
[null,null,null,null,null,null,null,null,null,null,null,null,null,null,null,null,null,null,null,null,null,null,null,null,null,null,null,null,null,null,null,null,null,null,null,null,null,null,null,null,null,null,null,null,null,null,null,null,null,null,null,null,null,null,null,null,null,null,null,null,null,null,0]
[null,null,null,null,null,null,null,null,null,null,null,null,null,null,null,null,null,null,null,null,null,null,null,null,null,null,null,null,null,null,null,null,null,null,null,null,null,null,null,null,null,null,null,null,null,null,null,null,null,null,null,null,null,null,null,null,null,null,null,null,null,null,0]
[null,null,null,null,null,null,null,null,null,null,null,null,null,null,null,null,null,null,null,null,null,null,null,null,null,null,null,null,null,null,null,null,null,null,null,null,null,null,null,null,null,null,null,null,null,null,null,null,null,null,null,null,null,null,null,null,null,null,null,null,null,null,0]
[null,null,null,null,null,null,null,null,null,null,null,null,null,null,null,null,null,null,null,null,null,null,null,null,null,null,null,null,null,null,null,null,null,null,null,null,null,null,null,null,null,null,null,null,null,null,null,null,null,null,null,null,null,null,null,null,null,null,null,null,null,null,0]
[null,null,null,null,null,null,null,null,null,null,null,null,null,null,null,null,null,null,null,null,null,null,null,null,null,null,null,null,null,null,null,null,null,null,null,null,null,null,null,null,null,null,null,null,null,null,null,null,null,null,null,null,null,null,null,null,null,null,null,null,null,null,0]
[null,null,null,null,null,null,null,null,null,null,null,null,null,null,null,null,null,null,null,null,null,null,null,null,null,null,null,null,null,null,null,null,null,null,null,null,null,null,null,null,null,null,null,null,null,null,null,null,null,null,null,null,null,null,null,null,null,null,null,null,null,null,0]
[null,null,null,null,null,null,null,null,null,null,null,null,null,null,null,null,null,null,null,null,null,null,null,null,null,null,null,null,null,null,null,null,null,null,null,null,null,null,null,null,null,null,null,null,null,null,null,null,null,null,null,null,null,null,null,null,null,null,null,null,null,null,0]
[null,null,null,null,null,null,null,null,null,null,null,null,null,null,null,null,null,null,null,null,null,null,null,null,null,null,null,null,null,null,null,null,null,null,null,null,null,null,null,null,null,null,null,null,null,null,null,null,null,null,null,null,null,null,null,null,null,null,null,null,null,null,0]
[null,null,null,null,null,null,null,null,null,null,null,null,null,null,null,null,null,null,null,null,null,null,null,null,null,null,null,null,null,null,null,null,null,null,null,null,null,null,null,null,null,null,null,null,null,null,null,null,null,null,null,null,null,null,null,null,null,null,null,null,null,null,0]
[null,null,null,null,null,null,null,null,null,null,null,null,null,null,null,null,null,null,null,null,null,null,null,null,null,null,null,null,null,null,null,null,null,null,null,null,null,null,null,null,null,null,null,null,null,null,null,null,null,null,null,null,null,null,null,null,null,null,null,null,null,null,0]
[null,null,null,null,null,null,null,null,null,null,null,null,null,null,null,null,null,null,null,null,null,null,null,null,null,null,null,null,null,null,null,null,null,null,null,null,null,null,null,null,null,null,null,null,null,null,null,null,null,null,null,null,null,null,null,null,null,null,null,null,null,null,0]
[null,null,null,null,null,null,null,null,null,null,null,null,null,null,null,null,null,null,null,null,null,null,null,null,null,null,null,null,null,null,null,null,null,null,null,null,null,null,null,null,null,null,null,null,null,null,null,null,null,null,null,null,null,null,null,null,null,null,null,null,null,null,0]
[null,null,null,null,null,null,null,null,null,null,null,null,null,null,null,null,null,null,null,null,null,null,null,null,null,null,null,null,null,null,null,null,null,null,null,null,null,null,null,null,null,null,null,null,null,null,null,null,null,null,null,null,null,null,null,null,null,null,null,null,null,null,0]
[null,null,null,null,null,null,null,null,null,null,null,null,null,null,null,null,null,null,null,null,null,null,null,null,null,null,null,null,null,null,null,null,null,null,null,null,null,null,null,null,null,null,null,null,null,null,null,null,null,null,null,null,null,null,null,null,null,null,null,null,null,null,0]
[null,null,null,null,null,null,null,null,null,null,null,null,null,null,null,null,null,null,null,null,null,null,null,null,null,null,null,null,null,null,null,null,null,null,null,null,null,null,null,null,null,null,null,null,null,null,null,null,null,null,null,null,null,null,null,null,null,null,null,null,null,null,0]
[null,null,null,null,null,null,null,null,null,null,null,null,null,null,null,null,null,null,null,null,null,null,null,null,null,null,null,null,null,null,null,null,null,null,null,null,null,null,null,null,null,null,null,null,null,null,null,null,null,null,null,null,null,null,null,null,null,null,null,null,null,null,0]
[null,null,null,null,null,null,null,null,null,null,null,null,null,null,null,null,null,null,null,null,null,null,null,null,null,null,null,null,null,null,null,null,null,null,null,null,null,null,null,null,null,null,null,null,null,null,null,null,null,null,null,null,null,null,null,null,null,null,null,null,null,null,0]
[null,null,null,null,null,null,null,null,null,null,null,null,null,null,null,null,null,null,null,null,null,null,null,null,null,null,null,null,null,null,null,null,null,null,null,null,null,null,null,null,null,null,null,null,null,null,null,null,null,null,null,null,null,null,null,null,null,null,null,null,null,null,0]
[null,null,null,null,null,null,null,null,null,null,null,null,null,null,null,null,null,null,null,null,null,null,null,null,null,null,null,null,null,null,null,null,null,null,null,null,null,null,null,null,null,null,null,null,null,null,null,null,null,null,null,null,null,null,null,null,null,null,null,null,null,null,0]
[null,null,null,null,null,null,null,null,null,null,null,null,null,null,null,null,null,null,null,null,null,null,null,null,null,null,null,null,null,null,null,null,null,null,null,null,null,null,null,null,null,null,null,null,null,null,null,null,null,null,null,null,null,null,null,null,null,null,null,null,null,null,0]
[null,null,null,null,null,null,null,null,null,null,null,null,null,null,null,null,null,null,null,null,null,null,null,null,null,null,null,null,null,null,null,null,null,null,null,null,null,null,null,null,null,null,null,null,null,null,null,null,null,null,null,null,null,null,null,null,null,null,null,null,null,null,0]
[null,null,null,null,null,null,null,null,null,null,null,null,null,null,null,null,null,null,null,null,null,null,null,null,null,null,null,null,null,null,null,null,null,null,null,null,null,null,null,null,null,null,null,null,null,null,null,null,null,null,null,null,null,null,null,null,null,null,null,null,null,null,0]
[null,null,null,null,null,null,null,null,null,null,null,null,null,null,null,null,null,null,null,null,null,null,null,null,null,null,null,null,null,null,null,null,null,null,null,null,null,null,null,null,null,null,null,null,null,null,null,null,null,null,null,null,null,null,null,null,null,null,null,null,null,null,0]
[null,null,null,null,null,null,null,null,null,null,null,null,null,null,null,null,null,null,null,null,null,null,null,null,null,null,null,null,null,null,null,null,null,null,null,null,null,null,null,null,null,null,null,null,null,null,null,null,null,null,null,null,null,null,null,null,null,null,null,null,null,null,0]
[null,null,null,null,null,null,null,null,null,null,null,null,null,null,null,null,null,null,null,null,null,null,null,null,null,null,null,null,null,null,null,null,null,null,null,null,null,null,null,null,null,null,null,null,null,null,null,null,null,null,null,null,null,null,null,null,null,null,null,null,null,null,0]
[null,null,null,null,null,null,null,null,null,null,null,null,null,null,null,null,null,null,null,null,null,null,null,null,null,null,null,null,null,null,null,null,null,null,null,null,null,null,null,null,null,null,null,null,null,null,null,null,null,null,null,null,null,null,null,null,null,null,null,null,null,null,0]
[null,null,null,null,null,null,null,null,null,null,null,null,null,null,null,null,null,null,null,null,null,null,null,null,null,null,null,null,null,null,null,null,null,null,null,null,null,null,null,null,null,null,null,null,null,null,null,null,null,null,null,null,null,null,null,null,null,null,null,null,null,null,0]
[null,null,null,null,null,null,null,null,null,null,null,null,null,null,null,null,null,null,null,null,null,null,null,null,null,null,null,null,null,null,null,null,null,null,null,null,null,null,null,null,null,null,null,null,null,null,null,null,null,null,null,null,null,null,null,null,null,null,null,null,null,null,0]
[null,null,null,null,null,null,null,null,null,null,null,null,null,null,null,null,null,null,null,null,null,null,null,null,null,null,null,null,null,null,null,null,null,null,null,null,null,null,null,null,null,null,null,null,null,null,null,null,null,null,null,null,null,null,null,null,null,null,null,null,null,null,0]
[null,null,null,null,null,null,null,null,null,null,null,null,null,null,null,null,null,null,null,null,null,null,null,null,null,null,null,null,null,null,null,null,null,null,null,null,null,null,null,null,null,null,null,null,null,null,null,null,null,null,null,null,null,null,null,null,null,null,null,null,null,null,0]
[null,null,null,null,null,null,null,null,null,null,null,null,null,null,null,null,null,null,null,null,null,null,null,null,null,null,null,null,null,null,null,null,null,null,null,null,null,null,null,null,null,null,null,null,null,null,null,null,null,null,null,null,null,null,null,null,null,null,null,null,null,null,0]
[null,null,null,null,null,null,null,null,null,null,null,null,null,null,null,null,null,null,null,null,null,null,null,null,null,null,null,null,null,null,null,null,null,null,null,null,null,null,null,null,null,null,null,null,null,null,null,null,null,null,null,null,null,null,null,null,null,null,null,null,null,null,0]
[null,null,null,null,null,null,null,null,null,null,null,null,null,null,null,null,null,null,null,null,null,null,null,null,null,null,null,null,null,null,null,null,null,null,null,null,null,null,null,null,null,null,null,null,null,null,null,null,null,null,null,null,null,null,null,null,null,null,null,null,null,null,0]
[null,null,null,null,null,null,null,null,null,null,null,null,null,null,null,null,null,null,null,null,null,null,null,null,null,null,null,null,null,null,null,null,null,null,null,null,null,null,null,null,null,null,null,null,null,null,null,null,null,null,null,null,null,null,null,null,null,null,null,null,null,null,0]
[null,null,null,null,null,null,null,null,null,null,null,null,null,null,null,null,null,null,null,null,null,null,null,null,null,null,null,null,null,null,null,null,null,null,null,null,null,null,null,null,null,null,null,null,null,null,null,null,null,null,null,null,null,null,null,null,null,null,null,null,null,null,0]
[null,null,null,null,null,null,null,null,null,null,null,null,null,null,null,null,null,null,null,null,null,null,null,null,null,null,null,null,null,null,null,null,null,null,null,null,null,null,null,null,null,null,null,null,null,null,null,null,null,null,null,null,null,null,null,null,null,null,null,null,null,null,0]
[null,null,null,null,null,null,null,null,null,null,null,null,null,null,null,null,null,null,null,null,null,null,null,null,null,null,null,null,null,null,null,null,null,null,null,null,null,null,null,null,null,null,null,null,null,null,null,null,null,null,null,null,null,null,null,null,null,null,null,null,null,null,0]
[null,null,null,null,null,null,null,null,null,null,null,null,null,null,null,null,null,null,null,null,null,null,null,null,null,null,null,null,null,null,null,null,null,null,null,null,null,null,null,null,null,null,null,null,null,null,null,null,null,null,null,null,null,null,null,null,null,null,null,null,null,null,0]
[null,null,null,null,null,null,null,null,null,null,null,null,null,null,null,null,null,null,null,null,null,null,null,null,null,null,null,null,null,null,null,null,null,null,null,null,null,null,null,null,null,null,null,null,null,null,null,null,null,null,null,null,null,null,null,null,null,null,null,null,null,null,0]
[null,null,null,null,null,null,null,null,null,null,null,null,null,null,null,null,null,null,null,null,null,null,null,null,null,null,null,null,null,null,null,null,null,null,null,null,null,null,null,null,null,null,null,null,null,null,null,null,null,null,null,null,null,null,null,null,null,null,null,null,null,null,0]
[null,null,null,null,null,null,null,null,null,null,null,null,null,null,null,null,null,null,null,null,null,null,null,null,null,null,null,null,null,null,null,null,null,null,null,null,null,null,null,null,null,null,null,null,null,null,null,null,null,null,null,null,null,null,null,null,null,null,null,null,null,null,0]
[null,null,null,null,null,null,null,null,null,null,null,null,null,null,null,null,null,null,null,null,null,null,null,null,null,null,null,null,null,null,null,null,null,null,null,null,null,null,null,null,null,null,null,null,null,null,null,null,null,null,null,null,null,null,null,null,null,null,null,null,null,null,0]
[null,null,null,null,null,null,null,null,null,null,null,null,null,null,null,null,null,null,null,null,null,null,null,null,null,null,null,null,null,null,null,null,null,null,null,null,null,null,null,null,null,null,null,null,null,null,null,null,null,null,null,null,null,null,null,null,null,null,null,null,null,null,0]
[null,null,null,null,null,null,null,null,null,null,null,null,null,null,null,null,null,null,null,null,null,null,null,null,null,null,null,null,null,null,null,null,null,null,null,null,null,null,null,null,null,null,null,null,null,null,null,null,null,null,null,null,null,null,null,null,null,null,null,null,null,null,0]
[null,null,null,null,null,null,null,null,null,null,null,null,null,null,null,null,null,null,null,null,null,null,null,null,null,null,null,null,null,null,null,null,null,null,null,null,null,null,null,null,null,null,null,null,null,null,null,null,null,null,null,null,null,null,null,null,null,null,null,null,null,null,0]
[null,null,null,null,null,null,null,null,null,null,null,null,null,null,null,null,null,null,null,null,null,null,null,null,null,null,null,null,null,null,null,null,null,null,null,null,null,null,null,null,null,null,null,null,null,null,null,null,null,null,null,null,null,null,null,null,null,null,null,null,null,null,0]
[null,null,null,null,null,null,null,null,null,null,null,null,null,null,null,null,null,null,null,null,null,null,null,null,null,null,null,null,null,null,null,null,null,null,null,null,null,null,null,null,null,null,null,null,null,null,null,null,null,null,null,null,null,null,null,null,null,null,null,null,null,null,0]
[null,null,null,null,null,null,null,null,null,null,null,null,null,null,null,null,null,null,null,null,null,null,null,null,null,null,null,null,null,null,null,null,null,null,null,null,null,null,null,null,null,null,null,null,null,null,null,null,null,null,null,null,null,null,null,null,null,null,null,null,null,null,0]
[null,null,null,null,null,null,null,null,null,null,null,null,null,null,null,null,null,null,null,null,null,null,null,null,null,null,null,null,null,null,null,null,null,null,null,null,null,null,null,null,null,null,null,null,null,null,null,null,null,null,null,null,null,null,null,null,null,null,null,null,null,null,0]
[null,null,null,null,null,null,null,null,null,null,null,null,null,null,null,null,null,null,null,null,null,null,null,null,null,null,null,null,null,null,null,null,null,null,null,null,null,null,null,null,null,null,null,null,null,null,null,null,null,null,null,null,null,null,null,null,null,null,null,null,null,null,0]
[null,null,null,null,null,null,null,null,null,null,null,null,null,null,null,null,null,null,null,null,null,null,null,null,null,null,null,null,null,null,null,null,null,null,null,null,null,null,null,null,null,null,null,null,null,null,null,null,null,null,null,null,null,null,null,null,null,null,null,null,null,null,0]
[null,null,null,null,null,null,null,null,null,null,null,null,null,null,null,null,null,null,null,null,null,null,null,null,null,null,null,null,null,null,null,null,null,null,null,null,null,null,null,null,null,null,null,null,null,null,null,null,null,null,null,null,null,null,null,null,null,null,null,null,null,null,0]
[null,null,null,null,null,null,null,null,null,null,null,null,null,null,null,null,null,null,null,null,null,null,null,null,null,null,null,null,null,null,null,null,null,null,null,null,null,null,null,null,null,null,null,null,null,null,null,null,null,null,null,null,null,null,null,null,null,null,null,null,null,null,0]
[null,null,null,null,null,null,null,null,null,null,null,null,null,null,null,null,null,null,null,null,null,null,null,null,null,null,null,null,null,null,null,null,null,null,null,null,null,null,null,null,null,null,null,null,null,null,null,null,null,null,null,null,null,null,null,null,null,null,null,null,null,null,0]
[null,null,null,null,null,null,null,null,null,null,null,null,null,null,null,null,null,null,null,null,null,null,null,null,null,null,null,null,null,null,null,null,null,null,null,null,null,null,null,null,null,null,null,null,null,null,null,null,null,null,null,null,null,null,null,null,null,null,null,null,null,null,{"$f":"C271*$C$11+D271*$D$11+E271*$E$11+F271*$F$11+G271*$G$11+H271*$H$11+I271*$I$11+J271*$J$11+K271*$K$11+L271*$L$11+M271*$M$11+N271*$N$11+O271*$O$11+P271*$P$11+Q271*$Q$11+R271*$R$11+S271*$S$11+T271*$T$11+U271*$U$11+V271*$V$11+W271*$W$11+X271*$X$11+Y271*$Y$11+Z271*$Z$11+AA271*$AA$11+AB271*$AB$11+AC271*$AC$11+AD271*$AD$11+AE271*$AE$11+AF271*$AF$11+AG271*$AG$11+AH271*$AH$11+AI271*$AI$11+AJ271*$AJ$11+AK271*$AK$11+AL271*$AL$11+AM271*$AM$11+AN271*$AN$11+AO271*$AO$11+AP271*$AP$11+AQ271*$AQ$11+AR271*$AR$11+AS271*$AS$11+AT271*$AT$11+AU271*$AU$11+AV271*$AV$11+AW271*$AW$11+AX271*$AX$11+AY271*$AY$11+AZ271*$AZ$11+BA271*$BA$11+BB271*$BB$11+BC271*$BC$11+BD271*$BD$11+BE271*$BE$11+BF271*$BF$11+BG271*$BG$11+BH271*$BH$11+BI271*$BI$11+BJ271*$BJ$11","v":0}]
[null,null,null,null,null,null,null,null,null,null,null,null,null,null,null,null,null,null,null,null,null,null,null,null,null,null,null,null,null,null,null,null,null,null,null,null,null,null,null,null,null,null,null,null,null,null,null,null,null,null,null,null,null,null,null,null,null,null,null,null,null,null,0]
[null,null,null,null,null,null,null,null,null,null,null,null,null,null,null,null,null,null,null,null,null,null,null,null,null,null,null,null,null,null,null,null,null,null,null,null,null,null,null,null,null,null,null,null,null,null,null,null,null,null,null,null,null,null,null,null,null,null,null,null,null,null,0]
[null,null,null,null,null,null,null,null,null,null,null,null,null,null,null,null,null,null,null,null,null,null,null,null,null,null,null,null,null,null,null,null,null,null,null,null,null,null,null,null,null,null,null,null,null,null,null,null,null,null,null,null,null,null,null,null,null,null,null,null,null,null,0]
[null,null,null,null,null,null,null,null,null,null,null,null,null,null,null,null,null,null,null,null,null,null,null,null,null,null,null,null,null,null,null,null,null,null,null,null,null,null,null,null,null,null,null,null,null,null,null,null,null,null,null,null,null,null,null,null,null,null,null,null,null,null,0]
[null,null,null,null,null,null,null,null,null,null,null,null,null,null,null,null,null,null,null,null,null,null,null,null,null,null,null,null,null,null,null,null,null,null,null,null,null,null,null,null,null,null,null,null,null,null,null,null,null,null,null,null,null,null,null,null,null,null,null,null,null,null,0]
[null,null,null,null,null,null,null,null,null,null,null,null,null,null,null,null,null,null,null,null,null,null,null,null,null,null,null,null,null,null,null,null,null,null,null,null,null,null,null,null,null,null,null,null,null,null,null,null,null,null,null,null,null,null,null,null,null,null,null,null,null,null,0]
[null,null,null,null,null,null,null,null,null,null,null,null,null,null,null,null,null,null,null,null,null,null,null,null,null,null,null,null,null,null,null,null,null,null,null,null,null,null,null,null,null,null,null,null,null,null,null,null,null,null,null,null,null,null,null,null,null,null,null,null,null,null,0]
[null,null,null,null,null,null,null,null,null,null,null,null,null,null,null,null,null,null,null,null,null,null,null,null,null,null,null,null,null,null,null,null,null,null,null,null,null,null,null,null,null,null,null,null,null,null,null,null,null,null,null,null,null,null,null,null,null,null,null,null,null,null,0]
[null,null,null,null,null,null,null,null,null,null,null,null,null,null,null,null,null,null,null,null,null,null,null,null,null,null,null,null,null,null,null,null,null,null,null,null,null,null,null,null,null,null,null,null,null,null,null,null,null,null,null,null,null,null,null,null,null,null,null,null,null,null,0]
[null,null,null,null,null,null,null,null,null,null,null,null,null,null,null,null,null,null,null,null,null,null,null,null,null,null,null,null,null,null,null,null,null,null,null,null,null,null,null,null,null,null,null,null,null,null,null,null,null,null,null,null,null,null,null,null,null,null,null,null,null,null,0]
[null,null,null,null,null,null,null,null,null,null,null,null,null,null,null,null,null,null,null,null,null,null,null,null,null,null,null,null,null,null,null,null,null,null,null,null,null,null,null,null,null,null,null,null,null,null,null,null,null,null,null,null,null,null,null,null,null,null,null,null,null,null,0]
[null,null,null,null,null,null,null,null,null,null,null,null,null,null,null,null,null,null,null,null,null,null,null,null,null,null,null,null,null,null,null,null,null,null,null,null,null,null,null,null,null,null,null,null,null,null,null,null,null,null,null,null,null,null,null,null,null,null,null,null,null,null,0]
[null,null,null,null,null,null,null,null,null,null,null,null,null,null,null,null,null,null,null,null,null,null,null,null,null,null,null,null,null,null,null,null,null,null,null,null,null,null,null,null,null,null,null,null,null,null,null,null,null,null,null,null,null,null,null,null,null,null,null,null,null,null,0]
[null,null,null,null,null,null,null,null,null,null,null,null,null,null,null,null,null,null,null,null,null,null,null,null,null,null,null,null,null,null,null,null,null,null,null,null,null,null,null,null,null,null,null,null,null,null,null,null,null,null,null,null,null,null,null,null,null,null,null,null,null,null,0]
[null,null,null,null,null,null,null,null,null,null,null,null,null,null,null,null,null,null,null,null,null,null,null,null,null,null,null,null,null,null,null,null,null,null,null,null,null,null,null,null,null,null,null,null,null,null,null,null,null,null,null,null,null,null,null,null,null,null,null,null,null,null,0]
[null,null,null,null,null,null,null,null,null,null,null,null,null,null,null,null,null,null,null,null,null,null,null,null,null,null,null,null,null,null,null,null,null,null,null,null,null,null,null,null,null,null,null,null,null,null,null,null,null,null,null,null,null,null,null,null,null,null,null,null,null,null,0]
[null,null,null,null,null,null,null,null,null,null,null,null,null,null,null,null,null,null,null,null,null,null,null,null,null,null,null,null,null,null,null,null,null,null,null,null,null,null,null,null,null,null,null,null,null,null,null,null,null,null,null,null,null,null,null,null,null,null,null,null,null,null,0]
[null,null,null,null,null,null,null,null,null,null,null,null,null,null,null,null,null,null,null,null,null,null,null,null,null,null,null,null,null,null,null,null,null,null,null,null,null,null,null,null,null,null,null,null,null,null,null,null,null,null,null,null,null,null,null,null,null,null,null,null,null,null,0]
[null,null,null,null,null,null,null,null,null,null,null,null,null,null,null,null,null,null,null,null,null,null,null,null,null,null,null,null,null,null,null,null,null,null,null,null,null,null,null,null,null,null,null,null,null,null,null,null,null,null,null,null,null,null,null,null,null,null,null,null,null,null,0]
[null,null,null,null,null,null,null,null,null,null,null,null,null,null,null,null,null,null,null,null,null,null,null,null,null,null,null,null,null,null,null,null,null,null,null,null,null,null,null,null,null,null,null,null,null,null,null,null,null,null,null,null,null,null,null,null,null,null,null,null,null,null,0]
[null,null,null,null,null,null,null,null,null,null,null,null,null,null,null,null,null,null,null,null,null,null,null,null,null,null,null,null,null,null,null,null,null,null,null,null,null,null,null,null,null,null,null,null,null,null,null,null,null,null,null,null,null,null,null,null,null,null,null,null,null,null,0]
[null,null,null,null,null,null,null,null,null,null,null,null,null,null,null,null,null,null,null,null,null,null,null,null,null,null,null,null,null,null,null,null,null,null,null,null,null,null,null,null,null,null,null,null,null,null,null,null,null,null,null,null,null,null,null,null,null,null,null,null,null,null,0]
[null,null,null,null,null,null,null,null,null,null,null,null,null,null,null,null,null,null,null,null,null,null,null,null,null,null,null,null,null,null,null,null,null,null,null,null,null,null,null,null,null,null,null,null,null,null,null,null,null,null,null,null,null,null,null,null,null,null,null,null,null,null,0]
[null,null,null,null,null,null,null,null,null,null,null,null,null,null,null,null,null,null,null,null,null,null,null,null,null,null,null,null,null,null,null,null,null,null,null,null,null,null,null,null,null,null,null,null,null,null,null,null,null,null,null,null,null,null,null,null,null,null,null,null,null,null,0]
[null,null,null,null,null,null,null,null,null,null,null,null,null,null,null,null,null,null,null,null,null,null,null,null,null,null,null,null,null,null,null,null,null,null,null,null,null,null,null,null,null,null,null,null,null,null,null,null,null,null,null,null,null,null,null,null,null,null,null,null,null,null,0]
[null,null,null,null,null,null,null,null,null,null,null,null,null,null,null,null,null,null,null,null,null,null,null,null,null,null,null,null,null,null,null,null,null,null,null,null,null,null,null,null,null,null,null,null,null,null,null,null,null,null,null,null,null,null,null,null,null,null,null,null,null,null,0]
[null,null,null,null,null,null,null,null,null,null,null,null,null,null,null,null,null,null,null,null,null,null,null,null,null,null,null,null,null,null,null,null,null,null,null,null,null,null,null,null,null,null,null,null,null,null,null,null,null,null,null,null,null,null,null,null,null,null,null,null,null,null,0]
[null,null,null,null,null,null,null,null,null,null,null,null,null,null,null,null,null,null,null,null,null,null,null,null,null,null,null,null,null,null,null,null,null,null,null,null,null,null,null,null,null,null,null,null,null,null,null,null,null,null,null,null,null,null,null,null,null,null,null,null,null,null,0]
[null,null,null,null,null,null,null,null,null,null,null,null,null,null,null,null,null,null,null,null,null,null,null,null,null,null,null,null,null,null,null,null,null,null,null,null,null,null,null,null,null,null,null,null,null,null,null,null,null,null,null,null,null,null,null,null,null,null,null,null,null,null,0]
[null,null,null,null,null,null,null,null,null,null,null,null,null,null,null,null,null,null,null,null,null,null,null,null,null,null,null,null,null,null,null,null,null,null,null,null,null,null,null,null,null,null,null,null,null,null,null,null,null,null,null,null,null,null,null,null,null,null,null,null,null,null,0]
[null,null,null,null,null,null,null,null,null,null,null,null,null,null,null,null,null,null,null,null,null,null,null,null,null,null,null,null,null,null,null,null,null,null,null,null,null,null,null,null,null,null,null,null,null,null,null,null,null,null,null,null,null,null,null,null,null,null,null,null,null,null,0]
[null,null,null,null,null,null,null,null,null,null,null,null,null,null,null,null,null,null,null,null,null,null,null,null,null,null,null,null,null,null,null,null,null,null,null,null,null,null,null,null,null,null,null,null,null,null,null,null,null,null,null,null,null,null,null,null,null,null,null,null,null,null,0]
[null,null,null,null,null,null,null,null,null,null,null,null,null,null,null,null,null,null,null,null,null,null,null,null,null,null,null,null,null,null,null,null,null,null,null,null,null,null,null,null,null,null,null,null,null,null,null,null,null,null,null,null,null,null,null,null,null,null,null,null,null,null,0]
[null,null,null,null,null,null,null,null,null,null,null,null,null,null,null,null,null,null,null,null,null,null,null,null,null,null,null,null,null,null,null,null,null,null,null,null,null,null,null,null,null,null,null,null,null,null,null,null,null,null,null,null,null,null,null,null,null,null,null,null,null,null,0]
[null,null,null,null,null,null,null,null,null,null,null,null,null,null,null,null,null,null,null,null,null,null,null,null,null,null,null,null,null,null,null,null,null,null,null,null,null,null,null,null,null,null,null,null,null,null,null,null,null,null,null,null,null,null,null,null,null,null,null,null,null,null,0]
[null,null,null,null,null,null,null,null,null,null,null,null,null,null,null,null,null,null,null,null,null,null,null,null,null,null,null,null,null,null,null,null,null,null,null,null,null,null,null,null,null,null,null,null,null,null,null,null,null,null,null,null,null,null,null,null,null,null,null,null,null,null,0]
[null,null,null,null,null,null,null,null,null,null,null,null,null,null,null,null,null,null,null,null,null,null,null,null,null,null,null,null,null,null,null,null,null,null,null,null,null,null,null,null,null,null,null,null,null,null,null,null,null,null,null,null,null,null,null,null,null,null,null,null,null,null,0]
[null,null,null,null,null,null,null,null,null,null,null,null,null,null,null,null,null,null,null,null,null,null,null,null,null,null,null,null,null,null,null,null,null,null,null,null,null,null,null,null,null,null,null,null,null,null,null,null,null,null,null,null,null,null,null,null,null,null,null,null,null,null,0]
[null,null,null,null,null,null,null,null,null,null,null,null,null,null,null,null,null,null,null,null,null,null,null,null,null,null,null,null,null,null,null,null,null,null,null,null,null,null,null,null,null,null,null,null,null,null,null,null,null,null,null,null,null,null,null,null,null,null,null,null,null,null,0]
[null,null,null,null,null,null,null,null,null,null,null,null,null,null,null,null,null,null,null,null,null,null,null,null,null,null,null,null,null,null,null,null,null,null,null,null,null,null,null,null,null,null,null,null,null,null,null,null,null,null,null,null,null,null,null,null,null,null,null,null,null,null,0]
[null,null,null,null,null,null,null,null,null,null,null,null,null,null,null,null,null,null,null,null,null,null,null,null,null,null,null,null,null,null,null,null,null,null,null,null,null,null,null,null,null,null,null,null,null,null,null,null,null,null,null,null,null,null,null,null,null,null,null,null,null,null,0]
[null,null,null,null,null,null,null,null,null,null,null,null,null,null,null,null,null,null,null,null,null,null,null,null,null,null,null,null,null,null,null,null,null,null,null,null,null,null,null,null,null,null,null,null,null,null,null,null,null,null,null,null,null,null,null,null,null,null,null,null,null,null,0]
[null,null,null,null,null,null,null,null,null,null,null,null,null,null,null,null,null,null,null,null,null,null,null,null,null,null,null,null,null,null,null,null,null,null,null,null,null,null,null,null,null,null,null,null,null,null,null,null,null,null,null,null,null,null,null,null,null,null,null,null,null,null,0]
[null,null,null,null,null,null,null,null,null,null,null,null,null,null,null,null,null,null,null,null,null,null,null,null,null,null,null,null,null,null,null,null,null,null,null,null,null,null,null,null,null,null,null,null,null,null,null,null,null,null,null,null,null,null,null,null,null,null,null,null,null,null,0]
[null,null,null,null,null,null,null,null,null,null,null,null,null,null,null,null,null,null,null,null,null,null,null,null,null,null,null,null,null,null,null,null,null,null,null,null,null,null,null,null,null,null,null,null,null,null,null,null,null,null,null,null,null,null,null,null,null,null,null,null,null,null,0]
[null,null,null,null,null,null,null,null,null,null,null,null,null,null,null,null,null,null,null,null,null,null,null,null,null,null,null,null,null,null,null,null,null,null,null,null,null,null,null,null,null,null,null,null,null,null,null,null,null,null,null,null,null,null,null,null,null,null,null,null,null,null,0]
[null,null,null,null,null,null,null,null,null,null,null,null,null,null,null,null,null,null,null,null,null,null,null,null,null,null,null,null,null,null,null,null,null,null,null,null,null,null,null,null,null,null,null,null,null,null,null,null,null,null,null,null,null,null,null,null,null,null,null,null,null,null,0]
[null,null,null,null,null,null,null,null,null,null,null,null,null,null,null,null,null,null,null,null,null,null,null,null,null,null,null,null,null,null,null,null,null,null,null,null,null,null,null,null,null,null,null,null,null,null,null,null,null,null,null,null,null,null,null,null,null,null,null,null,null,null,0]
[null,null,null,null,null,null,null,null,null,null,null,null,null,null,null,null,null,null,null,null,null,null,null,null,null,null,null,null,null,null,null,null,null,null,null,null,null,null,null,null,null,null,null,null,null,null,null,null,null,null,null,null,null,null,null,null,null,null,null,null,null,null,0]
[null,null,null,null,null,null,null,null,null,null,null,null,null,null,null,null,null,null,null,null,null,null,null,null,null,null,null,null,null,null,null,null,null,null,null,null,null,null,null,null,null,null,null,null,null,null,null,null,null,null,null,null,null,null,null,null,null,null,null,null,null,null,0]
[null,null,null,null,null,null,null,null,null,null,null,null,null,null,null,null,null,null,null,null,null,null,null,null,null,null,null,null,null,null,null,null,null,null,null,null,null,null,null,null,null,null,null,null,null,null,null,null,null,null,null,null,null,null,null,null,null,null,null,null,null,null,0]
[null,null,null,null,null,null,null,null,null,null,null,null,null,null,null,null,null,null,null,null,null,null,null,null,null,null,null,null,null,null,null,null,null,null,null,null,null,null,null,null,null,null,null,null,null,null,null,null,null,null,null,null,null,null,null,null,null,null,null,null,null,null,0]
[null,null,null,null,null,null,null,null,null,null,null,null,null,null,null,null,null,null,null,null,null,null,null,null,null,null,null,null,null,null,null,null,null,null,null,null,null,null,null,null,null,null,null,null,null,null,null,null,null,null,null,null,null,null,null,null,null,null,null,null,null,null,0]
[null,null,null,null,null,null,null,null,null,null,null,null,null,null,null,null,null,null,null,null,null,null,null,null,null,null,null,null,null,null,null,null,null,null,null,null,null,null,null,null,null,null,null,null,null,null,null,null,null,null,null,null,null,null,null,null,null,null,null,null,null,null,0]
[null,null,null,null,null,null,null,null,null,null,null,null,null,null,null,null,null,null,null,null,null,null,null,null,null,null,null,null,null,null,null,null,null,null,null,null,null,null,null,null,null,null,null,null,null,null,null,null,null,null,null,null,null,null,null,null,null,null,null,null,null,null,0]
[null,null,null,null,null,null,null,null,null,null,null,null,null,null,null,null,null,null,null,null,null,null,null,null,null,null,null,null,null,null,null,null,null,null,null,null,null,null,null,null,null,null,null,null,null,null,null,null,null,null,null,null,null,null,null,null,null,null,null,null,null,null,0]
[null,null,null,null,null,null,null,null,null,null,null,null,null,null,null,null,null,null,null,null,null,null,null,null,null,null,null,null,null,null,null,null,null,null,null,null,null,null,null,null,null,null,null,null,null,null,null,null,null,null,null,null,null,null,null,null,null,null,null,null,null,null,0]
[null,null,null,null,null,null,null,null,null,null,null,null,null,null,null,null,null,null,null,null,null,null,null,null,null,null,null,null,null,null,null,null,null,null,null,null,null,null,null,null,null,null,null,null,null,null,null,null,null,null,null,null,null,null,null,null,null,null,null,null,null,null,0]
[null,null,null,null,null,null,null,null,null,null,null,null,null,null,null,null,null,null,null,null,null,null,null,null,null,null,null,null,null,null,null,null,null,null,null,null,null,null,null,null,null,null,null,null,null,null,null,null,null,null,null,null,null,null,null,null,null,null,null,null,null,null,0]
[null,null,null,null,null,null,null,null,null,null,null,null,null,null,null,null,null,null,null,null,null,null,null,null,null,null,null,null,null,null,null,null,null,null,null,null,null,null,null,null,null,null,null,null,null,null,null,null,null,null,null,null,null,null,null,null,null,null,null,null,null,null,0]
[null,null,null,null,null,null,null,null,null,null,null,null,null,null,null,null,null,null,null,null,null,null,null,null,null,null,null,null,null,null,null,null,null,null,null,null,null,null,null,null,null,null,null,null,null,null,null,null,null,null,null,null,null,null,null,null,null,null,null,null,null,null,0]
[null,null,null,null,null,null,null,null,null,null,null,null,null,null,null,null,null,null,null,null,null,null,null,null,null,null,null,null,null,null,null,null,null,null,null,null,null,null,null,null,null,null,null,null,null,null,null,null,null,null,null,null,null,null,null,null,null,null,null,null,null,null,0]
[null,null,null,null,null,null,null,null,null,null,null,null,null,null,null,null,null,null,null,null,null,null,null,null,null,null,null,null,null,null,null,null,null,null,null,null,null,null,null,null,null,null,null,null,null,null,null,null,null,null,null,null,null,null,null,null,null,null,null,null,null,null,0]
[null,null,null,null,null,null,null,null,null,null,null,null,null,null,null,null,null,null,null,null,null,null,null,null,null,null,null,null,null,null,null,null,null,null,null,null,null,null,null,null,null,null,null,null,null,null,null,null,null,null,null,null,null,null,null,null,null,null,null,null,null,null,{"$f":"C335*$C$11+D335*$D$11+E335*$E$11+F335*$F$11+G335*$G$11+H335*$H$11+I335*$I$11+J335*$J$11+K335*$K$11+L335*$L$11+M335*$M$11+N335*$N$11+O335*$O$11+P335*$P$11+Q335*$Q$11+R335*$R$11+S335*$S$11+T335*$T$11+U335*$U$11+V335*$V$11+W335*$W$11+X335*$X$11+Y335*$Y$11+Z335*$Z$11+AA335*$AA$11+AB335*$AB$11+AC335*$AC$11+AD335*$AD$11+AE335*$AE$11+AF335*$AF$11+AG335*$AG$11+AH335*$AH$11+AI335*$AI$11+AJ335*$AJ$11+AK335*$AK$11+AL335*$AL$11+AM335*$AM$11+AN335*$AN$11+AO335*$AO$11+AP335*$AP$11+AQ335*$AQ$11+AR335*$AR$11+AS335*$AS$11+AT335*$AT$11+AU335*$AU$11+AV335*$AV$11+AW335*$AW$11+AX335*$AX$11+AY335*$AY$11+AZ335*$AZ$11+BA335*$BA$11+BB335*$BB$11+BC335*$BC$11+BD335*$BD$11+BE335*$BE$11+BF335*$BF$11+BG335*$BG$11+BH335*$BH$11+BI335*$BI$11+BJ335*$BJ$11","v":0}]
[null,null,null,null,null,null,null,null,null,null,null,null,null,null,null,null,null,null,null,null,null,null,null,null,null,null,null,null,null,null,null,null,null,null,null,null,null,null,null,null,null,null,null,null,null,null,null,null,null,null,null,null,null,null,null,null,null,null,null,null,null,null,0]
[null,null,null,null,null,null,null,null,null,null,null,null,null,null,null,null,null,null,null,null,null,null,null,null,null,null,null,null,null,null,null,null,null,null,null,null,null,null,null,null,null,null,null,null,null,null,null,null,null,null,null,null,null,null,null,null,null,null,null,null,null,null,0]
[null,null,null,null,null,null,null,null,null,null,null,null,null,null,null,null,null,null,null,null,null,null,null,null,null,null,null,null,null,null,null,null,null,null,null,null,null,null,null,null,null,null,null,null,null,null,null,null,null,null,null,null,null,null,null,null,null,null,null,null,null,null,0]
[null,null,null,null,null,null,null,null,null,null,null,null,null,null,null,null,null,null,null,null,null,null,null,null,null,null,null,null,null,null,null,null,null,null,null,null,null,null,null,null,null,null,null,null,null,null,null,null,null,null,null,null,null,null,null,null,null,null,null,null,null,null,0]
[null,null,null,null,null,null,null,null,null,null,null,null,null,null,null,null,null,null,null,null,null,null,null,null,null,null,null,null,null,null,null,null,null,null,null,null,null,null,null,null,null,null,null,null,null,null,null,null,null,null,null,null,null,null,null,null,null,null,null,null,null,null,0]
[null,null,null,null,null,null,null,null,null,null,null,null,null,null,null,null,null,null,null,null,null,null,null,null,null,null,null,null,null,null,null,null,null,null,null,null,null,null,null,null,null,null,null,null,null,null,null,null,null,null,null,null,null,null,null,null,null,null,null,null,null,null,0]
[null,null,null,null,null,null,null,null,null,null,null,null,null,null,null,null,null,null,null,null,null,null,null,null,null,null,null,null,null,null,null,null,null,null,null,null,null,null,null,null,null,null,null,null,null,null,null,null,null,null,null,null,null,null,null,null,null,null,null,null,null,null,0]
[null,null,null,null,null,null,null,null,null,null,null,null,null,null,null,null,null,null,null,null,null,null,null,null,null,null,null,null,null,null,null,null,null,null,null,null,null,null,null,null,null,null,null,null,null,null,null,null,null,null,null,null,null,null,null,null,null,null,null,null,null,null,0]
[null,null,null,null,null,null,null,null,null,null,null,null,null,null,null,null,null,null,null,null,null,null,null,null,null,null,null,null,null,null,null,null,null,null,null,null,null,null,null,null,null,null,null,null,null,null,null,null,null,null,null,null,null,null,null,null,null,null,null,null,null,null,0]
[null,null,null,null,null,null,null,null,null,null,null,null,null,null,null,null,null,null,null,null,null,null,null,null,null,null,null,null,null,null,null,null,null,null,null,null,null,null,null,null,null,null,null,null,null,null,null,null,null,null,null,null,null,null,null,null,null,null,null,null,null,null,0]
[null,null,null,null,null,null,null,null,null,null,null,null,null,null,null,null,null,null,null,null,null,null,null,null,null,null,null,null,null,null,null,null,null,null,null,null,null,null,null,null,null,null,null,null,null,null,null,null,null,null,null,null,null,null,null,null,null,null,null,null,null,null,0]
[null,null,null,null,null,null,null,null,null,null,null,null,null,null,null,null,null,null,null,null,null,null,null,null,null,null,null,null,null,null,null,null,null,null,null,null,null,null,null,null,null,null,null,null,null,null,null,null,null,null,null,null,null,null,null,null,null,null,null,null,null,null,0]
[null,null,null,null,null,null,null,null,null,null,null,null,null,null,null,null,null,null,null,null,null,null,null,null,null,null,null,null,null,null,null,null,null,null,null,null,null,null,null,null,null,null,null,null,null,null,null,null,null,null,null,null,null,null,null,null,null,null,null,null,null,null,0]
[null,null,null,null,null,null,null,null,null,null,null,null,null,null,null,null,null,null,null,null,null,null,null,null,null,null,null,null,null,null,null,null,null,null,null,null,null,null,null,null,null,null,null,null,null,null,null,null,null,null,null,null,null,null,null,null,null,null,null,null,null,null,0]
[null,null,null,null,null,null,null,null,null,null,null,null,null,null,null,null,null,null,null,null,null,null,null,null,null,null,null,null,null,null,null,null,null,null,null,null,null,null,null,null,null,null,null,null,null,null,null,null,null,null,null,null,null,null,null,null,null,null,null,null,null,null,0]
[null,null,null,null,null,null,null,null,null,null,null,null,null,null,null,null,null,null,null,null,null,null,null,null,null,null,null,null,null,null,null,null,null,null,null,null,null,null,null,null,null,null,null,null,null,null,null,null,null,null,null,null,null,null,null,null,null,null,null,null,null,null,0]
[null,null,null,null,null,null,null,null,null,null,null,null,null,null,null,null,null,null,null,null,null,null,null,null,null,null,null,null,null,null,null,null,null,null,null,null,null,null,null,null,null,null,null,null,null,null,null,null,null,null,null,null,null,null,null,null,null,null,null,null,null,null,0]
[null,null,null,null,null,null,null,null,null,null,null,null,null,null,null,null,null,null,null,null,null,null,null,null,null,null,null,null,null,null,null,null,null,null,null,null,null,null,null,null,null,null,null,null,null,null,null,null,null,null,null,null,null,null,null,null,null,null,null,null,null,null,0]
[null,null,null,null,null,null,null,null,null,null,null,null,null,null,null,null,null,null,null,null,null,null,null,null,null,null,null,null,null,null,null,null,null,null,null,null,null,null,null,null,null,null,null,null,null,null,null,null,null,null,null,null,null,null,null,null,null,null,null,null,null,null,0]
[null,null,null,null,null,null,null,null,null,null,null,null,null,null,null,null,null,null,null,null,null,null,null,null,null,null,null,null,null,null,null,null,null,null,null,null,null,null,null,null,null,null,null,null,null,null,null,null,null,null,null,null,null,null,null,null,null,null,null,null,null,null,0]
[null,null,null,null,null,null,null,null,null,null,null,null,null,null,null,null,null,null,null,null,null,null,null,null,null,null,null,null,null,null,null,null,null,null,null,null,null,null,null,null,null,null,null,null,null,null,null,null,null,null,null,null,null,null,null,null,null,null,null,null,null,null,0]
[null,null,null,null,null,null,null,null,null,null,null,null,null,null,null,null,null,null,null,null,null,null,null,null,null,null,null,null,null,null,null,null,null,null,null,null,null,null,null,null,null,null,null,null,null,null,null,null,null,null,null,null,null,null,null,null,null,null,null,null,null,null,0]
[null,null,null,null,null,null,null,null,null,null,null,null,null,null,null,null,null,null,null,null,null,null,null,null,null,null,null,null,null,null,null,null,null,null,null,null,null,null,null,null,null,null,null,null,null,null,null,null,null,null,null,null,null,null,null,null,null,null,null,null,null,null,0]
[null,null,null,null,null,null,null,null,null,null,null,null,null,null,null,null,null,null,null,null,null,null,null,null,null,null,null,null,null,null,null,null,null,null,null,null,null,null,null,null,null,null,null,null,null,null,null,null,null,null,null,null,null,null,null,null,null,null,null,null,null,null,0]
[null,null,null,null,null,null,null,null,null,null,null,null,null,null,null,null,null,null,null,null,null,null,null,null,null,null,null,null,null,null,null,null,null,null,null,null,null,null,null,null,null,null,null,null,null,null,null,null,null,null,null,null,null,null,null,null,null,null,null,null,null,null,0]
[null,null,null,null,null,null,null,null,null,null,null,null,null,null,null,null,null,null,null,null,null,null,null,null,null,null,null,null,null,null,null,null,null,null,null,null,null,null,null,null,null,null,null,null,null,null,null,null,null,null,null,null,null,null,null,null,null,null,null,null,null,null,0]
[null,null,null,null,null,null,null,null,null,null,null,null,null,null,null,null,null,null,null,null,null,null,null,null,null,null,null,null,null,null,null,null,null,null,null,null,null,null,null,null,null,null,null,null,null,null,null,null,null,null,null,null,null,null,null,null,null,null,null,null,null,null,0]
[null,null,null,null,null,null,null,null,null,null,null,null,null,null,null,null,null,null,null,null,null,null,null,null,null,null,null,null,null,null,null,null,null,null,null,null,null,null,null,null,null,null,null,null,null,null,null,null,null,null,null,null,null,null,null,null,null,null,null,null,null,null,0]
[null,null,null,null,null,null,null,null,null,null,null,null,null,null,null,null,null,null,null,null,null,null,null,null,null,null,null,null,null,null,null,null,null,null,null,null,null,null,null,null,null,null,null,null,null,null,null,null,null,null,null,null,null,null,null,null,null,null,null,null,null,null,0]
[null,null,null,null,null,null,null,null,null,null,null,null,null,null,null,null,null,null,null,null,null,null,null,null,null,null,null,null,null,null,null,null,null,null,null,null,null,null,null,null,null,null,null,null,null,null,null,null,null,null,null,null,null,null,null,null,null,null,null,null,null,null,0]
[null,null,null,null,null,null,null,null,null,null,null,null,null,null,null,null,null,null,null,null,null,null,null,null,null,null,null,null,null,null,null,null,null,null,null,null,null,null,null,null,null,null,null,null,null,null,null,null,null,null,null,null,null,null,null,null,null,null,null,null,null,null,0]
[null,null,null,null,null,null,null,null,null,null,null,null,null,null,null,null,null,null,null,null,null,null,null,null,null,null,null,null,null,null,null,null,null,null,null,null,null,null,null,null,null,null,null,null,null,null,null,null,null,null,null,null,null,null,null,null,null,null,null,null,null,null,0]
[null,null,null,null,null,null,null,null,null,null,null,null,null,null,null,null,null,null,null,null,null,null,null,null,null,null,null,null,null,null,null,null,null,null,null,null,null,null,null,null,null,null,null,null,null,null,null,null,null,null,null,null,null,null,null,null,null,null,null,null,null,null,0]
[null,null,null,null,null,null,null,null,null,null,null,null,null,null,null,null,null,null,null,null,null,null,null,null,null,null,null,null,null,null,null,null,null,null,null,null,null,null,null,null,null,null,null,null,null,null,null,null,null,null,null,null,null,null,null,null,null,null,null,null,null,null,0]
[null,null,null,null,null,null,null,null,null,null,null,null,null,null,null,null,null,null,null,null,null,null,null,null,null,null,null,null,null,null,null,null,null,null,null,null,null,null,null,null,null,null,null,null,null,null,null,null,null,null,null,null,null,null,null,null,null,null,null,null,null,null,0]
[null,null,null,null,null,null,null,null,null,null,null,null,null,null,null,null,null,null,null,null,null,null,null,null,null,null,null,null,null,null,null,null,null,null,null,null,null,null,null,null,null,null,null,null,null,null,null,null,null,null,null,null,null,null,null,null,null,null,null,null,null,null,0]
[null,null,null,null,null,null,null,null,null,null,null,null,null,null,null,null,null,null,null,null,null,null,null,null,null,null,null,null,null,null,null,null,null,null,null,null,null,null,null,null,null,null,null,null,null,null,null,null,null,null,null,null,null,null,null,null,null,null,null,null,null,null,0]
[null,null,null,null,null,null,null,null,null,null,null,null,null,null,null,null,null,null,null,null,null,null,null,null,null,null,null,null,null,null,null,null,null,null,null,null,null,null,null,null,null,null,null,null,null,null,null,null,null,null,null,null,null,null,null,null,null,null,null,null,null,null,0]
[null,null,null,null,null,null,null,null,null,null,null,null,null,null,null,null,null,null,null,null,null,null,null,null,null,null,null,null,null,null,null,null,null,null,null,null,null,null,null,null,null,null,null,null,null,null,null,null,null,null,null,null,null,null,null,null,null,null,null,null,null,null,0]
[null,null,null,null,null,null,null,null,null,null,null,null,null,null,null,null,null,null,null,null,null,null,null,null,null,null,null,null,null,null,null,null,null,null,null,null,null,null,null,null,null,null,null,null,null,null,null,null,null,null,null,null,null,null,null,null,null,null,null,null,null,null,0]
[null,null,null,null,null,null,null,null,null,null,null,null,null,null,null,null,null,null,null,null,null,null,null,null,null,null,null,null,null,null,null,null,null,null,null,null,null,null,null,null,null,null,null,null,null,null,null,null,null,null,null,null,null,null,null,null,null,null,null,null,null,null,0]
[null,null,null,null,null,null,null,null,null,null,null,null,null,null,null,null,null,null,null,null,null,null,null,null,null,null,null,null,null,null,null,null,null,null,null,null,null,null,null,null,null,null,null,null,null,null,null,null,null,null,null,null,null,null,null,null,null,null,null,null,null,null,0]
[null,null,null,null,null,null,null,null,null,null,null,null,null,null,null,null,null,null,null,null,null,null,null,null,null,null,null,null,null,null,null,null,null,null,null,null,null,null,null,null,null,null,null,null,null,null,null,null,null,null,null,null,null,null,null,null,null,null,null,null,null,null,0]
[null,null,null,null,null,null,null,null,null,null,null,null,null,null,null,null,null,null,null,null,null,null,null,null,null,null,null,null,null,null,null,null,null,null,null,null,null,null,null,null,null,null,null,null,null,null,null,null,null,null,null,null,null,null,null,null,null,null,null,null,null,null,0]
[null,null,null,null,null,null,null,null,null,null,null,null,null,null,null,null,null,null,null,null,null,null,null,null,null,null,null,null,null,null,null,null,null,null,null,null,null,null,null,null,null,null,null,null,null,null,null,null,null,null,null,null,null,null,null,null,null,null,null,null,null,null,0]
[null,null,null,null,null,null,null,null,null,null,null,null,null,null,null,null,null,null,null,null,null,null,null,null,null,null,null,null,null,null,null,null,null,null,null,null,null,null,null,null,null,null,null,null,null,null,null,null,null,null,null,null,null,null,null,null,null,null,null,null,null,null,0]
[null,null,null,null,null,null,null,null,null,null,null,null,null,null,null,null,null,null,null,null,null,null,null,null,null,null,null,null,null,null,null,null,null,null,null,null,null,null,null,null,null,null,null,null,null,null,null,null,null,null,null,null,null,null,null,null,null,null,null,null,null,null,0]
[null,null,null,null,null,null,null,null,null,null,null,null,null,null,null,null,null,null,null,null,null,null,null,null,null,null,null,null,null,null,null,null,null,null,null,null,null,null,null,null,null,null,null,null,null,null,null,null,null,null,null,null,null,null,null,null,null,null,null,null,null,null,0]
[null,null,null,null,null,null,null,null,null,null,null,null,null,null,null,null,null,null,null,null,null,null,null,null,null,null,null,null,null,null,null,null,null,null,null,null,null,null,null,null,null,null,null,null,null,null,null,null,null,null,null,null,null,null,null,null,null,null,null,null,null,null,0]
[null,null,null,null,null,null,null,null,null,null,null,null,null,null,null,null,null,null,null,null,null,null,null,null,null,null,null,null,null,null,null,null,null,null,null,null,null,null,null,null,null,null,null,null,null,null,null,null,null,null,null,null,null,null,null,null,null,null,null,null,null,null,0]
[null,null,null,null,null,null,null,null,null,null,null,null,null,null,null,null,null,null,null,null,null,null,null,null,null,null,null,null,null,null,null,null,null,null,null,null,null,null,null,null,null,null,null,null,null,null,null,null,null,null,null,null,null,null,null,null,null,null,null,null,null,null,0]
[null,null,null,null,null,null,null,null,null,null,null,null,null,null,null,null,null,null,null,null,null,null,null,null,null,null,null,null,null,null,null,null,null,null,null,null,null,null,null,null,null,null,null,null,null,null,null,null,null,null,null,null,null,null,null,null,null,null,null,null,null,null,0]
[null,null,null,null,null,null,null,null,null,null,null,null,null,null,null,null,null,null,null,null,null,null,null,null,null,null,null,null,null,null,null,null,null,null,null,null,null,null,null,null,null,null,null,null,null,null,null,null,null,null,null,null,null,null,null,null,null,null,null,null,null,null,0]
[null,null,null,null,null,null,null,null,null,null,null,null,null,null,null,null,null,null,null,null,null,null,null,null,null,null,null,null,null,null,null,null,null,null,null,null,null,null,null,null,null,null,null,null,null,null,null,null,null,null,null,null,null,null,null,null,null,null,null,null,null,null,0]
[null,null,null,null,null,null,null,null,null,null,null,null,null,null,null,null,null,null,null,null,null,null,null,null,null,null,null,null,null,null,null,null,null,null,null,null,null,null,null,null,null,null,null,null,null,null,null,null,null,null,null,null,null,null,null,null,null,null,null,null,null,null,0]
[null,null,null,null,null,null,null,null,null,null,null,null,null,null,null,null,null,null,null,null,null,null,null,null,null,null,null,null,null,null,null,null,null,null,null,null,null,null,null,null,null,null,null,null,null,null,null,null,null,null,null,null,null,null,null,null,null,null,null,null,null,null,0]
[null,null,null,null,null,null,null,null,null,null,null,null,null,null,null,null,null,null,null,null,null,null,null,null,null,null,null,null,null,null,null,null,null,null,null,null,null,null,null,null,null,null,null,null,null,null,null,null,null,null,null,null,null,null,null,null,null,null,null,null,null,null,0]
[null,null,null,null,null,null,null,null,null,null,null,null,null,null,null,null,null,null,null,null,null,null,null,null,null,null,null,null,null,null,null,null,null,null,null,null,null,null,null,null,null,null,null,null,null,null,null,null,null,null,null,null,null,null,null,null,null,null,null,null,null,null,0]
[null,null,null,null,null,null,null,null,null,null,null,null,null,null,null,null,null,null,null,null,null,null,null,null,null,null,null,null,null,null,null,null,null,null,null,null,null,null,null,null,null,null,null,null,null,null,null,null,null,null,null,null,null,null,null,null,null,null,null,null,null,null,0]
[null,null,null,null,null,null,null,null,null,null,null,null,null,null,null,null,null,null,null,null,null,null,null,null,null,null,null,null,null,null,null,null,null,null,null,null,null,null,null,null,null,null,null,null,null,null,null,null,null,null,null,null,null,null,null,null,null,null,null,null,null,null,0]
[null,null,null,null,null,null,null,null,null,null,null,null,null,null,null,null,null,null,null,null,null,null,null,null,null,null,null,null,null,null,null,null,null,null,null,null,null,null,null,null,null,null,null,null,null,null,null,null,null,null,null,null,null,null,null,null,null,null,null,null,null,null,0]
[null,null,null,null,null,null,null,null,null,null,null,null,null,null,null,null,null,null,null,null,null,null,null,null,null,null,null,null,null,null,null,null,null,null,null,null,null,null,null,null,null,null,null,null,null,null,null,null,null,null,null,null,null,null,null,null,null,null,null,null,null,null,0]
[null,null,null,null,null,null,null,null,null,null,null,null,null,null,null,null,null,null,null,null,null,null,null,null,null,null,null,null,null,null,null,null,null,null,null,null,null,null,null,null,null,null,null,null,null,null,null,null,null,null,null,null,null,null,null,null,null,null,null,null,null,null,0]
[null,null,null,null,null,null,null,null,null,null,null,null,null,null,null,null,null,null,null,null,null,null,null,null,null,null,null,null,null,null,null,null,null,null,null,null,null,null,null,null,null,null,null,null,null,null,null,null,null,null,null,null,null,null,null,null,null,null,null,null,null,null,{"$f":"C399*$C$11+D399*$D$11+E399*$E$11+F399*$F$11+G399*$G$11+H399*$H$11+I399*$I$11+J399*$J$11+K399*$K$11+L399*$L$11+M399*$M$11+N399*$N$11+O399*$O$11+P399*$P$11+Q399*$Q$11+R399*$R$11+S399*$S$11+T399*$T$11+U399*$U$11+V399*$V$11+W399*$W$11+X399*$X$11+Y399*$Y$11+Z399*$Z$11+AA399*$AA$11+AB399*$AB$11+AC399*$AC$11+AD399*$AD$11+AE399*$AE$11+AF399*$AF$11+AG399*$AG$11+AH399*$AH$11+AI399*$AI$11+AJ399*$AJ$11+AK399*$AK$11+AL399*$AL$11+AM399*$AM$11+AN399*$AN$11+AO399*$AO$11+AP399*$AP$11+AQ399*$AQ$11+AR399*$AR$11+AS399*$AS$11+AT399*$AT$11+AU399*$AU$11+AV399*$AV$11+AW399*$AW$11+AX399*$AX$11+AY399*$AY$11+AZ399*$AZ$11+BA399*$BA$11+BB399*$BB$11+BC399*$BC$11+BD399*$BD$11+BE399*$BE$11+BF399*$BF$11+BG399*$BG$11+BH399*$BH$11+BI399*$BI$11+BJ399*$BJ$11","v":0}]
[null,null,null,null,null,null,null,null,null,null,null,null,null,null,null,null,null,null,null,null,null,null,null,null,null,null,null,null,null,null,null,null,null,null,null,null,null,null,null,null,null,null,null,null,null,null,null,null,null,null,null,null,null,null,null,null,null,null,null,null,null,null,0]
[null,null,null,null,null,null,null,null,null,null,null,null,null,null,null,null,null,null,null,null,null,null,null,null,null,null,null,null,null,null,null,null,null,null,null,null,null,null,null,null,null,null,null,null,null,null,null,null,null,null,null,null,null,null,null,null,null,null,null,null,null,null,0]
[null,null,null,null,null,null,null,null,null,null,null,null,null,null,null,null,null,null,null,null,null,null,null,null,null,null,null,null,null,null,null,null,null,null,null,null,null,null,null,null,null,null,null,null,null,null,null,null,null,null,null,null,null,null,null,null,null,null,null,null,null,null,0]
[null,null,null,null,null,null,null,null,null,null,null,null,null,null,null,null,null,null,null,null,null,null,null,null,null,null,null,null,null,null,null,null,null,null,null,null,null,null,null,null,null,null,null,null,null,null,null,null,null,null,null,null,null,null,null,null,null,null,null,null,null,null,0]
[null,null,null,null,null,null,null,null,null,null,null,null,null,null,null,null,null,null,null,null,null,null,null,null,null,null,null,null,null,null,null,null,null,null,null,null,null,null,null,null,null,null,null,null,null,null,null,null,null,null,null,null,null,null,null,null,null,null,null,null,null,null,0]
[null,null,null,null,null,null,null,null,null,null,null,null,null,null,null,null,null,null,null,null,null,null,null,null,null,null,null,null,null,null,null,null,null,null,null,null,null,null,null,null,null,null,null,null,null,null,null,null,null,null,null,null,null,null,null,null,null,null,null,null,null,null,0]
[null,null,null,null,null,null,null,null,null,null,null,null,null,null,null,null,null,null,null,null,null,null,null,null,null,null,null,null,null,null,null,null,null,null,null,null,null,null,null,null,null,null,null,null,null,null,null,null,null,null,null,null,null,null,null,null,null,null,null,null,null,null,0]
[null,null,null,null,null,null,null,null,null,null,null,null,null,null,null,null,null,null,null,null,null,null,null,null,null,null,null,null,null,null,null,null,null,null,null,null,null,null,null,null,null,null,null,null,null,null,null,null,null,null,null,null,null,null,null,null,null,null,null,null,null,null,0]
[null,null,null,null,null,null,null,null,null,null,null,null,null,null,null,null,null,null,null,null,null,null,null,null,null,null,null,null,null,null,null,null,null,null,null,null,null,null,null,null,null,null,null,null,null,null,null,null,null,null,null,null,null,null,null,null,null,null,null,null,null,null,0]
[null,null,null,null,null,null,null,null,null,null,null,null,null,null,null,null,null,null,null,null,null,null,null,null,null,null,null,null,null,null,null,null,null,null,null,null,null,null,null,null,null,null,null,null,null,null,null,null,null,null,null,null,null,null,null,null,null,null,null,null,null,null,0]
[null,null,null,null,null,null,null,null,null,null,null,null,null,null,null,null,null,null,null,null,null,null,null,null,null,null,null,null,null,null,null,null,null,null,null,null,null,null,null,null,null,null,null,null,null,null,null,null,null,null,null,null,null,null,null,null,null,null,null,null,null,null,0]
[null,null,null,null,null,null,null,null,null,null,null,null,null,null,null,null,null,null,null,null,null,null,null,null,null,null,null,null,null,null,null,null,null,null,null,null,null,null,null,null,null,null,null,null,null,null,null,null,null,null,null,null,null,null,null,null,null,null,null,null,null,null,0]
[null,null,null,null,null,null,null,null,null,null,null,null,null,null,null,null,null,null,null,null,null,null,null,null,null,null,null,null,null,null,null,null,null,null,null,null,null,null,null,null,null,null,null,null,null,null,null,null,null,null,null,null,null,null,null,null,null,null,null,null,null,null,0]
[null,null,null,null,null,null,null,null,null,null,null,null,null,null,null,null,null,null,null,null,null,null,null,null,null,null,null,null,null,null,null,null,null,null,null,null,null,null,null,null,null,null,null,null,null,null,null,null,null,null,null,null,null,null,null,null,null,null,null,null,null,null,0]
[null,null,null,null,null,null,null,null,null,null,null,null,null,null,null,null,null,null,null,null,null,null,null,null,null,null,null,null,null,null,null,null,null,null,null,null,null,null,null,null,null,null,null,null,null,null,null,null,null,null,null,null,null,null,null,null,null,null,null,null,null,null,0]
[null,null,null,null,null,null,null,null,null,null,null,null,null,null,null,null,null,null,null,null,null,null,null,null,null,null,null,null,null,null,null,null,null,null,null,null,null,null,null,null,null,null,null,null,null,null,null,null,null,null,null,null,null,null,null,null,null,null,null,null,null,null,0]
[null,null,null,null,null,null,null,null,null,null,null,null,null,null,null,null,null,null,null,null,null,null,null,null,null,null,null,null,null,null,null,null,null,null,null,null,null,null,null,null,null,null,null,null,null,null,null,null,null,null,null,null,null,null,null,null,null,null,null,null,null,null,0]
[null,null,null,null,null,null,null,null,null,null,null,null,null,null,null,null,null,null,null,null,null,null,null,null,null,null,null,null,null,null,null,null,null,null,null,null,null,null,null,null,null,null,null,null,null,null,null,null,null,null,null,null,null,null,null,null,null,null,null,null,null,null,0]
[null,null,null,null,null,null,null,null,null,null,null,null,null,null,null,null,null,null,null,null,null,null,null,null,null,null,null,null,null,null,null,null,null,null,null,null,null,null,null,null,null,null,null,null,null,null,null,null,null,null,null,null,null,null,null,null,null,null,null,null,null,null,0]
[null,null,null,null,null,null,null,null,null,null,null,null,null,null,null,null,null,null,null,null,null,null,null,null,null,null,null,null,null,null,null,null,null,null,null,null,null,null,null,null,null,null,null,null,null,null,null,null,null,null,null,null,null,null,null,null,null,null,null,null,null,null,0]
[null,null,null,null,null,null,null,null,null,null,null,null,null,null,null,null,null,null,null,null,null,null,null,null,null,null,null,null,null,null,null,null,null,null,null,null,null,null,null,null,null,null,null,null,null,null,null,null,null,null,null,null,null,null,null,null,null,null,null,null,null,null,0]
[null,null,null,null,null,null,null,null,null,null,null,null,null,null,null,null,null,null,null,null,null,null,null,null,null,null,null,null,null,null,null,null,null,null,null,null,null,null,null,null,null,null,null,null,null,null,null,null,null,null,null,null,null,null,null,null,null,null,null,null,null,null,0]
[null,null,null,null,null,null,null,null,null,null,null,null,null,null,null,null,null,null,null,null,null,null,null,null,null,null,null,null,null,null,null,null,null,null,null,null,null,null,null,null,null,null,null,null,null,null,null,null,null,null,null,null,null,null,null,null,null,null,null,null,null,null,0]
[null,null,null,null,null,null,null,null,null,null,null,null,null,null,null,null,null,null,null,null,null,null,null,null,null,null,null,null,null,null,null,null,null,null,null,null,null,null,null,null,null,null,null,null,null,null,null,null,null,null,null,null,null,null,null,null,null,null,null,null,null,null,0]
[null,null,null,null,null,null,null,null,null,null,null,null,null,null,null,null,null,null,null,null,null,null,null,null,null,null,null,null,null,null,null,null,null,null,null,null,null,null,null,null,null,null,null,null,null,null,null,null,null,null,null,null,null,null,null,null,null,null,null,null,null,null,0]
[null,null,null,null,null,null,null,null,null,null,null,null,null,null,null,null,null,null,null,null,null,null,null,null,null,null,null,null,null,null,null,null,null,null,null,null,null,null,null,null,null,null,null,null,null,null,null,null,null,null,null,null,null,null,null,null,null,null,null,null,null,null,0]
[null,null,null,null,null,null,null,null,null,null,null,null,null,null,null,null,null,null,null,null,null,null,null,null,null,null,null,null,null,null,null,null,null,null,null,null,null,null,null,null,null,null,null,null,null,null,null,null,null,null,null,null,null,null,null,null,null,null,null,null,null,null,0]
[null,null,null,null,null,null,null,null,null,null,null,null,null,null,null,null,null,null,null,null,null,null,null,null,null,null,null,null,null,null,null,null,null,null,null,null,null,null,null,null,null,null,null,null,null,null,null,null,null,null,null,null,null,null,null,null,null,null,null,null,null,null,0]
[null,null,null,null,null,null,null,null,null,null,null,null,null,null,null,null,null,null,null,null,null,null,null,null,null,null,null,null,null,null,null,null,null,null,null,null,null,null,null,null,null,null,null,null,null,null,null,null,null,null,null,null,null,null,null,null,null,null,null,null,null,null,0]
[null,null,null,null,null,null,null,null,null,null,null,null,null,null,null,null,null,null,null,null,null,null,null,null,null,null,null,null,null,null,null,null,null,null,null,null,null,null,null,null,null,null,null,null,null,null,null,null,null,null,null,null,null,null,null,null,null,null,null,null,null,null,0]
[null,null,null,null,null,null,null,null,null,null,null,null,null,null,null,null,null,null,null,null,null,null,null,null,null,null,null,null,null,null,null,null,null,null,null,null,null,null,null,null,null,null,null,null,null,null,null,null,null,null,null,null,null,null,null,null,null,null,null,null,null,null,0]
[null,null,null,null,null,null,null,null,null,null,null,null,null,null,null,null,null,null,null,null,null,null,null,null,null,null,null,null,null,null,null,null,null,null,null,null,null,null,null,null,null,null,null,null,null,null,null,null,null,null,null,null,null,null,null,null,null,null,null,null,null,null,0]
[null,null,null,null,null,null,null,null,null,null,null,null,null,null,null,null,null,null,null,null,null,null,null,null,null,null,null,null,null,null,null,null,null,null,null,null,null,null,null,null,null,null,null,null,null,null,null,null,null,null,null,null,null,null,null,null,null,null,null,null,null,null,0]
[null,null,null,null,null,null,null,null,null,null,null,null,null,null,null,null,null,null,null,null,null,null,null,null,null,null,null,null,null,null,null,null,null,null,null,null,null,null,null,null,null,null,null,null,null,null,null,null,null,null,null,null,null,null,null,null,null,null,null,null,null,null,0]
[null,null,null,null,null,null,null,null,null,null,null,null,null,null,null,null,null,null,null,null,null,null,null,null,null,null,null,null,null,null,null,null,null,null,null,null,null,null,null,null,null,null,null,null,null,null,null,null,null,null,null,null,null,null,null,null,null,null,null,null,null,null,0]
[null,null,null,null,null,null,null,null,null,null,null,null,null,null,null,null,null,null,null,null,null,null,null,null,null,null,null,null,null,null,null,null,null,null,null,null,null,null,null,null,null,null,null,null,null,null,null,null,null,null,null,null,null,null,null,null,null,null,null,null,null,null,0]
[null,null,null,null,null,null,null,null,null,null,null,null,null,null,null,null,null,null,null,null,null,null,null,null,null,null,null,null,null,null,null,null,null,null,null,null,null,null,null,null,null,null,null,null,null,null,null,null,null,null,null,null,null,null,null,null,null,null,null,null,null,null,0]
[null,null,null,null,null,null,null,null,null,null,null,null,null,null,null,null,null,null,null,null,null,null,null,null,null,null,null,null,null,null,null,null,null,null,null,null,null,null,null,null,null,null,null,null,null,null,null,null,null,null,null,null,null,null,null,null,null,null,null,null,null,null,0]
[null,null,null,null,null,null,null,null,null,null,null,null,null,null,null,null,null,null,null,null,null,null,null,null,null,null,null,null,null,null,null,null,null,null,null,null,null,null,null,null,null,null,null,null,null,null,null,null,null,null,null,null,null,null,null,null,null,null,null,null,null,null,0]
[null,null,null,null,null,null,null,null,null,null,null,null,null,null,null,null,null,null,null,null,null,null,null,null,null,null,null,null,null,null,null,null,null,null,null,null,null,null,null,null,null,null,null,null,null,null,null,null,null,null,null,null,null,null,null,null,null,null,null,null,null,null,0]
[null,null,null,null,null,null,null,null,null,null,null,null,null,null,null,null,null,null,null,null,null,null,null,null,null,null,null,null,null,null,null,null,null,null,null,null,null,null,null,null,null,null,null,null,null,null,null,null,null,null,null,null,null,null,null,null,null,null,null,null,null,null,0]
[null,null,null,null,null,null,null,null,null,null,null,null,null,null,null,null,null,null,null,null,null,null,null,null,null,null,null,null,null,null,null,null,null,null,null,null,null,null,null,null,null,null,null,null,null,null,null,null,null,null,null,null,null,null,null,null,null,null,null,null,null,null,0]
[null,null,null,null,null,null,null,null,null,null,null,null,null,null,null,null,null,null,null,null,null,null,null,null,null,null,null,null,null,null,null,null,null,null,null,null,null,null,null,null,null,null,null,null,null,null,null,null,null,null,null,null,null,null,null,null,null,null,null,null,null,null,0]
[null,null,null,null,null,null,null,null,null,null,null,null,null,null,null,null,null,null,null,null,null,null,null,null,null,null,null,null,null,null,null,null,null,null,null,null,null,null,null,null,null,null,null,null,null,null,null,null,null,null,null,null,null,null,null,null,null,null,null,null,null,null,0]
[null,null,null,null,null,null,null,null,null,null,null,null,null,null,null,null,null,null,null,null,null,null,null,null,null,null,null,null,null,null,null,null,null,null,null,null,null,null,null,null,null,null,null,null,null,null,null,null,null,null,null,null,null,null,null,null,null,null,null,null,null,null,0]
[null,null,null,null,null,null,null,null,null,null,null,null,null,null,null,null,null,null,null,null,null,null,null,null,null,null,null,null,null,null,null,null,null,null,null,null,null,null,null,null,null,null,null,null,null,null,null,null,null,null,null,null,null,null,null,null,null,null,null,null,null,null,0]
[null,null,null,null,null,null,null,null,null,null,null,null,null,null,null,null,null,null,null,null,null,null,null,null,null,null,null,null,null,null,null,null,null,null,null,null,null,null,null,null,null,null,null,null,null,null,null,null,null,null,null,null,null,null,null,null,null,null,null,null,null,null,0]
[null,null,null,null,null,null,null,null,null,null,null,null,null,null,null,null,null,null,null,null,null,null,null,null,null,null,null,null,null,null,null,null,null,null,null,null,null,null,null,null,null,null,null,null,null,null,null,null,null,null,null,null,null,null,null,null,null,null,null,null,null,null,0]
[null,null,null,null,null,null,null,null,null,null,null,null,null,null,null,null,null,null,null,null,null,null,null,null,null,null,null,null,null,null,null,null,null,null,null,null,null,null,null,null,null,null,null,null,null,null,null,null,null,null,null,null,null,null,null,null,null,null,null,null,null,null,0]
[null,null,null,null,null,null,null,null,null,null,null,null,null,null,null,null,null,null,null,null,null,null,null,null,null,null,null,null,null,null,null,null,null,null,null,null,null,null,null,null,null,null,null,null,null,null,null,null,null,null,null,null,null,null,null,null,null,null,null,null,null,null,0]
[null,null,null,null,null,null,null,null,null,null,null,null,null,null,null,null,null,null,null,null,null,null,null,null,null,null,null,null,null,null,null,null,null,null,null,null,null,null,null,null,null,null,null,null,null,null,null,null,null,null,null,null,null,null,null,null,null,null,null,null,null,null,0]
[null,null,null,null,null,null,null,null,null,null,null,null,null,null,null,null,null,null,null,null,null,null,null,null,null,null,null,null,null,null,null,null,null,null,null,null,null,null,null,null,null,null,null,null,null,null,null,null,null,null,null,null,null,null,null,null,null,null,null,null,null,null,0]
[null,null,null,null,null,null,null,null,null,null,null,null,null,null,null,null,null,null,null,null,null,null,null,null,null,null,null,null,null,null,null,null,null,null,null,null,null,null,null,null,null,null,null,null,null,null,null,null,null,null,null,null,null,null,null,null,null,null,null,null,null,null,0]
[null,null,null,null,null,null,null,null,null,null,null,null,null,null,null,null,null,null,null,null,null,null,null,null,null,null,null,null,null,null,null,null,null,null,null,null,null,null,null,null,null,null,null,null,null,null,null,null,null,null,null,null,null,null,null,null,null,null,null,null,null,null,0]
[null,null,null,null,null,null,null,null,null,null,null,null,null,null,null,null,null,null,null,null,null,null,null,null,null,null,null,null,null,null,null,null,null,null,null,null,null,null,null,null,null,null,null,null,null,null,null,null,null,null,null,null,null,null,null,null,null,null,null,null,null,null,0]
[null,null,null,null,null,null,null,null,null,null,null,null,null,null,null,null,null,null,null,null,null,null,null,null,null,null,null,null,null,null,null,null,null,null,null,null,null,null,null,null,null,null,null,null,null,null,null,null,null,null,null,null,null,null,null,null,null,null,null,null,null,null,0]
[null,null,null,null,null,null,null,null,null,null,null,null,null,null,null,null,null,null,null,null,null,null,null,null,null,null,null,null,null,null,null,null,null,null,null,null,null,null,null,null,null,null,null,null,null,null,null,null,null,null,null,null,null,null,null,null,null,null,null,null,null,null,0]
[null,null,null,null,null,null,null,null,null,null,null,null,null,null,null,null,null,null,null,null,null,null,null,null,null,null,null,null,null,null,null,null,null,null,null,null,null,null,null,null,null,null,null,null,null,null,null,null,null,null,null,null,null,null,null,null,null,null,null,null,null,null,0]
[null,null,null,null,null,null,null,null,null,null,null,null,null,null,null,null,null,null,null,null,null,null,null,null,null,null,null,null,null,null,null,null,null,null,null,null,null,null,null,null,null,null,null,null,null,null,null,null,null,null,null,null,null,null,null,null,null,null,null,null,null,null,0]
[null,null,null,null,null,null,null,null,null,null,null,null,null,null,null,null,null,null,null,null,null,null,null,null,null,null,null,null,null,null,null,null,null,null,null,null,null,null,null,null,null,null,null,null,null,null,null,null,null,null,null,null,null,null,null,null,null,null,null,null,null,null,0]
[null,null,null,null,null,null,null,null,null,null,null,null,null,null,null,null,null,null,null,null,null,null,null,null,null,null,null,null,null,null,null,null,null,null,null,null,null,null,null,null,null,null,null,null,null,null,null,null,null,null,null,null,null,null,null,null,null,null,null,null,null,null,0]
[null,null,null,null,null,null,null,null,null,null,null,null,null,null,null,null,null,null,null,null,null,null,null,null,null,null,null,null,null,null,null,null,null,null,null,null,null,null,null,null,null,null,null,null,null,null,null,null,null,null,null,null,null,null,null,null,null,null,null,null,null,null,0]
[null,null,null,null,null,null,null,null,null,null,null,null,null,null,null,null,null,null,null,null,null,null,null,null,null,null,null,null,null,null,null,null,null,null,null,null,null,null,null,null,null,null,null,null,null,null,null,null,null,null,null,null,null,null,null,null,null,null,null,null,null,null,0]
[null,null,null,null,null,null,null,null,null,null,null,null,null,null,null,null,null,null,null,null,null,null,null,null,null,null,null,null,null,null,null,null,null,null,null,null,null,null,null,null,null,null,null,null,null,null,null,null,null,null,null,null,null,null,null,null,null,null,null,null,null,null,{"$f":"C463*$C$11+D463*$D$11+E463*$E$11+F463*$F$11+G463*$G$11+H463*$H$11+I463*$I$11+J463*$J$11+K463*$K$11+L463*$L$11+M463*$M$11+N463*$N$11+O463*$O$11+P463*$P$11+Q463*$Q$11+R463*$R$11+S463*$S$11+T463*$T$11+U463*$U$11+V463*$V$11+W463*$W$11+X463*$X$11+Y463*$Y$11+Z463*$Z$11+AA463*$AA$11+AB463*$AB$11+AC463*$AC$11+AD463*$AD$11+AE463*$AE$11+AF463*$AF$11+AG463*$AG$11+AH463*$AH$11+AI463*$AI$11+AJ463*$AJ$11+AK463*$AK$11+AL463*$AL$11+AM463*$AM$11+AN463*$AN$11+AO463*$AO$11+AP463*$AP$11+AQ463*$AQ$11+AR463*$AR$11+AS463*$AS$11+AT463*$AT$11+AU463*$AU$11+AV463*$AV$11+AW463*$AW$11+AX463*$AX$11+AY463*$AY$11+AZ463*$AZ$11+BA463*$BA$11+BB463*$BB$11+BC463*$BC$11+BD463*$BD$11+BE463*$BE$11+BF463*$BF$11+BG463*$BG$11+BH463*$BH$11+BI463*$BI$11+BJ463*$BJ$11","v":0}]
[null,null,null,null,null,null,null,null,null,null,null,null,null,null,null,null,null,null,null,null,null,null,null,null,null,null,null,null,null,null,null,null,null,null,null,null,null,null,null,null,null,null,null,null,null,null,null,null,null,null,null,null,null,null,null,null,null,null,null,null,null,null,0]
[null,null,null,null,null,null,null,null,null,null,null,null,null,null,null,null,null,null,null,null,null,null,null,null,null,null,null,null,null,null,null,null,null,null,null,null,null,null,null,null,null,null,null,null,null,null,null,null,null,null,null,null,null,null,null,null,null,null,null,null,null,null,0]
[null,null,null,null,null,null,null,null,null,null,null,null,null,null,null,null,null,null,null,null,null,null,null,null,null,null,null,null,null,null,null,null,null,null,null,null,null,null,null,null,null,null,null,null,null,null,null,null,null,null,null,null,null,null,null,null,null,null,null,null,null,null,0]
[null,null,null,null,null,null,null,null,null,null,null,null,null,null,null,null,null,null,null,null,null,null,null,null,null,null,null,null,null,null,null,null,null,null,null,null,null,null,null,null,null,null,null,null,null,null,null,null,null,null,null,null,null,null,null,null,null,null,null,null,null,null,0]
[null,null,null,null,null,null,null,null,null,null,null,null,null,null,null,null,null,null,null,null,null,null,null,null,null,null,null,null,null,null,null,null,null,null,null,null,null,null,null,null,null,null,null,null,null,null,null,null,null,null,null,null,null,null,null,null,null,null,null,null,null,null,0]
[null,null,null,null,null,null,null,null,null,null,null,null,null,null,null,null,null,null,null,null,null,null,null,null,null,null,null,null,null,null,null,null,null,null,null,null,null,null,null,null,null,null,null,null,null,null,null,null,null,null,null,null,null,null,null,null,null,null,null,null,null,null,0]
[null,null,null,null,null,null,null,null,null,null,null,null,null,null,null,null,null,null,null,null,null,null,null,null,null,null,null,null,null,null,null,null,null,null,null,null,null,null,null,null,null,null,null,null,null,null,null,null,null,null,null,null,null,null,null,null,null,null,null,null,null,null,0]
[null,null,null,null,null,null,null,null,null,null,null,null,null,null,null,null,null,null,null,null,null,null,null,null,null,null,null,null,null,null,null,null,null,null,null,null,null,null,null,null,null,null,null,null,null,null,null,null,null,null,null,null,null,null,null,null,null,null,null,null,null,null,0]
[null,null,null,null,null,null,null,null,null,null,null,null,null,null,null,null,null,null,null,null,null,null,null,null,null,null,null,null,null,null,null,null,null,null,null,null,null,null,null,null,null,null,null,null,null,null,null,null,null,null,null,null,null,null,null,null,null,null,null,null,null,null,0]
[null,null,null,null,null,null,null,null,null,null,null,null,null,null,null,null,null,null,null,null,null,null,null,null,null,null,null,null,null,null,null,null,null,null,null,null,null,null,null,null,null,null,null,null,null,null,null,null,null,null,null,null,null,null,null,null,null,null,null,null,null,null,0]
[null,null,null,null,null,null,null,null,null,null,null,null,null,null,null,null,null,null,null,null,null,null,null,null,null,null,null,null,null,null,null,null,null,null,null,null,null,null,null,null,null,null,null,null,null,null,null,null,null,null,null,null,null,null,null,null,null,null,null,null,null,null,0]
[null,null,null,null,null,null,null,null,null,null,null,null,null,null,null,null,null,null,null,null,null,null,null,null,null,null,null,null,null,null,null,null,null,null,null,null,null,null,null,null,null,null,null,null,null,null,null,null,null,null,null,null,null,null,null,null,null,null,null,null,null,null,0]
[null,null,null,null,null,null,null,null,null,null,null,null,null,null,null,null,null,null,null,null,null,null,null,null,null,null,null,null,null,null,null,null,null,null,null,null,null,null,null,null,null,null,null,null,null,null,null,null,null,null,null,null,null,null,null,null,null,null,null,null,null,null,0]
[null,null,null,null,null,null,null,null,null,null,null,null,null,null,null,null,null,null,null,null,null,null,null,null,null,null,null,null,null,null,null,null,null,null,null,null,null,null,null,null,null,null,null,null,null,null,null,null,null,null,null,null,null,null,null,null,null,null,null,null,null,null,0]
[null,null,null,null,null,null,null,null,null,null,null,null,null,null,null,null,null,null,null,null,null,null,null,null,null,null,null,null,null,null,null,null,null,null,null,null,null,null,null,null,null,null,null,null,null,null,null,null,null,null,null,null,null,null,null,null,null,null,null,null,null,null,0]
[null,null,null,null,null,null,null,null,null,null,null,null,null,null,null,null,null,null,null,null,null,null,null,null,null,null,null,null,null,null,null,null,null,null,null,null,null,null,null,null,null,null,null,null,null,null,null,null,null,null,null,null,null,null,null,null,null,null,null,null,null,null,0]
[null,null,null,null,null,null,null,null,null,null,null,null,null,null,null,null,null,null,null,null,null,null,null,null,null,null,null,null,null,null,null,null,null,null,null,null,null,null,null,null,null,null,null,null,null,null,null,null,null,null,null,null,null,null,null,null,null,null,null,null,null,null,0]
[null,null,null,null,null,null,null,null,null,null,null,null,null,null,null,null,null,null,null,null,null,null,null,null,null,null,null,null,null,null,null,null,null,null,null,null,null,null,null,null,null,null,null,null,null,null,null,null,null,null,null,null,null,null,null,null,null,null,null,null,null,null,0]
[null,null,null,null,null,null,null,null,null,null,null,null,null,null,null,null,null,null,null,null,null,null,null,null,null,null,null,null,null,null,null,null,null,null,null,null,null,null,null,null,null,null,null,null,null,null,null,null,null,null,null,null,null,null,null,null,null,null,null,null,null,null,0]
[null,null,null,null,null,null,null,null,null,null,null,null,null,null,null,null,null,null,null,null,null,null,null,null,null,null,null,null,null,null,null,null,null,null,null,null,null,null,null,null,null,null,null,null,null,null,null,null,null,null,null,null,null,null,null,null,null,null,null,null,null,null,0]
[null,null,null,null,null,null,null,null,null,null,null,null,null,null,null,null,null,null,null,null,null,null,null,null,null,null,null,null,null,null,null,null,null,null,null,null,null,null,null,null,null,null,null,null,null,null,null,null,null,null,null,null,null,null,null,null,null,null,null,null,null,null,0]
[null,null,null,null,null,null,null,null,null,null,null,null,null,null,null,null,null,null,null,null,null,null,null,null,null,null,null,null,null,null,null,null,null,null,null,null,null,null,null,null,null,null,null,null,null,null,null,null,null,null,null,null,null,null,null,null,null,null,null,null,null,null,0]
[null,null,null,null,null,null,null,null,null,null,null,null,null,null,null,null,null,null,null,null,null,null,null,null,null,null,null,null,null,null,null,null,null,null,null,null,null,null,null,null,null,null,null,null,null,null,null,null,null,null,null,null,null,null,null,null,null,null,null,null,null,null,0]
[null,null,null,null,null,null,null,null,null,null,null,null,null,null,null,null,null,null,null,null,null,null,null,null,null,null,null,null,null,null,null,null,null,null,null,null,null,null,null,null,null,null,null,null,null,null,null,null,null,null,null,null,null,null,null,null,null,null,null,null,null,null,0]
[null,null,null,null,null,null,null,null,null,null,null,null,null,null,null,null,null,null,null,null,null,null,null,null,null,null,null,null,null,null,null,null,null,null,null,null,null,null,null,null,null,null,null,null,null,null,null,null,null,null,null,null,null,null,null,null,null,null,null,null,null,null,0]
[null,null,null,null,null,null,null,null,null,null,null,null,null,null,null,null,null,null,null,null,null,null,null,null,null,null,null,null,null,null,null,null,null,null,null,null,null,null,null,null,null,null,null,null,null,null,null,null,null,null,null,null,null,null,null,null,null,null,null,null,null,null,0]
[null,null,null,null,null,null,null,null,null,null,null,null,null,null,null,null,null,null,null,null,null,null,null,null,null,null,null,null,null,null,null,null,null,null,null,null,null,null,null,null,null,null,null,null,null,null,null,null,null,null,null,null,null,null,null,null,null,null,null,null,null,null,0]
[null,null,null,null,null,null,null,null,null,null,null,null,null,null,null,null,null,null,null,null,null,null,null,null,null,null,null,null,null,null,null,null,null,null,null,null,null,null,null,null,null,null,null,null,null,null,null,null,null,null,null,null,null,null,null,null,null,null,null,null,null,null,0]
[null,null,null,null,null,null,null,null,null,null,null,null,null,null,null,null,null,null,null,null,null,null,null,null,null,null,null,null,null,null,null,null,null,null,null,null,null,null,null,null,null,null,null,null,null,null,null,null,null,null,null,null,null,null,null,null,null,null,null,null,null,null,0]
[null,null,null,null,null,null,null,null,null,null,null,null,null,null,null,null,null,null,null,null,null,null,null,null,null,null,null,null,null,null,null,null,null,null,null,null,null,null,null,null,null,null,null,null,null,null,null,null,null,null,null,null,null,null,null,null,null,null,null,null,null,null,0]
[null,null,null,null,null,null,null,null,null,null,null,null,null,null,null,null,null,null,null,null,null,null,null,null,null,null,null,null,null,null,null,null,null,null,null,null,null,null,null,null,null,null,null,null,null,null,null,null,null,null,null,null,null,null,null,null,null,null,null,null,null,null,0]
[null,null,null,null,null,null,null,null,null,null,null,null,null,null,null,null,null,null,null,null,null,null,null,null,null,null,null,null,null,null,null,null,null,null,null,null,null,null,null,null,null,null,null,null,null,null,null,null,null,null,null,null,null,null,null,null,null,null,null,null,null,null,0]
[null,null,null,null,null,null,null,null,null,null,null,null,null,null,null,null,null,null,null,null,null,null,null,null,null,null,null,null,null,null,null,null,null,null,null,null,null,null,null,null,null,null,null,null,null,null,null,null,null,null,null,null,null,null,null,null,null,null,null,null,null,null,0]
[null,null,null,null,null,null,null,null,null,null,null,null,null,null,null,null,null,null,null,null,null,null,null,null,null,null,null,null,null,null,null,null,null,null,null,null,null,null,null,null,null,null,null,null,null,null,null,null,null,null,null,null,null,null,null,null,null,null,null,null,null,null,0]
[null,null,null,null,null,null,null,null,null,null,null,null,null,null,null,null,null,null,null,null,null,null,null,null,null,null,null,null,null,null,null,null,null,null,null,null,null,null,null,null,null,null,null,null,null,null,null,null,null,null,null,null,null,null,null,null,null,null,null,null,null,null,0]
[null,null,null,null,null,null,null,null,null,null,null,null,null,null,null,null,null,null,null,null,null,null,null,null,null,null,null,null,null,null,null,null,null,null,null,null,null,null,null,null,null,null,null,null,null,null,null,null,null,null,null,null,null,null,null,null,null,null,null,null,null,null,0]
[null,null,null,null,null,null,null,null,null,null,null,null,null,null,null,null,null,null,null,null,null,null,null,null,null,null,null,null,null,null,null,null,null,null,null,null,null,null,null,null,null,null,null,null,null,null,null,null,null,null,null,null,null,null,null,null,null,null,null,null,null,null,0]
[null,null,null,null,null,null,null,null,null,null,null,null,null,null,null,null,null,null,null,null,null,null,null,null,null,null,null,null,null,null,null,null,null,null,null,null,null,null,null,null,null,null,null,null,null,null,null,null,null,null,null,null,null,null,null,null,null,null,null,null,null,null,0]
[null,null,null,null,null,null,null,null,null,null,null,null,null,null,null,null,null,null,null,null,null,null,null,null,null,null,null,null,null,null,null,null,null,null,null,null,null,null,null,null,null,null,null,null,null,null,null,null,null,null,null,null,null,null,null,null,null,null,null,null,null,null,0]
[null,null,null,null,null,null,null,null,null,null,null,null,null,null,null,null,null,null,null,null,null,null,null,null,null,null,null,null,null,null,null,null,null,null,null,null,null,null,null,null,null,null,null,null,null,null,null,null,null,null,null,null,null,null,null,null,null,null,null,null,null,null,0]
[null,null,null,null,null,null,null,null,null,null,null,null,null,null,null,null,null,null,null,null,null,null,null,null,null,null,null,null,null,null,null,null,null,null,null,null,null,null,null,null,null,null,null,null,null,null,null,null,null,null,null,null,null,null,null,null,null,null,null,null,null,null,0]
[null,null,null,null,null,null,null,null,null,null,null,null,null,null,null,null,null,null,null,null,null,null,null,null,null,null,null,null,null,null,null,null,null,null,null,null,null,null,null,null,null,null,null,null,null,null,null,null,null,null,null,null,null,null,null,null,null,null,null,null,null,null,0]
[null,null,null,null,null,null,null,null,null,null,null,null,null,null,null,null,null,null,null,null,null,null,null,null,null,null,null,null,null,null,null,null,null,null,null,null,null,null,null,null,null,null,null,null,null,null,null,null,null,null,null,null,null,null,null,null,null,null,null,null,null,null,0]
[null,null,null,null,null,null,null,null,null,null,null,null,null,null,null,null,null,null,null,null,null,null,null,null,null,null,null,null,null,null,null,null,null,null,null,null,null,null,null,null,null,null,null,null,null,null,null,null,null,null,null,null,null,null,null,null,null,null,null,null,null,null,0]
[null,null,null,null,null,null,null,null,null,null,null,null,null,null,null,null,null,null,null,null,null,null,null,null,null,null,null,null,null,null,null,null,null,null,null,null,null,null,null,null,null,null,null,null,null,null,null,null,null,null,null,null,null,null,null,null,null,null,null,null,null,null,0]
[null,null,null,null,null,null,null,null,null,null,null,null,null,null,null,null,null,null,null,null,null,null,null,null,null,null,null,null,null,null,null,null,null,null,null,null,null,null,null,null,null,null,null,null,null,null,null,null,null,null,null,null,null,null,null,null,null,null,null,null,null,null,0]
[null,null,null,null,null,null,null,null,null,null,null,null,null,null,null,null,null,null,null,null,null,null,null,null,null,null,null,null,null,null,null,null,null,null,null,null,null,null,null,null,null,null,null,null,null,null,null,null,null,null,null,null,null,null,null,null,null,null,null,null,null,null,0]
[null,null,null,null,null,null,null,null,null,null,null,null,null,null,null,null,null,null,null,null,null,null,null,null,null,null,null,null,null,null,null,null,null,null,null,null,null,null,null,null,null,null,null,null,null,null,null,null,null,null,null,null,null,null,null,null,null,null,null,null,null,null,0]
[null,null,null,null,null,null,null,null,null,null,null,null,null,null,null,null,null,null,null,null,null,null,null,null,null,null,null,null,null,null,null,null,null,null,null,null,null,null,null,null,null,null,null,null,null,null,null,null,null,null,null,null,null,null,null,null,null,null,null,null,null,null,0]
[null,null,null,null,null,null,null,null,null,null,null,null,null,null,null,null,null,null,null,null,null,null,null,null,null,null,null,null,null,null,null,null,null,null,null,null,null,null,null,null,null,null,null,null,null,null,null,null,null,null,null,null,null,null,null,null,null,null,null,null,null,null,0]
[null,null,null,null,null,null,null,null,null,null,null,null,null,null,null,null,null,null,null,null,null,null,null,null,null,null,null,null,null,null,null,null,null,null,null,null,null,null,null,null,null,null,null,null,null,null,null,null,null,null,null,null,null,null,null,null,null,null,null,null,null,null,0]
["TOTALS",null,{"$f":"SUM(C14:C514)","v":0},0,0,0,0,0,0,0,0,0,0,0,0,0,0,0,0,0,0,0,0,0,0,0,0,0,0,0,0,0,0,0,0,0,0,0,0,0,0,0,0,0,0,0,0,0,0,0,0,0,0,0,0,0,0,0,0,0,0,0,{"$f":"SUM(BK14:BK514)","v":0}]

{"sheet":"Day2","index":10,"n_rows":515,"n_cols":63,"rows_kept":515,"cut":false,"hidden":false,"merged":[[499,0,499,1],[500,0,500,1],[501,0,501,1],[502,0,502,1],[503,0,503,1],[504,0,504,1],[493,0,493,1],[494,0,494,1],[495,0,495,1],[496,0,496,1],[497,0,497,1],[498,0,498,1],[511,0,511,1],[512,0,512,1],[513,0,513,1],[514,0,514,1],[505,0,505,1],[506,0,506,1],[507,0,507,1],[508,0,508,1],[509,0,509,1],[510,0,510,1],[487,0,487,1],[488,0,488,1],[489,0,489,1],[490,0,490,1],[491,0,491,1],[492,0,492,1],[481,0,481,1],[482,0,482,1],[483,0,483,1],[484,0,484,1],[485,0,485,1],[486,0,486,1],[475,0,475,1],[476,0,476,1],[477,0,477,1],[478,0,478,1],[479,0,479,1],[480,0,480,1],[469,0,469,1],[470,0,470,1],[471,0,471,1],[472,0,472,1],[473,0,473,1],[474,0,474,1],[463,0,463,1],[464,0,464,1],[465,0,465,1],[466,0,466,1],[467,0,467,1],[468,0,468,1],[457,0,457,1],[458,0,458,1],[459,0,459,1],[460,0,460,1],[461,0,461,1],[462,0,462,1],[451,0,451,1],[452,0,452,1],[453,0,453,1],[454,0,454,1],[455,0,455,1],[456,0,456,1],[445,0,445,1],[446,0,446,1],[447,0,447,1],[448,0,448,1],[449,0,449,1],[450,0,450,1],[439,0,439,1],[440,0,440,1],[441,0,441,1],[442,0,442,1],[443,0,443,1],[444,0,444,1],[433,0,433,1],[434,0,434,1],[435,0,435,1],[436,0,436,1],[437,0,437,1],[438,0,438,1],[427,0,427,1],[428,0,428,1],[429,0,429,1],[430,0,430,1],[431,0,431,1],[432,0,432,1],[421,0,421,1],[422,0,422,1],[423,0,423,1],[424,0,424,1],[425,0,425,1],[426,0,426,1],[415,0,415,1],[416,0,416,1],[417,0,417,1],[418,0,418,1],[419,0,419,1],[420,0,420,1],[409,0,409,1],[410,0,410,1],[411,0,411,1],[412,0,412,1],[413,0,413,1],[414,0,414,1],[403,0,403,1],[404,0,404,1],[405,0,405,1],[406,0,406,1],[407,0,407,1],[408,0,408,1],[397,0,397,1],[398,0,398,1],[399,0,399,1],[400,0,400,1],[401,0,401,1],[402,0,402,1],[391,0,391,1],[392,0,392,1],[393,0,393,1],[394,0,394,1],[395,0,395,1],[396,0,396,1],[385,0,385,1],[386,0,386,1],[387,0,387,1],[388,0,388,1],[389,0,389,1],[390,0,390,1],[379,0,379,1],[380,0,380,1],[381,0,381,1],[382,0,382,1],[383,0,383,1],[384,0,384,1],[373,0,373,1],[374,0,374,1],[375,0,375,1],[376,0,376,1],[377,0,377,1],[378,0,378,1],[367,0,367,1],[368,0,368,1],[369,0,369,1],[370,0,370,1],[371,0,371,1],[372,0,372,1],[361,0,361,1],[362,0,362,1],[363,0,363,1],[364,0,364,1],[365,0,365,1],[366,0,366,1],[355,0,355,1],[356,0,356,1],[357,0,357,1],[358,0,358,1],[359,0,359,1],[360,0,360,1],[349,0,349,1],[350,0,350,1],[351,0,351,1],[352,0,352,1],[353,0,353,1],[354,0,354,1],[343,0,343,1],[344,0,344,1],[345,0,345,1],[346,0,346,1],[347,0,347,1],[348,0,348,1],[337,0,337,1],[338,0,338,1],[339,0,339,1],[340,0,340,1],[341,0,341,1],[342,0,342,1],[331,0,331,1],[332,0,332,1],[333,0,333,1],[334,0,334,1],[335,0,335,1],[336,0,336,1],[325,0,325,1],[326,0,326,1],[327,0,327,1],[328,0,328,1],[329,0,329,1],[330,0,330,1],[319,0,319,1],[320,0,320,1],[321,0,321,1],[322,0,322,1],[323,0,323,1],[324,0,324,1],[313,0,313,1],[314,0,314,1],[315,0,315,1],[316,0,316,1],[317,0,317,1],[318,0,318,1],[307,0,307,1],[308,0,308,1],[309,0,309,1],[310,0,310,1],[311,0,311,1],[312,0,312,1],[301,0,301,1],[302,0,302,1],[303,0,303,1],[304,0,304,1],[305,0,305,1],[306,0,306,1],[295,0,295,1],[296,0,296,1],[297,0,297,1],[298,0,298,1],[299,0,299,1],[300,0,300,1],[289,0,289,1],[290,0,290,1],[291,0,291,1],[292,0,292,1],[293,0,293,1],[294,0,294,1],[283,0,283,1],[284,0,284,1],[285,0,285,1],[286,0,286,1],[287,0,287,1],[288,0,288,1],[277,0,277,1],[278,0,278,1],[279,0,279,1],[280,0,280,1],[281,0,281,1],[282,0,282,1],[271,0,271,1],[272,0,272,1],[273,0,273,1],[274,0,274,1],[275,0,275,1],[276,0,276,1],[265,0,265,1],[266,0,266,1],[267,0,267,1],[268,0,268,1],[269,0,269,1],[270,0,270,1],[259,0,259,1],[260,0,260,1],[261,0,261,1],[262,0,262,1],[263,0,263,1],[264,0,264,1],[253,0,253,1],[254,0,254,1],[255,0,255,1],[256,0,256,1],[257,0,257,1],[258,0,258,1],[247,0,247,1],[248,0,248,1],[249,0,249,1],[250,0,250,1],[251,0,251,1],[252,0,252,1],[241,0,241,1],[242,0,242,1],[243,0,243,1],[244,0,244,1],[245,0,245,1],[246,0,246,1],[235,0,235,1],[236,0,236,1],[237,0,237,1],[238,0,238,1],[239,0,239,1],[240,0,240,1],[229,0,229,1],[230,0,230,1],[231,0,231,1],[232,0,232,1],[233,0,233,1],[234,0,234,1],[223,0,223,1],[224,0,224,1],[225,0,225,1],[226,0,226,1],[227,0,227,1],[228,0,228,1],[217,0,217,1],[218,0,218,1],[219,0,219,1],[220,0,220,1],[221,0,221,1],[222,0,222,1],[211,0,211,1],[212,0,212,1],[213,0,213,1],[214,0,214,1],[215,0,215,1],[216,0,216,1],[205,0,205,1],[206,0,206,1],[207,0,207,1],[208,0,208,1],[209,0,209,1],[210,0,210,1],[199,0,199,1],[200,0,200,1],[201,0,201,1],[202,0,202,1],[203,0,203,1],[204,0,204,1],[193,0,193,1],[194,0,194,1],[195,0,195,1],[196,0,196,1],[197,0,197,1],[198,0,198,1],[187,0,187,1],[188,0,188,1],[189,0,189,1],[190,0,190,1],[191,0,191,1],[192,0,192,1],[181,0,181,1],[182,0,182,1],[183,0,183,1],[184,0,184,1],[185,0,185,1],[186,0,186,1],[175,0,175,1],[176,0,176,1],[177,0,177,1],[178,0,178,1],[179,0,179,1],[180,0,180,1],[169,0,169,1],[170,0,170,1],[171,0,171,1],[172,0,172,1],[173,0,173,1],[174,0,174,1],[163,0,163,1],[164,0,164,1],[165,0,165,1],[166,0,166,1],[167,0,167,1],[168,0,168,1],[157,0,157,1],[158,0,158,1],[159,0,159,1],[160,0,160,1],[161,0,161,1],[162,0,162,1],[151,0,151,1],[152,0,152,1],[153,0,153,1],[154,0,154,1],[155,0,155,1],[156,0,156,1],[145,0,145,1],[146,0,146,1],[147,0,147,1],[148,0,148,1],[149,0,149,1],[150,0,150,1],[139,0,139,1],[140,0,140,1],[141,0,141,1],[142,0,142,1],[143,0,143,1],[144,0,144,1],[133,0,133,1],[134,0,134,1],[135,0,135,1],[136,0,136,1],[137,0,137,1],[138,0,138,1],[127,0,127,1],[128,0,128,1],[129,0,129,1],[130,0,130,1],[131,0,131,1],[132,0,132,1],[121,0,121,1],[122,0,122,1],[123,0,123,1],[124,0,124,1],[125,0,125,1],[126,0,126,1],[115,0,115,1],[116,0,116,1],[117,0,117,1],[118,0,118,1],[119,0,119,1],[120,0,120,1],[109,0,109,1],[110,0,110,1],[111,0,111,1],[112,0,112,1],[113,0,113,1],[114,0,114,1],[103,0,103,1],[104,0,104,1],[105,0,105,1],[106,0,106,1],[107,0,107,1],[108,0,108,1],[97,0,97,1],[98,0,98,1],[99,0,99,1],[100,0,100,1],[101,0,101,1],[102,0,102,1],[91,0,91,1],[92,0,92,1],[93,0,93,1],[94,0,94,1],[95,0,95,1],[96,0,96,1],[85,0,85,1],[86,0,86,1],[87,0,87,1],[88,0,88,1],[89,0,89,1],[90,0,90,1],[79,0,79,1],[80,0,80,1],[81,0,81,1],[82,0,82,1],[83,0,83,1],[84,0,84,1],[73,0,73,1],[74,0,74,1],[75,0,75,1],[76,0,76,1],[77,0,77,1],[78,0,78,1],[67,0,67,1],[68,0,68,1],[69,0,69,1],[70,0,70,1],[71,0,71,1],[72,0,72,1],[61,0,61,1],[62,0,62,1],[63,0,63,1],[64,0,64,1],[65,0,65,1],[66,0,66,1],[55,0,55,1],[56,0,56,1],[57,0,57,1],[58,0,58,1],[59,0,59,1],[60,0,60,1],[49,0,49,1],[50,0,50,1],[51,0,51,1],[52,0,52,1],[53,0,53,1],[54,0,54,1],[43,0,43,1],[44,0,44,1],[45,0,45,1],[46,0,46,1],[47,0,47,1],[48,0,48,1],[37,0,37,1],[38,0,38,1],[39,0,39,1],[40,0,40,1],[41,0,41,1],[42,0,42,1],[17,0,17,1],[18,0,18,1],[31,0,31,1],[32,0,32,1],[33,0,33,1],[34,0,34,1],[35,0,35,1],[36,0,36,1],[27,0,27,1],[28,0,28,1],[29,0,29,1],[30,0,30,1],[4,62,7,62],[10,0,12,0],[7,0,7,1],[8,0,8,1],[5,0,5,1],[25,0,25,1],[26,0,26,1],[6,0,6,1],[0,0,0,62],[1,0,1,62],[2,0,2,62],[9,0,9,62],[10,62,12,62],[13,0,13,1],[14,0,14,1],[15,0,15,1],[4,0,4,1],[19,0,19,1],[20,0,20,1],[21,0,21,1],[22,0,22,1],[23,0,23,1],[24,0,24,1],[16,0,16,1]]}
[{"$f":"\"KRISHI\"&\"  BHAVAN\"&\"  \"&REGISTRATION!F13& \"  \"&\"DAY2\"","v":"KRISHI  BHAVAN    DAY2"}]
[{"$f":" REGISTRATION!F7&\" ONAM VEGETABLE MARKET, PURCHASE AND SALES MANAGEMENT SYSTEM\"","v":"jj ONAM VEGETABLE MARKET, PURCHASE AND SALES MANAGEMENT SYSTEM"}]
["INVENTORY MANAGEMENT"]
[null,null,1,2,3,4,5,6,7,8,9,10,11,12,13,14,15,16,17,18,19,20,21,22,23,24,25,26,27,28,29,30,31,32,33,34,35,36,37,38,39,40,41,42,43,44,45,46,47,48,49,50,51,52,53,54,55,56,57,58,59,60]
["Item",null,{"$f":"VLOOKUP(C13,'Sale Price'!$B$3:$I$64,3)","v":"Nendrn"},{"$f":"VLOOKUP(D13,'Sale Price'!$B$3:$I$64,3)","v":"Ban G"},{"$f":"VLOOKUP(E13,'Sale Price'!$B$3:$I$64,3)","v":"Palaya"},{"$f":"VLOOKUP(F13,'Sale Price'!$B$3:$I$64,3)","v":"Puvan"},{"$f":"VLOOKUP(G13,'Sale Price'!$B$3:$I$64,3)","v":"RasaK"},{"$f":"VLOOKUP(H13,'Sale Price'!$B$3:$I$64,3)","v":"RedB"},{"$f":"VLOOKUP(I13,'Sale Price'!$B$3:$I$64,3)","v":"Robst"},{"$f":"VLOOKUP(J13,'Sale Price'!$B$3:$I$64,3)","v":"Peyn"},{"$f":"VLOOKUP(K13,'Sale Price'!$B$3:$I$64,3)","v":"Chena"},{"$f":"VLOOKUP(L13,'Sale Price'!$B$3:$I$64,3)","v":"Beans"},{"$f":"VLOOKUP(M13,'Sale Price'!$B$3:$I$64,3)","v":"Amara"},{"$f":"VLOOKUP(N13,'Sale Price'!$B$3:$I$64,3)","v":"Carot"},{"$f":"VLOOKUP(O13,'Sale Price'!$B$3:$I$64,3)","v":"BeetR"},{"$f":"VLOOKUP(P13,'Sale Price'!$B$3:$I$64,3)","v":"Cabag"},{"$f":"VLOOKUP(Q13,'Sale Price'!$B$3:$I$64,3)","v":"CauliF"},{"$f":"VLOOKUP(R13,'Sale Price'!$B$3:$I$64,3)","v":"Capsic"},{"$f":"VLOOKUP(S13,'Sale Price'!$B$3:$I$64,3)","v":"Tomat"},{"$f":"VLOOKUP(T13,'Sale Price'!$B$3:$I$64,3)","v":"ChillS"},{"$f":"VLOOKUP(U13,'Sale Price'!$B$3:$I$64,3)","v":"ChillB"},{"$f":"VLOOKUP(V13,'Sale Price'!$B$3:$I$64,3)","v":"BittrG"},{"$f":"VLOOKUP(W13,'Sale Price'!$B$3:$I$64,3)","v":"BottG"},{"$f":"VLOOKUP(X13,'Sale Price'!$B$3:$I$64,3)","v":"SnakG"},{"$f":"VLOOKUP(Y13,'Sale Price'!$B$3:$I$64,3)","v":"BrinjR"},{"$f":"VLOOKUP(Z13,'Sale Price'!$B$3:$I$64,3)","v":"Vazhut"},{"$f":"VLOOKUP(AA13,'Sale Price'!$B$3:$I$64,3)","v":"Pumpk"},{"$f":"VLOOKUP(AB13,'Sale Price'!$B$3:$I$64,3)","v":"Savala"},{"$f":"VLOOKUP(AC13,'Sale Price'!$B$3:$I$64,3)","v":"Ulli"},{"$f":"VLOOKUP(AD13,'Sale Price'!$B$3:$I$64,3)","v":"Garlc"},{"$f":"VLOOKUP(AE13,'Sale Price'!$B$3:$I$64,3)","v":"Ginger"},{"$f":"VLOOKUP(AF13,'Sale Price'!$B$3:$I$64,3)","v":"Cucum"},{"$f":"VLOOKUP(AG13,'Sale Price'!$B$3:$I$64,3)","v":"Chemb"},{"$f":"VLOOKUP(AH13,'Sale Price'!$B$3:$I$64,3)","v":"Cowp"},{"$f":"VLOOKUP(AI13,'Sale Price'!$B$3:$I$64,3)","v":"AshG"},{"$f":"VLOOKUP(AJ13,'Sale Price'!$B$3:$I$64,3)","v":"Venda"},{"$f":"VLOOKUP(AK13,'Sale Price'!$B$3:$I$64,3)","v":"Drumst"},{"$f":"VLOOKUP(AL13,'Sale Price'!$B$3:$I$64,3)","v":"Koval"},{"$f":"VLOOKUP(AM13,'Sale Price'!$B$3:$I$64,3)","v":"CryLef"},{"$f":"VLOOKUP(AN13,'Sale Price'!$B$3:$I$64,3)","v":"MntLf"},{"$f":"VLOOKUP(AO13,'Sale Price'!$B$3:$I$64,3)","v":"CorLf"},{"$f":"VLOOKUP(AP13,'Sale Price'!$B$3:$I$64,3)","v":"Cheera"},{"$f":"VLOOKUP(AQ13,'Sale Price'!$B$3:$I$64,3)","v":"LemnB"},{"$f":"VLOOKUP(AR13,'Sale Price'!$B$3:$I$64,3)","v":"LemnS"},{"$f":"VLOOKUP(AS13,'Sale Price'!$B$3:$I$64,3)","v":"Mango"},{"$f":"VLOOKUP(AT13,'Sale Price'!$B$3:$I$64,3)","v":"PineA"},{"$f":"VLOOKUP(AU13,'Sale Price'!$B$3:$I$64,3)","v":"Potat"},{"$f":"VLOOKUP(AV13,'Sale Price'!$B$3:$I$64,3)","v":"Amla"},{"$f":"VLOOKUP(AW13,'Sale Price'!$B$3:$I$64,3)","v":"Tap"},{"$f":"VLOOKUP(AX13,'Sale Price'!$B$3:$I$64,3)","v":0},{"$f":"VLOOKUP(AY13,'Sale Price'!$B$3:$I$64,3)","v":0},{"$f":"VLOOKUP(AZ13,'Sale Price'!$B$3:$I$64,3)","v":0},{"$f":"VLOOKUP(BA13,'Sale Price'!$B$3:$I$64,3)","v":0},{"$f":"VLOOKUP(BB13,'Sale Price'!$B$3:$I$64,3)","v":0},{"$f":"VLOOKUP(BC13,'Sale Price'!$B$3:$I$64,3)","v":0},{"$f":"VLOOKUP(BD13,'Sale Price'!$B$3:$I$64,3)","v":0},{"$f":"VLOOKUP(BE13,'Sale Price'!$B$3:$I$64,3)","v":0},{"$f":"VLOOKUP(BF13,'Sale Price'!$B$3:$I$64,3)","v":0},{"$f":"VLOOKUP(BG13,'Sale Price'!$B$3:$I$64,3)","v":0},{"$f":"VLOOKUP(BH13,'Sale Price'!$B$3:$I$64,3)","v":0},{"$f":"VLOOKUP(BI13,'Sale Price'!$B$3:$I$64,3)","v":0},{"$f":"VLOOKUP(BJ13,'Sale Price'!$B$3:$I$64,3)","v":0},"Total Sales Amount for the day (Rs.)"]
["INITIAL STOCK KG",null,{"$f":"'Day1'!C9","v":0},{"$f":"'Day1'!D9","v":0},{"$f":"'Day1'!E9","v":0},{"$f":"'Day1'!F9","v":0},{"$f":"'Day1'!G9","v":0},{"$f":"'Day1'!H9","v":0},{"$f":"'Day1'!I9","v":0},{"$f":"'Day1'!J9","v":0},{"$f":"'Day1'!K9","v":0},{"$f":"'Day1'!L9","v":0},{"$f":"'Day1'!M9","v":0},{"$f":"'Day1'!N9","v":0},{"$f":"'Day1'!O9","v":0},{"$f":"'Day1'!P9","v":0},{"$f":"'Day1'!Q9","v":0},{"$f":"'Day1'!R9","v":0},{"$f":"'Day1'!S9","v":0},{"$f":"'Day1'!T9","v":0},{"$f":"'Day1'!U9","v":0},{"$f":"'Day1'!V9","v":0},{"$f":"'Day1'!W9","v":0},{"$f":"'Day1'!X9","v":0},{"$f":"'Day1'!Y9","v":0},{"$f":"'Day1'!Z9","v":0},{"$f":"'Day1'!AA9","v":0},{"$f":"'Day1'!AB9","v":0},{"$f":"'Day1'!AC9","v":0},{"$f":"'Day1'!AD9","v":0},{"$f":"'Day1'!AE9","v":0},{"$f":"'Day1'!AF9","v":0},{"$f":"'Day1'!AG9","v":0},{"$f":"'Day1'!AH9","v":0},{"$f":"'Day1'!AI9","v":0},{"$f":"'Day1'!AJ9","v":0},{"$f":"'Day1'!AK9","v":0},{"$f":"'Day1'!AL9","v":0},{"$f":"'Day1'!AM9","v":0},{"$f":"'Day1'!AN9","v":0},{"$f":"'Day1'!AO9","v":0},{"$f":"'Day1'!AP9","v":0},{"$f":"'Day1'!AQ9","v":0},{"$f":"'Day1'!AR9","v":0},{"$f":"'Day1'!AS9","v":0},{"$f":"'Day1'!AT9","v":0},{"$f":"'Day1'!AU9","v":0},{"$f":"'Day1'!AV9","v":0},{"$f":"'Day1'!AW9","v":0},{"$f":"'Day1'!AX9","v":0},{"$f":"'Day1'!AY9","v":0},{"$f":"'Day1'!AZ9","v":0},{"$f":"'Day1'!BA9","v":0},{"$f":"'Day1'!BB9","v":0},{"$f":"'Day1'!BC9","v":0},{"$f":"'Day1'!BD9","v":0},{"$f":"'Day1'!BE9","v":0},{"$f":"'Day1'!BF9","v":0},{"$f":"'Day1'!BG9","v":0},{"$f":"'Day1'!BH9","v":0},{"$f":"'Day1'!BI9","v":0},{"$f":"'Day1'!BJ9","v":0}]
["PURCHASE KG",null,{"$f":"VLOOKUP(C13,PURCH2!$B$4:$N$65,12)","v":0},{"$f":"VLOOKUP(D13,PURCH2!$B$4:$N$65,12)","v":0},{"$f":"VLOOKUP(E13,PURCH2!$B$4:$N$65,12)","v":0},{"$f":"VLOOKUP(F13,PURCH2!$B$4:$N$65,12)","v":0},{"$f":"VLOOKUP(G13,PURCH2!$B$4:$N$65,12)","v":0},{"$f":"VLOOKUP(H13,PURCH2!$B$4:$N$65,12)","v":0},{"$f":"VLOOKUP(I13,PURCH2!$B$4:$N$65,12)","v":0},{"$f":"VLOOKUP(J13,PURCH2!$B$4:$N$65,12)","v":0},{"$f":"VLOOKUP(K13,PURCH2!$B$4:$N$65,12)","v":0},{"$f":"VLOOKUP(L13,PURCH2!$B$4:$N$65,12)","v":0},{"$f":"VLOOKUP(M13,PURCH2!$B$4:$N$65,12)","v":0},{"$f":"VLOOKUP(N13,PURCH2!$B$4:$N$65,12)","v":0},{"$f":"VLOOKUP(O13,PURCH2!$B$4:$N$65,12)","v":0},{"$f":"VLOOKUP(P13,PURCH2!$B$4:$N$65,12)","v":0},{"$f":"VLOOKUP(Q13,PURCH2!$B$4:$N$65,12)","v":0},{"$f":"VLOOKUP(R13,PURCH2!$B$4:$N$65,12)","v":0},{"$f":"VLOOKUP(S13,PURCH2!$B$4:$N$65,12)","v":0},{"$f":"VLOOKUP(T13,PURCH2!$B$4:$N$65,12)","v":0},{"$f":"VLOOKUP(U13,PURCH2!$B$4:$N$65,12)","v":0},{"$f":"VLOOKUP(V13,PURCH2!$B$4:$N$65,12)","v":0},{"$f":"VLOOKUP(W13,PURCH2!$B$4:$N$65,12)","v":0},{"$f":"VLOOKUP(X13,PURCH2!$B$4:$N$65,12)","v":0},{"$f":"VLOOKUP(Y13,PURCH2!$B$4:$N$65,12)","v":0},{"$f":"VLOOKUP(Z13,PURCH2!$B$4:$N$65,12)","v":0},{"$f":"VLOOKUP(AA13,PURCH2!$B$4:$N$65,12)","v":0},{"$f":"VLOOKUP(AB13,PURCH2!$B$4:$N$65,12)","v":0},{"$f":"VLOOKUP(AC13,PURCH2!$B$4:$N$65,12)","v":0},{"$f":"VLOOKUP(AD13,PURCH2!$B$4:$N$65,12)","v":0},{"$f":"VLOOKUP(AE13,PURCH2!$B$4:$N$65,12)","v":0},{"$f":"VLOOKUP(AF13,PURCH2!$B$4:$N$65,12)","v":0},{"$f":"VLOOKUP(AG13,PURCH2!$B$4:$N$65,12)","v":0},{"$f":"VLOOKUP(AH13,PURCH2!$B$4:$N$65,12)","v":0},{"$f":"VLOOKUP(AI13,PURCH2!$B$4:$N$65,12)","v":0},{"$f":"VLOOKUP(AJ13,PURCH2!$B$4:$N$65,12)","v":0},{"$f":"VLOOKUP(AK13,PURCH2!$B$4:$N$65,12)","v":0},{"$f":"VLOOKUP(AL13,PURCH2!$B$4:$N$65,12)","v":0},{"$f":"VLOOKUP(AM13,PURCH2!$B$4:$N$65,12)","v":0},{"$f":"VLOOKUP(AN13,PURCH2!$B$4:$N$65,12)","v":0},{"$f":"VLOOKUP(AO13,PURCH2!$B$4:$N$65,12)","v":0},{"$f":"VLOOKUP(AP13,PURCH2!$B$4:$N$65,12)","v":0},{"$f":"VLOOKUP(AQ13,PURCH2!$B$4:$N$65,12)","v":0},{"$f":"VLOOKUP(AR13,PURCH2!$B$4:$N$65,12)","v":0},{"$f":"VLOOKUP(AS13,PURCH2!$B$4:$N$65,12)","v":0},{"$f":"VLOOKUP(AT13,PURCH2!$B$4:$N$65,12)","v":0},{"$f":"VLOOKUP(AU13,PURCH2!$B$4:$N$65,12)","v":0},{"$f":"VLOOKUP(AV13,PURCH2!$B$4:$N$65,12)","v":0},{"$f":"VLOOKUP(AW13,PURCH2!$B$4:$N$65,12)","v":0},{"$f":"VLOOKUP(AX13,PURCH2!$B$4:$N$65,12)","v":0},{"$f":"VLOOKUP(AY13,PURCH2!$B$4:$N$65,12)","v":0},{"$f":"VLOOKUP(AZ13,PURCH2!$B$4:$N$65,12)","v":0},{"$f":"VLOOKUP(BA13,PURCH2!$B$4:$N$65,12)","v":0},{"$f":"VLOOKUP(BB13,PURCH2!$B$4:$N$65,12)","v":0},{"$f":"VLOOKUP(BC13,PURCH2!$B$4:$N$65,12)","v":0},{"$f":"VLOOKUP(BD13,PURCH2!$B$4:$N$65,12)","v":0},{"$f":"VLOOKUP(BE13,PURCH2!$B$4:$N$65,12)","v":0},{"$f":"VLOOKUP(BF13,PURCH2!$B$4:$N$65,12)","v":0},{"$f":"VLOOKUP(BG13,PURCH2!$B$4:$N$65,12)","v":0},{"$f":"VLOOKUP(BH13,PURCH2!$B$4:$N$65,12)","v":0},{"$f":"VLOOKUP(BI13,PURCH2!$B$4:$N$65,12)","v":0},{"$f":"VLOOKUP(BJ13,PURCH2!$B$4:$N$65,12)","v":0}]
["TOTAL SALE KG",null,{"$f":"C515","v":0},{"$f":"D515","v":0},0,0,0,0,0,0,0,0,0,0,0,0,0,0,0,0,0,0,0,0,0,0,0,0,0,0,0,0,{"$f":"AG515","v":0},0,0,0,0,0,0,0,0,0,0,0,0,0,0,0,0,0,0,0,0,0,0,0,0,0,0,0,0,0]
["BALANCE KG",null,{"$f":"C6+C7-C8","v":0},{"$f":"D6+D7-D8","v":0},0,0,0,0,0,0,0,0,0,0,0,0,0,0,0,0,0,0,0,0,0,0,0,0,0,0,0,0,{"$f":"AG6+AG7-AG8","v":0},0,0,0,0,0,0,0,0,0,0,0,0,0,0,0,0,0,0,0,0,0,0,0,0,0,0,0,0,0,{"$f":"BK515","v":0}]
["SALES MANAGEMENT"]
["Bill No.","S.Price",{"$f":"VLOOKUP('Day1'!C13,'Sale Price'!$B$5:$I$64,5)","v":0},{"$f":"VLOOKUP('Day1'!D13,'Sale Price'!$B$5:$I$64,5)","v":0},{"$f":"VLOOKUP('Day1'!E13,'Sale Price'!$B$5:$I$64,5)","v":0},{"$f":"VLOOKUP('Day1'!F13,'Sale Price'!$B$5:$I$64,5)","v":0},{"$f":"VLOOKUP('Day1'!G13,'Sale Price'!$B$5:$I$64,5)","v":0},{"$f":"VLOOKUP('Day1'!H13,'Sale Price'!$B$5:$I$64,5)","v":0},{"$f":"VLOOKUP('Day1'!I13,'Sale Price'!$B$5:$I$64,5)","v":0},{"$f":"VLOOKUP('Day1'!J13,'Sale Price'!$B$5:$I$64,5)","v":0},{"$f":"VLOOKUP('Day1'!K13,'Sale Price'!$B$5:$I$64,5)","v":0},{"$f":"VLOOKUP('Day1'!L13,'Sale Price'!$B$5:$I$64,5)","v":0},{"$f":"VLOOKUP('Day1'!M13,'Sale Price'!$B$5:$I$64,5)","v":0},{"$f":"VLOOKUP('Day1'!N13,'Sale Price'!$B$5:$I$64,5)","v":0},{"$f":"VLOOKUP('Day1'!O13,'Sale Price'!$B$5:$I$64,5)","v":0},{"$f":"VLOOKUP('Day1'!P13,'Sale Price'!$B$5:$I$64,5)","v":0},{"$f":"VLOOKUP('Day1'!Q13,'Sale Price'!$B$5:$I$64,5)","v":0},{"$f":"VLOOKUP('Day1'!R13,'Sale Price'!$B$5:$I$64,5)","v":0},{"$f":"VLOOKUP('Day1'!S13,'Sale Price'!$B$5:$I$64,5)","v":0},{"$f":"VLOOKUP('Day1'!T13,'Sale Price'!$B$5:$I$64,5)","v":0},{"$f":"VLOOKUP('Day1'!U13,'Sale Price'!$B$5:$I$64,5)","v":0},{"$f":"VLOOKUP('Day1'!V13,'Sale Price'!$B$5:$I$64,5)","v":0},{"$f":"VLOOKUP('Day1'!W13,'Sale Price'!$B$5:$I$64,5)","v":0},{"$f":"VLOOKUP('Day1'!X13,'Sale Price'!$B$5:$I$64,5)","v":0},{"$f":"VLOOKUP('Day1'!Y13,'Sale Price'!$B$5:$I$64,5)","v":0},{"$f":"VLOOKUP('Day1'!Z13,'Sale Price'!$B$5:$I$64,5)","v":0},{"$f":"VLOOKUP('Day1'!AA13,'Sale Price'!$B$5:$I$64,5)","v":0},{"$f":"VLOOKUP('Day1'!AB13,'Sale Price'!$B$5:$I$64,5)","v":0},{"$f":"VLOOKUP('Day1'!AC13,'Sale Price'!$B$5:$I$64,5)","v":0},{"$f":"VLOOKUP('Day1'!AD13,'Sale Price'!$B$5:$I$64,5)","v":0},{"$f":"VLOOKUP('Day1'!AE13,'Sale Price'!$B$5:$I$64,5)","v":0},{"$f":"VLOOKUP('Day1'!AF13,'Sale Price'!$B$5:$I$64,5)","v":0},{"$f":"VLOOKUP('Day1'!AG13,'Sale Price'!$B$5:$I$64,5)","v":0},{"$f":"VLOOKUP('Day1'!AH13,'Sale Price'!$B$5:$I$64,5)","v":0},{"$f":"VLOOKUP('Day1'!AI13,'Sale Price'!$B$5:$I$64,5)","v":0},{"$f":"VLOOKUP('Day1'!AJ13,'Sale Price'!$B$5:$I$64,5)","v":0},{"$f":"VLOOKUP('Day1'!AK13,'Sale Price'!$B$5:$I$64,5)","v":0},{"$f":"VLOOKUP('Day1'!AL13,'Sale Price'!$B$5:$I$64,5)","v":0},{"$f":"VLOOKUP('Day1'!AM13,'Sale Price'!$B$5:$I$64,5)","v":0},{"$f":"VLOOKUP('Day1'!AN13,'Sale Price'!$B$5:$I$64,5)","v":0},{"$f":"VLOOKUP('Day1'!AO13,'Sale Price'!$B$5:$I$64,5)","v":0},{"$f":"VLOOKUP('Day1'!AP13,'Sale Price'!$B$5:$I$64,5)","v":0},{"$f":"VLOOKUP('Day1'!AQ13,'Sale Price'!$B$5:$I$64,5)","v":0},{"$f":"VLOOKUP('Day1'!AR13,'Sale Price'!$B$5:$I$64,5)","v":0},{"$f":"VLOOKUP('Day1'!AS13,'Sale Price'!$B$5:$I$64,5)","v":0},{"$f":"VLOOKUP('Day1'!AT13,'Sale Price'!$B$5:$I$64,5)","v":0},{"$f":"VLOOKUP('Day1'!AU13,'Sale Price'!$B$5:$I$64,5)","v":0},{"$f":"VLOOKUP('Day1'!AV13,'Sale Price'!$B$5:$I$64,5)","v":0},{"$f":"VLOOKUP('Day1'!AW13,'Sale Price'!$B$5:$I$64,5)","v":0},{"$f":"VLOOKUP('Day1'!AX13,'Sale Price'!$B$5:$I$64,5)","v":0},{"$f":"VLOOKUP('Day1'!AY13,'Sale Price'!$B$5:$I$64,5)","v":0},{"$f":"VLOOKUP('Day1'!AZ13,'Sale Price'!$B$5:$I$64,5)","v":0},{"$f":"VLOOKUP('Day1'!BA13,'Sale Price'!$B$5:$I$64,5)","v":0},{"$f":"VLOOKUP('Day1'!BB13,'Sale Price'!$B$5:$I$64,5)","v":0},{"$f":"VLOOKUP('Day1'!BC13,'Sale Price'!$B$5:$I$64,5)","v":0},{"$f":"VLOOKUP('Day1'!BD13,'Sale Price'!$B$5:$I$64,5)","v":0},{"$f":"VLOOKUP('Day1'!BE13,'Sale Price'!$B$5:$I$64,5)","v":0},{"$f":"VLOOKUP('Day1'!BF13,'Sale Price'!$B$5:$I$64,5)","v":0},{"$f":"VLOOKUP('Day1'!BG13,'Sale Price'!$B$5:$I$64,5)","v":0},{"$f":"VLOOKUP('Day1'!BH13,'Sale Price'!$B$5:$I$64,5)","v":0},{"$f":"VLOOKUP('Day1'!BI13,'Sale Price'!$B$5:$I$64,5)","v":0},{"$f":"VLOOKUP('Day1'!BJ13,'Sale Price'!$B$5:$I$64,5)","v":0},"Total Bill Rs."]
[null,"Item",{"$f":"VLOOKUP('Day1'!C13,'Sale Price'!$B$5:$I$64,3)","v":"Nendrn"},{"$f":"VLOOKUP('Day1'!D13,'Sale Price'!$B$5:$I$64,3)","v":"Ban G"},{"$f":"VLOOKUP('Day1'!E13,'Sale Price'!$B$5:$I$64,3)","v":"Palaya"},{"$f":"VLOOKUP('Day1'!F13,'Sale Price'!$B$5:$I$64,3)","v":"Puvan"},{"$f":"VLOOKUP('Day1'!G13,'Sale Price'!$B$5:$I$64,3)","v":"RasaK"},{"$f":"VLOOKUP('Day1'!H13,'Sale Price'!$B$5:$I$64,3)","v":"RedB"},{"$f":"VLOOKUP('Day1'!I13,'Sale Price'!$B$5:$I$64,3)","v":"Robst"},{"$f":"VLOOKUP('Day1'!J13,'Sale Price'!$B$5:$I$64,3)","v":"Peyn"},{"$f":"VLOOKUP('Day1'!K13,'Sale Price'!$B$5:$I$64,3)","v":"Chena"},{"$f":"VLOOKUP('Day1'!L13,'Sale Price'!$B$5:$I$64,3)","v":"Beans"},{"$f":"VLOOKUP('Day1'!M13,'Sale Price'!$B$5:$I$64,3)","v":"Amara"},{"$f":"VLOOKUP('Day1'!N13,'Sale Price'!$B$5:$I$64,3)","v":"Carot"},{"$f":"VLOOKUP('Day1'!O13,'Sale Price'!$B$5:$I$64,3)","v":"BeetR"},{"$f":"VLOOKUP('Day1'!P13,'Sale Price'!$B$5:$I$64,3)","v":"Cabag"},{"$f":"VLOOKUP('Day1'!Q13,'Sale Price'!$B$5:$I$64,3)","v":"CauliF"},{"$f":"VLOOKUP('Day1'!R13,'Sale Price'!$B$5:$I$64,3)","v":"Capsic"},{"$f":"VLOOKUP('Day1'!S13,'Sale Price'!$B$5:$I$64,3)","v":"Tomat"},{"$f":"VLOOKUP('Day1'!T13,'Sale Price'!$B$5:$I$64,3)","v":"ChillS"},{"$f":"VLOOKUP('Day1'!U13,'Sale Price'!$B$5:$I$64,3)","v":"ChillB"},{"$f":"VLOOKUP('Day1'!V13,'Sale Price'!$B$5:$I$64,3)","v":"BittrG"},{"$f":"VLOOKUP('Day1'!W13,'Sale Price'!$B$5:$I$64,3)","v":"BottG"},{"$f":"VLOOKUP('Day1'!X13,'Sale Price'!$B$5:$I$64,3)","v":"SnakG"},{"$f":"VLOOKUP('Day1'!Y13,'Sale Price'!$B$5:$I$64,3)","v":"BrinjR"},{"$f":"VLOOKUP('Day1'!Z13,'Sale Price'!$B$5:$I$64,3)","v":"Vazhut"},{"$f":"VLOOKUP('Day1'!AA13,'Sale Price'!$B$5:$I$64,3)","v":"Pumpk"},{"$f":"VLOOKUP('Day1'!AB13,'Sale Price'!$B$5:$I$64,3)","v":"Savala"},{"$f":"VLOOKUP('Day1'!AC13,'Sale Price'!$B$5:$I$64,3)","v":"Ulli"},{"$f":"VLOOKUP('Day1'!AD13,'Sale Price'!$B$5:$I$64,3)","v":"Garlc"},{"$f":"VLOOKUP('Day1'!AE13,'Sale Price'!$B$5:$I$64,3)","v":"Ginger"},{"$f":"VLOOKUP('Day1'!AF13,'Sale Price'!$B$5:$I$64,3)","v":"Cucum"},{"$f":"VLOOKUP('Day1'!AG13,'Sale Price'!$B$5:$I$64,3)","v":"Chemb"},{"$f":"VLOOKUP('Day1'!AH13,'Sale Price'!$B$5:$I$64,3)","v":"Cowp"},{"$f":"VLOOKUP('Day1'!AI13,'Sale Price'!$B$5:$I$64,3)","v":"AshG"},{"$f":"VLOOKUP('Day1'!AJ13,'Sale Price'!$B$5:$I$64,3)","v":"Venda"},{"$f":"VLOOKUP('Day1'!AK13,'Sale Price'!$B$5:$I$64,3)","v":"Drumst"},{"$f":"VLOOKUP('Day1'!AL13,'Sale Price'!$B$5:$I$64,3)","v":"Koval"},{"$f":"VLOOKUP('Day1'!AM13,'Sale Price'!$B$5:$I$64,3)","v":"CryLef"},{"$f":"VLOOKUP('Day1'!AN13,'Sale Price'!$B$5:$I$64,3)","v":"MntLf"},{"$f":"VLOOKUP('Day1'!AO13,'Sale Price'!$B$5:$I$64,3)","v":"CorLf"},{"$f":"VLOOKUP('Day1'!AP13,'Sale Price'!$B$5:$I$64,3)","v":"Cheera"},{"$f":"VLOOKUP('Day1'!AQ13,'Sale Price'!$B$5:$I$64,3)","v":"LemnB"},{"$f":"VLOOKUP('Day1'!AR13,'Sale Price'!$B$5:$I$64,3)","v":"LemnS"},{"$f":"VLOOKUP('Day1'!AS13,'Sale Price'!$B$5:$I$64,3)","v":"Mango"},{"$f":"VLOOKUP('Day1'!AT13,'Sale Price'!$B$5:$I$64,3)","v":"PineA"},{"$f":"VLOOKUP('Day1'!AU13,'Sale Price'!$B$5:$I$64,3)","v":"Potat"},{"$f":"VLOOKUP('Day1'!AV13,'Sale Price'!$B$5:$I$64,3)","v":"Amla"},{"$f":"VLOOKUP('Day1'!AW13,'Sale Price'!$B$5:$I$64,3)","v":"Tap"},{"$f":"VLOOKUP('Day1'!AX13,'Sale Price'!$B$5:$I$64,3)","v":0},{"$f":"VLOOKUP('Day1'!AY13,'Sale Price'!$B$5:$I$64,3)","v":0},{"$f":"VLOOKUP('Day1'!AZ13,'Sale Price'!$B$5:$I$64,3)","v":0},{"$f":"VLOOKUP('Day1'!BA13,'Sale Price'!$B$5:$I$64,3)","v":0},{"$f":"VLOOKUP('Day1'!BB13,'Sale Price'!$B$5:$I$64,3)","v":0},{"$f":"VLOOKUP('Day1'!BC13,'Sale Price'!$B$5:$I$64,3)","v":0},{"$f":"VLOOKUP('Day1'!BD13,'Sale Price'!$B$5:$I$64,3)","v":0},{"$f":"VLOOKUP('Day1'!BE13,'Sale Price'!$B$5:$I$64,3)","v":0},{"$f":"VLOOKUP('Day1'!BF13,'Sale Price'!$B$5:$I$64,3)","v":0},{"$f":"VLOOKUP('Day1'!BG13,'Sale Price'!$B$5:$I$64,3)","v":0},{"$f":"VLOOKUP('Day1'!BH13,'Sale Price'!$B$5:$I$64,3)","v":0},{"$f":"VLOOKUP('Day1'!BI13,'Sale Price'!$B$5:$I$64,3)","v":0},{"$f":"VLOOKUP('Day1'!BJ13,'Sale Price'!$B$5:$I$64,3)","v":0}]
[null,"Code",1,2,3,4,5,6,7,8,9,10,11,12,13,14,15,16,17,18,19,20,21,22,23,24,25,26,27,28,29,30,31,32,33,34,35,36,37,38,39,40,41,42,43,44,45,46,47,48,49,50,51,52,53,54,55,56,57,58,59,60]
[null,null,null,null,null,null,null,null,null,null,null,null,null,null,null,null,null,null,null,null,null,null,null,null,null,null,null,null,null,null,null,null,null,null,null,null,null,null,null,null,null,null,null,null,null,null,null,null,null,null,null,null,null,null,null,null,null,null,null,null,null,null,{"$f":"C14*$C$11+D14*$D$11+E14*$E$11+F14*$F$11+G14*$G$11+H14*$H$11+I14*$I$11+J14*$J$11+K14*$K$11+L14*$L$11+M14*$M$11+N14*$N$11+O14*$O$11+P14*$P$11+Q14*$Q$11+R14*$R$11+S14*$S$11+T14*$T$11+U14*$U$11+V14*$V$11+W14*$W$11+X14*$X$11+Y14*$Y$11+Z14*$Z$11+AA14*$AA$11+AB14*$AB$11+AC14*$AC$11+AD14*$AD$11+AE14*$AE$11+AF14*$AF$11+AG14*$AG$11+AH14*$AH$11+AI14*$AI$11+AJ14*$AJ$11+AK14*$AK$11+AL14*$AL$11+AM14*$AM$11+AN14*$AN$11+AO14*$AO$11+AP14*$AP$11+AQ14*$AQ$11+AR14*$AR$11+AS14*$AS$11+AT14*$AT$11+AU14*$AU$11+AV14*$AV$11+AW14*$AW$11+AX14*$AX$11+AY14*$AY$11+AZ14*$AZ$11+BA14*$BA$11+BB14*$BB$11+BC14*$BC$11+BD14*$BD$11+BE14*$BE$11+BF14*$BF$11+BG14*$BG$11+BH14*$BH$11+BI14*$BI$11+BJ14*$BJ$11","v":0}]
[null,null,null,null,null,null,null,null,null,null,null,null,null,null,null,null,null,null,null,null,null,null,null,null,null,null,null,null,null,null,null,null,null,null,null,null,null,null,null,null,null,null,null,null,null,null,null,null,null,null,null,null,null,null,null,null,null,null,null,null,null,null,{"$f":"C15*$C$11+D15*$D$11+E15*$E$11+F15*$F$11+G15*$G$11+H15*$H$11+I15*$I$11+J15*$J$11+K15*$K$11+L15*$L$11+M15*$M$11+N15*$N$11+O15*$O$11+P15*$P$11+Q15*$Q$11+R15*$R$11+S15*$S$11+T15*$T$11+U15*$U$11+V15*$V$11+W15*$W$11+X15*$X$11+Y15*$Y$11+Z15*$Z$11+AA15*$AA$11+AB15*$AB$11+AC15*$AC$11+AD15*$AD$11+AE15*$AE$11+AF15*$AF$11+AG15*$AG$11+AH15*$AH$11+AI15*$AI$11+AJ15*$AJ$11+AK15*$AK$11+AL15*$AL$11+AM15*$AM$11+AN15*$AN$11+AO15*$AO$11+AP15*$AP$11+AQ15*$AQ$11+AR15*$AR$11+AS15*$AS$11+AT15*$AT$11+AU15*$AU$11+AV15*$AV$11+AW15*$AW$11+AX15*$AX$11+AY15*$AY$11+AZ15*$AZ$11+BA15*$BA$11+BB15*$BB$11+BC15*$BC$11+BD15*$BD$11+BE15*$BE$11+BF15*$BF$11+BG15*$BG$11+BH15*$BH$11+BI15*$BI$11+BJ15*$BJ$11","v":0}]
[null,null,null,null,null,null,null,null,null,null,null,null,null,null,null,null,null,null,null,null,null,null,null,null,null,null,null,null,null,null,null,null,null,null,null,null,null,null,null,null,null,null,null,null,null,null,null,null,null,null,null,null,null,null,null,null,null,null,null,null,null,null,0]
[null,null,null,null,null,null,null,null,null,null,null,null,null,null,null,null,null,null,null,null,null,null,null,null,null,null,null,null,null,null,null,null,null,null,null,null,null,null,null,null,null,null,null,null,null,null,null,null,null,null,null,null,null,null,null,null,null,null,null,null,null,null,0]
[null,null,null,null,null,null,null,null,null,null,null,null,null,null,null,null,null,null,null,null,null,null,null,null,null,null,null,null,null,null,null,null,null,null,null,null,null,null,null,null,null,null,null,null,null,null,null,null,null,null,null,null,null,null,null,null,null,null,null,null,null,null,0]
[null,null,null,null,null,null,null,null,null,null,null,null,null,null,null,null,null,null,null,null,null,null,null,null,null,null,null,null,null,null,null,null,null,null,null,null,null,null,null,null,null,null,null,null,null,null,null,null,null,null,null,null,null,null,null,null,null,null,null,null,null,null,0]
[null,null,null,null,null,null,null,null,null,null,null,null,null,null,null,null,null,null,null,null,null,null,null,null,null,null,null,null,null,null,null,null,null,null,null,null,null,null,null,null,null,null,null,null,null,null,null,null,null,null,null,null,null,null,null,null,null,null,null,null,null,null,0]
[null,null,null,null,null,null,null,null,null,null,null,null,null,null,null,null,null,null,null,null,null,null,null,null,null,null,null,null,null,null,null,null,null,null,null,null,null,null,null,null,null,null,null,null,null,null,null,null,null,null,null,null,null,null,null,null,null,null,null,null,null,null,0]
[null,null,null,null,null,null,null,null,null,null,null,null,null,null,null,null,null,null,null,null,null,null,null,null,null,null,null,null,null,null,null,null,null,null,null,null,null,null,null,null,null,null,null,null,null,null,null,null,null,null,null,null,null,null,null,null,null,null,null,null,null,null,0]
[null,null,null,null,null,null,null,null,null,null,null,null,null,null,null,null,null,null,null,null,null,null,null,null,null,null,null,null,null,null,null,null,null,null,null,null,null,null,null,null,null,null,null,null,null,null,null,null,null,null,null,null,null,null,null,null,null,null,null,null,null,null,0]
[null,null,null,null,null,null,null,null,null,null,null,null,null,null,null,null,null,null,null,null,null,null,null,null,null,null,null,null,null,null,null,null,null,null,null,null,null,null,null,null,null,null,null,null,null,null,null,null,null,null,null,null,null,null,null,null,null,null,null,null,null,null,0]
[null,null,null,null,null,null,null,null,null,null,null,null,null,null,null,null,null,null,null,null,null,null,null,null,null,null,null,null,null,null,null,null,null,null,null,null,null,null,null,null,null,null,null,null,null,null,null,null,null,null,null,null,null,null,null,null,null,null,null,null,null,null,0]
[null,null,null,null,null,null,null,null,null,null,null,null,null,null,null,null,null,null,null,null,null,null,null,null,null,null,null,null,null,null,null,null,null,null,null,null,null,null,null,null,null,null,null,null,null,null,null,null,null,null,null,null,null,null,null,null,null,null,null,null,null,null,0]
[null,null,null,null,null,null,null,null,null,null,null,null,null,null,null,null,null,null,null,null,null,null,null,null,null,null,null,null,null,null,null,null,null,null,null,null,null,null,null,null,null,null,null,null,null,null,null,null,null,null,null,null,null,null,null,null,null,null,null,null,null,null,0]
[null,null,null,null,null,null,null,null,null,null,null,null,null,null,null,null,null,null,null,null,null,null,null,null,null,null,null,null,null,null,null,null,null,null,null,null,null,null,null,null,null,null,null,null,null,null,null,null,null,null,null,null,null,null,null,null,null,null,null,null,null,null,0]
[null,null,null,null,null,null,null,null,null,null,null,null,null,null,null,null,null,null,null,null,null,null,null,null,null,null,null,null,null,null,null,null,null,null,null,null,null,null,null,null,null,null,null,null,null,null,null,null,null,null,null,null,null,null,null,null,null,null,null,null,null,null,0]
[null,null,null,null,null,null,null,null,null,null,null,null,null,null,null,null,null,null,null,null,null,null,null,null,null,null,null,null,null,null,null,null,null,null,null,null,null,null,null,null,null,null,null,null,null,null,null,null,null,null,null,null,null,null,null,null,null,null,null,null,null,null,0]
[null,null,null,null,null,null,null,null,null,null,null,null,null,null,null,null,null,null,null,null,null,null,null,null,null,null,null,null,null,null,null,null,null,null,null,null,null,null,null,null,null,null,null,null,null,null,null,null,null,null,null,null,null,null,null,null,null,null,null,null,null,null,0]
[null,null,null,null,null,null,null,null,null,null,null,null,null,null,null,null,null,null,null,null,null,null,null,null,null,null,null,null,null,null,null,null,null,null,null,null,null,null,null,null,null,null,null,null,null,null,null,null,null,null,null,null,null,null,null,null,null,null,null,null,null,null,0]
[null,null,null,null,null,null,null,null,null,null,null,null,null,null,null,null,null,null,null,null,null,null,null,null,null,null,null,null,null,null,null,null,null,null,null,null,null,null,null,null,null,null,null,null,null,null,null,null,null,null,null,null,null,null,null,null,null,null,null,null,null,null,0]
[null,null,null,null,null,null,null,null,null,null,null,null,null,null,null,null,null,null,null,null,null,null,null,null,null,null,null,null,null,null,null,null,null,null,null,null,null,null,null,null,null,null,null,null,null,null,null,null,null,null,null,null,null,null,null,null,null,null,null,null,null,null,0]
[null,null,null,null,null,null,null,null,null,null,null,null,null,null,null,null,null,null,null,null,null,null,null,null,null,null,null,null,null,null,null,null,null,null,null,null,null,null,null,null,null,null,null,null,null,null,null,null,null,null,null,null,null,null,null,null,null,null,null,null,null,null,0]
[null,null,null,null,null,null,null,null,null,null,null,null,null,null,null,null,null,null,null,null,null,null,null,null,null,null,null,null,null,null,null,null,null,null,null,null,null,null,null,null,null,null,null,null,null,null,null,null,null,null,null,null,null,null,null,null,null,null,null,null,null,null,0]
[null,null,null,null,null,null,null,null,null,null,null,null,null,null,null,null,null,null,null,null,null,null,null,null,null,null,null,null,null,null,null,null,null,null,null,null,null,null,null,null,null,null,null,null,null,null,null,null,null,null,null,null,null,null,null,null,null,null,null,null,null,null,0]
[null,null,null,null,null,null,null,null,null,null,null,null,null,null,null,null,null,null,null,null,null,null,null,null,null,null,null,null,null,null,null,null,null,null,null,null,null,null,null,null,null,null,null,null,null,null,null,null,null,null,null,null,null,null,null,null,null,null,null,null,null,null,0]
[null,null,null,null,null,null,null,null,null,null,null,null,null,null,null,null,null,null,null,null,null,null,null,null,null,null,null,null,null,null,null,null,null,null,null,null,null,null,null,null,null,null,null,null,null,null,null,null,null,null,null,null,null,null,null,null,null,null,null,null,null,null,0]
[null,null,null,null,null,null,null,null,null,null,null,null,null,null,null,null,null,null,null,null,null,null,null,null,null,null,null,null,null,null,null,null,null,null,null,null,null,null,null,null,null,null,null,null,null,null,null,null,null,null,null,null,null,null,null,null,null,null,null,null,null,null,0]
[null,null,null,null,null,null,null,null,null,null,null,null,null,null,null,null,null,null,null,null,null,null,null,null,null,null,null,null,null,null,null,null,null,null,null,null,null,null,null,null,null,null,null,null,null,null,null,null,null,null,null,null,null,null,null,null,null,null,null,null,null,null,0]
[null,null,null,null,null,null,null,null,null,null,null,null,null,null,null,null,null,null,null,null,null,null,null,null,null,null,null,null,null,null,null,null,null,null,null,null,null,null,null,null,null,null,null,null,null,null,null,null,null,null,null,null,null,null,null,null,null,null,null,null,null,null,0]
[null,null,null,null,null,null,null,null,null,null,null,null,null,null,null,null,null,null,null,null,null,null,null,null,null,null,null,null,null,null,null,null,null,null,null,null,null,null,null,null,null,null,null,null,null,null,null,null,null,null,null,null,null,null,null,null,null,null,null,null,null,null,0]
[null,null,null,null,null,null,null,null,null,null,null,null,null,null,null,null,null,null,null,null,null,null,null,null,null,null,null,null,null,null,null,null,null,null,null,null,null,null,null,null,null,null,null,null,null,null,null,null,null,null,null,null,null,null,null,null,null,null,null,null,null,null,0]
[null,null,null,null,null,null,null,null,null,null,null,null,null,null,null,null,null,null,null,null,null,null,null,null,null,null,null,null,null,null,null,null,null,null,null,null,null,null,null,null,null,null,null,null,null,null,null,null,null,null,null,null,null,null,null,null,null,null,null,null,null,null,0]
[null,null,null,null,null,null,null,null,null,null,null,null,null,null,null,null,null,null,null,null,null,null,null,null,null,null,null,null,null,null,null,null,null,null,null,null,null,null,null,null,null,null,null,null,null,null,null,null,null,null,null,null,null,null,null,null,null,null,null,null,null,null,0]
[null,null,null,null,null,null,null,null,null,null,null,null,null,null,null,null,null,null,null,null,null,null,null,null,null,null,null,null,null,null,null,null,null,null,null,null,null,null,null,null,null,null,null,null,null,null,null,null,null,null,null,null,null,null,null,null,null,null,null,null,null,null,0]
[null,null,null,null,null,null,null,null,null,null,null,null,null,null,null,null,null,null,null,null,null,null,null,null,null,null,null,null,null,null,null,null,null,null,null,null,null,null,null,null,null,null,null,null,null,null,null,null,null,null,null,null,null,null,null,null,null,null,null,null,null,null,0]
[null,null,null,null,null,null,null,null,null,null,null,null,null,null,null,null,null,null,null,null,null,null,null,null,null,null,null,null,null,null,null,null,null,null,null,null,null,null,null,null,null,null,null,null,null,null,null,null,null,null,null,null,null,null,null,null,null,null,null,null,null,null,0]
[null,null,null,null,null,null,null,null,null,null,null,null,null,null,null,null,null,null,null,null,null,null,null,null,null,null,null,null,null,null,null,null,null,null,null,null,null,null,null,null,null,null,null,null,null,null,null,null,null,null,null,null,null,null,null,null,null,null,null,null,null,null,0]
[null,null,null,null,null,null,null,null,null,null,null,null,null,null,null,null,null,null,null,null,null,null,null,null,null,null,null,null,null,null,null,null,null,null,null,null,null,null,null,null,null,null,null,null,null,null,null,null,null,null,null,null,null,null,null,null,null,null,null,null,null,null,0]
[null,null,null,null,null,null,null,null,null,null,null,null,null,null,null,null,null,null,null,null,null,null,null,null,null,null,null,null,null,null,null,null,null,null,null,null,null,null,null,null,null,null,null,null,null,null,null,null,null,null,null,null,null,null,null,null,null,null,null,null,null,null,0]
[null,null,null,null,null,null,null,null,null,null,null,null,null,null,null,null,null,null,null,null,null,null,null,null,null,null,null,null,null,null,null,null,null,null,null,null,null,null,null,null,null,null,null,null,null,null,null,null,null,null,null,null,null,null,null,null,null,null,null,null,null,null,0]
[null,null,null,null,null,null,null,null,null,null,null,null,null,null,null,null,null,null,null,null,null,null,null,null,null,null,null,null,null,null,null,null,null,null,null,null,null,null,null,null,null,null,null,null,null,null,null,null,null,null,null,null,null,null,null,null,null,null,null,null,null,null,0]
[null,null,null,null,null,null,null,null,null,null,null,null,null,null,null,null,null,null,null,null,null,null,null,null,null,null,null,null,null,null,null,null,null,null,null,null,null,null,null,null,null,null,null,null,null,null,null,null,null,null,null,null,null,null,null,null,null,null,null,null,null,null,0]
[null,null,null,null,null,null,null,null,null,null,null,null,null,null,null,null,null,null,null,null,null,null,null,null,null,null,null,null,null,null,null,null,null,null,null,null,null,null,null,null,null,null,null,null,null,null,null,null,null,null,null,null,null,null,null,null,null,null,null,null,null,null,0]
[null,null,null,null,null,null,null,null,null,null,null,null,null,null,null,null,null,null,null,null,null,null,null,null,null,null,null,null,null,null,null,null,null,null,null,null,null,null,null,null,null,null,null,null,null,null,null,null,null,null,null,null,null,null,null,null,null,null,null,null,null,null,0]
[null,null,null,null,null,null,null,null,null,null,null,null,null,null,null,null,null,null,null,null,null,null,null,null,null,null,null,null,null,null,null,null,null,null,null,null,null,null,null,null,null,null,null,null,null,null,null,null,null,null,null,null,null,null,null,null,null,null,null,null,null,null,0]
[null,null,null,null,null,null,null,null,null,null,null,null,null,null,null,null,null,null,null,null,null,null,null,null,null,null,null,null,null,null,null,null,null,null,null,null,null,null,null,null,null,null,null,null,null,null,null,null,null,null,null,null,null,null,null,null,null,null,null,null,null,null,0]
[null,null,null,null,null,null,null,null,null,null,null,null,null,null,null,null,null,null,null,null,null,null,null,null,null,null,null,null,null,null,null,null,null,null,null,null,null,null,null,null,null,null,null,null,null,null,null,null,null,null,null,null,null,null,null,null,null,null,null,null,null,null,0]
[null,null,null,null,null,null,null,null,null,null,null,null,null,null,null,null,null,null,null,null,null,null,null,null,null,null,null,null,null,null,null,null,null,null,null,null,null,null,null,null,null,null,null,null,null,null,null,null,null,null,null,null,null,null,null,null,null,null,null,null,null,null,0]
[null,null,null,null,null,null,null,null,null,null,null,null,null,null,null,null,null,null,null,null,null,null,null,null,null,null,null,null,null,null,null,null,null,null,null,null,null,null,null,null,null,null,null,null,null,null,null,null,null,null,null,null,null,null,null,null,null,null,null,null,null,null,0]
[null,null,null,null,null,null,null,null,null,null,null,null,null,null,null,null,null,null,null,null,null,null,null,null,null,null,null,null,null,null,null,null,null,null,null,null,null,null,null,null,null,null,null,null,null,null,null,null,null,null,null,null,null,null,null,null,null,null,null,null,null,null,0]
[null,null,null,null,null,null,null,null,null,null,null,null,null,null,null,null,null,null,null,null,null,null,null,null,null,null,null,null,null,null,null,null,null,null,null,null,null,null,null,null,null,null,null,null,null,null,null,null,null,null,null,null,null,null,null,null,null,null,null,null,null,null,0]
[null,null,null,null,null,null,null,null,null,null,null,null,null,null,null,null,null,null,null,null,null,null,null,null,null,null,null,null,null,null,null,null,null,null,null,null,null,null,null,null,null,null,null,null,null,null,null,null,null,null,null,null,null,null,null,null,null,null,null,null,null,null,0]
[null,null,null,null,null,null,null,null,null,null,null,null,null,null,null,null,null,null,null,null,null,null,null,null,null,null,null,null,null,null,null,null,null,null,null,null,null,null,null,null,null,null,null,null,null,null,null,null,null,null,null,null,null,null,null,null,null,null,null,null,null,null,0]
[null,null,null,null,null,null,null,null,null,null,null,null,null,null,null,null,null,null,null,null,null,null,null,null,null,null,null,null,null,null,null,null,null,null,null,null,null,null,null,null,null,null,null,null,null,null,null,null,null,null,null,null,null,null,null,null,null,null,null,null,null,null,0]
[null,null,null,null,null,null,null,null,null,null,null,null,null,null,null,null,null,null,null,null,null,null,null,null,null,null,null,null,null,null,null,null,null,null,null,null,null,null,null,null,null,null,null,null,null,null,null,null,null,null,null,null,null,null,null,null,null,null,null,null,null,null,0]
[null,null,null,null,null,null,null,null,null,null,null,null,null,null,null,null,null,null,null,null,null,null,null,null,null,null,null,null,null,null,null,null,null,null,null,null,null,null,null,null,null,null,null,null,null,null,null,null,null,null,null,null,null,null,null,null,null,null,null,null,null,null,0]
[null,null,null,null,null,null,null,null,null,null,null,null,null,null,null,null,null,null,null,null,null,null,null,null,null,null,null,null,null,null,null,null,null,null,null,null,null,null,null,null,null,null,null,null,null,null,null,null,null,null,null,null,null,null,null,null,null,null,null,null,null,null,0]
[null,null,null,null,null,null,null,null,null,null,null,null,null,null,null,null,null,null,null,null,null,null,null,null,null,null,null,null,null,null,null,null,null,null,null,null,null,null,null,null,null,null,null,null,null,null,null,null,null,null,null,null,null,null,null,null,null,null,null,null,null,null,0]
[null,null,null,null,null,null,null,null,null,null,null,null,null,null,null,null,null,null,null,null,null,null,null,null,null,null,null,null,null,null,null,null,null,null,null,null,null,null,null,null,null,null,null,null,null,null,null,null,null,null,null,null,null,null,null,null,null,null,null,null,null,null,0]
[null,null,null,null,null,null,null,null,null,null,null,null,null,null,null,null,null,null,null,null,null,null,null,null,null,null,null,null,null,null,null,null,null,null,null,null,null,null,null,null,null,null,null,null,null,null,null,null,null,null,null,null,null,null,null,null,null,null,null,null,null,null,0]
[null,null,null,null,null,null,null,null,null,null,null,null,null,null,null,null,null,null,null,null,null,null,null,null,null,null,null,null,null,null,null,null,null,null,null,null,null,null,null,null,null,null,null,null,null,null,null,null,null,null,null,null,null,null,null,null,null,null,null,null,null,null,0]
[null,null,null,null,null,null,null,null,null,null,null,null,null,null,null,null,null,null,null,null,null,null,null,null,null,null,null,null,null,null,null,null,null,null,null,null,null,null,null,null,null,null,null,null,null,null,null,null,null,null,null,null,null,null,null,null,null,null,null,null,null,null,0]
[null,null,null,null,null,null,null,null,null,null,null,null,null,null,null,null,null,null,null,null,null,null,null,null,null,null,null,null,null,null,null,null,null,null,null,null,null,null,null,null,null,null,null,null,null,null,null,null,null,null,null,null,null,null,null,null,null,null,null,null,null,null,0]
[null,null,null,null,null,null,null,null,null,null,null,null,null,null,null,null,null,null,null,null,null,null,null,null,null,null,null,null,null,null,null,null,null,null,null,null,null,null,null,null,null,null,null,null,null,null,null,null,null,null,null,null,null,null,null,null,null,null,null,null,null,null,0]
[null,null,null,null,null,null,null,null,null,null,null,null,null,null,null,null,null,null,null,null,null,null,null,null,null,null,null,null,null,null,null,null,null,null,null,null,null,null,null,null,null,null,null,null,null,null,null,null,null,null,null,null,null,null,null,null,null,null,null,null,null,null,0]
[null,null,null,null,null,null,null,null,null,null,null,null,null,null,null,null,null,null,null,null,null,null,null,null,null,null,null,null,null,null,null,null,null,null,null,null,null,null,null,null,null,null,null,null,null,null,null,null,null,null,null,null,null,null,null,null,null,null,null,null,null,null,{"$f":"C79*$C$11+D79*$D$11+E79*$E$11+F79*$F$11+G79*$G$11+H79*$H$11+I79*$I$11+J79*$J$11+K79*$K$11+L79*$L$11+M79*$M$11+N79*$N$11+O79*$O$11+P79*$P$11+Q79*$Q$11+R79*$R$11+S79*$S$11+T79*$T$11+U79*$U$11+V79*$V$11+W79*$W$11+X79*$X$11+Y79*$Y$11+Z79*$Z$11+AA79*$AA$11+AB79*$AB$11+AC79*$AC$11+AD79*$AD$11+AE79*$AE$11+AF79*$AF$11+AG79*$AG$11+AH79*$AH$11+AI79*$AI$11+AJ79*$AJ$11+AK79*$AK$11+AL79*$AL$11+AM79*$AM$11+AN79*$AN$11+AO79*$AO$11+AP79*$AP$11+AQ79*$AQ$11+AR79*$AR$11+AS79*$AS$11+AT79*$AT$11+AU79*$AU$11+AV79*$AV$11+AW79*$AW$11+AX79*$AX$11+AY79*$AY$11+AZ79*$AZ$11+BA79*$BA$11+BB79*$BB$11+BC79*$BC$11+BD79*$BD$11+BE79*$BE$11+BF79*$BF$11+BG79*$BG$11+BH79*$BH$11+BI79*$BI$11+BJ79*$BJ$11","v":0}]
[null,null,null,null,null,null,null,null,null,null,null,null,null,null,null,null,null,null,null,null,null,null,null,null,null,null,null,null,null,null,null,null,null,null,null,null,null,null,null,null,null,null,null,null,null,null,null,null,null,null,null,null,null,null,null,null,null,null,null,null,null,null,0]
[null,null,null,null,null,null,null,null,null,null,null,null,null,null,null,null,null,null,null,null,null,null,null,null,null,null,null,null,null,null,null,null,null,null,null,null,null,null,null,null,null,null,null,null,null,null,null,null,null,null,null,null,null,null,null,null,null,null,null,null,null,null,0]
[null,null,null,null,null,null,null,null,null,null,null,null,null,null,null,null,null,null,null,null,null,null,null,null,null,null,null,null,null,null,null,null,null,null,null,null,null,null,null,null,null,null,null,null,null,null,null,null,null,null,null,null,null,null,null,null,null,null,null,null,null,null,0]
[null,null,null,null,null,null,null,null,null,null,null,null,null,null,null,null,null,null,null,null,null,null,null,null,null,null,null,null,null,null,null,null,null,null,null,null,null,null,null,null,null,null,null,null,null,null,null,null,null,null,null,null,null,null,null,null,null,null,null,null,null,null,0]
[null,null,null,null,null,null,null,null,null,null,null,null,null,null,null,null,null,null,null,null,null,null,null,null,null,null,null,null,null,null,null,null,null,null,null,null,null,null,null,null,null,null,null,null,null,null,null,null,null,null,null,null,null,null,null,null,null,null,null,null,null,null,0]
[null,null,null,null,null,null,null,null,null,null,null,null,null,null,null,null,null,null,null,null,null,null,null,null,null,null,null,null,null,null,null,null,null,null,null,null,null,null,null,null,null,null,null,null,null,null,null,null,null,null,null,null,null,null,null,null,null,null,null,null,null,null,0]
[null,null,null,null,null,null,null,null,null,null,null,null,null,null,null,null,null,null,null,null,null,null,null,null,null,null,null,null,null,null,null,null,null,null,null,null,null,null,null,null,null,null,null,null,null,null,null,null,null,null,null,null,null,null,null,null,null,null,null,null,null,null,0]
[null,null,null,null,null,null,null,null,null,null,null,null,null,null,null,null,null,null,null,null,null,null,null,null,null,null,null,null,null,null,null,null,null,null,null,null,null,null,null,null,null,null,null,null,null,null,null,null,null,null,null,null,null,null,null,null,null,null,null,null,null,null,0]
[null,null,null,null,null,null,null,null,null,null,null,null,null,null,null,null,null,null,null,null,null,null,null,null,null,null,null,null,null,null,null,null,null,null,null,null,null,null,null,null,null,null,null,null,null,null,null,null,null,null,null,null,null,null,null,null,null,null,null,null,null,null,0]
[null,null,null,null,null,null,null,null,null,null,null,null,null,null,null,null,null,null,null,null,null,null,null,null,null,null,null,null,null,null,null,null,null,null,null,null,null,null,null,null,null,null,null,null,null,null,null,null,null,null,null,null,null,null,null,null,null,null,null,null,null,null,0]
[null,null,null,null,null,null,null,null,null,null,null,null,null,null,null,null,null,null,null,null,null,null,null,null,null,null,null,null,null,null,null,null,null,null,null,null,null,null,null,null,null,null,null,null,null,null,null,null,null,null,null,null,null,null,null,null,null,null,null,null,null,null,0]
[null,null,null,null,null,null,null,null,null,null,null,null,null,null,null,null,null,null,null,null,null,null,null,null,null,null,null,null,null,null,null,null,null,null,null,null,null,null,null,null,null,null,null,null,null,null,null,null,null,null,null,null,null,null,null,null,null,null,null,null,null,null,0]
[null,null,null,null,null,null,null,null,null,null,null,null,null,null,null,null,null,null,null,null,null,null,null,null,null,null,null,null,null,null,null,null,null,null,null,null,null,null,null,null,null,null,null,null,null,null,null,null,null,null,null,null,null,null,null,null,null,null,null,null,null,null,0]
[null,null,null,null,null,null,null,null,null,null,null,null,null,null,null,null,null,null,null,null,null,null,null,null,null,null,null,null,null,null,null,null,null,null,null,null,null,null,null,null,null,null,null,null,null,null,null,null,null,null,null,null,null,null,null,null,null,null,null,null,null,null,0]
[null,null,null,null,null,null,null,null,null,null,null,null,null,null,null,null,null,null,null,null,null,null,null,null,null,null,null,null,null,null,null,null,null,null,null,null,null,null,null,null,null,null,null,null,null,null,null,null,null,null,null,null,null,null,null,null,null,null,null,null,null,null,0]
[null,null,null,null,null,null,null,null,null,null,null,null,null,null,null,null,null,null,null,null,null,null,null,null,null,null,null,null,null,null,null,null,null,null,null,null,null,null,null,null,null,null,null,null,null,null,null,null,null,null,null,null,null,null,null,null,null,null,null,null,null,null,0]
[null,null,null,null,null,null,null,null,null,null,null,null,null,null,null,null,null,null,null,null,null,null,null,null,null,null,null,null,null,null,null,null,null,null,null,null,null,null,null,null,null,null,null,null,null,null,null,null,null,null,null,null,null,null,null,null,null,null,null,null,null,null,0]
[null,null,null,null,null,null,null,null,null,null,null,null,null,null,null,null,null,null,null,null,null,null,null,null,null,null,null,null,null,null,null,null,null,null,null,null,null,null,null,null,null,null,null,null,null,null,null,null,null,null,null,null,null,null,null,null,null,null,null,null,null,null,0]
[null,null,null,null,null,null,null,null,null,null,null,null,null,null,null,null,null,null,null,null,null,null,null,null,null,null,null,null,null,null,null,null,null,null,null,null,null,null,null,null,null,null,null,null,null,null,null,null,null,null,null,null,null,null,null,null,null,null,null,null,null,null,0]
[null,null,null,null,null,null,null,null,null,null,null,null,null,null,null,null,null,null,null,null,null,null,null,null,null,null,null,null,null,null,null,null,null,null,null,null,null,null,null,null,null,null,null,null,null,null,null,null,null,null,null,null,null,null,null,null,null,null,null,null,null,null,0]
[null,null,null,null,null,null,null,null,null,null,null,null,null,null,null,null,null,null,null,null,null,null,null,null,null,null,null,null,null,null,null,null,null,null,null,null,null,null,null,null,null,null,null,null,null,null,null,null,null,null,null,null,null,null,null,null,null,null,null,null,null,null,0]
[null,null,null,null,null,null,null,null,null,null,null,null,null,null,null,null,null,null,null,null,null,null,null,null,null,null,null,null,null,null,null,null,null,null,null,null,null,null,null,null,null,null,null,null,null,null,null,null,null,null,null,null,null,null,null,null,null,null,null,null,null,null,0]
[null,null,null,null,null,null,null,null,null,null,null,null,null,null,null,null,null,null,null,null,null,null,null,null,null,null,null,null,null,null,null,null,null,null,null,null,null,null,null,null,null,null,null,null,null,null,null,null,null,null,null,null,null,null,null,null,null,null,null,null,null,null,0]
[null,null,null,null,null,null,null,null,null,null,null,null,null,null,null,null,null,null,null,null,null,null,null,null,null,null,null,null,null,null,null,null,null,null,null,null,null,null,null,null,null,null,null,null,null,null,null,null,null,null,null,null,null,null,null,null,null,null,null,null,null,null,0]
[null,null,null,null,null,null,null,null,null,null,null,null,null,null,null,null,null,null,null,null,null,null,null,null,null,null,null,null,null,null,null,null,null,null,null,null,null,null,null,null,null,null,null,null,null,null,null,null,null,null,null,null,null,null,null,null,null,null,null,null,null,null,0]
[null,null,null,null,null,null,null,null,null,null,null,null,null,null,null,null,null,null,null,null,null,null,null,null,null,null,null,null,null,null,null,null,null,null,null,null,null,null,null,null,null,null,null,null,null,null,null,null,null,null,null,null,null,null,null,null,null,null,null,null,null,null,0]
[null,null,null,null,null,null,null,null,null,null,null,null,null,null,null,null,null,null,null,null,null,null,null,null,null,null,null,null,null,null,null,null,null,null,null,null,null,null,null,null,null,null,null,null,null,null,null,null,null,null,null,null,null,null,null,null,null,null,null,null,null,null,0]
[null,null,null,null,null,null,null,null,null,null,null,null,null,null,null,null,null,null,null,null,null,null,null,null,null,null,null,null,null,null,null,null,null,null,null,null,null,null,null,null,null,null,null,null,null,null,null,null,null,null,null,null,null,null,null,null,null,null,null,null,null,null,0]
[null,null,null,null,null,null,null,null,null,null,null,null,null,null,null,null,null,null,null,null,null,null,null,null,null,null,null,null,null,null,null,null,null,null,null,null,null,null,null,null,null,null,null,null,null,null,null,null,null,null,null,null,null,null,null,null,null,null,null,null,null,null,0]
[null,null,null,null,null,null,null,null,null,null,null,null,null,null,null,null,null,null,null,null,null,null,null,null,null,null,null,null,null,null,null,null,null,null,null,null,null,null,null,null,null,null,null,null,null,null,null,null,null,null,null,null,null,null,null,null,null,null,null,null,null,null,0]
[null,null,null,null,null,null,null,null,null,null,null,null,null,null,null,null,null,null,null,null,null,null,null,null,null,null,null,null,null,null,null,null,null,null,null,null,null,null,null,null,null,null,null,null,null,null,null,null,null,null,null,null,null,null,null,null,null,null,null,null,null,null,0]
[null,null,null,null,null,null,null,null,null,null,null,null,null,null,null,null,null,null,null,null,null,null,null,null,null,null,null,null,null,null,null,null,null,null,null,null,null,null,null,null,null,null,null,null,null,null,null,null,null,null,null,null,null,null,null,null,null,null,null,null,null,null,0]
[null,null,null,null,null,null,null,null,null,null,null,null,null,null,null,null,null,null,null,null,null,null,null,null,null,null,null,null,null,null,null,null,null,null,null,null,null,null,null,null,null,null,null,null,null,null,null,null,null,null,null,null,null,null,null,null,null,null,null,null,null,null,0]
[null,null,null,null,null,null,null,null,null,null,null,null,null,null,null,null,null,null,null,null,null,null,null,null,null,null,null,null,null,null,null,null,null,null,null,null,null,null,null,null,null,null,null,null,null,null,null,null,null,null,null,null,null,null,null,null,null,null,null,null,null,null,0]
[null,null,null,null,null,null,null,null,null,null,null,null,null,null,null,null,null,null,null,null,null,null,null,null,null,null,null,null,null,null,null,null,null,null,null,null,null,null,null,null,null,null,null,null,null,null,null,null,null,null,null,null,null,null,null,null,null,null,null,null,null,null,0]
[null,null,null,null,null,null,null,null,null,null,null,null,null,null,null,null,null,null,null,null,null,null,null,null,null,null,null,null,null,null,null,null,null,null,null,null,null,null,null,null,null,null,null,null,null,null,null,null,null,null,null,null,null,null,null,null,null,null,null,null,null,null,0]
[null,null,null,null,null,null,null,null,null,null,null,null,null,null,null,null,null,null,null,null,null,null,null,null,null,null,null,null,null,null,null,null,null,null,null,null,null,null,null,null,null,null,null,null,null,null,null,null,null,null,null,null,null,null,null,null,null,null,null,null,null,null,0]
[null,null,null,null,null,null,null,null,null,null,null,null,null,null,null,null,null,null,null,null,null,null,null,null,null,null,null,null,null,null,null,null,null,null,null,null,null,null,null,null,null,null,null,null,null,null,null,null,null,null,null,null,null,null,null,null,null,null,null,null,null,null,0]
[null,null,null,null,null,null,null,null,null,null,null,null,null,null,null,null,null,null,null,null,null,null,null,null,null,null,null,null,null,null,null,null,null,null,null,null,null,null,null,null,null,null,null,null,null,null,null,null,null,null,null,null,null,null,null,null,null,null,null,null,null,null,0]
[null,null,null,null,null,null,null,null,null,null,null,null,null,null,null,null,null,null,null,null,null,null,null,null,null,null,null,null,null,null,null,null,null,null,null,null,null,null,null,null,null,null,null,null,null,null,null,null,null,null,null,null,null,null,null,null,null,null,null,null,null,null,0]
[null,null,null,null,null,null,null,null,null,null,null,null,null,null,null,null,null,null,null,null,null,null,null,null,null,null,null,null,null,null,null,null,null,null,null,null,null,null,null,null,null,null,null,null,null,null,null,null,null,null,null,null,null,null,null,null,null,null,null,null,null,null,0]
[null,null,null,null,null,null,null,null,null,null,null,null,null,null,null,null,null,null,null,null,null,null,null,null,null,null,null,null,null,null,null,null,null,null,null,null,null,null,null,null,null,null,null,null,null,null,null,null,null,null,null,null,null,null,null,null,null,null,null,null,null,null,0]
[null,null,null,null,null,null,null,null,null,null,null,null,null,null,null,null,null,null,null,null,null,null,null,null,null,null,null,null,null,null,null,null,null,null,null,null,null,null,null,null,null,null,null,null,null,null,null,null,null,null,null,null,null,null,null,null,null,null,null,null,null,null,0]
[null,null,null,null,null,null,null,null,null,null,null,null,null,null,null,null,null,null,null,null,null,null,null,null,null,null,null,null,null,null,null,null,null,null,null,null,null,null,null,null,null,null,null,null,null,null,null,null,null,null,null,null,null,null,null,null,null,null,null,null,null,null,0]
[null,null,null,null,null,null,null,null,null,null,null,null,null,null,null,null,null,null,null,null,null,null,null,null,null,null,null,null,null,null,null,null,null,null,null,null,null,null,null,null,null,null,null,null,null,null,null,null,null,null,null,null,null,null,null,null,null,null,null,null,null,null,0]
[null,null,null,null,null,null,null,null,null,null,null,null,null,null,null,null,null,null,null,null,null,null,null,null,null,null,null,null,null,null,null,null,null,null,null,null,null,null,null,null,null,null,null,null,null,null,null,null,null,null,null,null,null,null,null,null,null,null,null,null,null,null,0]
[null,null,null,null,null,null,null,null,null,null,null,null,null,null,null,null,null,null,null,null,null,null,null,null,null,null,null,null,null,null,null,null,null,null,null,null,null,null,null,null,null,null,null,null,null,null,null,null,null,null,null,null,null,null,null,null,null,null,null,null,null,null,0]
[null,null,null,null,null,null,null,null,null,null,null,null,null,null,null,null,null,null,null,null,null,null,null,null,null,null,null,null,null,null,null,null,null,null,null,null,null,null,null,null,null,null,null,null,null,null,null,null,null,null,null,null,null,null,null,null,null,null,null,null,null,null,0]
[null,null,null,null,null,null,null,null,null,null,null,null,null,null,null,null,null,null,null,null,null,null,null,null,null,null,null,null,null,null,null,null,null,null,null,null,null,null,null,null,null,null,null,null,null,null,null,null,null,null,null,null,null,null,null,null,null,null,null,null,null,null,0]
[null,null,null,null,null,null,null,null,null,null,null,null,null,null,null,null,null,null,null,null,null,null,null,null,null,null,null,null,null,null,null,null,null,null,null,null,null,null,null,null,null,null,null,null,null,null,null,null,null,null,null,null,null,null,null,null,null,null,null,null,null,null,0]
[null,null,null,null,null,null,null,null,null,null,null,null,null,null,null,null,null,null,null,null,null,null,null,null,null,null,null,null,null,null,null,null,null,null,null,null,null,null,null,null,null,null,null,null,null,null,null,null,null,null,null,null,null,null,null,null,null,null,null,null,null,null,0]
[null,null,null,null,null,null,null,null,null,null,null,null,null,null,null,null,null,null,null,null,null,null,null,null,null,null,null,null,null,null,null,null,null,null,null,null,null,null,null,null,null,null,null,null,null,null,null,null,null,null,null,null,null,null,null,null,null,null,null,null,null,null,0]
[null,null,null,null,null,null,null,null,null,null,null,null,null,null,null,null,null,null,null,null,null,null,null,null,null,null,null,null,null,null,null,null,null,null,null,null,null,null,null,null,null,null,null,null,null,null,null,null,null,null,null,null,null,null,null,null,null,null,null,null,null,null,0]
[null,null,null,null,null,null,null,null,null,null,null,null,null,null,null,null,null,null,null,null,null,null,null,null,null,null,null,null,null,null,null,null,null,null,null,null,null,null,null,null,null,null,null,null,null,null,null,null,null,null,null,null,null,null,null,null,null,null,null,null,null,null,0]
[null,null,null,null,null,null,null,null,null,null,null,null,null,null,null,null,null,null,null,null,null,null,null,null,null,null,null,null,null,null,null,null,null,null,null,null,null,null,null,null,null,null,null,null,null,null,null,null,null,null,null,null,null,null,null,null,null,null,null,null,null,null,0]
[null,null,null,null,null,null,null,null,null,null,null,null,null,null,null,null,null,null,null,null,null,null,null,null,null,null,null,null,null,null,null,null,null,null,null,null,null,null,null,null,null,null,null,null,null,null,null,null,null,null,null,null,null,null,null,null,null,null,null,null,null,null,0]
[null,null,null,null,null,null,null,null,null,null,null,null,null,null,null,null,null,null,null,null,null,null,null,null,null,null,null,null,null,null,null,null,null,null,null,null,null,null,null,null,null,null,null,null,null,null,null,null,null,null,null,null,null,null,null,null,null,null,null,null,null,null,0]
[null,null,null,null,null,null,null,null,null,null,null,null,null,null,null,null,null,null,null,null,null,null,null,null,null,null,null,null,null,null,null,null,null,null,null,null,null,null,null,null,null,null,null,null,null,null,null,null,null,null,null,null,null,null,null,null,null,null,null,null,null,null,0]
[null,null,null,null,null,null,null,null,null,null,null,null,null,null,null,null,null,null,null,null,null,null,null,null,null,null,null,null,null,null,null,null,null,null,null,null,null,null,null,null,null,null,null,null,null,null,null,null,null,null,null,null,null,null,null,null,null,null,null,null,null,null,0]
[null,null,null,null,null,null,null,null,null,null,null,null,null,null,null,null,null,null,null,null,null,null,null,null,null,null,null,null,null,null,null,null,null,null,null,null,null,null,null,null,null,null,null,null,null,null,null,null,null,null,null,null,null,null,null,null,null,null,null,null,null,null,0]
[null,null,null,null,null,null,null,null,null,null,null,null,null,null,null,null,null,null,null,null,null,null,null,null,null,null,null,null,null,null,null,null,null,null,null,null,null,null,null,null,null,null,null,null,null,null,null,null,null,null,null,null,null,null,null,null,null,null,null,null,null,null,0]
[null,null,null,null,null,null,null,null,null,null,null,null,null,null,null,null,null,null,null,null,null,null,null,null,null,null,null,null,null,null,null,null,null,null,null,null,null,null,null,null,null,null,null,null,null,null,null,null,null,null,null,null,null,null,null,null,null,null,null,null,null,null,0]
[null,null,null,null,null,null,null,null,null,null,null,null,null,null,null,null,null,null,null,null,null,null,null,null,null,null,null,null,null,null,null,null,null,null,null,null,null,null,null,null,null,null,null,null,null,null,null,null,null,null,null,null,null,null,null,null,null,null,null,null,null,null,0]
[null,null,null,null,null,null,null,null,null,null,null,null,null,null,null,null,null,null,null,null,null,null,null,null,null,null,null,null,null,null,null,null,null,null,null,null,null,null,null,null,null,null,null,null,null,null,null,null,null,null,null,null,null,null,null,null,null,null,null,null,null,null,{"$f":"C143*$C$11+D143*$D$11+E143*$E$11+F143*$F$11+G143*$G$11+H143*$H$11+I143*$I$11+J143*$J$11+K143*$K$11+L143*$L$11+M143*$M$11+N143*$N$11+O143*$O$11+P143*$P$11+Q143*$Q$11+R143*$R$11+S143*$S$11+T143*$T$11+U143*$U$11+V143*$V$11+W143*$W$11+X143*$X$11+Y143*$Y$11+Z143*$Z$11+AA143*$AA$11+AB143*$AB$11+AC143*$AC$11+AD143*$AD$11+AE143*$AE$11+AF143*$AF$11+AG143*$AG$11+AH143*$AH$11+AI143*$AI$11+AJ143*$AJ$11+AK143*$AK$11+AL143*$AL$11+AM143*$AM$11+AN143*$AN$11+AO143*$AO$11+AP143*$AP$11+AQ143*$AQ$11+AR143*$AR$11+AS143*$AS$11+AT143*$AT$11+AU143*$AU$11+AV143*$AV$11+AW143*$AW$11+AX143*$AX$11+AY143*$AY$11+AZ143*$AZ$11+BA143*$BA$11+BB143*$BB$11+BC143*$BC$11+BD143*$BD$11+BE143*$BE$11+BF143*$BF$11+BG143*$BG$11+BH143*$BH$11+BI143*$BI$11+BJ143*$BJ$11","v":0}]
[null,null,null,null,null,null,null,null,null,null,null,null,null,null,null,null,null,null,null,null,null,null,null,null,null,null,null,null,null,null,null,null,null,null,null,null,null,null,null,null,null,null,null,null,null,null,null,null,null,null,null,null,null,null,null,null,null,null,null,null,null,null,0]
[null,null,null,null,null,null,null,null,null,null,null,null,null,null,null,null,null,null,null,null,null,null,null,null,null,null,null,null,null,null,null,null,null,null,null,null,null,null,null,null,null,null,null,null,null,null,null,null,null,null,null,null,null,null,null,null,null,null,null,null,null,null,0]
[null,null,null,null,null,null,null,null,null,null,null,null,null,null,null,null,null,null,null,null,null,null,null,null,null,null,null,null,null,null,null,null,null,null,null,null,null,null,null,null,null,null,null,null,null,null,null,null,null,null,null,null,null,null,null,null,null,null,null,null,null,null,0]
[null,null,null,null,null,null,null,null,null,null,null,null,null,null,null,null,null,null,null,null,null,null,null,null,null,null,null,null,null,null,null,null,null,null,null,null,null,null,null,null,null,null,null,null,null,null,null,null,null,null,null,null,null,null,null,null,null,null,null,null,null,null,0]
[null,null,null,null,null,null,null,null,null,null,null,null,null,null,null,null,null,null,null,null,null,null,null,null,null,null,null,null,null,null,null,null,null,null,null,null,null,null,null,null,null,null,null,null,null,null,null,null,null,null,null,null,null,null,null,null,null,null,null,null,null,null,0]
[null,null,null,null,null,null,null,null,null,null,null,null,null,null,null,null,null,null,null,null,null,null,null,null,null,null,null,null,null,null,null,null,null,null,null,null,null,null,null,null,null,null,null,null,null,null,null,null,null,null,null,null,null,null,null,null,null,null,null,null,null,null,0]
[null,null,null,null,null,null,null,null,null,null,null,null,null,null,null,null,null,null,null,null,null,null,null,null,null,null,null,null,null,null,null,null,null,null,null,null,null,null,null,null,null,null,null,null,null,null,null,null,null,null,null,null,null,null,null,null,null,null,null,null,null,null,0]
[null,null,null,null,null,null,null,null,null,null,null,null,null,null,null,null,null,null,null,null,null,null,null,null,null,null,null,null,null,null,null,null,null,null,null,null,null,null,null,null,null,null,null,null,null,null,null,null,null,null,null,null,null,null,null,null,null,null,null,null,null,null,0]
[null,null,null,null,null,null,null,null,null,null,null,null,null,null,null,null,null,null,null,null,null,null,null,null,null,null,null,null,null,null,null,null,null,null,null,null,null,null,null,null,null,null,null,null,null,null,null,null,null,null,null,null,null,null,null,null,null,null,null,null,null,null,0]
[null,null,null,null,null,null,null,null,null,null,null,null,null,null,null,null,null,null,null,null,null,null,null,null,null,null,null,null,null,null,null,null,null,null,null,null,null,null,null,null,null,null,null,null,null,null,null,null,null,null,null,null,null,null,null,null,null,null,null,null,null,null,0]
[null,null,null,null,null,null,null,null,null,null,null,null,null,null,null,null,null,null,null,null,null,null,null,null,null,null,null,null,null,null,null,null,null,null,null,null,null,null,null,null,null,null,null,null,null,null,null,null,null,null,null,null,null,null,null,null,null,null,null,null,null,null,0]
[null,null,null,null,null,null,null,null,null,null,null,null,null,null,null,null,null,null,null,null,null,null,null,null,null,null,null,null,null,null,null,null,null,null,null,null,null,null,null,null,null,null,null,null,null,null,null,null,null,null,null,null,null,null,null,null,null,null,null,null,null,null,0]
[null,null,null,null,null,null,null,null,null,null,null,null,null,null,null,null,null,null,null,null,null,null,null,null,null,null,null,null,null,null,null,null,null,null,null,null,null,null,null,null,null,null,null,null,null,null,null,null,null,null,null,null,null,null,null,null,null,null,null,null,null,null,0]
[null,null,null,null,null,null,null,null,null,null,null,null,null,null,null,null,null,null,null,null,null,null,null,null,null,null,null,null,null,null,null,null,null,null,null,null,null,null,null,null,null,null,null,null,null,null,null,null,null,null,null,null,null,null,null,null,null,null,null,null,null,null,0]
[null,null,null,null,null,null,null,null,null,null,null,null,null,null,null,null,null,null,null,null,null,null,null,null,null,null,null,null,null,null,null,null,null,null,null,null,null,null,null,null,null,null,null,null,null,null,null,null,null,null,null,null,null,null,null,null,null,null,null,null,null,null,0]
[null,null,null,null,null,null,null,null,null,null,null,null,null,null,null,null,null,null,null,null,null,null,null,null,null,null,null,null,null,null,null,null,null,null,null,null,null,null,null,null,null,null,null,null,null,null,null,null,null,null,null,null,null,null,null,null,null,null,null,null,null,null,0]
[null,null,null,null,null,null,null,null,null,null,null,null,null,null,null,null,null,null,null,null,null,null,null,null,null,null,null,null,null,null,null,null,null,null,null,null,null,null,null,null,null,null,null,null,null,null,null,null,null,null,null,null,null,null,null,null,null,null,null,null,null,null,0]
[null,null,null,null,null,null,null,null,null,null,null,null,null,null,null,null,null,null,null,null,null,null,null,null,null,null,null,null,null,null,null,null,null,null,null,null,null,null,null,null,null,null,null,null,null,null,null,null,null,null,null,null,null,null,null,null,null,null,null,null,null,null,0]
[null,null,null,null,null,null,null,null,null,null,null,null,null,null,null,null,null,null,null,null,null,null,null,null,null,null,null,null,null,null,null,null,null,null,null,null,null,null,null,null,null,null,null,null,null,null,null,null,null,null,null,null,null,null,null,null,null,null,null,null,null,null,0]
[null,null,null,null,null,null,null,null,null,null,null,null,null,null,null,null,null,null,null,null,null,null,null,null,null,null,null,null,null,null,null,null,null,null,null,null,null,null,null,null,null,null,null,null,null,null,null,null,null,null,null,null,null,null,null,null,null,null,null,null,null,null,0]
[null,null,null,null,null,null,null,null,null,null,null,null,null,null,null,null,null,null,null,null,null,null,null,null,null,null,null,null,null,null,null,null,null,null,null,null,null,null,null,null,null,null,null,null,null,null,null,null,null,null,null,null,null,null,null,null,null,null,null,null,null,null,0]
[null,null,null,null,null,null,null,null,null,null,null,null,null,null,null,null,null,null,null,null,null,null,null,null,null,null,null,null,null,null,null,null,null,null,null,null,null,null,null,null,null,null,null,null,null,null,null,null,null,null,null,null,null,null,null,null,null,null,null,null,null,null,0]
[null,null,null,null,null,null,null,null,null,null,null,null,null,null,null,null,null,null,null,null,null,null,null,null,null,null,null,null,null,null,null,null,null,null,null,null,null,null,null,null,null,null,null,null,null,null,null,null,null,null,null,null,null,null,null,null,null,null,null,null,null,null,0]
[null,null,null,null,null,null,null,null,null,null,null,null,null,null,null,null,null,null,null,null,null,null,null,null,null,null,null,null,null,null,null,null,null,null,null,null,null,null,null,null,null,null,null,null,null,null,null,null,null,null,null,null,null,null,null,null,null,null,null,null,null,null,0]
[null,null,null,null,null,null,null,null,null,null,null,null,null,null,null,null,null,null,null,null,null,null,null,null,null,null,null,null,null,null,null,null,null,null,null,null,null,null,null,null,null,null,null,null,null,null,null,null,null,null,null,null,null,null,null,null,null,null,null,null,null,null,0]
[null,null,null,null,null,null,null,null,null,null,null,null,null,null,null,null,null,null,null,null,null,null,null,null,null,null,null,null,null,null,null,null,null,null,null,null,null,null,null,null,null,null,null,null,null,null,null,null,null,null,null,null,null,null,null,null,null,null,null,null,null,null,0]
[null,null,null,null,null,null,null,null,null,null,null,null,null,null,null,null,null,null,null,null,null,null,null,null,null,null,null,null,null,null,null,null,null,null,null,null,null,null,null,null,null,null,null,null,null,null,null,null,null,null,null,null,null,null,null,null,null,null,null,null,null,null,0]
[null,null,null,null,null,null,null,null,null,null,null,null,null,null,null,null,null,null,null,null,null,null,null,null,null,null,null,null,null,null,null,null,null,null,null,null,null,null,null,null,null,null,null,null,null,null,null,null,null,null,null,null,null,null,null,null,null,null,null,null,null,null,0]
[null,null,null,null,null,null,null,null,null,null,null,null,null,null,null,null,null,null,null,null,null,null,null,null,null,null,null,null,null,null,null,null,null,null,null,null,null,null,null,null,null,null,null,null,null,null,null,null,null,null,null,null,null,null,null,null,null,null,null,null,null,null,0]
[null,null,null,null,null,null,null,null,null,null,null,null,null,null,null,null,null,null,null,null,null,null,null,null,null,null,null,null,null,null,null,null,null,null,null,null,null,null,null,null,null,null,null,null,null,null,null,null,null,null,null,null,null,null,null,null,null,null,null,null,null,null,0]
[null,null,null,null,null,null,null,null,null,null,null,null,null,null,null,null,null,null,null,null,null,null,null,null,null,null,null,null,null,null,null,null,null,null,null,null,null,null,null,null,null,null,null,null,null,null,null,null,null,null,null,null,null,null,null,null,null,null,null,null,null,null,0]
[null,null,null,null,null,null,null,null,null,null,null,null,null,null,null,null,null,null,null,null,null,null,null,null,null,null,null,null,null,null,null,null,null,null,null,null,null,null,null,null,null,null,null,null,null,null,null,null,null,null,null,null,null,null,null,null,null,null,null,null,null,null,0]
[null,null,null,null,null,null,null,null,null,null,null,null,null,null,null,null,null,null,null,null,null,null,null,null,null,null,null,null,null,null,null,null,null,null,null,null,null,null,null,null,null,null,null,null,null,null,null,null,null,null,null,null,null,null,null,null,null,null,null,null,null,null,0]
[null,null,null,null,null,null,null,null,null,null,null,null,null,null,null,null,null,null,null,null,null,null,null,null,null,null,null,null,null,null,null,null,null,null,null,null,null,null,null,null,null,null,null,null,null,null,null,null,null,null,null,null,null,null,null,null,null,null,null,null,null,null,0]
[null,null,null,null,null,null,null,null,null,null,null,null,null,null,null,null,null,null,null,null,null,null,null,null,null,null,null,null,null,null,null,null,null,null,null,null,null,null,null,null,null,null,null,null,null,null,null,null,null,null,null,null,null,null,null,null,null,null,null,null,null,null,0]
[null,null,null,null,null,null,null,null,null,null,null,null,null,null,null,null,null,null,null,null,null,null,null,null,null,null,null,null,null,null,null,null,null,null,null,null,null,null,null,null,null,null,null,null,null,null,null,null,null,null,null,null,null,null,null,null,null,null,null,null,null,null,0]
[null,null,null,null,null,null,null,null,null,null,null,null,null,null,null,null,null,null,null,null,null,null,null,null,null,null,null,null,null,null,null,null,null,null,null,null,null,null,null,null,null,null,null,null,null,null,null,null,null,null,null,null,null,null,null,null,null,null,null,null,null,null,0]
[null,null,null,null,null,null,null,null,null,null,null,null,null,null,null,null,null,null,null,null,null,null,null,null,null,null,null,null,null,null,null,null,null,null,null,null,null,null,null,null,null,null,null,null,null,null,null,null,null,null,null,null,null,null,null,null,null,null,null,null,null,null,0]
[null,null,null,null,null,null,null,null,null,null,null,null,null,null,null,null,null,null,null,null,null,null,null,null,null,null,null,null,null,null,null,null,null,null,null,null,null,null,null,null,null,null,null,null,null,null,null,null,null,null,null,null,null,null,null,null,null,null,null,null,null,null,0]
[null,null,null,null,null,null,null,null,null,null,null,null,null,null,null,null,null,null,null,null,null,null,null,null,null,null,null,null,null,null,null,null,null,null,null,null,null,null,null,null,null,null,null,null,null,null,null,null,null,null,null,null,null,null,null,null,null,null,null,null,null,null,0]
[null,null,null,null,null,null,null,null,null,null,null,null,null,null,null,null,null,null,null,null,null,null,null,null,null,null,null,null,null,null,null,null,null,null,null,null,null,null,null,null,null,null,null,null,null,null,null,null,null,null,null,null,null,null,null,null,null,null,null,null,null,null,0]
[null,null,null,null,null,null,null,null,null,null,null,null,null,null,null,null,null,null,null,null,null,null,null,null,null,null,null,null,null,null,null,null,null,null,null,null,null,null,null,null,null,null,null,null,null,null,null,null,null,null,null,null,null,null,null,null,null,null,null,null,null,null,0]
[null,null,null,null,null,null,null,null,null,null,null,null,null,null,null,null,null,null,null,null,null,null,null,null,null,null,null,null,null,null,null,null,null,null,null,null,null,null,null,null,null,null,null,null,null,null,null,null,null,null,null,null,null,null,null,null,null,null,null,null,null,null,0]
[null,null,null,null,null,null,null,null,null,null,null,null,null,null,null,null,null,null,null,null,null,null,null,null,null,null,null,null,null,null,null,null,null,null,null,null,null,null,null,null,null,null,null,null,null,null,null,null,null,null,null,null,null,null,null,null,null,null,null,null,null,null,0]
[null,null,null,null,null,null,null,null,null,null,null,null,null,null,null,null,null,null,null,null,null,null,null,null,null,null,null,null,null,null,null,null,null,null,null,null,null,null,null,null,null,null,null,null,null,null,null,null,null,null,null,null,null,null,null,null,null,null,null,null,null,null,0]
[null,null,null,null,null,null,null,null,null,null,null,null,null,null,null,null,null,null,null,null,null,null,null,null,null,null,null,null,null,null,null,null,null,null,null,null,null,null,null,null,null,null,null,null,null,null,null,null,null,null,null,null,null,null,null,null,null,null,null,null,null,null,0]
[null,null,null,null,null,null,null,null,null,null,null,null,null,null,null,null,null,null,null,null,null,null,null,null,null,null,null,null,null,null,null,null,null,null,null,null,null,null,null,null,null,null,null,null,null,null,null,null,null,null,null,null,null,null,null,null,null,null,null,null,null,null,0]
[null,null,null,null,null,null,null,null,null,null,null,null,null,null,null,null,null,null,null,null,null,null,null,null,null,null,null,null,null,null,null,null,null,null,null,null,null,null,null,null,null,null,null,null,null,null,null,null,null,null,null,null,null,null,null,null,null,null,null,null,null,null,0]
[null,null,null,null,null,null,null,null,null,null,null,null,null,null,null,null,null,null,null,null,null,null,null,null,null,null,null,null,null,null,null,null,null,null,null,null,null,null,null,null,null,null,null,null,null,null,null,null,null,null,null,null,null,null,null,null,null,null,null,null,null,null,0]
[null,null,null,null,null,null,null,null,null,null,null,null,null,null,null,null,null,null,null,null,null,null,null,null,null,null,null,null,null,null,null,null,null,null,null,null,null,null,null,null,null,null,null,null,null,null,null,null,null,null,null,null,null,null,null,null,null,null,null,null,null,null,0]
[null,null,null,null,null,null,null,null,null,null,null,null,null,null,null,null,null,null,null,null,null,null,null,null,null,null,null,null,null,null,null,null,null,null,null,null,null,null,null,null,null,null,null,null,null,null,null,null,null,null,null,null,null,null,null,null,null,null,null,null,null,null,0]
[null,null,null,null,null,null,null,null,null,null,null,null,null,null,null,null,null,null,null,null,null,null,null,null,null,null,null,null,null,null,null,null,null,null,null,null,null,null,null,null,null,null,null,null,null,null,null,null,null,null,null,null,null,null,null,null,null,null,null,null,null,null,0]
[null,null,null,null,null,null,null,null,null,null,null,null,null,null,null,null,null,null,null,null,null,null,null,null,null,null,null,null,null,null,null,null,null,null,null,null,null,null,null,null,null,null,null,null,null,null,null,null,null,null,null,null,null,null,null,null,null,null,null,null,null,null,0]
[null,null,null,null,null,null,null,null,null,null,null,null,null,null,null,null,null,null,null,null,null,null,null,null,null,null,null,null,null,null,null,null,null,null,null,null,null,null,null,null,null,null,null,null,null,null,null,null,null,null,null,null,null,null,null,null,null,null,null,null,null,null,0]
[null,null,null,null,null,null,null,null,null,null,null,null,null,null,null,null,null,null,null,null,null,null,null,null,null,null,null,null,null,null,null,null,null,null,null,null,null,null,null,null,null,null,null,null,null,null,null,null,null,null,null,null,null,null,null,null,null,null,null,null,null,null,0]
[null,null,null,null,null,null,null,null,null,null,null,null,null,null,null,null,null,null,null,null,null,null,null,null,null,null,null,null,null,null,null,null,null,null,null,null,null,null,null,null,null,null,null,null,null,null,null,null,null,null,null,null,null,null,null,null,null,null,null,null,null,null,0]
[null,null,null,null,null,null,null,null,null,null,null,null,null,null,null,null,null,null,null,null,null,null,null,null,null,null,null,null,null,null,null,null,null,null,null,null,null,null,null,null,null,null,null,null,null,null,null,null,null,null,null,null,null,null,null,null,null,null,null,null,null,null,0]
[null,null,null,null,null,null,null,null,null,null,null,null,null,null,null,null,null,null,null,null,null,null,null,null,null,null,null,null,null,null,null,null,null,null,null,null,null,null,null,null,null,null,null,null,null,null,null,null,null,null,null,null,null,null,null,null,null,null,null,null,null,null,0]
[null,null,null,null,null,null,null,null,null,null,null,null,null,null,null,null,null,null,null,null,null,null,null,null,null,null,null,null,null,null,null,null,null,null,null,null,null,null,null,null,null,null,null,null,null,null,null,null,null,null,null,null,null,null,null,null,null,null,null,null,null,null,0]
[null,null,null,null,null,null,null,null,null,null,null,null,null,null,null,null,null,null,null,null,null,null,null,null,null,null,null,null,null,null,null,null,null,null,null,null,null,null,null,null,null,null,null,null,null,null,null,null,null,null,null,null,null,null,null,null,null,null,null,null,null,null,0]
[null,null,null,null,null,null,null,null,null,null,null,null,null,null,null,null,null,null,null,null,null,null,null,null,null,null,null,null,null,null,null,null,null,null,null,null,null,null,null,null,null,null,null,null,null,null,null,null,null,null,null,null,null,null,null,null,null,null,null,null,null,null,0]
[null,null,null,null,null,null,null,null,null,null,null,null,null,null,null,null,null,null,null,null,null,null,null,null,null,null,null,null,null,null,null,null,null,null,null,null,null,null,null,null,null,null,null,null,null,null,null,null,null,null,null,null,null,null,null,null,null,null,null,null,null,null,0]
[null,null,null,null,null,null,null,null,null,null,null,null,null,null,null,null,null,null,null,null,null,null,null,null,null,null,null,null,null,null,null,null,null,null,null,null,null,null,null,null,null,null,null,null,null,null,null,null,null,null,null,null,null,null,null,null,null,null,null,null,null,null,0]
[null,null,null,null,null,null,null,null,null,null,null,null,null,null,null,null,null,null,null,null,null,null,null,null,null,null,null,null,null,null,null,null,null,null,null,null,null,null,null,null,null,null,null,null,null,null,null,null,null,null,null,null,null,null,null,null,null,null,null,null,null,null,{"$f":"C207*$C$11+D207*$D$11+E207*$E$11+F207*$F$11+G207*$G$11+H207*$H$11+I207*$I$11+J207*$J$11+K207*$K$11+L207*$L$11+M207*$M$11+N207*$N$11+O207*$O$11+P207*$P$11+Q207*$Q$11+R207*$R$11+S207*$S$11+T207*$T$11+U207*$U$11+V207*$V$11+W207*$W$11+X207*$X$11+Y207*$Y$11+Z207*$Z$11+AA207*$AA$11+AB207*$AB$11+AC207*$AC$11+AD207*$AD$11+AE207*$AE$11+AF207*$AF$11+AG207*$AG$11+AH207*$AH$11+AI207*$AI$11+AJ207*$AJ$11+AK207*$AK$11+AL207*$AL$11+AM207*$AM$11+AN207*$AN$11+AO207*$AO$11+AP207*$AP$11+AQ207*$AQ$11+AR207*$AR$11+AS207*$AS$11+AT207*$AT$11+AU207*$AU$11+AV207*$AV$11+AW207*$AW$11+AX207*$AX$11+AY207*$AY$11+AZ207*$AZ$11+BA207*$BA$11+BB207*$BB$11+BC207*$BC$11+BD207*$BD$11+BE207*$BE$11+BF207*$BF$11+BG207*$BG$11+BH207*$BH$11+BI207*$BI$11+BJ207*$BJ$11","v":0}]
[null,null,null,null,null,null,null,null,null,null,null,null,null,null,null,null,null,null,null,null,null,null,null,null,null,null,null,null,null,null,null,null,null,null,null,null,null,null,null,null,null,null,null,null,null,null,null,null,null,null,null,null,null,null,null,null,null,null,null,null,null,null,0]
[null,null,null,null,null,null,null,null,null,null,null,null,null,null,null,null,null,null,null,null,null,null,null,null,null,null,null,null,null,null,null,null,null,null,null,null,null,null,null,null,null,null,null,null,null,null,null,null,null,null,null,null,null,null,null,null,null,null,null,null,null,null,0]
[null,null,null,null,null,null,null,null,null,null,null,null,null,null,null,null,null,null,null,null,null,null,null,null,null,null,null,null,null,null,null,null,null,null,null,null,null,null,null,null,null,null,null,null,null,null,null,null,null,null,null,null,null,null,null,null,null,null,null,null,null,null,0]
[null,null,null,null,null,null,null,null,null,null,null,null,null,null,null,null,null,null,null,null,null,null,null,null,null,null,null,null,null,null,null,null,null,null,null,null,null,null,null,null,null,null,null,null,null,null,null,null,null,null,null,null,null,null,null,null,null,null,null,null,null,null,0]
[null,null,null,null,null,null,null,null,null,null,null,null,null,null,null,null,null,null,null,null,null,null,null,null,null,null,null,null,null,null,null,null,null,null,null,null,null,null,null,null,null,null,null,null,null,null,null,null,null,null,null,null,null,null,null,null,null,null,null,null,null,null,0]
[null,null,null,null,null,null,null,null,null,null,null,null,null,null,null,null,null,null,null,null,null,null,null,null,null,null,null,null,null,null,null,null,null,null,null,null,null,null,null,null,null,null,null,null,null,null,null,null,null,null,null,null,null,null,null,null,null,null,null,null,null,null,0]
[null,null,null,null,null,null,null,null,null,null,null,null,null,null,null,null,null,null,null,null,null,null,null,null,null,null,null,null,null,null,null,null,null,null,null,null,null,null,null,null,null,null,null,null,null,null,null,null,null,null,null,null,null,null,null,null,null,null,null,null,null,null,0]
[null,null,null,null,null,null,null,null,null,null,null,null,null,null,null,null,null,null,null,null,null,null,null,null,null,null,null,null,null,null,null,null,null,null,null,null,null,null,null,null,null,null,null,null,null,null,null,null,null,null,null,null,null,null,null,null,null,null,null,null,null,null,0]
[null,null,null,null,null,null,null,null,null,null,null,null,null,null,null,null,null,null,null,null,null,null,null,null,null,null,null,null,null,null,null,null,null,null,null,null,null,null,null,null,null,null,null,null,null,null,null,null,null,null,null,null,null,null,null,null,null,null,null,null,null,null,0]
[null,null,null,null,null,null,null,null,null,null,null,null,null,null,null,null,null,null,null,null,null,null,null,null,null,null,null,null,null,null,null,null,null,null,null,null,null,null,null,null,null,null,null,null,null,null,null,null,null,null,null,null,null,null,null,null,null,null,null,null,null,null,0]
[null,null,null,null,null,null,null,null,null,null,null,null,null,null,null,null,null,null,null,null,null,null,null,null,null,null,null,null,null,null,null,null,null,null,null,null,null,null,null,null,null,null,null,null,null,null,null,null,null,null,null,null,null,null,null,null,null,null,null,null,null,null,0]
[null,null,null,null,null,null,null,null,null,null,null,null,null,null,null,null,null,null,null,null,null,null,null,null,null,null,null,null,null,null,null,null,null,null,null,null,null,null,null,null,null,null,null,null,null,null,null,null,null,null,null,null,null,null,null,null,null,null,null,null,null,null,0]
[null,null,null,null,null,null,null,null,null,null,null,null,null,null,null,null,null,null,null,null,null,null,null,null,null,null,null,null,null,null,null,null,null,null,null,null,null,null,null,null,null,null,null,null,null,null,null,null,null,null,null,null,null,null,null,null,null,null,null,null,null,null,0]
[null,null,null,null,null,null,null,null,null,null,null,null,null,null,null,null,null,null,null,null,null,null,null,null,null,null,null,null,null,null,null,null,null,null,null,null,null,null,null,null,null,null,null,null,null,null,null,null,null,null,null,null,null,null,null,null,null,null,null,null,null,null,0]
[null,null,null,null,null,null,null,null,null,null,null,null,null,null,null,null,null,null,null,null,null,null,null,null,null,null,null,null,null,null,null,null,null,null,null,null,null,null,null,null,null,null,null,null,null,null,null,null,null,null,null,null,null,null,null,null,null,null,null,null,null,null,0]
[null,null,null,null,null,null,null,null,null,null,null,null,null,null,null,null,null,null,null,null,null,null,null,null,null,null,null,null,null,null,null,null,null,null,null,null,null,null,null,null,null,null,null,null,null,null,null,null,null,null,null,null,null,null,null,null,null,null,null,null,null,null,0]
[null,null,null,null,null,null,null,null,null,null,null,null,null,null,null,null,null,null,null,null,null,null,null,null,null,null,null,null,null,null,null,null,null,null,null,null,null,null,null,null,null,null,null,null,null,null,null,null,null,null,null,null,null,null,null,null,null,null,null,null,null,null,0]
[null,null,null,null,null,null,null,null,null,null,null,null,null,null,null,null,null,null,null,null,null,null,null,null,null,null,null,null,null,null,null,null,null,null,null,null,null,null,null,null,null,null,null,null,null,null,null,null,null,null,null,null,null,null,null,null,null,null,null,null,null,null,0]
[null,null,null,null,null,null,null,null,null,null,null,null,null,null,null,null,null,null,null,null,null,null,null,null,null,null,null,null,null,null,null,null,null,null,null,null,null,null,null,null,null,null,null,null,null,null,null,null,null,null,null,null,null,null,null,null,null,null,null,null,null,null,0]
[null,null,null,null,null,null,null,null,null,null,null,null,null,null,null,null,null,null,null,null,null,null,null,null,null,null,null,null,null,null,null,null,null,null,null,null,null,null,null,null,null,null,null,null,null,null,null,null,null,null,null,null,null,null,null,null,null,null,null,null,null,null,0]
[null,null,null,null,null,null,null,null,null,null,null,null,null,null,null,null,null,null,null,null,null,null,null,null,null,null,null,null,null,null,null,null,null,null,null,null,null,null,null,null,null,null,null,null,null,null,null,null,null,null,null,null,null,null,null,null,null,null,null,null,null,null,0]
[null,null,null,null,null,null,null,null,null,null,null,null,null,null,null,null,null,null,null,null,null,null,null,null,null,null,null,null,null,null,null,null,null,null,null,null,null,null,null,null,null,null,null,null,null,null,null,null,null,null,null,null,null,null,null,null,null,null,null,null,null,null,0]
[null,null,null,null,null,null,null,null,null,null,null,null,null,null,null,null,null,null,null,null,null,null,null,null,null,null,null,null,null,null,null,null,null,null,null,null,null,null,null,null,null,null,null,null,null,null,null,null,null,null,null,null,null,null,null,null,null,null,null,null,null,null,0]
[null,null,null,null,null,null,null,null,null,null,null,null,null,null,null,null,null,null,null,null,null,null,null,null,null,null,null,null,null,null,null,null,null,null,null,null,null,null,null,null,null,null,null,null,null,null,null,null,null,null,null,null,null,null,null,null,null,null,null,null,null,null,0]
[null,null,null,null,null,null,null,null,null,null,null,null,null,null,null,null,null,null,null,null,null,null,null,null,null,null,null,null,null,null,null,null,null,null,null,null,null,null,null,null,null,null,null,null,null,null,null,null,null,null,null,null,null,null,null,null,null,null,null,null,null,null,0]
[null,null,null,null,null,null,null,null,null,null,null,null,null,null,null,null,null,null,null,null,null,null,null,null,null,null,null,null,null,null,null,null,null,null,null,null,null,null,null,null,null,null,null,null,null,null,null,null,null,null,null,null,null,null,null,null,null,null,null,null,null,null,0]
[null,null,null,null,null,null,null,null,null,null,null,null,null,null,null,null,null,null,null,null,null,null,null,null,null,null,null,null,null,null,null,null,null,null,null,null,null,null,null,null,null,null,null,null,null,null,null,null,null,null,null,null,null,null,null,null,null,null,null,null,null,null,0]
[null,null,null,null,null,null,null,null,null,null,null,null,null,null,null,null,null,null,null,null,null,null,null,null,null,null,null,null,null,null,null,null,null,null,null,null,null,null,null,null,null,null,null,null,null,null,null,null,null,null,null,null,null,null,null,null,null,null,null,null,null,null,0]
[null,null,null,null,null,null,null,null,null,null,null,null,null,null,null,null,null,null,null,null,null,null,null,null,null,null,null,null,null,null,null,null,null,null,null,null,null,null,null,null,null,null,null,null,null,null,null,null,null,null,null,null,null,null,null,null,null,null,null,null,null,null,0]
[null,null,null,null,null,null,null,null,null,null,null,null,null,null,null,null,null,null,null,null,null,null,null,null,null,null,null,null,null,null,null,null,null,null,null,null,null,null,null,null,null,null,null,null,null,null,null,null,null,null,null,null,null,null,null,null,null,null,null,null,null,null,0]
[null,null,null,null,null,null,null,null,null,null,null,null,null,null,null,null,null,null,null,null,null,null,null,null,null,null,null,null,null,null,null,null,null,null,null,null,null,null,null,null,null,null,null,null,null,null,null,null,null,null,null,null,null,null,null,null,null,null,null,null,null,null,0]
[null,null,null,null,null,null,null,null,null,null,null,null,null,null,null,null,null,null,null,null,null,null,null,null,null,null,null,null,null,null,null,null,null,null,null,null,null,null,null,null,null,null,null,null,null,null,null,null,null,null,null,null,null,null,null,null,null,null,null,null,null,null,0]
[null,null,null,null,null,null,null,null,null,null,null,null,null,null,null,null,null,null,null,null,null,null,null,null,null,null,null,null,null,null,null,null,null,null,null,null,null,null,null,null,null,null,null,null,null,null,null,null,null,null,null,null,null,null,null,null,null,null,null,null,null,null,0]
[null,null,null,null,null,null,null,null,null,null,null,null,null,null,null,null,null,null,null,null,null,null,null,null,null,null,null,null,null,null,null,null,null,null,null,null,null,null,null,null,null,null,null,null,null,null,null,null,null,null,null,null,null,null,null,null,null,null,null,null,null,null,0]
[null,null,null,null,null,null,null,null,null,null,null,null,null,null,null,null,null,null,null,null,null,null,null,null,null,null,null,null,null,null,null,null,null,null,null,null,null,null,null,null,null,null,null,null,null,null,null,null,null,null,null,null,null,null,null,null,null,null,null,null,null,null,0]
[null,null,null,null,null,null,null,null,null,null,null,null,null,null,null,null,null,null,null,null,null,null,null,null,null,null,null,null,null,null,null,null,null,null,null,null,null,null,null,null,null,null,null,null,null,null,null,null,null,null,null,null,null,null,null,null,null,null,null,null,null,null,0]
[null,null,null,null,null,null,null,null,null,null,null,null,null,null,null,null,null,null,null,null,null,null,null,null,null,null,null,null,null,null,null,null,null,null,null,null,null,null,null,null,null,null,null,null,null,null,null,null,null,null,null,null,null,null,null,null,null,null,null,null,null,null,0]
[null,null,null,null,null,null,null,null,null,null,null,null,null,null,null,null,null,null,null,null,null,null,null,null,null,null,null,null,null,null,null,null,null,null,null,null,null,null,null,null,null,null,null,null,null,null,null,null,null,null,null,null,null,null,null,null,null,null,null,null,null,null,0]
[null,null,null,null,null,null,null,null,null,null,null,null,null,null,null,null,null,null,null,null,null,null,null,null,null,null,null,null,null,null,null,null,null,null,null,null,null,null,null,null,null,null,null,null,null,null,null,null,null,null,null,null,null,null,null,null,null,null,null,null,null,null,0]
[null,null,null,null,null,null,null,null,null,null,null,null,null,null,null,null,null,null,null,null,null,null,null,null,null,null,null,null,null,null,null,null,null,null,null,null,null,null,null,null,null,null,null,null,null,null,null,null,null,null,null,null,null,null,null,null,null,null,null,null,null,null,0]
[null,null,null,null,null,null,null,null,null,null,null,null,null,null,null,null,null,null,null,null,null,null,null,null,null,null,null,null,null,null,null,null,null,null,null,null,null,null,null,null,null,null,null,null,null,null,null,null,null,null,null,null,null,null,null,null,null,null,null,null,null,null,0]
[null,null,null,null,null,null,null,null,null,null,null,null,null,null,null,null,null,null,null,null,null,null,null,null,null,null,null,null,null,null,null,null,null,null,null,null,null,null,null,null,null,null,null,null,null,null,null,null,null,null,null,null,null,null,null,null,null,null,null,null,null,null,0]
[null,null,null,null,null,null,null,null,null,null,null,null,null,null,null,null,null,null,null,null,null,null,null,null,null,null,null,null,null,null,null,null,null,null,null,null,null,null,null,null,null,null,null,null,null,null,null,null,null,null,null,null,null,null,null,null,null,null,null,null,null,null,0]
[null,null,null,null,null,null,null,null,null,null,null,null,null,null,null,null,null,null,null,null,null,null,null,null,null,null,null,null,null,null,null,null,null,null,null,null,null,null,null,null,null,null,null,null,null,null,null,null,null,null,null,null,null,null,null,null,null,null,null,null,null,null,0]
[null,null,null,null,null,null,null,null,null,null,null,null,null,null,null,null,null,null,null,null,null,null,null,null,null,null,null,null,null,null,null,null,null,null,null,null,null,null,null,null,null,null,null,null,null,null,null,null,null,null,null,null,null,null,null,null,null,null,null,null,null,null,0]
[null,null,null,null,null,null,null,null,null,null,null,null,null,null,null,null,null,null,null,null,null,null,null,null,null,null,null,null,null,null,null,null,null,null,null,null,null,null,null,null,null,null,null,null,null,null,null,null,null,null,null,null,null,null,null,null,null,null,null,null,null,null,0]
[null,null,null,null,null,null,null,null,null,null,null,null,null,null,null,null,null,null,null,null,null,null,null,null,null,null,null,null,null,null,null,null,null,null,null,null,null,null,null,null,null,null,null,null,null,null,null,null,null,null,null,null,null,null,null,null,null,null,null,null,null,null,0]
[null,null,null,null,null,null,null,null,null,null,null,null,null,null,null,null,null,null,null,null,null,null,null,null,null,null,null,null,null,null,null,null,null,null,null,null,null,null,null,null,null,null,null,null,null,null,null,null,null,null,null,null,null,null,null,null,null,null,null,null,null,null,0]
[null,null,null,null,null,null,null,null,null,null,null,null,null,null,null,null,null,null,null,null,null,null,null,null,null,null,null,null,null,null,null,null,null,null,null,null,null,null,null,null,null,null,null,null,null,null,null,null,null,null,null,null,null,null,null,null,null,null,null,null,null,null,0]
[null,null,null,null,null,null,null,null,null,null,null,null,null,null,null,null,null,null,null,null,null,null,null,null,null,null,null,null,null,null,null,null,null,null,null,null,null,null,null,null,null,null,null,null,null,null,null,null,null,null,null,null,null,null,null,null,null,null,null,null,null,null,0]
[null,null,null,null,null,null,null,null,null,null,null,null,null,null,null,null,null,null,null,null,null,null,null,null,null,null,null,null,null,null,null,null,null,null,null,null,null,null,null,null,null,null,null,null,null,null,null,null,null,null,null,null,null,null,null,null,null,null,null,null,null,null,0]
[null,null,null,null,null,null,null,null,null,null,null,null,null,null,null,null,null,null,null,null,null,null,null,null,null,null,null,null,null,null,null,null,null,null,null,null,null,null,null,null,null,null,null,null,null,null,null,null,null,null,null,null,null,null,null,null,null,null,null,null,null,null,0]
[null,null,null,null,null,null,null,null,null,null,null,null,null,null,null,null,null,null,null,null,null,null,null,null,null,null,null,null,null,null,null,null,null,null,null,null,null,null,null,null,null,null,null,null,null,null,null,null,null,null,null,null,null,null,null,null,null,null,null,null,null,null,0]
[null,null,null,null,null,null,null,null,null,null,null,null,null,null,null,null,null,null,null,null,null,null,null,null,null,null,null,null,null,null,null,null,null,null,null,null,null,null,null,null,null,null,null,null,null,null,null,null,null,null,null,null,null,null,null,null,null,null,null,null,null,null,0]
[null,null,null,null,null,null,null,null,null,null,null,null,null,null,null,null,null,null,null,null,null,null,null,null,null,null,null,null,null,null,null,null,null,null,null,null,null,null,null,null,null,null,null,null,null,null,null,null,null,null,null,null,null,null,null,null,null,null,null,null,null,null,0]
[null,null,null,null,null,null,null,null,null,null,null,null,null,null,null,null,null,null,null,null,null,null,null,null,null,null,null,null,null,null,null,null,null,null,null,null,null,null,null,null,null,null,null,null,null,null,null,null,null,null,null,null,null,null,null,null,null,null,null,null,null,null,0]
[null,null,null,null,null,null,null,null,null,null,null,null,null,null,null,null,null,null,null,null,null,null,null,null,null,null,null,null,null,null,null,null,null,null,null,null,null,null,null,null,null,null,null,null,null,null,null,null,null,null,null,null,null,null,null,null,null,null,null,null,null,null,0]
[null,null,null,null,null,null,null,null,null,null,null,null,null,null,null,null,null,null,null,null,null,null,null,null,null,null,null,null,null,null,null,null,null,null,null,null,null,null,null,null,null,null,null,null,null,null,null,null,null,null,null,null,null,null,null,null,null,null,null,null,null,null,0]
[null,null,null,null,null,null,null,null,null,null,null,null,null,null,null,null,null,null,null,null,null,null,null,null,null,null,null,null,null,null,null,null,null,null,null,null,null,null,null,null,null,null,null,null,null,null,null,null,null,null,null,null,null,null,null,null,null,null,null,null,null,null,0]
[null,null,null,null,null,null,null,null,null,null,null,null,null,null,null,null,null,null,null,null,null,null,null,null,null,null,null,null,null,null,null,null,null,null,null,null,null,null,null,null,null,null,null,null,null,null,null,null,null,null,null,null,null,null,null,null,null,null,null,null,null,null,0]
[null,null,null,null,null,null,null,null,null,null,null,null,null,null,null,null,null,null,null,null,null,null,null,null,null,null,null,null,null,null,null,null,null,null,null,null,null,null,null,null,null,null,null,null,null,null,null,null,null,null,null,null,null,null,null,null,null,null,null,null,null,null,0]
[null,null,null,null,null,null,null,null,null,null,null,null,null,null,null,null,null,null,null,null,null,null,null,null,null,null,null,null,null,null,null,null,null,null,null,null,null,null,null,null,null,null,null,null,null,null,null,null,null,null,null,null,null,null,null,null,null,null,null,null,null,null,0]
[null,null,null,null,null,null,null,null,null,null,null,null,null,null,null,null,null,null,null,null,null,null,null,null,null,null,null,null,null,null,null,null,null,null,null,null,null,null,null,null,null,null,null,null,null,null,null,null,null,null,null,null,null,null,null,null,null,null,null,null,null,null,0]
[null,null,null,null,null,null,null,null,null,null,null,null,null,null,null,null,null,null,null,null,null,null,null,null,null,null,null,null,null,null,null,null,null,null,null,null,null,null,null,null,null,null,null,null,null,null,null,null,null,null,null,null,null,null,null,null,null,null,null,null,null,null,{"$f":"C271*$C$11+D271*$D$11+E271*$E$11+F271*$F$11+G271*$G$11+H271*$H$11+I271*$I$11+J271*$J$11+K271*$K$11+L271*$L$11+M271*$M$11+N271*$N$11+O271*$O$11+P271*$P$11+Q271*$Q$11+R271*$R$11+S271*$S$11+T271*$T$11+U271*$U$11+V271*$V$11+W271*$W$11+X271*$X$11+Y271*$Y$11+Z271*$Z$11+AA271*$AA$11+AB271*$AB$11+AC271*$AC$11+AD271*$AD$11+AE271*$AE$11+AF271*$AF$11+AG271*$AG$11+AH271*$AH$11+AI271*$AI$11+AJ271*$AJ$11+AK271*$AK$11+AL271*$AL$11+AM271*$AM$11+AN271*$AN$11+AO271*$AO$11+AP271*$AP$11+AQ271*$AQ$11+AR271*$AR$11+AS271*$AS$11+AT271*$AT$11+AU271*$AU$11+AV271*$AV$11+AW271*$AW$11+AX271*$AX$11+AY271*$AY$11+AZ271*$AZ$11+BA271*$BA$11+BB271*$BB$11+BC271*$BC$11+BD271*$BD$11+BE271*$BE$11+BF271*$BF$11+BG271*$BG$11+BH271*$BH$11+BI271*$BI$11+BJ271*$BJ$11","v":0}]
[null,null,null,null,null,null,null,null,null,null,null,null,null,null,null,null,null,null,null,null,null,null,null,null,null,null,null,null,null,null,null,null,null,null,null,null,null,null,null,null,null,null,null,null,null,null,null,null,null,null,null,null,null,null,null,null,null,null,null,null,null,null,0]
[null,null,null,null,null,null,null,null,null,null,null,null,null,null,null,null,null,null,null,null,null,null,null,null,null,null,null,null,null,null,null,null,null,null,null,null,null,null,null,null,null,null,null,null,null,null,null,null,null,null,null,null,null,null,null,null,null,null,null,null,null,null,0]
[null,null,null,null,null,null,null,null,null,null,null,null,null,null,null,null,null,null,null,null,null,null,null,null,null,null,null,null,null,null,null,null,null,null,null,null,null,null,null,null,null,null,null,null,null,null,null,null,null,null,null,null,null,null,null,null,null,null,null,null,null,null,0]
[null,null,null,null,null,null,null,null,null,null,null,null,null,null,null,null,null,null,null,null,null,null,null,null,null,null,null,null,null,null,null,null,null,null,null,null,null,null,null,null,null,null,null,null,null,null,null,null,null,null,null,null,null,null,null,null,null,null,null,null,null,null,0]
[null,null,null,null,null,null,null,null,null,null,null,null,null,null,null,null,null,null,null,null,null,null,null,null,null,null,null,null,null,null,null,null,null,null,null,null,null,null,null,null,null,null,null,null,null,null,null,null,null,null,null,null,null,null,null,null,null,null,null,null,null,null,0]
[null,null,null,null,null,null,null,null,null,null,null,null,null,null,null,null,null,null,null,null,null,null,null,null,null,null,null,null,null,null,null,null,null,null,null,null,null,null,null,null,null,null,null,null,null,null,null,null,null,null,null,null,null,null,null,null,null,null,null,null,null,null,0]
[null,null,null,null,null,null,null,null,null,null,null,null,null,null,null,null,null,null,null,null,null,null,null,null,null,null,null,null,null,null,null,null,null,null,null,null,null,null,null,null,null,null,null,null,null,null,null,null,null,null,null,null,null,null,null,null,null,null,null,null,null,null,0]
[null,null,null,null,null,null,null,null,null,null,null,null,null,null,null,null,null,null,null,null,null,null,null,null,null,null,null,null,null,null,null,null,null,null,null,null,null,null,null,null,null,null,null,null,null,null,null,null,null,null,null,null,null,null,null,null,null,null,null,null,null,null,0]
[null,null,null,null,null,null,null,null,null,null,null,null,null,null,null,null,null,null,null,null,null,null,null,null,null,null,null,null,null,null,null,null,null,null,null,null,null,null,null,null,null,null,null,null,null,null,null,null,null,null,null,null,null,null,null,null,null,null,null,null,null,null,0]
[null,null,null,null,null,null,null,null,null,null,null,null,null,null,null,null,null,null,null,null,null,null,null,null,null,null,null,null,null,null,null,null,null,null,null,null,null,null,null,null,null,null,null,null,null,null,null,null,null,null,null,null,null,null,null,null,null,null,null,null,null,null,0]
[null,null,null,null,null,null,null,null,null,null,null,null,null,null,null,null,null,null,null,null,null,null,null,null,null,null,null,null,null,null,null,null,null,null,null,null,null,null,null,null,null,null,null,null,null,null,null,null,null,null,null,null,null,null,null,null,null,null,null,null,null,null,0]
[null,null,null,null,null,null,null,null,null,null,null,null,null,null,null,null,null,null,null,null,null,null,null,null,null,null,null,null,null,null,null,null,null,null,null,null,null,null,null,null,null,null,null,null,null,null,null,null,null,null,null,null,null,null,null,null,null,null,null,null,null,null,0]
[null,null,null,null,null,null,null,null,null,null,null,null,null,null,null,null,null,null,null,null,null,null,null,null,null,null,null,null,null,null,null,null,null,null,null,null,null,null,null,null,null,null,null,null,null,null,null,null,null,null,null,null,null,null,null,null,null,null,null,null,null,null,0]
[null,null,null,null,null,null,null,null,null,null,null,null,null,null,null,null,null,null,null,null,null,null,null,null,null,null,null,null,null,null,null,null,null,null,null,null,null,null,null,null,null,null,null,null,null,null,null,null,null,null,null,null,null,null,null,null,null,null,null,null,null,null,0]
[null,null,null,null,null,null,null,null,null,null,null,null,null,null,null,null,null,null,null,null,null,null,null,null,null,null,null,null,null,null,null,null,null,null,null,null,null,null,null,null,null,null,null,null,null,null,null,null,null,null,null,null,null,null,null,null,null,null,null,null,null,null,0]
[null,null,null,null,null,null,null,null,null,null,null,null,null,null,null,null,null,null,null,null,null,null,null,null,null,null,null,null,null,null,null,null,null,null,null,null,null,null,null,null,null,null,null,null,null,null,null,null,null,null,null,null,null,null,null,null,null,null,null,null,null,null,0]
[null,null,null,null,null,null,null,null,null,null,null,null,null,null,null,null,null,null,null,null,null,null,null,null,null,null,null,null,null,null,null,null,null,null,null,null,null,null,null,null,null,null,null,null,null,null,null,null,null,null,null,null,null,null,null,null,null,null,null,null,null,null,0]
[null,null,null,null,null,null,null,null,null,null,null,null,null,null,null,null,null,null,null,null,null,null,null,null,null,null,null,null,null,null,null,null,null,null,null,null,null,null,null,null,null,null,null,null,null,null,null,null,null,null,null,null,null,null,null,null,null,null,null,null,null,null,0]
[null,null,null,null,null,null,null,null,null,null,null,null,null,null,null,null,null,null,null,null,null,null,null,null,null,null,null,null,null,null,null,null,null,null,null,null,null,null,null,null,null,null,null,null,null,null,null,null,null,null,null,null,null,null,null,null,null,null,null,null,null,null,0]
[null,null,null,null,null,null,null,null,null,null,null,null,null,null,null,null,null,null,null,null,null,null,null,null,null,null,null,null,null,null,null,null,null,null,null,null,null,null,null,null,null,null,null,null,null,null,null,null,null,null,null,null,null,null,null,null,null,null,null,null,null,null,0]
[null,null,null,null,null,null,null,null,null,null,null,null,null,null,null,null,null,null,null,null,null,null,null,null,null,null,null,null,null,null,null,null,null,null,null,null,null,null,null,null,null,null,null,null,null,null,null,null,null,null,null,null,null,null,null,null,null,null,null,null,null,null,0]
[null,null,null,null,null,null,null,null,null,null,null,null,null,null,null,null,null,null,null,null,null,null,null,null,null,null,null,null,null,null,null,null,null,null,null,null,null,null,null,null,null,null,null,null,null,null,null,null,null,null,null,null,null,null,null,null,null,null,null,null,null,null,0]
[null,null,null,null,null,null,null,null,null,null,null,null,null,null,null,null,null,null,null,null,null,null,null,null,null,null,null,null,null,null,null,null,null,null,null,null,null,null,null,null,null,null,null,null,null,null,null,null,null,null,null,null,null,null,null,null,null,null,null,null,null,null,0]
[null,null,null,null,null,null,null,null,null,null,null,null,null,null,null,null,null,null,null,null,null,null,null,null,null,null,null,null,null,null,null,null,null,null,null,null,null,null,null,null,null,null,null,null,null,null,null,null,null,null,null,null,null,null,null,null,null,null,null,null,null,null,0]
[null,null,null,null,null,null,null,null,null,null,null,null,null,null,null,null,null,null,null,null,null,null,null,null,null,null,null,null,null,null,null,null,null,null,null,null,null,null,null,null,null,null,null,null,null,null,null,null,null,null,null,null,null,null,null,null,null,null,null,null,null,null,0]
[null,null,null,null,null,null,null,null,null,null,null,null,null,null,null,null,null,null,null,null,null,null,null,null,null,null,null,null,null,null,null,null,null,null,null,null,null,null,null,null,null,null,null,null,null,null,null,null,null,null,null,null,null,null,null,null,null,null,null,null,null,null,0]
[null,null,null,null,null,null,null,null,null,null,null,null,null,null,null,null,null,null,null,null,null,null,null,null,null,null,null,null,null,null,null,null,null,null,null,null,null,null,null,null,null,null,null,null,null,null,null,null,null,null,null,null,null,null,null,null,null,null,null,null,null,null,0]
[null,null,null,null,null,null,null,null,null,null,null,null,null,null,null,null,null,null,null,null,null,null,null,null,null,null,null,null,null,null,null,null,null,null,null,null,null,null,null,null,null,null,null,null,null,null,null,null,null,null,null,null,null,null,null,null,null,null,null,null,null,null,0]
[null,null,null,null,null,null,null,null,null,null,null,null,null,null,null,null,null,null,null,null,null,null,null,null,null,null,null,null,null,null,null,null,null,null,null,null,null,null,null,null,null,null,null,null,null,null,null,null,null,null,null,null,null,null,null,null,null,null,null,null,null,null,0]
[null,null,null,null,null,null,null,null,null,null,null,null,null,null,null,null,null,null,null,null,null,null,null,null,null,null,null,null,null,null,null,null,null,null,null,null,null,null,null,null,null,null,null,null,null,null,null,null,null,null,null,null,null,null,null,null,null,null,null,null,null,null,0]
[null,null,null,null,null,null,null,null,null,null,null,null,null,null,null,null,null,null,null,null,null,null,null,null,null,null,null,null,null,null,null,null,null,null,null,null,null,null,null,null,null,null,null,null,null,null,null,null,null,null,null,null,null,null,null,null,null,null,null,null,null,null,0]
[null,null,null,null,null,null,null,null,null,null,null,null,null,null,null,null,null,null,null,null,null,null,null,null,null,null,null,null,null,null,null,null,null,null,null,null,null,null,null,null,null,null,null,null,null,null,null,null,null,null,null,null,null,null,null,null,null,null,null,null,null,null,0]
[null,null,null,null,null,null,null,null,null,null,null,null,null,null,null,null,null,null,null,null,null,null,null,null,null,null,null,null,null,null,null,null,null,null,null,null,null,null,null,null,null,null,null,null,null,null,null,null,null,null,null,null,null,null,null,null,null,null,null,null,null,null,0]
[null,null,null,null,null,null,null,null,null,null,null,null,null,null,null,null,null,null,null,null,null,null,null,null,null,null,null,null,null,null,null,null,null,null,null,null,null,null,null,null,null,null,null,null,null,null,null,null,null,null,null,null,null,null,null,null,null,null,null,null,null,null,0]
[null,null,null,null,null,null,null,null,null,null,null,null,null,null,null,null,null,null,null,null,null,null,null,null,null,null,null,null,null,null,null,null,null,null,null,null,null,null,null,null,null,null,null,null,null,null,null,null,null,null,null,null,null,null,null,null,null,null,null,null,null,null,0]
[null,null,null,null,null,null,null,null,null,null,null,null,null,null,null,null,null,null,null,null,null,null,null,null,null,null,null,null,null,null,null,null,null,null,null,null,null,null,null,null,null,null,null,null,null,null,null,null,null,null,null,null,null,null,null,null,null,null,null,null,null,null,0]
[null,null,null,null,null,null,null,null,null,null,null,null,null,null,null,null,null,null,null,null,null,null,null,null,null,null,null,null,null,null,null,null,null,null,null,null,null,null,null,null,null,null,null,null,null,null,null,null,null,null,null,null,null,null,null,null,null,null,null,null,null,null,0]
[null,null,null,null,null,null,null,null,null,null,null,null,null,null,null,null,null,null,null,null,null,null,null,null,null,null,null,null,null,null,null,null,null,null,null,null,null,null,null,null,null,null,null,null,null,null,null,null,null,null,null,null,null,null,null,null,null,null,null,null,null,null,0]
[null,null,null,null,null,null,null,null,null,null,null,null,null,null,null,null,null,null,null,null,null,null,null,null,null,null,null,null,null,null,null,null,null,null,null,null,null,null,null,null,null,null,null,null,null,null,null,null,null,null,null,null,null,null,null,null,null,null,null,null,null,null,0]
[null,null,null,null,null,null,null,null,null,null,null,null,null,null,null,null,null,null,null,null,null,null,null,null,null,null,null,null,null,null,null,null,null,null,null,null,null,null,null,null,null,null,null,null,null,null,null,null,null,null,null,null,null,null,null,null,null,null,null,null,null,null,0]
[null,null,null,null,null,null,null,null,null,null,null,null,null,null,null,null,null,null,null,null,null,null,null,null,null,null,null,null,null,null,null,null,null,null,null,null,null,null,null,null,null,null,null,null,null,null,null,null,null,null,null,null,null,null,null,null,null,null,null,null,null,null,0]
[null,null,null,null,null,null,null,null,null,null,null,null,null,null,null,null,null,null,null,null,null,null,null,null,null,null,null,null,null,null,null,null,null,null,null,null,null,null,null,null,null,null,null,null,null,null,null,null,null,null,null,null,null,null,null,null,null,null,null,null,null,null,0]
[null,null,null,null,null,null,null,null,null,null,null,null,null,null,null,null,null,null,null,null,null,null,null,null,null,null,null,null,null,null,null,null,null,null,null,null,null,null,null,null,null,null,null,null,null,null,null,null,null,null,null,null,null,null,null,null,null,null,null,null,null,null,0]
[null,null,null,null,null,null,null,null,null,null,null,null,null,null,null,null,null,null,null,null,null,null,null,null,null,null,null,null,null,null,null,null,null,null,null,null,null,null,null,null,null,null,null,null,null,null,null,null,null,null,null,null,null,null,null,null,null,null,null,null,null,null,0]
[null,null,null,null,null,null,null,null,null,null,null,null,null,null,null,null,null,null,null,null,null,null,null,null,null,null,null,null,null,null,null,null,null,null,null,null,null,null,null,null,null,null,null,null,null,null,null,null,null,null,null,null,null,null,null,null,null,null,null,null,null,null,0]
[null,null,null,null,null,null,null,null,null,null,null,null,null,null,null,null,null,null,null,null,null,null,null,null,null,null,null,null,null,null,null,null,null,null,null,null,null,null,null,null,null,null,null,null,null,null,null,null,null,null,null,null,null,null,null,null,null,null,null,null,null,null,0]
[null,null,null,null,null,null,null,null,null,null,null,null,null,null,null,null,null,null,null,null,null,null,null,null,null,null,null,null,null,null,null,null,null,null,null,null,null,null,null,null,null,null,null,null,null,null,null,null,null,null,null,null,null,null,null,null,null,null,null,null,null,null,0]
[null,null,null,null,null,null,null,null,null,null,null,null,null,null,null,null,null,null,null,null,null,null,null,null,null,null,null,null,null,null,null,null,null,null,null,null,null,null,null,null,null,null,null,null,null,null,null,null,null,null,null,null,null,null,null,null,null,null,null,null,null,null,0]
[null,null,null,null,null,null,null,null,null,null,null,null,null,null,null,null,null,null,null,null,null,null,null,null,null,null,null,null,null,null,null,null,null,null,null,null,null,null,null,null,null,null,null,null,null,null,null,null,null,null,null,null,null,null,null,null,null,null,null,null,null,null,0]
[null,null,null,null,null,null,null,null,null,null,null,null,null,null,null,null,null,null,null,null,null,null,null,null,null,null,null,null,null,null,null,null,null,null,null,null,null,null,null,null,null,null,null,null,null,null,null,null,null,null,null,null,null,null,null,null,null,null,null,null,null,null,0]
[null,null,null,null,null,null,null,null,null,null,null,null,null,null,null,null,null,null,null,null,null,null,null,null,null,null,null,null,null,null,null,null,null,null,null,null,null,null,null,null,null,null,null,null,null,null,null,null,null,null,null,null,null,null,null,null,null,null,null,null,null,null,0]
[null,null,null,null,null,null,null,null,null,null,null,null,null,null,null,null,null,null,null,null,null,null,null,null,null,null,null,null,null,null,null,null,null,null,null,null,null,null,null,null,null,null,null,null,null,null,null,null,null,null,null,null,null,null,null,null,null,null,null,null,null,null,0]
[null,null,null,null,null,null,null,null,null,null,null,null,null,null,null,null,null,null,null,null,null,null,null,null,null,null,null,null,null,null,null,null,null,null,null,null,null,null,null,null,null,null,null,null,null,null,null,null,null,null,null,null,null,null,null,null,null,null,null,null,null,null,0]
[null,null,null,null,null,null,null,null,null,null,null,null,null,null,null,null,null,null,null,null,null,null,null,null,null,null,null,null,null,null,null,null,null,null,null,null,null,null,null,null,null,null,null,null,null,null,null,null,null,null,null,null,null,null,null,null,null,null,null,null,null,null,0]
[null,null,null,null,null,null,null,null,null,null,null,null,null,null,null,null,null,null,null,null,null,null,null,null,null,null,null,null,null,null,null,null,null,null,null,null,null,null,null,null,null,null,null,null,null,null,null,null,null,null,null,null,null,null,null,null,null,null,null,null,null,null,0]
[null,null,null,null,null,null,null,null,null,null,null,null,null,null,null,null,null,null,null,null,null,null,null,null,null,null,null,null,null,null,null,null,null,null,null,null,null,null,null,null,null,null,null,null,null,null,null,null,null,null,null,null,null,null,null,null,null,null,null,null,null,null,0]
[null,null,null,null,null,null,null,null,null,null,null,null,null,null,null,null,null,null,null,null,null,null,null,null,null,null,null,null,null,null,null,null,null,null,null,null,null,null,null,null,null,null,null,null,null,null,null,null,null,null,null,null,null,null,null,null,null,null,null,null,null,null,0]
[null,null,null,null,null,null,null,null,null,null,null,null,null,null,null,null,null,null,null,null,null,null,null,null,null,null,null,null,null,null,null,null,null,null,null,null,null,null,null,null,null,null,null,null,null,null,null,null,null,null,null,null,null,null,null,null,null,null,null,null,null,null,0]
[null,null,null,null,null,null,null,null,null,null,null,null,null,null,null,null,null,null,null,null,null,null,null,null,null,null,null,null,null,null,null,null,null,null,null,null,null,null,null,null,null,null,null,null,null,null,null,null,null,null,null,null,null,null,null,null,null,null,null,null,null,null,0]
[null,null,null,null,null,null,null,null,null,null,null,null,null,null,null,null,null,null,null,null,null,null,null,null,null,null,null,null,null,null,null,null,null,null,null,null,null,null,null,null,null,null,null,null,null,null,null,null,null,null,null,null,null,null,null,null,null,null,null,null,null,null,0]
[null,null,null,null,null,null,null,null,null,null,null,null,null,null,null,null,null,null,null,null,null,null,null,null,null,null,null,null,null,null,null,null,null,null,null,null,null,null,null,null,null,null,null,null,null,null,null,null,null,null,null,null,null,null,null,null,null,null,null,null,null,null,0]
[null,null,null,null,null,null,null,null,null,null,null,null,null,null,null,null,null,null,null,null,null,null,null,null,null,null,null,null,null,null,null,null,null,null,null,null,null,null,null,null,null,null,null,null,null,null,null,null,null,null,null,null,null,null,null,null,null,null,null,null,null,null,0]
[null,null,null,null,null,null,null,null,null,null,null,null,null,null,null,null,null,null,null,null,null,null,null,null,null,null,null,null,null,null,null,null,null,null,null,null,null,null,null,null,null,null,null,null,null,null,null,null,null,null,null,null,null,null,null,null,null,null,null,null,null,null,0]
[null,null,null,null,null,null,null,null,null,null,null,null,null,null,null,null,null,null,null,null,null,null,null,null,null,null,null,null,null,null,null,null,null,null,null,null,null,null,null,null,null,null,null,null,null,null,null,null,null,null,null,null,null,null,null,null,null,null,null,null,null,null,{"$f":"C335*$C$11+D335*$D$11+E335*$E$11+F335*$F$11+G335*$G$11+H335*$H$11+I335*$I$11+J335*$J$11+K335*$K$11+L335*$L$11+M335*$M$11+N335*$N$11+O335*$O$11+P335*$P$11+Q335*$Q$11+R335*$R$11+S335*$S$11+T335*$T$11+U335*$U$11+V335*$V$11+W335*$W$11+X335*$X$11+Y335*$Y$11+Z335*$Z$11+AA335*$AA$11+AB335*$AB$11+AC335*$AC$11+AD335*$AD$11+AE335*$AE$11+AF335*$AF$11+AG335*$AG$11+AH335*$AH$11+AI335*$AI$11+AJ335*$AJ$11+AK335*$AK$11+AL335*$AL$11+AM335*$AM$11+AN335*$AN$11+AO335*$AO$11+AP335*$AP$11+AQ335*$AQ$11+AR335*$AR$11+AS335*$AS$11+AT335*$AT$11+AU335*$AU$11+AV335*$AV$11+AW335*$AW$11+AX335*$AX$11+AY335*$AY$11+AZ335*$AZ$11+BA335*$BA$11+BB335*$BB$11+BC335*$BC$11+BD335*$BD$11+BE335*$BE$11+BF335*$BF$11+BG335*$BG$11+BH335*$BH$11+BI335*$BI$11+BJ335*$BJ$11","v":0}]
[null,null,null,null,null,null,null,null,null,null,null,null,null,null,null,null,null,null,null,null,null,null,null,null,null,null,null,null,null,null,null,null,null,null,null,null,null,null,null,null,null,null,null,null,null,null,null,null,null,null,null,null,null,null,null,null,null,null,null,null,null,null,0]
[null,null,null,null,null,null,null,null,null,null,null,null,null,null,null,null,null,null,null,null,null,null,null,null,null,null,null,null,null,null,null,null,null,null,null,null,null,null,null,null,null,null,null,null,null,null,null,null,null,null,null,null,null,null,null,null,null,null,null,null,null,null,0]
[null,null,null,null,null,null,null,null,null,null,null,null,null,null,null,null,null,null,null,null,null,null,null,null,null,null,null,null,null,null,null,null,null,null,null,null,null,null,null,null,null,null,null,null,null,null,null,null,null,null,null,null,null,null,null,null,null,null,null,null,null,null,0]
[null,null,null,null,null,null,null,null,null,null,null,null,null,null,null,null,null,null,null,null,null,null,null,null,null,null,null,null,null,null,null,null,null,null,null,null,null,null,null,null,null,null,null,null,null,null,null,null,null,null,null,null,null,null,null,null,null,null,null,null,null,null,0]
[null,null,null,null,null,null,null,null,null,null,null,null,null,null,null,null,null,null,null,null,null,null,null,null,null,null,null,null,null,null,null,null,null,null,null,null,null,null,null,null,null,null,null,null,null,null,null,null,null,null,null,null,null,null,null,null,null,null,null,null,null,null,0]
[null,null,null,null,null,null,null,null,null,null,null,null,null,null,null,null,null,null,null,null,null,null,null,null,null,null,null,null,null,null,null,null,null,null,null,null,null,null,null,null,null,null,null,null,null,null,null,null,null,null,null,null,null,null,null,null,null,null,null,null,null,null,0]
[null,null,null,null,null,null,null,null,null,null,null,null,null,null,null,null,null,null,null,null,null,null,null,null,null,null,null,null,null,null,null,null,null,null,null,null,null,null,null,null,null,null,null,null,null,null,null,null,null,null,null,null,null,null,null,null,null,null,null,null,null,null,0]
[null,null,null,null,null,null,null,null,null,null,null,null,null,null,null,null,null,null,null,null,null,null,null,null,null,null,null,null,null,null,null,null,null,null,null,null,null,null,null,null,null,null,null,null,null,null,null,null,null,null,null,null,null,null,null,null,null,null,null,null,null,null,0]
[null,null,null,null,null,null,null,null,null,null,null,null,null,null,null,null,null,null,null,null,null,null,null,null,null,null,null,null,null,null,null,null,null,null,null,null,null,null,null,null,null,null,null,null,null,null,null,null,null,null,null,null,null,null,null,null,null,null,null,null,null,null,0]
[null,null,null,null,null,null,null,null,null,null,null,null,null,null,null,null,null,null,null,null,null,null,null,null,null,null,null,null,null,null,null,null,null,null,null,null,null,null,null,null,null,null,null,null,null,null,null,null,null,null,null,null,null,null,null,null,null,null,null,null,null,null,0]
[null,null,null,null,null,null,null,null,null,null,null,null,null,null,null,null,null,null,null,null,null,null,null,null,null,null,null,null,null,null,null,null,null,null,null,null,null,null,null,null,null,null,null,null,null,null,null,null,null,null,null,null,null,null,null,null,null,null,null,null,null,null,0]
[null,null,null,null,null,null,null,null,null,null,null,null,null,null,null,null,null,null,null,null,null,null,null,null,null,null,null,null,null,null,null,null,null,null,null,null,null,null,null,null,null,null,null,null,null,null,null,null,null,null,null,null,null,null,null,null,null,null,null,null,null,null,0]
[null,null,null,null,null,null,null,null,null,null,null,null,null,null,null,null,null,null,null,null,null,null,null,null,null,null,null,null,null,null,null,null,null,null,null,null,null,null,null,null,null,null,null,null,null,null,null,null,null,null,null,null,null,null,null,null,null,null,null,null,null,null,0]
[null,null,null,null,null,null,null,null,null,null,null,null,null,null,null,null,null,null,null,null,null,null,null,null,null,null,null,null,null,null,null,null,null,null,null,null,null,null,null,null,null,null,null,null,null,null,null,null,null,null,null,null,null,null,null,null,null,null,null,null,null,null,0]
[null,null,null,null,null,null,null,null,null,null,null,null,null,null,null,null,null,null,null,null,null,null,null,null,null,null,null,null,null,null,null,null,null,null,null,null,null,null,null,null,null,null,null,null,null,null,null,null,null,null,null,null,null,null,null,null,null,null,null,null,null,null,0]
[null,null,null,null,null,null,null,null,null,null,null,null,null,null,null,null,null,null,null,null,null,null,null,null,null,null,null,null,null,null,null,null,null,null,null,null,null,null,null,null,null,null,null,null,null,null,null,null,null,null,null,null,null,null,null,null,null,null,null,null,null,null,0]
[null,null,null,null,null,null,null,null,null,null,null,null,null,null,null,null,null,null,null,null,null,null,null,null,null,null,null,null,null,null,null,null,null,null,null,null,null,null,null,null,null,null,null,null,null,null,null,null,null,null,null,null,null,null,null,null,null,null,null,null,null,null,0]
[null,null,null,null,null,null,null,null,null,null,null,null,null,null,null,null,null,null,null,null,null,null,null,null,null,null,null,null,null,null,null,null,null,null,null,null,null,null,null,null,null,null,null,null,null,null,null,null,null,null,null,null,null,null,null,null,null,null,null,null,null,null,0]
[null,null,null,null,null,null,null,null,null,null,null,null,null,null,null,null,null,null,null,null,null,null,null,null,null,null,null,null,null,null,null,null,null,null,null,null,null,null,null,null,null,null,null,null,null,null,null,null,null,null,null,null,null,null,null,null,null,null,null,null,null,null,0]
[null,null,null,null,null,null,null,null,null,null,null,null,null,null,null,null,null,null,null,null,null,null,null,null,null,null,null,null,null,null,null,null,null,null,null,null,null,null,null,null,null,null,null,null,null,null,null,null,null,null,null,null,null,null,null,null,null,null,null,null,null,null,0]
[null,null,null,null,null,null,null,null,null,null,null,null,null,null,null,null,null,null,null,null,null,null,null,null,null,null,null,null,null,null,null,null,null,null,null,null,null,null,null,null,null,null,null,null,null,null,null,null,null,null,null,null,null,null,null,null,null,null,null,null,null,null,0]
[null,null,null,null,null,null,null,null,null,null,null,null,null,null,null,null,null,null,null,null,null,null,null,null,null,null,null,null,null,null,null,null,null,null,null,null,null,null,null,null,null,null,null,null,null,null,null,null,null,null,null,null,null,null,null,null,null,null,null,null,null,null,0]
[null,null,null,null,null,null,null,null,null,null,null,null,null,null,null,null,null,null,null,null,null,null,null,null,null,null,null,null,null,null,null,null,null,null,null,null,null,null,null,null,null,null,null,null,null,null,null,null,null,null,null,null,null,null,null,null,null,null,null,null,null,null,0]
[null,null,null,null,null,null,null,null,null,null,null,null,null,null,null,null,null,null,null,null,null,null,null,null,null,null,null,null,null,null,null,null,null,null,null,null,null,null,null,null,null,null,null,null,null,null,null,null,null,null,null,null,null,null,null,null,null,null,null,null,null,null,0]
[null,null,null,null,null,null,null,null,null,null,null,null,null,null,null,null,null,null,null,null,null,null,null,null,null,null,null,null,null,null,null,null,null,null,null,null,null,null,null,null,null,null,null,null,null,null,null,null,null,null,null,null,null,null,null,null,null,null,null,null,null,null,0]
[null,null,null,null,null,null,null,null,null,null,null,null,null,null,null,null,null,null,null,null,null,null,null,null,null,null,null,null,null,null,null,null,null,null,null,null,null,null,null,null,null,null,null,null,null,null,null,null,null,null,null,null,null,null,null,null,null,null,null,null,null,null,0]
[null,null,null,null,null,null,null,null,null,null,null,null,null,null,null,null,null,null,null,null,null,null,null,null,null,null,null,null,null,null,null,null,null,null,null,null,null,null,null,null,null,null,null,null,null,null,null,null,null,null,null,null,null,null,null,null,null,null,null,null,null,null,0]
[null,null,null,null,null,null,null,null,null,null,null,null,null,null,null,null,null,null,null,null,null,null,null,null,null,null,null,null,null,null,null,null,null,null,null,null,null,null,null,null,null,null,null,null,null,null,null,null,null,null,null,null,null,null,null,null,null,null,null,null,null,null,0]
[null,null,null,null,null,null,null,null,null,null,null,null,null,null,null,null,null,null,null,null,null,null,null,null,null,null,null,null,null,null,null,null,null,null,null,null,null,null,null,null,null,null,null,null,null,null,null,null,null,null,null,null,null,null,null,null,null,null,null,null,null,null,0]
[null,null,null,null,null,null,null,null,null,null,null,null,null,null,null,null,null,null,null,null,null,null,null,null,null,null,null,null,null,null,null,null,null,null,null,null,null,null,null,null,null,null,null,null,null,null,null,null,null,null,null,null,null,null,null,null,null,null,null,null,null,null,0]
[null,null,null,null,null,null,null,null,null,null,null,null,null,null,null,null,null,null,null,null,null,null,null,null,null,null,null,null,null,null,null,null,null,null,null,null,null,null,null,null,null,null,null,null,null,null,null,null,null,null,null,null,null,null,null,null,null,null,null,null,null,null,0]
[null,null,null,null,null,null,null,null,null,null,null,null,null,null,null,null,null,null,null,null,null,null,null,null,null,null,null,null,null,null,null,null,null,null,null,null,null,null,null,null,null,null,null,null,null,null,null,null,null,null,null,null,null,null,null,null,null,null,null,null,null,null,0]
[null,null,null,null,null,null,null,null,null,null,null,null,null,null,null,null,null,null,null,null,null,null,null,null,null,null,null,null,null,null,null,null,null,null,null,null,null,null,null,null,null,null,null,null,null,null,null,null,null,null,null,null,null,null,null,null,null,null,null,null,null,null,0]
[null,null,null,null,null,null,null,null,null,null,null,null,null,null,null,null,null,null,null,null,null,null,null,null,null,null,null,null,null,null,null,null,null,null,null,null,null,null,null,null,null,null,null,null,null,null,null,null,null,null,null,null,null,null,null,null,null,null,null,null,null,null,0]
[null,null,null,null,null,null,null,null,null,null,null,null,null,null,null,null,null,null,null,null,null,null,null,null,null,null,null,null,null,null,null,null,null,null,null,null,null,null,null,null,null,null,null,null,null,null,null,null,null,null,null,null,null,null,null,null,null,null,null,null,null,null,0]
[null,null,null,null,null,null,null,null,null,null,null,null,null,null,null,null,null,null,null,null,null,null,null,null,null,null,null,null,null,null,null,null,null,null,null,null,null,null,null,null,null,null,null,null,null,null,null,null,null,null,null,null,null,null,null,null,null,null,null,null,null,null,0]
[null,null,null,null,null,null,null,null,null,null,null,null,null,null,null,null,null,null,null,null,null,null,null,null,null,null,null,null,null,null,null,null,null,null,null,null,null,null,null,null,null,null,null,null,null,null,null,null,null,null,null,null,null,null,null,null,null,null,null,null,null,null,0]
[null,null,null,null,null,null,null,null,null,null,null,null,null,null,null,null,null,null,null,null,null,null,null,null,null,null,null,null,null,null,null,null,null,null,null,null,null,null,null,null,null,null,null,null,null,null,null,null,null,null,null,null,null,null,null,null,null,null,null,null,null,null,0]
[null,null,null,null,null,null,null,null,null,null,null,null,null,null,null,null,null,null,null,null,null,null,null,null,null,null,null,null,null,null,null,null,null,null,null,null,null,null,null,null,null,null,null,null,null,null,null,null,null,null,null,null,null,null,null,null,null,null,null,null,null,null,0]
[null,null,null,null,null,null,null,null,null,null,null,null,null,null,null,null,null,null,null,null,null,null,null,null,null,null,null,null,null,null,null,null,null,null,null,null,null,null,null,null,null,null,null,null,null,null,null,null,null,null,null,null,null,null,null,null,null,null,null,null,null,null,0]
[null,null,null,null,null,null,null,null,null,null,null,null,null,null,null,null,null,null,null,null,null,null,null,null,null,null,null,null,null,null,null,null,null,null,null,null,null,null,null,null,null,null,null,null,null,null,null,null,null,null,null,null,null,null,null,null,null,null,null,null,null,null,0]
[null,null,null,null,null,null,null,null,null,null,null,null,null,null,null,null,null,null,null,null,null,null,null,null,null,null,null,null,null,null,null,null,null,null,null,null,null,null,null,null,null,null,null,null,null,null,null,null,null,null,null,null,null,null,null,null,null,null,null,null,null,null,0]
[null,null,null,null,null,null,null,null,null,null,null,null,null,null,null,null,null,null,null,null,null,null,null,null,null,null,null,null,null,null,null,null,null,null,null,null,null,null,null,null,null,null,null,null,null,null,null,null,null,null,null,null,null,null,null,null,null,null,null,null,null,null,0]
[null,null,null,null,null,null,null,null,null,null,null,null,null,null,null,null,null,null,null,null,null,null,null,null,null,null,null,null,null,null,null,null,null,null,null,null,null,null,null,null,null,null,null,null,null,null,null,null,null,null,null,null,null,null,null,null,null,null,null,null,null,null,0]
[null,null,null,null,null,null,null,null,null,null,null,null,null,null,null,null,null,null,null,null,null,null,null,null,null,null,null,null,null,null,null,null,null,null,null,null,null,null,null,null,null,null,null,null,null,null,null,null,null,null,null,null,null,null,null,null,null,null,null,null,null,null,0]
[null,null,null,null,null,null,null,null,null,null,null,null,null,null,null,null,null,null,null,null,null,null,null,null,null,null,null,null,null,null,null,null,null,null,null,null,null,null,null,null,null,null,null,null,null,null,null,null,null,null,null,null,null,null,null,null,null,null,null,null,null,null,0]
[null,null,null,null,null,null,null,null,null,null,null,null,null,null,null,null,null,null,null,null,null,null,null,null,null,null,null,null,null,null,null,null,null,null,null,null,null,null,null,null,null,null,null,null,null,null,null,null,null,null,null,null,null,null,null,null,null,null,null,null,null,null,0]
[null,null,null,null,null,null,null,null,null,null,null,null,null,null,null,null,null,null,null,null,null,null,null,null,null,null,null,null,null,null,null,null,null,null,null,null,null,null,null,null,null,null,null,null,null,null,null,null,null,null,null,null,null,null,null,null,null,null,null,null,null,null,0]
[null,null,null,null,null,null,null,null,null,null,null,null,null,null,null,null,null,null,null,null,null,null,null,null,null,null,null,null,null,null,null,null,null,null,null,null,null,null,null,null,null,null,null,null,null,null,null,null,null,null,null,null,null,null,null,null,null,null,null,null,null,null,0]
[null,null,null,null,null,null,null,null,null,null,null,null,null,null,null,null,null,null,null,null,null,null,null,null,null,null,null,null,null,null,null,null,null,null,null,null,null,null,null,null,null,null,null,null,null,null,null,null,null,null,null,null,null,null,null,null,null,null,null,null,null,null,0]
[null,null,null,null,null,null,null,null,null,null,null,null,null,null,null,null,null,null,null,null,null,null,null,null,null,null,null,null,null,null,null,null,null,null,null,null,null,null,null,null,null,null,null,null,null,null,null,null,null,null,null,null,null,null,null,null,null,null,null,null,null,null,0]
[null,null,null,null,null,null,null,null,null,null,null,null,null,null,null,null,null,null,null,null,null,null,null,null,null,null,null,null,null,null,null,null,null,null,null,null,null,null,null,null,null,null,null,null,null,null,null,null,null,null,null,null,null,null,null,null,null,null,null,null,null,null,0]
[null,null,null,null,null,null,null,null,null,null,null,null,null,null,null,null,null,null,null,null,null,null,null,null,null,null,null,null,null,null,null,null,null,null,null,null,null,null,null,null,null,null,null,null,null,null,null,null,null,null,null,null,null,null,null,null,null,null,null,null,null,null,0]
[null,null,null,null,null,null,null,null,null,null,null,null,null,null,null,null,null,null,null,null,null,null,null,null,null,null,null,null,null,null,null,null,null,null,null,null,null,null,null,null,null,null,null,null,null,null,null,null,null,null,null,null,null,null,null,null,null,null,null,null,null,null,0]
[null,null,null,null,null,null,null,null,null,null,null,null,null,null,null,null,null,null,null,null,null,null,null,null,null,null,null,null,null,null,null,null,null,null,null,null,null,null,null,null,null,null,null,null,null,null,null,null,null,null,null,null,null,null,null,null,null,null,null,null,null,null,0]
[null,null,null,null,null,null,null,null,null,null,null,null,null,null,null,null,null,null,null,null,null,null,null,null,null,null,null,null,null,null,null,null,null,null,null,null,null,null,null,null,null,null,null,null,null,null,null,null,null,null,null,null,null,null,null,null,null,null,null,null,null,null,0]
[null,null,null,null,null,null,null,null,null,null,null,null,null,null,null,null,null,null,null,null,null,null,null,null,null,null,null,null,null,null,null,null,null,null,null,null,null,null,null,null,null,null,null,null,null,null,null,null,null,null,null,null,null,null,null,null,null,null,null,null,null,null,0]
[null,null,null,null,null,null,null,null,null,null,null,null,null,null,null,null,null,null,null,null,null,null,null,null,null,null,null,null,null,null,null,null,null,null,null,null,null,null,null,null,null,null,null,null,null,null,null,null,null,null,null,null,null,null,null,null,null,null,null,null,null,null,0]
[null,null,null,null,null,null,null,null,null,null,null,null,null,null,null,null,null,null,null,null,null,null,null,null,null,null,null,null,null,null,null,null,null,null,null,null,null,null,null,null,null,null,null,null,null,null,null,null,null,null,null,null,null,null,null,null,null,null,null,null,null,null,0]
[null,null,null,null,null,null,null,null,null,null,null,null,null,null,null,null,null,null,null,null,null,null,null,null,null,null,null,null,null,null,null,null,null,null,null,null,null,null,null,null,null,null,null,null,null,null,null,null,null,null,null,null,null,null,null,null,null,null,null,null,null,null,0]
[null,null,null,null,null,null,null,null,null,null,null,null,null,null,null,null,null,null,null,null,null,null,null,null,null,null,null,null,null,null,null,null,null,null,null,null,null,null,null,null,null,null,null,null,null,null,null,null,null,null,null,null,null,null,null,null,null,null,null,null,null,null,0]
[null,null,null,null,null,null,null,null,null,null,null,null,null,null,null,null,null,null,null,null,null,null,null,null,null,null,null,null,null,null,null,null,null,null,null,null,null,null,null,null,null,null,null,null,null,null,null,null,null,null,null,null,null,null,null,null,null,null,null,null,null,null,0]
[null,null,null,null,null,null,null,null,null,null,null,null,null,null,null,null,null,null,null,null,null,null,null,null,null,null,null,null,null,null,null,null,null,null,null,null,null,null,null,null,null,null,null,null,null,null,null,null,null,null,null,null,null,null,null,null,null,null,null,null,null,null,0]
[null,null,null,null,null,null,null,null,null,null,null,null,null,null,null,null,null,null,null,null,null,null,null,null,null,null,null,null,null,null,null,null,null,null,null,null,null,null,null,null,null,null,null,null,null,null,null,null,null,null,null,null,null,null,null,null,null,null,null,null,null,null,{"$f":"C399*$C$11+D399*$D$11+E399*$E$11+F399*$F$11+G399*$G$11+H399*$H$11+I399*$I$11+J399*$J$11+K399*$K$11+L399*$L$11+M399*$M$11+N399*$N$11+O399*$O$11+P399*$P$11+Q399*$Q$11+R399*$R$11+S399*$S$11+T399*$T$11+U399*$U$11+V399*$V$11+W399*$W$11+X399*$X$11+Y399*$Y$11+Z399*$Z$11+AA399*$AA$11+AB399*$AB$11+AC399*$AC$11+AD399*$AD$11+AE399*$AE$11+AF399*$AF$11+AG399*$AG$11+AH399*$AH$11+AI399*$AI$11+AJ399*$AJ$11+AK399*$AK$11+AL399*$AL$11+AM399*$AM$11+AN399*$AN$11+AO399*$AO$11+AP399*$AP$11+AQ399*$AQ$11+AR399*$AR$11+AS399*$AS$11+AT399*$AT$11+AU399*$AU$11+AV399*$AV$11+AW399*$AW$11+AX399*$AX$11+AY399*$AY$11+AZ399*$AZ$11+BA399*$BA$11+BB399*$BB$11+BC399*$BC$11+BD399*$BD$11+BE399*$BE$11+BF399*$BF$11+BG399*$BG$11+BH399*$BH$11+BI399*$BI$11+BJ399*$BJ$11","v":0}]
[null,null,null,null,null,null,null,null,null,null,null,null,null,null,null,null,null,null,null,null,null,null,null,null,null,null,null,null,null,null,null,null,null,null,null,null,null,null,null,null,null,null,null,null,null,null,null,null,null,null,null,null,null,null,null,null,null,null,null,null,null,null,0]
[null,null,null,null,null,null,null,null,null,null,null,null,null,null,null,null,null,null,null,null,null,null,null,null,null,null,null,null,null,null,null,null,null,null,null,null,null,null,null,null,null,null,null,null,null,null,null,null,null,null,null,null,null,null,null,null,null,null,null,null,null,null,0]
[null,null,null,null,null,null,null,null,null,null,null,null,null,null,null,null,null,null,null,null,null,null,null,null,null,null,null,null,null,null,null,null,null,null,null,null,null,null,null,null,null,null,null,null,null,null,null,null,null,null,null,null,null,null,null,null,null,null,null,null,null,null,0]
[null,null,null,null,null,null,null,null,null,null,null,null,null,null,null,null,null,null,null,null,null,null,null,null,null,null,null,null,null,null,null,null,null,null,null,null,null,null,null,null,null,null,null,null,null,null,null,null,null,null,null,null,null,null,null,null,null,null,null,null,null,null,0]
[null,null,null,null,null,null,null,null,null,null,null,null,null,null,null,null,null,null,null,null,null,null,null,null,null,null,null,null,null,null,null,null,null,null,null,null,null,null,null,null,null,null,null,null,null,null,null,null,null,null,null,null,null,null,null,null,null,null,null,null,null,null,0]
[null,null,null,null,null,null,null,null,null,null,null,null,null,null,null,null,null,null,null,null,null,null,null,null,null,null,null,null,null,null,null,null,null,null,null,null,null,null,null,null,null,null,null,null,null,null,null,null,null,null,null,null,null,null,null,null,null,null,null,null,null,null,0]
[null,null,null,null,null,null,null,null,null,null,null,null,null,null,null,null,null,null,null,null,null,null,null,null,null,null,null,null,null,null,null,null,null,null,null,null,null,null,null,null,null,null,null,null,null,null,null,null,null,null,null,null,null,null,null,null,null,null,null,null,null,null,0]
[null,null,null,null,null,null,null,null,null,null,null,null,null,null,null,null,null,null,null,null,null,null,null,null,null,null,null,null,null,null,null,null,null,null,null,null,null,null,null,null,null,null,null,null,null,null,null,null,null,null,null,null,null,null,null,null,null,null,null,null,null,null,0]
[null,null,null,null,null,null,null,null,null,null,null,null,null,null,null,null,null,null,null,null,null,null,null,null,null,null,null,null,null,null,null,null,null,null,null,null,null,null,null,null,null,null,null,null,null,null,null,null,null,null,null,null,null,null,null,null,null,null,null,null,null,null,0]
[null,null,null,null,null,null,null,null,null,null,null,null,null,null,null,null,null,null,null,null,null,null,null,null,null,null,null,null,null,null,null,null,null,null,null,null,null,null,null,null,null,null,null,null,null,null,null,null,null,null,null,null,null,null,null,null,null,null,null,null,null,null,0]
[null,null,null,null,null,null,null,null,null,null,null,null,null,null,null,null,null,null,null,null,null,null,null,null,null,null,null,null,null,null,null,null,null,null,null,null,null,null,null,null,null,null,null,null,null,null,null,null,null,null,null,null,null,null,null,null,null,null,null,null,null,null,0]
[null,null,null,null,null,null,null,null,null,null,null,null,null,null,null,null,null,null,null,null,null,null,null,null,null,null,null,null,null,null,null,null,null,null,null,null,null,null,null,null,null,null,null,null,null,null,null,null,null,null,null,null,null,null,null,null,null,null,null,null,null,null,0]
[null,null,null,null,null,null,null,null,null,null,null,null,null,null,null,null,null,null,null,null,null,null,null,null,null,null,null,null,null,null,null,null,null,null,null,null,null,null,null,null,null,null,null,null,null,null,null,null,null,null,null,null,null,null,null,null,null,null,null,null,null,null,0]
[null,null,null,null,null,null,null,null,null,null,null,null,null,null,null,null,null,null,null,null,null,null,null,null,null,null,null,null,null,null,null,null,null,null,null,null,null,null,null,null,null,null,null,null,null,null,null,null,null,null,null,null,null,null,null,null,null,null,null,null,null,null,0]
[null,null,null,null,null,null,null,null,null,null,null,null,null,null,null,null,null,null,null,null,null,null,null,null,null,null,null,null,null,null,null,null,null,null,null,null,null,null,null,null,null,null,null,null,null,null,null,null,null,null,null,null,null,null,null,null,null,null,null,null,null,null,0]
[null,null,null,null,null,null,null,null,null,null,null,null,null,null,null,null,null,null,null,null,null,null,null,null,null,null,null,null,null,null,null,null,null,null,null,null,null,null,null,null,null,null,null,null,null,null,null,null,null,null,null,null,null,null,null,null,null,null,null,null,null,null,0]
[null,null,null,null,null,null,null,null,null,null,null,null,null,null,null,null,null,null,null,null,null,null,null,null,null,null,null,null,null,null,null,null,null,null,null,null,null,null,null,null,null,null,null,null,null,null,null,null,null,null,null,null,null,null,null,null,null,null,null,null,null,null,0]
[null,null,null,null,null,null,null,null,null,null,null,null,null,null,null,null,null,null,null,null,null,null,null,null,null,null,null,null,null,null,null,null,null,null,null,null,null,null,null,null,null,null,null,null,null,null,null,null,null,null,null,null,null,null,null,null,null,null,null,null,null,null,0]
[null,null,null,null,null,null,null,null,null,null,null,null,null,null,null,null,null,null,null,null,null,null,null,null,null,null,null,null,null,null,null,null,null,null,null,null,null,null,null,null,null,null,null,null,null,null,null,null,null,null,null,null,null,null,null,null,null,null,null,null,null,null,0]
[null,null,null,null,null,null,null,null,null,null,null,null,null,null,null,null,null,null,null,null,null,null,null,null,null,null,null,null,null,null,null,null,null,null,null,null,null,null,null,null,null,null,null,null,null,null,null,null,null,null,null,null,null,null,null,null,null,null,null,null,null,null,0]
[null,null,null,null,null,null,null,null,null,null,null,null,null,null,null,null,null,null,null,null,null,null,null,null,null,null,null,null,null,null,null,null,null,null,null,null,null,null,null,null,null,null,null,null,null,null,null,null,null,null,null,null,null,null,null,null,null,null,null,null,null,null,0]
[null,null,null,null,null,null,null,null,null,null,null,null,null,null,null,null,null,null,null,null,null,null,null,null,null,null,null,null,null,null,null,null,null,null,null,null,null,null,null,null,null,null,null,null,null,null,null,null,null,null,null,null,null,null,null,null,null,null,null,null,null,null,0]
[null,null,null,null,null,null,null,null,null,null,null,null,null,null,null,null,null,null,null,null,null,null,null,null,null,null,null,null,null,null,null,null,null,null,null,null,null,null,null,null,null,null,null,null,null,null,null,null,null,null,null,null,null,null,null,null,null,null,null,null,null,null,0]
[null,null,null,null,null,null,null,null,null,null,null,null,null,null,null,null,null,null,null,null,null,null,null,null,null,null,null,null,null,null,null,null,null,null,null,null,null,null,null,null,null,null,null,null,null,null,null,null,null,null,null,null,null,null,null,null,null,null,null,null,null,null,0]
[null,null,null,null,null,null,null,null,null,null,null,null,null,null,null,null,null,null,null,null,null,null,null,null,null,null,null,null,null,null,null,null,null,null,null,null,null,null,null,null,null,null,null,null,null,null,null,null,null,null,null,null,null,null,null,null,null,null,null,null,null,null,0]
[null,null,null,null,null,null,null,null,null,null,null,null,null,null,null,null,null,null,null,null,null,null,null,null,null,null,null,null,null,null,null,null,null,null,null,null,null,null,null,null,null,null,null,null,null,null,null,null,null,null,null,null,null,null,null,null,null,null,null,null,null,null,0]
[null,null,null,null,null,null,null,null,null,null,null,null,null,null,null,null,null,null,null,null,null,null,null,null,null,null,null,null,null,null,null,null,null,null,null,null,null,null,null,null,null,null,null,null,null,null,null,null,null,null,null,null,null,null,null,null,null,null,null,null,null,null,0]
[null,null,null,null,null,null,null,null,null,null,null,null,null,null,null,null,null,null,null,null,null,null,null,null,null,null,null,null,null,null,null,null,null,null,null,null,null,null,null,null,null,null,null,null,null,null,null,null,null,null,null,null,null,null,null,null,null,null,null,null,null,null,0]
[null,null,null,null,null,null,null,null,null,null,null,null,null,null,null,null,null,null,null,null,null,null,null,null,null,null,null,null,null,null,null,null,null,null,null,null,null,null,null,null,null,null,null,null,null,null,null,null,null,null,null,null,null,null,null,null,null,null,null,null,null,null,0]
[null,null,null,null,null,null,null,null,null,null,null,null,null,null,null,null,null,null,null,null,null,null,null,null,null,null,null,null,null,null,null,null,null,null,null,null,null,null,null,null,null,null,null,null,null,null,null,null,null,null,null,null,null,null,null,null,null,null,null,null,null,null,0]
[null,null,null,null,null,null,null,null,null,null,null,null,null,null,null,null,null,null,null,null,null,null,null,null,null,null,null,null,null,null,null,null,null,null,null,null,null,null,null,null,null,null,null,null,null,null,null,null,null,null,null,null,null,null,null,null,null,null,null,null,null,null,0]
[null,null,null,null,null,null,null,null,null,null,null,null,null,null,null,null,null,null,null,null,null,null,null,null,null,null,null,null,null,null,null,null,null,null,null,null,null,null,null,null,null,null,null,null,null,null,null,null,null,null,null,null,null,null,null,null,null,null,null,null,null,null,0]
[null,null,null,null,null,null,null,null,null,null,null,null,null,null,null,null,null,null,null,null,null,null,null,null,null,null,null,null,null,null,null,null,null,null,null,null,null,null,null,null,null,null,null,null,null,null,null,null,null,null,null,null,null,null,null,null,null,null,null,null,null,null,0]
[null,null,null,null,null,null,null,null,null,null,null,null,null,null,null,null,null,null,null,null,null,null,null,null,null,null,null,null,null,null,null,null,null,null,null,null,null,null,null,null,null,null,null,null,null,null,null,null,null,null,null,null,null,null,null,null,null,null,null,null,null,null,0]
[null,null,null,null,null,null,null,null,null,null,null,null,null,null,null,null,null,null,null,null,null,null,null,null,null,null,null,null,null,null,null,null,null,null,null,null,null,null,null,null,null,null,null,null,null,null,null,null,null,null,null,null,null,null,null,null,null,null,null,null,null,null,0]
[null,null,null,null,null,null,null,null,null,null,null,null,null,null,null,null,null,null,null,null,null,null,null,null,null,null,null,null,null,null,null,null,null,null,null,null,null,null,null,null,null,null,null,null,null,null,null,null,null,null,null,null,null,null,null,null,null,null,null,null,null,null,0]
[null,null,null,null,null,null,null,null,null,null,null,null,null,null,null,null,null,null,null,null,null,null,null,null,null,null,null,null,null,null,null,null,null,null,null,null,null,null,null,null,null,null,null,null,null,null,null,null,null,null,null,null,null,null,null,null,null,null,null,null,null,null,0]
[null,null,null,null,null,null,null,null,null,null,null,null,null,null,null,null,null,null,null,null,null,null,null,null,null,null,null,null,null,null,null,null,null,null,null,null,null,null,null,null,null,null,null,null,null,null,null,null,null,null,null,null,null,null,null,null,null,null,null,null,null,null,0]
[null,null,null,null,null,null,null,null,null,null,null,null,null,null,null,null,null,null,null,null,null,null,null,null,null,null,null,null,null,null,null,null,null,null,null,null,null,null,null,null,null,null,null,null,null,null,null,null,null,null,null,null,null,null,null,null,null,null,null,null,null,null,0]
[null,null,null,null,null,null,null,null,null,null,null,null,null,null,null,null,null,null,null,null,null,null,null,null,null,null,null,null,null,null,null,null,null,null,null,null,null,null,null,null,null,null,null,null,null,null,null,null,null,null,null,null,null,null,null,null,null,null,null,null,null,null,0]
[null,null,null,null,null,null,null,null,null,null,null,null,null,null,null,null,null,null,null,null,null,null,null,null,null,null,null,null,null,null,null,null,null,null,null,null,null,null,null,null,null,null,null,null,null,null,null,null,null,null,null,null,null,null,null,null,null,null,null,null,null,null,0]
[null,null,null,null,null,null,null,null,null,null,null,null,null,null,null,null,null,null,null,null,null,null,null,null,null,null,null,null,null,null,null,null,null,null,null,null,null,null,null,null,null,null,null,null,null,null,null,null,null,null,null,null,null,null,null,null,null,null,null,null,null,null,0]
[null,null,null,null,null,null,null,null,null,null,null,null,null,null,null,null,null,null,null,null,null,null,null,null,null,null,null,null,null,null,null,null,null,null,null,null,null,null,null,null,null,null,null,null,null,null,null,null,null,null,null,null,null,null,null,null,null,null,null,null,null,null,0]
[null,null,null,null,null,null,null,null,null,null,null,null,null,null,null,null,null,null,null,null,null,null,null,null,null,null,null,null,null,null,null,null,null,null,null,null,null,null,null,null,null,null,null,null,null,null,null,null,null,null,null,null,null,null,null,null,null,null,null,null,null,null,0]
[null,null,null,null,null,null,null,null,null,null,null,null,null,null,null,null,null,null,null,null,null,null,null,null,null,null,null,null,null,null,null,null,null,null,null,null,null,null,null,null,null,null,null,null,null,null,null,null,null,null,null,null,null,null,null,null,null,null,null,null,null,null,0]
[null,null,null,null,null,null,null,null,null,null,null,null,null,null,null,null,null,null,null,null,null,null,null,null,null,null,null,null,null,null,null,null,null,null,null,null,null,null,null,null,null,null,null,null,null,null,null,null,null,null,null,null,null,null,null,null,null,null,null,null,null,null,0]
[null,null,null,null,null,null,null,null,null,null,null,null,null,null,null,null,null,null,null,null,null,null,null,null,null,null,null,null,null,null,null,null,null,null,null,null,null,null,null,null,null,null,null,null,null,null,null,null,null,null,null,null,null,null,null,null,null,null,null,null,null,null,0]
[null,null,null,null,null,null,null,null,null,null,null,null,null,null,null,null,null,null,null,null,null,null,null,null,null,null,null,null,null,null,null,null,null,null,null,null,null,null,null,null,null,null,null,null,null,null,null,null,null,null,null,null,null,null,null,null,null,null,null,null,null,null,0]
[null,null,null,null,null,null,null,null,null,null,null,null,null,null,null,null,null,null,null,null,null,null,null,null,null,null,null,null,null,null,null,null,null,null,null,null,null,null,null,null,null,null,null,null,null,null,null,null,null,null,null,null,null,null,null,null,null,null,null,null,null,null,0]
[null,null,null,null,null,null,null,null,null,null,null,null,null,null,null,null,null,null,null,null,null,null,null,null,null,null,null,null,null,null,null,null,null,null,null,null,null,null,null,null,null,null,null,null,null,null,null,null,null,null,null,null,null,null,null,null,null,null,null,null,null,null,0]
[null,null,null,null,null,null,null,null,null,null,null,null,null,null,null,null,null,null,null,null,null,null,null,null,null,null,null,null,null,null,null,null,null,null,null,null,null,null,null,null,null,null,null,null,null,null,null,null,null,null,null,null,null,null,null,null,null,null,null,null,null,null,0]
[null,null,null,null,null,null,null,null,null,null,null,null,null,null,null,null,null,null,null,null,null,null,null,null,null,null,null,null,null,null,null,null,null,null,null,null,null,null,null,null,null,null,null,null,null,null,null,null,null,null,null,null,null,null,null,null,null,null,null,null,null,null,0]
[null,null,null,null,null,null,null,null,null,null,null,null,null,null,null,null,null,null,null,null,null,null,null,null,null,null,null,null,null,null,null,null,null,null,null,null,null,null,null,null,null,null,null,null,null,null,null,null,null,null,null,null,null,null,null,null,null,null,null,null,null,null,0]
[null,null,null,null,null,null,null,null,null,null,null,null,null,null,null,null,null,null,null,null,null,null,null,null,null,null,null,null,null,null,null,null,null,null,null,null,null,null,null,null,null,null,null,null,null,null,null,null,null,null,null,null,null,null,null,null,null,null,null,null,null,null,0]
[null,null,null,null,null,null,null,null,null,null,null,null,null,null,null,null,null,null,null,null,null,null,null,null,null,null,null,null,null,null,null,null,null,null,null,null,null,null,null,null,null,null,null,null,null,null,null,null,null,null,null,null,null,null,null,null,null,null,null,null,null,null,0]
[null,null,null,null,null,null,null,null,null,null,null,null,null,null,null,null,null,null,null,null,null,null,null,null,null,null,null,null,null,null,null,null,null,null,null,null,null,null,null,null,null,null,null,null,null,null,null,null,null,null,null,null,null,null,null,null,null,null,null,null,null,null,0]
[null,null,null,null,null,null,null,null,null,null,null,null,null,null,null,null,null,null,null,null,null,null,null,null,null,null,null,null,null,null,null,null,null,null,null,null,null,null,null,null,null,null,null,null,null,null,null,null,null,null,null,null,null,null,null,null,null,null,null,null,null,null,0]
[null,null,null,null,null,null,null,null,null,null,null,null,null,null,null,null,null,null,null,null,null,null,null,null,null,null,null,null,null,null,null,null,null,null,null,null,null,null,null,null,null,null,null,null,null,null,null,null,null,null,null,null,null,null,null,null,null,null,null,null,null,null,0]
[null,null,null,null,null,null,null,null,null,null,null,null,null,null,null,null,null,null,null,null,null,null,null,null,null,null,null,null,null,null,null,null,null,null,null,null,null,null,null,null,null,null,null,null,null,null,null,null,null,null,null,null,null,null,null,null,null,null,null,null,null,null,0]
[null,null,null,null,null,null,null,null,null,null,null,null,null,null,null,null,null,null,null,null,null,null,null,null,null,null,null,null,null,null,null,null,null,null,null,null,null,null,null,null,null,null,null,null,null,null,null,null,null,null,null,null,null,null,null,null,null,null,null,null,null,null,0]
[null,null,null,null,null,null,null,null,null,null,null,null,null,null,null,null,null,null,null,null,null,null,null,null,null,null,null,null,null,null,null,null,null,null,null,null,null,null,null,null,null,null,null,null,null,null,null,null,null,null,null,null,null,null,null,null,null,null,null,null,null,null,0]
[null,null,null,null,null,null,null,null,null,null,null,null,null,null,null,null,null,null,null,null,null,null,null,null,null,null,null,null,null,null,null,null,null,null,null,null,null,null,null,null,null,null,null,null,null,null,null,null,null,null,null,null,null,null,null,null,null,null,null,null,null,null,0]
[null,null,null,null,null,null,null,null,null,null,null,null,null,null,null,null,null,null,null,null,null,null,null,null,null,null,null,null,null,null,null,null,null,null,null,null,null,null,null,null,null,null,null,null,null,null,null,null,null,null,null,null,null,null,null,null,null,null,null,null,null,null,0]
[null,null,null,null,null,null,null,null,null,null,null,null,null,null,null,null,null,null,null,null,null,null,null,null,null,null,null,null,null,null,null,null,null,null,null,null,null,null,null,null,null,null,null,null,null,null,null,null,null,null,null,null,null,null,null,null,null,null,null,null,null,null,{"$f":"C463*$C$11+D463*$D$11+E463*$E$11+F463*$F$11+G463*$G$11+H463*$H$11+I463*$I$11+J463*$J$11+K463*$K$11+L463*$L$11+M463*$M$11+N463*$N$11+O463*$O$11+P463*$P$11+Q463*$Q$11+R463*$R$11+S463*$S$11+T463*$T$11+U463*$U$11+V463*$V$11+W463*$W$11+X463*$X$11+Y463*$Y$11+Z463*$Z$11+AA463*$AA$11+AB463*$AB$11+AC463*$AC$11+AD463*$AD$11+AE463*$AE$11+AF463*$AF$11+AG463*$AG$11+AH463*$AH$11+AI463*$AI$11+AJ463*$AJ$11+AK463*$AK$11+AL463*$AL$11+AM463*$AM$11+AN463*$AN$11+AO463*$AO$11+AP463*$AP$11+AQ463*$AQ$11+AR463*$AR$11+AS463*$AS$11+AT463*$AT$11+AU463*$AU$11+AV463*$AV$11+AW463*$AW$11+AX463*$AX$11+AY463*$AY$11+AZ463*$AZ$11+BA463*$BA$11+BB463*$BB$11+BC463*$BC$11+BD463*$BD$11+BE463*$BE$11+BF463*$BF$11+BG463*$BG$11+BH463*$BH$11+BI463*$BI$11+BJ463*$BJ$11","v":0}]
[null,null,null,null,null,null,null,null,null,null,null,null,null,null,null,null,null,null,null,null,null,null,null,null,null,null,null,null,null,null,null,null,null,null,null,null,null,null,null,null,null,null,null,null,null,null,null,null,null,null,null,null,null,null,null,null,null,null,null,null,null,null,0]
[null,null,null,null,null,null,null,null,null,null,null,null,null,null,null,null,null,null,null,null,null,null,null,null,null,null,null,null,null,null,null,null,null,null,null,null,null,null,null,null,null,null,null,null,null,null,null,null,null,null,null,null,null,null,null,null,null,null,null,null,null,null,0]
[null,null,null,null,null,null,null,null,null,null,null,null,null,null,null,null,null,null,null,null,null,null,null,null,null,null,null,null,null,null,null,null,null,null,null,null,null,null,null,null,null,null,null,null,null,null,null,null,null,null,null,null,null,null,null,null,null,null,null,null,null,null,0]
[null,null,null,null,null,null,null,null,null,null,null,null,null,null,null,null,null,null,null,null,null,null,null,null,null,null,null,null,null,null,null,null,null,null,null,null,null,null,null,null,null,null,null,null,null,null,null,null,null,null,null,null,null,null,null,null,null,null,null,null,null,null,0]
[null,null,null,null,null,null,null,null,null,null,null,null,null,null,null,null,null,null,null,null,null,null,null,null,null,null,null,null,null,null,null,null,null,null,null,null,null,null,null,null,null,null,null,null,null,null,null,null,null,null,null,null,null,null,null,null,null,null,null,null,null,null,0]
[null,null,null,null,null,null,null,null,null,null,null,null,null,null,null,null,null,null,null,null,null,null,null,null,null,null,null,null,null,null,null,null,null,null,null,null,null,null,null,null,null,null,null,null,null,null,null,null,null,null,null,null,null,null,null,null,null,null,null,null,null,null,0]
[null,null,null,null,null,null,null,null,null,null,null,null,null,null,null,null,null,null,null,null,null,null,null,null,null,null,null,null,null,null,null,null,null,null,null,null,null,null,null,null,null,null,null,null,null,null,null,null,null,null,null,null,null,null,null,null,null,null,null,null,null,null,0]
[null,null,null,null,null,null,null,null,null,null,null,null,null,null,null,null,null,null,null,null,null,null,null,null,null,null,null,null,null,null,null,null,null,null,null,null,null,null,null,null,null,null,null,null,null,null,null,null,null,null,null,null,null,null,null,null,null,null,null,null,null,null,0]
[null,null,null,null,null,null,null,null,null,null,null,null,null,null,null,null,null,null,null,null,null,null,null,null,null,null,null,null,null,null,null,null,null,null,null,null,null,null,null,null,null,null,null,null,null,null,null,null,null,null,null,null,null,null,null,null,null,null,null,null,null,null,0]
[null,null,null,null,null,null,null,null,null,null,null,null,null,null,null,null,null,null,null,null,null,null,null,null,null,null,null,null,null,null,null,null,null,null,null,null,null,null,null,null,null,null,null,null,null,null,null,null,null,null,null,null,null,null,null,null,null,null,null,null,null,null,0]
[null,null,null,null,null,null,null,null,null,null,null,null,null,null,null,null,null,null,null,null,null,null,null,null,null,null,null,null,null,null,null,null,null,null,null,null,null,null,null,null,null,null,null,null,null,null,null,null,null,null,null,null,null,null,null,null,null,null,null,null,null,null,0]
[null,null,null,null,null,null,null,null,null,null,null,null,null,null,null,null,null,null,null,null,null,null,null,null,null,null,null,null,null,null,null,null,null,null,null,null,null,null,null,null,null,null,null,null,null,null,null,null,null,null,null,null,null,null,null,null,null,null,null,null,null,null,0]
[null,null,null,null,null,null,null,null,null,null,null,null,null,null,null,null,null,null,null,null,null,null,null,null,null,null,null,null,null,null,null,null,null,null,null,null,null,null,null,null,null,null,null,null,null,null,null,null,null,null,null,null,null,null,null,null,null,null,null,null,null,null,0]
[null,null,null,null,null,null,null,null,null,null,null,null,null,null,null,null,null,null,null,null,null,null,null,null,null,null,null,null,null,null,null,null,null,null,null,null,null,null,null,null,null,null,null,null,null,null,null,null,null,null,null,null,null,null,null,null,null,null,null,null,null,null,0]
[null,null,null,null,null,null,null,null,null,null,null,null,null,null,null,null,null,null,null,null,null,null,null,null,null,null,null,null,null,null,null,null,null,null,null,null,null,null,null,null,null,null,null,null,null,null,null,null,null,null,null,null,null,null,null,null,null,null,null,null,null,null,0]
[null,null,null,null,null,null,null,null,null,null,null,null,null,null,null,null,null,null,null,null,null,null,null,null,null,null,null,null,null,null,null,null,null,null,null,null,null,null,null,null,null,null,null,null,null,null,null,null,null,null,null,null,null,null,null,null,null,null,null,null,null,null,0]
[null,null,null,null,null,null,null,null,null,null,null,null,null,null,null,null,null,null,null,null,null,null,null,null,null,null,null,null,null,null,null,null,null,null,null,null,null,null,null,null,null,null,null,null,null,null,null,null,null,null,null,null,null,null,null,null,null,null,null,null,null,null,0]
[null,null,null,null,null,null,null,null,null,null,null,null,null,null,null,null,null,null,null,null,null,null,null,null,null,null,null,null,null,null,null,null,null,null,null,null,null,null,null,null,null,null,null,null,null,null,null,null,null,null,null,null,null,null,null,null,null,null,null,null,null,null,0]
[null,null,null,null,null,null,null,null,null,null,null,null,null,null,null,null,null,null,null,null,null,null,null,null,null,null,null,null,null,null,null,null,null,null,null,null,null,null,null,null,null,null,null,null,null,null,null,null,null,null,null,null,null,null,null,null,null,null,null,null,null,null,0]
[null,null,null,null,null,null,null,null,null,null,null,null,null,null,null,null,null,null,null,null,null,null,null,null,null,null,null,null,null,null,null,null,null,null,null,null,null,null,null,null,null,null,null,null,null,null,null,null,null,null,null,null,null,null,null,null,null,null,null,null,null,null,0]
[null,null,null,null,null,null,null,null,null,null,null,null,null,null,null,null,null,null,null,null,null,null,null,null,null,null,null,null,null,null,null,null,null,null,null,null,null,null,null,null,null,null,null,null,null,null,null,null,null,null,null,null,null,null,null,null,null,null,null,null,null,null,0]
[null,null,null,null,null,null,null,null,null,null,null,null,null,null,null,null,null,null,null,null,null,null,null,null,null,null,null,null,null,null,null,null,null,null,null,null,null,null,null,null,null,null,null,null,null,null,null,null,null,null,null,null,null,null,null,null,null,null,null,null,null,null,0]
[null,null,null,null,null,null,null,null,null,null,null,null,null,null,null,null,null,null,null,null,null,null,null,null,null,null,null,null,null,null,null,null,null,null,null,null,null,null,null,null,null,null,null,null,null,null,null,null,null,null,null,null,null,null,null,null,null,null,null,null,null,null,0]
[null,null,null,null,null,null,null,null,null,null,null,null,null,null,null,null,null,null,null,null,null,null,null,null,null,null,null,null,null,null,null,null,null,null,null,null,null,null,null,null,null,null,null,null,null,null,null,null,null,null,null,null,null,null,null,null,null,null,null,null,null,null,0]
[null,null,null,null,null,null,null,null,null,null,null,null,null,null,null,null,null,null,null,null,null,null,null,null,null,null,null,null,null,null,null,null,null,null,null,null,null,null,null,null,null,null,null,null,null,null,null,null,null,null,null,null,null,null,null,null,null,null,null,null,null,null,0]
[null,null,null,null,null,null,null,null,null,null,null,null,null,null,null,null,null,null,null,null,null,null,null,null,null,null,null,null,null,null,null,null,null,null,null,null,null,null,null,null,null,null,null,null,null,null,null,null,null,null,null,null,null,null,null,null,null,null,null,null,null,null,0]
[null,null,null,null,null,null,null,null,null,null,null,null,null,null,null,null,null,null,null,null,null,null,null,null,null,null,null,null,null,null,null,null,null,null,null,null,null,null,null,null,null,null,null,null,null,null,null,null,null,null,null,null,null,null,null,null,null,null,null,null,null,null,0]
[null,null,null,null,null,null,null,null,null,null,null,null,null,null,null,null,null,null,null,null,null,null,null,null,null,null,null,null,null,null,null,null,null,null,null,null,null,null,null,null,null,null,null,null,null,null,null,null,null,null,null,null,null,null,null,null,null,null,null,null,null,null,0]
[null,null,null,null,null,null,null,null,null,null,null,null,null,null,null,null,null,null,null,null,null,null,null,null,null,null,null,null,null,null,null,null,null,null,null,null,null,null,null,null,null,null,null,null,null,null,null,null,null,null,null,null,null,null,null,null,null,null,null,null,null,null,0]
[null,null,null,null,null,null,null,null,null,null,null,null,null,null,null,null,null,null,null,null,null,null,null,null,null,null,null,null,null,null,null,null,null,null,null,null,null,null,null,null,null,null,null,null,null,null,null,null,null,null,null,null,null,null,null,null,null,null,null,null,null,null,0]
[null,null,null,null,null,null,null,null,null,null,null,null,null,null,null,null,null,null,null,null,null,null,null,null,null,null,null,null,null,null,null,null,null,null,null,null,null,null,null,null,null,null,null,null,null,null,null,null,null,null,null,null,null,null,null,null,null,null,null,null,null,null,0]
[null,null,null,null,null,null,null,null,null,null,null,null,null,null,null,null,null,null,null,null,null,null,null,null,null,null,null,null,null,null,null,null,null,null,null,null,null,null,null,null,null,null,null,null,null,null,null,null,null,null,null,null,null,null,null,null,null,null,null,null,null,null,0]
[null,null,null,null,null,null,null,null,null,null,null,null,null,null,null,null,null,null,null,null,null,null,null,null,null,null,null,null,null,null,null,null,null,null,null,null,null,null,null,null,null,null,null,null,null,null,null,null,null,null,null,null,null,null,null,null,null,null,null,null,null,null,0]
[null,null,null,null,null,null,null,null,null,null,null,null,null,null,null,null,null,null,null,null,null,null,null,null,null,null,null,null,null,null,null,null,null,null,null,null,null,null,null,null,null,null,null,null,null,null,null,null,null,null,null,null,null,null,null,null,null,null,null,null,null,null,0]
[null,null,null,null,null,null,null,null,null,null,null,null,null,null,null,null,null,null,null,null,null,null,null,null,null,null,null,null,null,null,null,null,null,null,null,null,null,null,null,null,null,null,null,null,null,null,null,null,null,null,null,null,null,null,null,null,null,null,null,null,null,null,0]
[null,null,null,null,null,null,null,null,null,null,null,null,null,null,null,null,null,null,null,null,null,null,null,null,null,null,null,null,null,null,null,null,null,null,null,null,null,null,null,null,null,null,null,null,null,null,null,null,null,null,null,null,null,null,null,null,null,null,null,null,null,null,0]
[null,null,null,null,null,null,null,null,null,null,null,null,null,null,null,null,null,null,null,null,null,null,null,null,null,null,null,null,null,null,null,null,null,null,null,null,null,null,null,null,null,null,null,null,null,null,null,null,null,null,null,null,null,null,null,null,null,null,null,null,null,null,0]
[null,null,null,null,null,null,null,null,null,null,null,null,null,null,null,null,null,null,null,null,null,null,null,null,null,null,null,null,null,null,null,null,null,null,null,null,null,null,null,null,null,null,null,null,null,null,null,null,null,null,null,null,null,null,null,null,null,null,null,null,null,null,0]
[null,null,null,null,null,null,null,null,null,null,null,null,null,null,null,null,null,null,null,null,null,null,null,null,null,null,null,null,null,null,null,null,null,null,null,null,null,null,null,null,null,null,null,null,null,null,null,null,null,null,null,null,null,null,null,null,null,null,null,null,null,null,0]
[null,null,null,null,null,null,null,null,null,null,null,null,null,null,null,null,null,null,null,null,null,null,null,null,null,null,null,null,null,null,null,null,null,null,null,null,null,null,null,null,null,null,null,null,null,null,null,null,null,null,null,null,null,null,null,null,null,null,null,null,null,null,0]
[null,null,null,null,null,null,null,null,null,null,null,null,null,null,null,null,null,null,null,null,null,null,null,null,null,null,null,null,null,null,null,null,null,null,null,null,null,null,null,null,null,null,null,null,null,null,null,null,null,null,null,null,null,null,null,null,null,null,null,null,null,null,0]
[null,null,null,null,null,null,null,null,null,null,null,null,null,null,null,null,null,null,null,null,null,null,null,null,null,null,null,null,null,null,null,null,null,null,null,null,null,null,null,null,null,null,null,null,null,null,null,null,null,null,null,null,null,null,null,null,null,null,null,null,null,null,0]
[null,null,null,null,null,null,null,null,null,null,null,null,null,null,null,null,null,null,null,null,null,null,null,null,null,null,null,null,null,null,null,null,null,null,null,null,null,null,null,null,null,null,null,null,null,null,null,null,null,null,null,null,null,null,null,null,null,null,null,null,null,null,0]
[null,null,null,null,null,null,null,null,null,null,null,null,null,null,null,null,null,null,null,null,null,null,null,null,null,null,null,null,null,null,null,null,null,null,null,null,null,null,null,null,null,null,null,null,null,null,null,null,null,null,null,null,null,null,null,null,null,null,null,null,null,null,0]
[null,null,null,null,null,null,null,null,null,null,null,null,null,null,null,null,null,null,null,null,null,null,null,null,null,null,null,null,null,null,null,null,null,null,null,null,null,null,null,null,null,null,null,null,null,null,null,null,null,null,null,null,null,null,null,null,null,null,null,null,null,null,0]
[null,null,null,null,null,null,null,null,null,null,null,null,null,null,null,null,null,null,null,null,null,null,null,null,null,null,null,null,null,null,null,null,null,null,null,null,null,null,null,null,null,null,null,null,null,null,null,null,null,null,null,null,null,null,null,null,null,null,null,null,null,null,0]
[null,null,null,null,null,null,null,null,null,null,null,null,null,null,null,null,null,null,null,null,null,null,null,null,null,null,null,null,null,null,null,null,null,null,null,null,null,null,null,null,null,null,null,null,null,null,null,null,null,null,null,null,null,null,null,null,null,null,null,null,null,null,0]
[null,null,null,null,null,null,null,null,null,null,null,null,null,null,null,null,null,null,null,null,null,null,null,null,null,null,null,null,null,null,null,null,null,null,null,null,null,null,null,null,null,null,null,null,null,null,null,null,null,null,null,null,null,null,null,null,null,null,null,null,null,null,0]
[null,null,null,null,null,null,null,null,null,null,null,null,null,null,null,null,null,null,null,null,null,null,null,null,null,null,null,null,null,null,null,null,null,null,null,null,null,null,null,null,null,null,null,null,null,null,null,null,null,null,null,null,null,null,null,null,null,null,null,null,null,null,0]
[null,null,null,null,null,null,null,null,null,null,null,null,null,null,null,null,null,null,null,null,null,null,null,null,null,null,null,null,null,null,null,null,null,null,null,null,null,null,null,null,null,null,null,null,null,null,null,null,null,null,null,null,null,null,null,null,null,null,null,null,null,null,0]
[null,null,null,null,null,null,null,null,null,null,null,null,null,null,null,null,null,null,null,null,null,null,null,null,null,null,null,null,null,null,null,null,null,null,null,null,null,null,null,null,null,null,null,null,null,null,null,null,null,null,null,null,null,null,null,null,null,null,null,null,null,null,0]
["TOTALS",null,{"$f":"SUM(C14:C514)","v":0},0,0,0,0,0,0,0,0,0,0,0,0,0,0,0,0,0,0,0,0,0,0,0,0,0,0,0,0,0,0,0,0,0,0,0,0,0,0,0,0,0,0,0,0,0,0,0,0,0,0,0,0,0,0,0,0,0,0,0,{"$f":"SUM(BK14:BK514)","v":0}]

{"sheet":"Day3","index":11,"n_rows":515,"n_cols":63,"rows_kept":515,"cut":false,"hidden":false,"merged":[[499,0,499,1],[500,0,500,1],[501,0,501,1],[502,0,502,1],[503,0,503,1],[504,0,504,1],[493,0,493,1],[494,0,494,1],[495,0,495,1],[496,0,496,1],[497,0,497,1],[498,0,498,1],[511,0,511,1],[512,0,512,1],[513,0,513,1],[514,0,514,1],[505,0,505,1],[506,0,506,1],[507,0,507,1],[508,0,508,1],[509,0,509,1],[510,0,510,1],[487,0,487,1],[488,0,488,1],[489,0,489,1],[490,0,490,1],[491,0,491,1],[492,0,492,1],[481,0,481,1],[482,0,482,1],[483,0,483,1],[484,0,484,1],[485,0,485,1],[486,0,486,1],[475,0,475,1],[476,0,476,1],[477,0,477,1],[478,0,478,1],[479,0,479,1],[480,0,480,1],[469,0,469,1],[470,0,470,1],[471,0,471,1],[472,0,472,1],[473,0,473,1],[474,0,474,1],[463,0,463,1],[464,0,464,1],[465,0,465,1],[466,0,466,1],[467,0,467,1],[468,0,468,1],[457,0,457,1],[458,0,458,1],[459,0,459,1],[460,0,460,1],[461,0,461,1],[462,0,462,1],[451,0,451,1],[452,0,452,1],[453,0,453,1],[454,0,454,1],[455,0,455,1],[456,0,456,1],[445,0,445,1],[446,0,446,1],[447,0,447,1],[448,0,448,1],[449,0,449,1],[450,0,450,1],[439,0,439,1],[440,0,440,1],[441,0,441,1],[442,0,442,1],[443,0,443,1],[444,0,444,1],[433,0,433,1],[434,0,434,1],[435,0,435,1],[436,0,436,1],[437,0,437,1],[438,0,438,1],[427,0,427,1],[428,0,428,1],[429,0,429,1],[430,0,430,1],[431,0,431,1],[432,0,432,1],[421,0,421,1],[422,0,422,1],[423,0,423,1],[424,0,424,1],[425,0,425,1],[426,0,426,1],[415,0,415,1],[416,0,416,1],[417,0,417,1],[418,0,418,1],[419,0,419,1],[420,0,420,1],[409,0,409,1],[410,0,410,1],[411,0,411,1],[412,0,412,1],[413,0,413,1],[414,0,414,1],[403,0,403,1],[404,0,404,1],[405,0,405,1],[406,0,406,1],[407,0,407,1],[408,0,408,1],[397,0,397,1],[398,0,398,1],[399,0,399,1],[400,0,400,1],[401,0,401,1],[402,0,402,1],[391,0,391,1],[392,0,392,1],[393,0,393,1],[394,0,394,1],[395,0,395,1],[396,0,396,1],[385,0,385,1],[386,0,386,1],[387,0,387,1],[388,0,388,1],[389,0,389,1],[390,0,390,1],[379,0,379,1],[380,0,380,1],[381,0,381,1],[382,0,382,1],[383,0,383,1],[384,0,384,1],[373,0,373,1],[374,0,374,1],[375,0,375,1],[376,0,376,1],[377,0,377,1],[378,0,378,1],[367,0,367,1],[368,0,368,1],[369,0,369,1],[370,0,370,1],[371,0,371,1],[372,0,372,1],[361,0,361,1],[362,0,362,1],[363,0,363,1],[364,0,364,1],[365,0,365,1],[366,0,366,1],[355,0,355,1],[356,0,356,1],[357,0,357,1],[358,0,358,1],[359,0,359,1],[360,0,360,1],[349,0,349,1],[350,0,350,1],[351,0,351,1],[352,0,352,1],[353,0,353,1],[354,0,354,1],[343,0,343,1],[344,0,344,1],[345,0,345,1],[346,0,346,1],[347,0,347,1],[348,0,348,1],[337,0,337,1],[338,0,338,1],[339,0,339,1],[340,0,340,1],[341,0,341,1],[342,0,342,1],[331,0,331,1],[332,0,332,1],[333,0,333,1],[334,0,334,1],[335,0,335,1],[336,0,336,1],[325,0,325,1],[326,0,326,1],[327,0,327,1],[328,0,328,1],[329,0,329,1],[330,0,330,1],[319,0,319,1],[320,0,320,1],[321,0,321,1],[322,0,322,1],[323,0,323,1],[324,0,324,1],[313,0,313,1],[314,0,314,1],[315,0,315,1],[316,0,316,1],[317,0,317,1],[318,0,318,1],[307,0,307,1],[308,0,308,1],[309,0,309,1],[310,0,310,1],[311,0,311,1],[312,0,312,1],[301,0,301,1],[302,0,302,1],[303,0,303,1],[304,0,304,1],[305,0,305,1],[306,0,306,1],[295,0,295,1],[296,0,296,1],[297,0,297,1],[298,0,298,1],[299,0,299,1],[300,0,300,1],[289,0,289,1],[290,0,290,1],[291,0,291,1],[292,0,292,1],[293,0,293,1],[294,0,294,1],[283,0,283,1],[284,0,284,1],[285,0,285,1],[286,0,286,1],[287,0,287,1],[288,0,288,1],[277,0,277,1],[278,0,278,1],[279,0,279,1],[280,0,280,1],[281,0,281,1],[282,0,282,1],[271,0,271,1],[272,0,272,1],[273,0,273,1],[274,0,274,1],[275,0,275,1],[276,0,276,1],[265,0,265,1],[266,0,266,1],[267,0,267,1],[268,0,268,1],[269,0,269,1],[270,0,270,1],[259,0,259,1],[260,0,260,1],[261,0,261,1],[262,0,262,1],[263,0,263,1],[264,0,264,1],[253,0,253,1],[254,0,254,1],[255,0,255,1],[256,0,256,1],[257,0,257,1],[258,0,258,1],[247,0,247,1],[248,0,248,1],[249,0,249,1],[250,0,250,1],[251,0,251,1],[252,0,252,1],[241,0,241,1],[242,0,242,1],[243,0,243,1],[244,0,244,1],[245,0,245,1],[246,0,246,1],[235,0,235,1],[236,0,236,1],[237,0,237,1],[238,0,238,1],[239,0,239,1],[240,0,240,1],[229,0,229,1],[230,0,230,1],[231,0,231,1],[232,0,232,1],[233,0,233,1],[234,0,234,1],[223,0,223,1],[224,0,224,1],[225,0,225,1],[226,0,226,1],[227,0,227,1],[228,0,228,1],[217,0,217,1],[218,0,218,1],[219,0,219,1],[220,0,220,1],[221,0,221,1],[222,0,222,1],[211,0,211,1],[212,0,212,1],[213,0,213,1],[214,0,214,1],[215,0,215,1],[216,0,216,1],[205,0,205,1],[206,0,206,1],[207,0,207,1],[208,0,208,1],[209,0,209,1],[210,0,210,1],[199,0,199,1],[200,0,200,1],[201,0,201,1],[202,0,202,1],[203,0,203,1],[204,0,204,1],[193,0,193,1],[194,0,194,1],[195,0,195,1],[196,0,196,1],[197,0,197,1],[198,0,198,1],[187,0,187,1],[188,0,188,1],[189,0,189,1],[190,0,190,1],[191,0,191,1],[192,0,192,1],[181,0,181,1],[182,0,182,1],[183,0,183,1],[184,0,184,1],[185,0,185,1],[186,0,186,1],[175,0,175,1],[176,0,176,1],[177,0,177,1],[178,0,178,1],[179,0,179,1],[180,0,180,1],[169,0,169,1],[170,0,170,1],[171,0,171,1],[172,0,172,1],[173,0,173,1],[174,0,174,1],[163,0,163,1],[164,0,164,1],[165,0,165,1],[166,0,166,1],[167,0,167,1],[168,0,168,1],[157,0,157,1],[158,0,158,1],[159,0,159,1],[160,0,160,1],[161,0,161,1],[162,0,162,1],[151,0,151,1],[152,0,152,1],[153,0,153,1],[154,0,154,1],[155,0,155,1],[156,0,156,1],[145,0,145,1],[146,0,146,1],[147,0,147,1],[148,0,148,1],[149,0,149,1],[150,0,150,1],[139,0,139,1],[140,0,140,1],[141,0,141,1],[142,0,142,1],[143,0,143,1],[144,0,144,1],[133,0,133,1],[134,0,134,1],[135,0,135,1],[136,0,136,1],[137,0,137,1],[138,0,138,1],[127,0,127,1],[128,0,128,1],[129,0,129,1],[130,0,130,1],[131,0,131,1],[132,0,132,1],[121,0,121,1],[122,0,122,1],[123,0,123,1],[124,0,124,1],[125,0,125,1],[126,0,126,1],[115,0,115,1],[116,0,116,1],[117,0,117,1],[118,0,118,1],[119,0,119,1],[120,0,120,1],[109,0,109,1],[110,0,110,1],[111,0,111,1],[112,0,112,1],[113,0,113,1],[114,0,114,1],[103,0,103,1],[104,0,104,1],[105,0,105,1],[106,0,106,1],[107,0,107,1],[108,0,108,1],[97,0,97,1],[98,0,98,1],[99,0,99,1],[100,0,100,1],[101,0,101,1],[102,0,102,1],[91,0,91,1],[92,0,92,1],[93,0,93,1],[94,0,94,1],[95,0,95,1],[96,0,96,1],[85,0,85,1],[86,0,86,1],[87,0,87,1],[88,0,88,1],[89,0,89,1],[90,0,90,1],[79,0,79,1],[80,0,80,1],[81,0,81,1],[82,0,82,1],[83,0,83,1],[84,0,84,1],[73,0,73,1],[74,0,74,1],[75,0,75,1],[76,0,76,1],[77,0,77,1],[78,0,78,1],[67,0,67,1],[68,0,68,1],[69,0,69,1],[70,0,70,1],[71,0,71,1],[72,0,72,1],[61,0,61,1],[62,0,62,1],[63,0,63,1],[64,0,64,1],[65,0,65,1],[66,0,66,1],[55,0,55,1],[56,0,56,1],[57,0,57,1],[58,0,58,1],[59,0,59,1],[60,0,60,1],[49,0,49,1],[50,0,50,1],[51,0,51,1],[52,0,52,1],[53,0,53,1],[54,0,54,1],[43,0,43,1],[44,0,44,1],[45,0,45,1],[46,0,46,1],[47,0,47,1],[48,0,48,1],[37,0,37,1],[38,0,38,1],[39,0,39,1],[40,0,40,1],[41,0,41,1],[42,0,42,1],[17,0,17,1],[18,0,18,1],[31,0,31,1],[32,0,32,1],[33,0,33,1],[34,0,34,1],[35,0,35,1],[36,0,36,1],[27,0,27,1],[28,0,28,1],[29,0,29,1],[30,0,30,1],[10,0,12,0],[7,0,7,1],[8,0,8,1],[5,0,5,1],[25,0,25,1],[26,0,26,1],[6,0,6,1],[0,0,0,62],[1,0,1,62],[2,0,2,62],[5,62,7,62],[9,0,9,62],[10,62,12,62],[13,0,13,1],[14,0,14,1],[15,0,15,1],[4,0,4,1],[19,0,19,1],[20,0,20,1],[21,0,21,1],[22,0,22,1],[23,0,23,1],[24,0,24,1],[16,0,16,1]]}
[{"$f":"\"KRISHI\"&\"  BHAVAN\"&\"  \"&REGISTRATION!F13& \"  \"&\"DAY3\"","v":"KRISHI  BHAVAN    DAY3"}]
[{"$f":" REGISTRATION!F7&\" ONAM VEGETABLE MARKET, PURCHASE AND SALES MANAGEMENT SYSTEM\"","v":"jj ONAM VEGETABLE MARKET, PURCHASE AND SALES MANAGEMENT SYSTEM"}]
["INVENTORY MANAGEMENT"]
[null,null,1,2,3,4,5,6,7,8,9,10,11,12,13,14,15,16,17,18,19,20,21,22,23,24,25,26,27,28,29,30,31,32,33,34,35,36,37,38,39,40,41,42,43,44,45,46,47,48,49,50,51,52,53,54,55,56,57,58,59,60]
["Item",null,{"$f":"VLOOKUP(C13,'Sale Price'!$B$3:$I$64,3)","v":"Nendrn"},{"$f":"VLOOKUP(D13,'Sale Price'!$B$3:$I$64,3)","v":"Ban G"},{"$f":"VLOOKUP(E13,'Sale Price'!$B$3:$I$64,3)","v":"Palaya"},{"$f":"VLOOKUP(F13,'Sale Price'!$B$3:$I$64,3)","v":"Puvan"},{"$f":"VLOOKUP(G13,'Sale Price'!$B$3:$I$64,3)","v":"RasaK"},{"$f":"VLOOKUP(H13,'Sale Price'!$B$3:$I$64,3)","v":"RedB"},{"$f":"VLOOKUP(I13,'Sale Price'!$B$3:$I$64,3)","v":"Robst"},{"$f":"VLOOKUP(J13,'Sale Price'!$B$3:$I$64,3)","v":"Peyn"},{"$f":"VLOOKUP(K13,'Sale Price'!$B$3:$I$64,3)","v":"Chena"},{"$f":"VLOOKUP(L13,'Sale Price'!$B$3:$I$64,3)","v":"Beans"},{"$f":"VLOOKUP(M13,'Sale Price'!$B$3:$I$64,3)","v":"Amara"},{"$f":"VLOOKUP(N13,'Sale Price'!$B$3:$I$64,3)","v":"Carot"},{"$f":"VLOOKUP(O13,'Sale Price'!$B$3:$I$64,3)","v":"BeetR"},{"$f":"VLOOKUP(P13,'Sale Price'!$B$3:$I$64,3)","v":"Cabag"},{"$f":"VLOOKUP(Q13,'Sale Price'!$B$3:$I$64,3)","v":"CauliF"},{"$f":"VLOOKUP(R13,'Sale Price'!$B$3:$I$64,3)","v":"Capsic"},{"$f":"VLOOKUP(S13,'Sale Price'!$B$3:$I$64,3)","v":"Tomat"},{"$f":"VLOOKUP(T13,'Sale Price'!$B$3:$I$64,3)","v":"ChillS"},{"$f":"VLOOKUP(U13,'Sale Price'!$B$3:$I$64,3)","v":"ChillB"},{"$f":"VLOOKUP(V13,'Sale Price'!$B$3:$I$64,3)","v":"BittrG"},{"$f":"VLOOKUP(W13,'Sale Price'!$B$3:$I$64,3)","v":"BottG"},{"$f":"VLOOKUP(X13,'Sale Price'!$B$3:$I$64,3)","v":"SnakG"},{"$f":"VLOOKUP(Y13,'Sale Price'!$B$3:$I$64,3)","v":"BrinjR"},{"$f":"VLOOKUP(Z13,'Sale Price'!$B$3:$I$64,3)","v":"Vazhut"},{"$f":"VLOOKUP(AA13,'Sale Price'!$B$3:$I$64,3)","v":"Pumpk"},{"$f":"VLOOKUP(AB13,'Sale Price'!$B$3:$I$64,3)","v":"Savala"},{"$f":"VLOOKUP(AC13,'Sale Price'!$B$3:$I$64,3)","v":"Ulli"},{"$f":"VLOOKUP(AD13,'Sale Price'!$B$3:$I$64,3)","v":"Garlc"},{"$f":"VLOOKUP(AE13,'Sale Price'!$B$3:$I$64,3)","v":"Ginger"},{"$f":"VLOOKUP(AF13,'Sale Price'!$B$3:$I$64,3)","v":"Cucum"},{"$f":"VLOOKUP(AG13,'Sale Price'!$B$3:$I$64,3)","v":"Chemb"},{"$f":"VLOOKUP(AH13,'Sale Price'!$B$3:$I$64,3)","v":"Cowp"},{"$f":"VLOOKUP(AI13,'Sale Price'!$B$3:$I$64,3)","v":"AshG"},{"$f":"VLOOKUP(AJ13,'Sale Price'!$B$3:$I$64,3)","v":"Venda"},{"$f":"VLOOKUP(AK13,'Sale Price'!$B$3:$I$64,3)","v":"Drumst"},{"$f":"VLOOKUP(AL13,'Sale Price'!$B$3:$I$64,3)","v":"Koval"},{"$f":"VLOOKUP(AM13,'Sale Price'!$B$3:$I$64,3)","v":"CryLef"},{"$f":"VLOOKUP(AN13,'Sale Price'!$B$3:$I$64,3)","v":"MntLf"},{"$f":"VLOOKUP(AO13,'Sale Price'!$B$3:$I$64,3)","v":"CorLf"},{"$f":"VLOOKUP(AP13,'Sale Price'!$B$3:$I$64,3)","v":"Cheera"},{"$f":"VLOOKUP(AQ13,'Sale Price'!$B$3:$I$64,3)","v":"LemnB"},{"$f":"VLOOKUP(AR13,'Sale Price'!$B$3:$I$64,3)","v":"LemnS"},{"$f":"VLOOKUP(AS13,'Sale Price'!$B$3:$I$64,3)","v":"Mango"},{"$f":"VLOOKUP(AT13,'Sale Price'!$B$3:$I$64,3)","v":"PineA"},{"$f":"VLOOKUP(AU13,'Sale Price'!$B$3:$I$64,3)","v":"Potat"},{"$f":"VLOOKUP(AV13,'Sale Price'!$B$3:$I$64,3)","v":"Amla"},{"$f":"VLOOKUP(AW13,'Sale Price'!$B$3:$I$64,3)","v":"Tap"},{"$f":"VLOOKUP(AX13,'Sale Price'!$B$3:$I$64,3)","v":0},{"$f":"VLOOKUP(AY13,'Sale Price'!$B$3:$I$64,3)","v":0},{"$f":"VLOOKUP(AZ13,'Sale Price'!$B$3:$I$64,3)","v":0},{"$f":"VLOOKUP(BA13,'Sale Price'!$B$3:$I$64,3)","v":0},{"$f":"VLOOKUP(BB13,'Sale Price'!$B$3:$I$64,3)","v":0},{"$f":"VLOOKUP(BC13,'Sale Price'!$B$3:$I$64,3)","v":0},{"$f":"VLOOKUP(BD13,'Sale Price'!$B$3:$I$64,3)","v":0},{"$f":"VLOOKUP(BE13,'Sale Price'!$B$3:$I$64,3)","v":0},{"$f":"VLOOKUP(BF13,'Sale Price'!$B$3:$I$64,3)","v":0},{"$f":"VLOOKUP(BG13,'Sale Price'!$B$3:$I$64,3)","v":0},{"$f":"VLOOKUP(BH13,'Sale Price'!$B$3:$I$64,3)","v":0},{"$f":"VLOOKUP(BI13,'Sale Price'!$B$3:$I$64,3)","v":0},{"$f":"VLOOKUP(BJ13,'Sale Price'!$B$3:$I$64,3)","v":0}]
["INITIAL STOCK KG",null,{"$f":"'Day2'!C9","v":0},{"$f":"'Day2'!D9","v":0},{"$f":"'Day2'!E9","v":0},{"$f":"'Day2'!F9","v":0},{"$f":"'Day2'!G9","v":0},{"$f":"'Day2'!H9","v":0},{"$f":"'Day2'!I9","v":0},{"$f":"'Day2'!J9","v":0},{"$f":"'Day2'!K9","v":0},{"$f":"'Day2'!L9","v":0},{"$f":"'Day2'!M9","v":0},{"$f":"'Day2'!N9","v":0},{"$f":"'Day2'!O9","v":0},{"$f":"'Day2'!P9","v":0},{"$f":"'Day2'!Q9","v":0},{"$f":"'Day2'!R9","v":0},{"$f":"'Day2'!S9","v":0},{"$f":"'Day2'!T9","v":0},{"$f":"'Day2'!U9","v":0},{"$f":"'Day2'!V9","v":0},{"$f":"'Day2'!W9","v":0},{"$f":"'Day2'!X9","v":0},{"$f":"'Day2'!Y9","v":0},{"$f":"'Day2'!Z9","v":0},{"$f":"'Day2'!AA9","v":0},{"$f":"'Day2'!AB9","v":0},{"$f":"'Day2'!AC9","v":0},{"$f":"'Day2'!AD9","v":0},{"$f":"'Day2'!AE9","v":0},{"$f":"'Day2'!AF9","v":0},{"$f":"'Day2'!AG9","v":0},{"$f":"'Day2'!AH9","v":0},{"$f":"'Day2'!AI9","v":0},{"$f":"'Day2'!AJ9","v":0},{"$f":"'Day2'!AK9","v":0},{"$f":"'Day2'!AL9","v":0},{"$f":"'Day2'!AM9","v":0},{"$f":"'Day2'!AN9","v":0},{"$f":"'Day2'!AO9","v":0},{"$f":"'Day2'!AP9","v":0},{"$f":"'Day2'!AQ9","v":0},{"$f":"'Day2'!AR9","v":0},{"$f":"'Day2'!AS9","v":0},{"$f":"'Day2'!AT9","v":0},{"$f":"'Day2'!AU9","v":0},{"$f":"'Day2'!AV9","v":0},{"$f":"'Day2'!AW9","v":0},{"$f":"'Day2'!AX9","v":0},{"$f":"'Day2'!AY9","v":0},{"$f":"'Day2'!AZ9","v":0},{"$f":"'Day2'!BA9","v":0},{"$f":"'Day2'!BB9","v":0},{"$f":"'Day2'!BC9","v":0},{"$f":"'Day2'!BD9","v":0},{"$f":"'Day2'!BE9","v":0},{"$f":"'Day2'!BF9","v":0},{"$f":"'Day2'!BG9","v":0},{"$f":"'Day2'!BH9","v":0},{"$f":"'Day2'!BI9","v":0},{"$f":"'Day2'!BJ9","v":0},"Total Sales Amount for the day (Rs.)"]
["PURCHASE KG",null,{"$f":"VLOOKUP(C13,PURCH3!$C$4:$O$66,12)","v":0},{"$f":"VLOOKUP(D13,PURCH3!$C$4:$O$66,12)","v":0},{"$f":"VLOOKUP(E13,PURCH3!$C$4:$O$66,12)","v":0},{"$f":"VLOOKUP(F13,PURCH3!$C$4:$O$66,12)","v":0},{"$f":"VLOOKUP(G13,PURCH3!$C$4:$O$66,12)","v":0},{"$f":"VLOOKUP(H13,PURCH3!$C$4:$O$66,12)","v":0},{"$f":"VLOOKUP(I13,PURCH3!$C$4:$O$66,12)","v":0},{"$f":"VLOOKUP(J13,PURCH3!$C$4:$O$66,12)","v":0},{"$f":"VLOOKUP(K13,PURCH3!$C$4:$O$66,12)","v":0},{"$f":"VLOOKUP(L13,PURCH3!$C$4:$O$66,12)","v":0},{"$f":"VLOOKUP(M13,PURCH3!$C$4:$O$66,12)","v":0},{"$f":"VLOOKUP(N13,PURCH3!$C$4:$O$66,12)","v":0},{"$f":"VLOOKUP(O13,PURCH3!$C$4:$O$66,12)","v":0},{"$f":"VLOOKUP(P13,PURCH3!$C$4:$O$66,12)","v":0},{"$f":"VLOOKUP(Q13,PURCH3!$C$4:$O$66,12)","v":0},{"$f":"VLOOKUP(R13,PURCH3!$C$4:$O$66,12)","v":0},{"$f":"VLOOKUP(S13,PURCH3!$C$4:$O$66,12)","v":0},{"$f":"VLOOKUP(T13,PURCH3!$C$4:$O$66,12)","v":0},{"$f":"VLOOKUP(U13,PURCH3!$C$4:$O$66,12)","v":0},{"$f":"VLOOKUP(V13,PURCH3!$C$4:$O$66,12)","v":0},{"$f":"VLOOKUP(W13,PURCH3!$C$4:$O$66,12)","v":0},{"$f":"VLOOKUP(X13,PURCH3!$C$4:$O$66,12)","v":0},{"$f":"VLOOKUP(Y13,PURCH3!$C$4:$O$66,12)","v":0},{"$f":"VLOOKUP(Z13,PURCH3!$C$4:$O$66,12)","v":0},{"$f":"VLOOKUP(AA13,PURCH3!$C$4:$O$66,12)","v":0},{"$f":"VLOOKUP(AB13,PURCH3!$C$4:$O$66,12)","v":0},{"$f":"VLOOKUP(AC13,PURCH3!$C$4:$O$66,12)","v":0},{"$f":"VLOOKUP(AD13,PURCH3!$C$4:$O$66,12)","v":0},{"$f":"VLOOKUP(AE13,PURCH3!$C$4:$O$66,12)","v":0},{"$f":"VLOOKUP(AF13,PURCH3!$C$4:$O$66,12)","v":0},{"$f":"VLOOKUP(AG13,PURCH3!$C$4:$O$66,12)","v":0},{"$f":"VLOOKUP(AH13,PURCH3!$C$4:$O$66,12)","v":0},{"$f":"VLOOKUP(AI13,PURCH3!$C$4:$O$66,12)","v":0},{"$f":"VLOOKUP(AJ13,PURCH3!$C$4:$O$66,12)","v":0},{"$f":"VLOOKUP(AK13,PURCH3!$C$4:$O$66,12)","v":0},{"$f":"VLOOKUP(AL13,PURCH3!$C$4:$O$66,12)","v":0},{"$f":"VLOOKUP(AM13,PURCH3!$C$4:$O$66,12)","v":0},{"$f":"VLOOKUP(AN13,PURCH3!$C$4:$O$66,12)","v":0},{"$f":"VLOOKUP(AO13,PURCH3!$C$4:$O$66,12)","v":0},{"$f":"VLOOKUP(AP13,PURCH3!$C$4:$O$66,12)","v":0},{"$f":"VLOOKUP(AQ13,PURCH3!$C$4:$O$66,12)","v":0},{"$f":"VLOOKUP(AR13,PURCH3!$C$4:$O$66,12)","v":0},{"$f":"VLOOKUP(AS13,PURCH3!$C$4:$O$66,12)","v":0},{"$f":"VLOOKUP(AT13,PURCH3!$C$4:$O$66,12)","v":0},{"$f":"VLOOKUP(AU13,PURCH3!$C$4:$O$66,12)","v":0},{"$f":"VLOOKUP(AV13,PURCH3!$C$4:$O$66,12)","v":0},{"$f":"VLOOKUP(AW13,PURCH3!$C$4:$O$66,12)","v":0},{"$f":"VLOOKUP(AX13,PURCH3!$C$4:$O$66,12)","v":0},{"$f":"VLOOKUP(AY13,PURCH3!$C$4:$O$66,12)","v":0},{"$f":"VLOOKUP(AZ13,PURCH3!$C$4:$O$66,12)","v":0},{"$f":"VLOOKUP(BA13,PURCH3!$C$4:$O$66,12)","v":0},{"$f":"VLOOKUP(BB13,PURCH3!$C$4:$O$66,12)","v":0},{"$f":"VLOOKUP(BC13,PURCH3!$C$4:$O$66,12)","v":0},{"$f":"VLOOKUP(BD13,PURCH3!$C$4:$O$66,12)","v":0},{"$f":"VLOOKUP(BE13,PURCH3!$C$4:$O$66,12)","v":0},{"$f":"VLOOKUP(BF13,PURCH3!$C$4:$O$66,12)","v":0},{"$f":"VLOOKUP(BG13,PURCH3!$C$4:$O$66,12)","v":0},{"$f":"VLOOKUP(BH13,PURCH3!$C$4:$O$66,12)","v":0},{"$f":"VLOOKUP(BI13,PURCH3!$C$4:$O$66,12)","v":0},{"$f":"VLOOKUP(BJ13,PURCH3!$C$4:$O$66,12)","v":0}]
["TOTAL SALE KG",null,{"$f":"C515","v":0},{"$f":"D515","v":0},0,0,0,0,0,0,0,0,0,0,0,0,0,0,0,0,0,0,0,0,0,0,0,0,0,0,0,0,{"$f":"AG515","v":0},0,0,0,0,0,0,0,0,0,0,0,0,0,0,0,0,0,0,0,0,0,0,0,0,0,0,0,0,0]
["BALANCE KG",null,{"$f":"C6+C7-C8","v":0},{"$f":"D6+D7-D8","v":0},0,0,0,0,0,0,0,0,0,0,0,0,0,0,0,0,0,0,0,0,0,0,0,0,0,0,0,0,{"$f":"AG6+AG7-AG8","v":0},0,0,0,0,0,0,0,0,0,0,0,0,0,0,0,0,0,0,0,0,0,0,0,0,0,0,0,0,0,{"$f":"BK515","v":0}]
["SALES MANAGEMENT"]
["Bill No.","S.Price",{"$f":"VLOOKUP('Day1'!C13,'Sale Price'!$B$5:$I$64,6)","v":0},{"$f":"VLOOKUP('Day1'!D13,'Sale Price'!$B$5:$I$64,6)","v":0},{"$f":"VLOOKUP('Day1'!E13,'Sale Price'!$B$5:$I$64,6)","v":0},{"$f":"VLOOKUP('Day1'!F13,'Sale Price'!$B$5:$I$64,6)","v":0},{"$f":"VLOOKUP('Day1'!G13,'Sale Price'!$B$5:$I$64,6)","v":0},{"$f":"VLOOKUP('Day1'!H13,'Sale Price'!$B$5:$I$64,6)","v":0},{"$f":"VLOOKUP('Day1'!I13,'Sale Price'!$B$5:$I$64,6)","v":0},{"$f":"VLOOKUP('Day1'!J13,'Sale Price'!$B$5:$I$64,6)","v":0},{"$f":"VLOOKUP('Day1'!K13,'Sale Price'!$B$5:$I$64,6)","v":0},{"$f":"VLOOKUP('Day1'!L13,'Sale Price'!$B$5:$I$64,6)","v":0},{"$f":"VLOOKUP('Day1'!M13,'Sale Price'!$B$5:$I$64,6)","v":0},{"$f":"VLOOKUP('Day1'!N13,'Sale Price'!$B$5:$I$64,6)","v":0},{"$f":"VLOOKUP('Day1'!O13,'Sale Price'!$B$5:$I$64,6)","v":0},{"$f":"VLOOKUP('Day1'!P13,'Sale Price'!$B$5:$I$64,6)","v":0},{"$f":"VLOOKUP('Day1'!Q13,'Sale Price'!$B$5:$I$64,6)","v":0},{"$f":"VLOOKUP('Day1'!R13,'Sale Price'!$B$5:$I$64,6)","v":0},{"$f":"VLOOKUP('Day1'!S13,'Sale Price'!$B$5:$I$64,6)","v":0},{"$f":"VLOOKUP('Day1'!T13,'Sale Price'!$B$5:$I$64,6)","v":0},{"$f":"VLOOKUP('Day1'!U13,'Sale Price'!$B$5:$I$64,6)","v":0},{"$f":"VLOOKUP('Day1'!V13,'Sale Price'!$B$5:$I$64,6)","v":0},{"$f":"VLOOKUP('Day1'!W13,'Sale Price'!$B$5:$I$64,6)","v":0},{"$f":"VLOOKUP('Day1'!X13,'Sale Price'!$B$5:$I$64,6)","v":0},{"$f":"VLOOKUP('Day1'!Y13,'Sale Price'!$B$5:$I$64,6)","v":0},{"$f":"VLOOKUP('Day1'!Z13,'Sale Price'!$B$5:$I$64,6)","v":0},{"$f":"VLOOKUP('Day1'!AA13,'Sale Price'!$B$5:$I$64,6)","v":0},{"$f":"VLOOKUP('Day1'!AB13,'Sale Price'!$B$5:$I$64,6)","v":0},{"$f":"VLOOKUP('Day1'!AC13,'Sale Price'!$B$5:$I$64,6)","v":0},{"$f":"VLOOKUP('Day1'!AD13,'Sale Price'!$B$5:$I$64,6)","v":0},{"$f":"VLOOKUP('Day1'!AE13,'Sale Price'!$B$5:$I$64,6)","v":0},{"$f":"VLOOKUP('Day1'!AF13,'Sale Price'!$B$5:$I$64,6)","v":0},{"$f":"VLOOKUP('Day1'!AG13,'Sale Price'!$B$5:$I$64,6)","v":0},{"$f":"VLOOKUP('Day1'!AH13,'Sale Price'!$B$5:$I$64,6)","v":0},{"$f":"VLOOKUP('Day1'!AI13,'Sale Price'!$B$5:$I$64,6)","v":0},{"$f":"VLOOKUP('Day1'!AJ13,'Sale Price'!$B$5:$I$64,6)","v":0},{"$f":"VLOOKUP('Day1'!AK13,'Sale Price'!$B$5:$I$64,6)","v":0},{"$f":"VLOOKUP('Day1'!AL13,'Sale Price'!$B$5:$I$64,6)","v":0},{"$f":"VLOOKUP('Day1'!AM13,'Sale Price'!$B$5:$I$64,6)","v":0},{"$f":"VLOOKUP('Day1'!AN13,'Sale Price'!$B$5:$I$64,6)","v":0},{"$f":"VLOOKUP('Day1'!AO13,'Sale Price'!$B$5:$I$64,6)","v":0},{"$f":"VLOOKUP('Day1'!AP13,'Sale Price'!$B$5:$I$64,6)","v":0},{"$f":"VLOOKUP('Day1'!AQ13,'Sale Price'!$B$5:$I$64,6)","v":0},{"$f":"VLOOKUP('Day1'!AR13,'Sale Price'!$B$5:$I$64,6)","v":0},{"$f":"VLOOKUP('Day1'!AS13,'Sale Price'!$B$5:$I$64,6)","v":0},{"$f":"VLOOKUP('Day1'!AT13,'Sale Price'!$B$5:$I$64,6)","v":0},{"$f":"VLOOKUP('Day1'!AU13,'Sale Price'!$B$5:$I$64,6)","v":0},{"$f":"VLOOKUP('Day1'!AV13,'Sale Price'!$B$5:$I$64,6)","v":0},{"$f":"VLOOKUP('Day1'!AW13,'Sale Price'!$B$5:$I$64,6)","v":0},{"$f":"VLOOKUP('Day1'!AX13,'Sale Price'!$B$5:$I$64,6)","v":0},{"$f":"VLOOKUP('Day1'!AY13,'Sale Price'!$B$5:$I$64,6)","v":0},{"$f":"VLOOKUP('Day1'!AZ13,'Sale Price'!$B$5:$I$64,6)","v":0},{"$f":"VLOOKUP('Day1'!BA13,'Sale Price'!$B$5:$I$64,6)","v":0},{"$f":"VLOOKUP('Day1'!BB13,'Sale Price'!$B$5:$I$64,6)","v":0},{"$f":"VLOOKUP('Day1'!BC13,'Sale Price'!$B$5:$I$64,6)","v":0},{"$f":"VLOOKUP('Day1'!BD13,'Sale Price'!$B$5:$I$64,6)","v":0},{"$f":"VLOOKUP('Day1'!BE13,'Sale Price'!$B$5:$I$64,6)","v":0},{"$f":"VLOOKUP('Day1'!BF13,'Sale Price'!$B$5:$I$64,6)","v":0},{"$f":"VLOOKUP('Day1'!BG13,'Sale Price'!$B$5:$I$64,6)","v":0},{"$f":"VLOOKUP('Day1'!BH13,'Sale Price'!$B$5:$I$64,6)","v":0},{"$f":"VLOOKUP('Day1'!BI13,'Sale Price'!$B$5:$I$64,6)","v":0},{"$f":"VLOOKUP('Day1'!BJ13,'Sale Price'!$B$5:$I$64,6)","v":0},"Total Bill Rs."]
[null,"Item",{"$f":"VLOOKUP('Day1'!C13,'Sale Price'!$B$5:$I$64,3)","v":"Nendrn"},{"$f":"VLOOKUP('Day1'!D13,'Sale Price'!$B$5:$I$64,3)","v":"Ban G"},{"$f":"VLOOKUP('Day1'!E13,'Sale Price'!$B$5:$I$64,3)","v":"Palaya"},{"$f":"VLOOKUP('Day1'!F13,'Sale Price'!$B$5:$I$64,3)","v":"Puvan"},{"$f":"VLOOKUP('Day1'!G13,'Sale Price'!$B$5:$I$64,3)","v":"RasaK"},{"$f":"VLOOKUP('Day1'!H13,'Sale Price'!$B$5:$I$64,3)","v":"RedB"},{"$f":"VLOOKUP('Day1'!I13,'Sale Price'!$B$5:$I$64,3)","v":"Robst"},{"$f":"VLOOKUP('Day1'!J13,'Sale Price'!$B$5:$I$64,3)","v":"Peyn"},{"$f":"VLOOKUP('Day1'!K13,'Sale Price'!$B$5:$I$64,3)","v":"Chena"},{"$f":"VLOOKUP('Day1'!L13,'Sale Price'!$B$5:$I$64,3)","v":"Beans"},{"$f":"VLOOKUP('Day1'!M13,'Sale Price'!$B$5:$I$64,3)","v":"Amara"},{"$f":"VLOOKUP('Day1'!N13,'Sale Price'!$B$5:$I$64,3)","v":"Carot"},{"$f":"VLOOKUP('Day1'!O13,'Sale Price'!$B$5:$I$64,3)","v":"BeetR"},{"$f":"VLOOKUP('Day1'!P13,'Sale Price'!$B$5:$I$64,3)","v":"Cabag"},{"$f":"VLOOKUP('Day1'!Q13,'Sale Price'!$B$5:$I$64,3)","v":"CauliF"},{"$f":"VLOOKUP('Day1'!R13,'Sale Price'!$B$5:$I$64,3)","v":"Capsic"},{"$f":"VLOOKUP('Day1'!S13,'Sale Price'!$B$5:$I$64,3)","v":"Tomat"},{"$f":"VLOOKUP('Day1'!T13,'Sale Price'!$B$5:$I$64,3)","v":"ChillS"},{"$f":"VLOOKUP('Day1'!U13,'Sale Price'!$B$5:$I$64,3)","v":"ChillB"},{"$f":"VLOOKUP('Day1'!V13,'Sale Price'!$B$5:$I$64,3)","v":"BittrG"},{"$f":"VLOOKUP('Day1'!W13,'Sale Price'!$B$5:$I$64,3)","v":"BottG"},{"$f":"VLOOKUP('Day1'!X13,'Sale Price'!$B$5:$I$64,3)","v":"SnakG"},{"$f":"VLOOKUP('Day1'!Y13,'Sale Price'!$B$5:$I$64,3)","v":"BrinjR"},{"$f":"VLOOKUP('Day1'!Z13,'Sale Price'!$B$5:$I$64,3)","v":"Vazhut"},{"$f":"VLOOKUP('Day1'!AA13,'Sale Price'!$B$5:$I$64,3)","v":"Pumpk"},{"$f":"VLOOKUP('Day1'!AB13,'Sale Price'!$B$5:$I$64,3)","v":"Savala"},{"$f":"VLOOKUP('Day1'!AC13,'Sale Price'!$B$5:$I$64,3)","v":"Ulli"},{"$f":"VLOOKUP('Day1'!AD13,'Sale Price'!$B$5:$I$64,3)","v":"Garlc"},{"$f":"VLOOKUP('Day1'!AE13,'Sale Price'!$B$5:$I$64,3)","v":"Ginger"},{"$f":"VLOOKUP('Day1'!AF13,'Sale Price'!$B$5:$I$64,3)","v":"Cucum"},{"$f":"VLOOKUP('Day1'!AG13,'Sale Price'!$B$5:$I$64,3)","v":"Chemb"},{"$f":"VLOOKUP('Day1'!AH13,'Sale Price'!$B$5:$I$64,3)","v":"Cowp"},{"$f":"VLOOKUP('Day1'!AI13,'Sale Price'!$B$5:$I$64,3)","v":"AshG"},{"$f":"VLOOKUP('Day1'!AJ13,'Sale Price'!$B$5:$I$64,3)","v":"Venda"},{"$f":"VLOOKUP('Day1'!AK13,'Sale Price'!$B$5:$I$64,3)","v":"Drumst"},{"$f":"VLOOKUP('Day1'!AL13,'Sale Price'!$B$5:$I$64,3)","v":"Koval"},{"$f":"VLOOKUP('Day1'!AM13,'Sale Price'!$B$5:$I$64,3)","v":"CryLef"},{"$f":"VLOOKUP('Day1'!AN13,'Sale Price'!$B$5:$I$64,3)","v":"MntLf"},{"$f":"VLOOKUP('Day1'!AO13,'Sale Price'!$B$5:$I$64,3)","v":"CorLf"},{"$f":"VLOOKUP('Day1'!AP13,'Sale Price'!$B$5:$I$64,3)","v":"Cheera"},{"$f":"VLOOKUP('Day1'!AQ13,'Sale Price'!$B$5:$I$64,3)","v":"LemnB"},{"$f":"VLOOKUP('Day1'!AR13,'Sale Price'!$B$5:$I$64,3)","v":"LemnS"},{"$f":"VLOOKUP('Day1'!AS13,'Sale Price'!$B$5:$I$64,3)","v":"Mango"},{"$f":"VLOOKUP('Day1'!AT13,'Sale Price'!$B$5:$I$64,3)","v":"PineA"},{"$f":"VLOOKUP('Day1'!AU13,'Sale Price'!$B$5:$I$64,3)","v":"Potat"},{"$f":"VLOOKUP('Day1'!AV13,'Sale Price'!$B$5:$I$64,3)","v":"Amla"},{"$f":"VLOOKUP('Day1'!AW13,'Sale Price'!$B$5:$I$64,3)","v":"Tap"},{"$f":"VLOOKUP('Day1'!AX13,'Sale Price'!$B$5:$I$64,3)","v":0},{"$f":"VLOOKUP('Day1'!AY13,'Sale Price'!$B$5:$I$64,3)","v":0},{"$f":"VLOOKUP('Day1'!AZ13,'Sale Price'!$B$5:$I$64,3)","v":0},{"$f":"VLOOKUP('Day1'!BA13,'Sale Price'!$B$5:$I$64,3)","v":0},{"$f":"VLOOKUP('Day1'!BB13,'Sale Price'!$B$5:$I$64,3)","v":0},{"$f":"VLOOKUP('Day1'!BC13,'Sale Price'!$B$5:$I$64,3)","v":0},{"$f":"VLOOKUP('Day1'!BD13,'Sale Price'!$B$5:$I$64,3)","v":0},{"$f":"VLOOKUP('Day1'!BE13,'Sale Price'!$B$5:$I$64,3)","v":0},{"$f":"VLOOKUP('Day1'!BF13,'Sale Price'!$B$5:$I$64,3)","v":0},{"$f":"VLOOKUP('Day1'!BG13,'Sale Price'!$B$5:$I$64,3)","v":0},{"$f":"VLOOKUP('Day1'!BH13,'Sale Price'!$B$5:$I$64,3)","v":0},{"$f":"VLOOKUP('Day1'!BI13,'Sale Price'!$B$5:$I$64,3)","v":0},{"$f":"VLOOKUP('Day1'!BJ13,'Sale Price'!$B$5:$I$64,3)","v":0}]
[null,"Code",1,2,3,4,5,6,7,8,9,10,11,12,13,14,15,16,17,18,19,20,21,22,23,24,25,26,27,28,29,30,31,32,33,34,35,36,37,38,39,40,41,42,43,44,45,46,47,48,49,50,51,52,53,54,55,56,57,58,59,60]
[null,null,null,null,null,null,null,null,null,null,null,null,null,null,null,null,null,null,null,null,null,null,null,null,null,null,null,null,null,null,null,null,null,null,null,null,null,null,null,null,null,null,null,null,null,null,null,null,null,null,null,null,null,null,null,null,null,null,null,null,null,null,{"$f":"C14*$C$11+D14*$D$11+E14*$E$11+F14*$F$11+G14*$G$11+H14*$H$11+I14*$I$11+J14*$J$11+K14*$K$11+L14*$L$11+M14*$M$11+N14*$N$11+O14*$O$11+P14*$P$11+Q14*$Q$11+R14*$R$11+S14*$S$11+T14*$T$11+U14*$U$11+V14*$V$11+W14*$W$11+X14*$X$11+Y14*$Y$11+Z14*$Z$11+AA14*$AA$11+AB14*$AB$11+AC14*$AC$11+AD14*$AD$11+AE14*$AE$11+AF14*$AF$11+AG14*$AG$11+AH14*$AH$11+AI14*$AI$11+AJ14*$AJ$11+AK14*$AK$11+AL14*$AL$11+AM14*$AM$11+AN14*$AN$11+AO14*$AO$11+AP14*$AP$11+AQ14*$AQ$11+AR14*$AR$11+AS14*$AS$11+AT14*$AT$11+AU14*$AU$11+AV14*$AV$11+AW14*$AW$11+AX14*$AX$11+AY14*$AY$11+AZ14*$AZ$11+BA14*$BA$11+BB14*$BB$11+BC14*$BC$11+BD14*$BD$11+BE14*$BE$11+BF14*$BF$11+BG14*$BG$11+BH14*$BH$11+BI14*$BI$11+BJ14*$BJ$11","v":0}]
[null,null,null,null,null,null,null,null,null,null,null,null,null,null,null,null,null,null,null,null,null,null,null,null,null,null,null,null,null,null,null,null,null,null,null,null,null,null,null,null,null,null,null,null,null,null,null,null,null,null,null,null,null,null,null,null,null,null,null,null,null,null,{"$f":"C15*$C$11+D15*$D$11+E15*$E$11+F15*$F$11+G15*$G$11+H15*$H$11+I15*$I$11+J15*$J$11+K15*$K$11+L15*$L$11+M15*$M$11+N15*$N$11+O15*$O$11+P15*$P$11+Q15*$Q$11+R15*$R$11+S15*$S$11+T15*$T$11+U15*$U$11+V15*$V$11+W15*$W$11+X15*$X$11+Y15*$Y$11+Z15*$Z$11+AA15*$AA$11+AB15*$AB$11+AC15*$AC$11+AD15*$AD$11+AE15*$AE$11+AF15*$AF$11+AG15*$AG$11+AH15*$AH$11+AI15*$AI$11+AJ15*$AJ$11+AK15*$AK$11+AL15*$AL$11+AM15*$AM$11+AN15*$AN$11+AO15*$AO$11+AP15*$AP$11+AQ15*$AQ$11+AR15*$AR$11+AS15*$AS$11+AT15*$AT$11+AU15*$AU$11+AV15*$AV$11+AW15*$AW$11+AX15*$AX$11+AY15*$AY$11+AZ15*$AZ$11+BA15*$BA$11+BB15*$BB$11+BC15*$BC$11+BD15*$BD$11+BE15*$BE$11+BF15*$BF$11+BG15*$BG$11+BH15*$BH$11+BI15*$BI$11+BJ15*$BJ$11","v":0}]
[null,null,null,null,null,null,null,null,null,null,null,null,null,null,null,null,null,null,null,null,null,null,null,null,null,null,null,null,null,null,null,null,null,null,null,null,null,null,null,null,null,null,null,null,null,null,null,null,null,null,null,null,null,null,null,null,null,null,null,null,null,null,0]
[null,null,null,null,null,null,null,null,null,null,null,null,null,null,null,null,null,null,null,null,null,null,null,null,null,null,null,null,null,null,null,null,null,null,null,null,null,null,null,null,null,null,null,null,null,null,null,null,null,null,null,null,null,null,null,null,null,null,null,null,null,null,0]
[null,null,null,null,null,null,null,null,null,null,null,null,null,null,null,null,null,null,null,null,null,null,null,null,null,null,null,null,null,null,null,null,null,null,null,null,null,null,null,null,null,null,null,null,null,null,null,null,null,null,null,null,null,null,null,null,null,null,null,null,null,null,0]
[null,null,null,null,null,null,null,null,null,null,null,null,null,null,null,null,null,null,null,null,null,null,null,null,null,null,null,null,null,null,null,null,null,null,null,null,null,null,null,null,null,null,null,null,null,null,null,null,null,null,null,null,null,null,null,null,null,null,null,null,null,null,0]
[null,null,null,null,null,null,null,null,null,null,null,null,null,null,null,null,null,null,null,null,null,null,null,null,null,null,null,null,null,null,null,null,null,null,null,null,null,null,null,null,null,null,null,null,null,null,null,null,null,null,null,null,null,null,null,null,null,null,null,null,null,null,0]
[null,null,null,null,null,null,null,null,null,null,null,null,null,null,null,null,null,null,null,null,null,null,null,null,null,null,null,null,null,null,null,null,null,null,null,null,null,null,null,null,null,null,null,null,null,null,null,null,null,null,null,null,null,null,null,null,null,null,null,null,null,null,0]
[null,null,null,null,null,null,null,null,null,null,null,null,null,null,null,null,null,null,null,null,null,null,null,null,null,null,null,null,null,null,null,null,null,null,null,null,null,null,null,null,null,null,null,null,null,null,null,null,null,null,null,null,null,null,null,null,null,null,null,null,null,null,0]
[null,null,null,null,null,null,null,null,null,null,null,null,null,null,null,null,null,null,null,null,null,null,null,null,null,null,null,null,null,null,null,null,null,null,null,null,null,null,null,null,null,null,null,null,null,null,null,null,null,null,null,null,null,null,null,null,null,null,null,null,null,null,0]
[null,null,null,null,null,null,null,null,null,null,null,null,null,null,null,null,null,null,null,null,null,null,null,null,null,null,null,null,null,null,null,null,null,null,null,null,null,null,null,null,null,null,null,null,null,null,null,null,null,null,null,null,null,null,null,null,null,null,null,null,null,null,0]
[null,null,null,null,null,null,null,null,null,null,null,null,null,null,null,null,null,null,null,null,null,null,null,null,null,null,null,null,null,null,null,null,null,null,null,null,null,null,null,null,null,null,null,null,null,null,null,null,null,null,null,null,null,null,null,null,null,null,null,null,null,null,0]
[null,null,null,null,null,null,null,null,null,null,null,null,null,null,null,null,null,null,null,null,null,null,null,null,null,null,null,null,null,null,null,null,null,null,null,null,null,null,null,null,null,null,null,null,null,null,null,null,null,null,null,null,null,null,null,null,null,null,null,null,null,null,0]
[null,null,null,null,null,null,null,null,null,null,null,null,null,null,null,null,null,null,null,null,null,null,null,null,null,null,null,null,null,null,null,null,null,null,null,null,null,null,null,null,null,null,null,null,null,null,null,null,null,null,null,null,null,null,null,null,null,null,null,null,null,null,0]
[null,null,null,null,null,null,null,null,null,null,null,null,null,null,null,null,null,null,null,null,null,null,null,null,null,null,null,null,null,null,null,null,null,null,null,null,null,null,null,null,null,null,null,null,null,null,null,null,null,null,null,null,null,null,null,null,null,null,null,null,null,null,0]
[null,null,null,null,null,null,null,null,null,null,null,null,null,null,null,null,null,null,null,null,null,null,null,null,null,null,null,null,null,null,null,null,null,null,null,null,null,null,null,null,null,null,null,null,null,null,null,null,null,null,null,null,null,null,null,null,null,null,null,null,null,null,0]
[null,null,null,null,null,null,null,null,null,null,null,null,null,null,null,null,null,null,null,null,null,null,null,null,null,null,null,null,null,null,null,null,null,null,null,null,null,null,null,null,null,null,null,null,null,null,null,null,null,null,null,null,null,null,null,null,null,null,null,null,null,null,0]
[null,null,null,null,null,null,null,null,null,null,null,null,null,null,null,null,null,null,null,null,null,null,null,null,null,null,null,null,null,null,null,null,null,null,null,null,null,null,null,null,null,null,null,null,null,null,null,null,null,null,null,null,null,null,null,null,null,null,null,null,null,null,0]
[null,null,null,null,null,null,null,null,null,null,null,null,null,null,null,null,null,null,null,null,null,null,null,null,null,null,null,null,null,null,null,null,null,null,null,null,null,null,null,null,null,null,null,null,null,null,null,null,null,null,null,null,null,null,null,null,null,null,null,null,null,null,0]
[null,null,null,null,null,null,null,null,null,null,null,null,null,null,null,null,null,null,null,null,null,null,null,null,null,null,null,null,null,null,null,null,null,null,null,null,null,null,null,null,null,null,null,null,null,null,null,null,null,null,null,null,null,null,null,null,null,null,null,null,null,null,0]
[null,null,null,null,null,null,null,null,null,null,null,null,null,null,null,null,null,null,null,null,null,null,null,null,null,null,null,null,null,null,null,null,null,null,null,null,null,null,null,null,null,null,null,null,null,null,null,null,null,null,null,null,null,null,null,null,null,null,null,null,null,null,0]
[null,null,null,null,null,null,null,null,null,null,null,null,null,null,null,null,null,null,null,null,null,null,null,null,null,null,null,null,null,null,null,null,null,null,null,null,null,null,null,null,null,null,null,null,null,null,null,null,null,null,null,null,null,null,null,null,null,null,null,null,null,null,0]
[null,null,null,null,null,null,null,null,null,null,null,null,null,null,null,null,null,null,null,null,null,null,null,null,null,null,null,null,null,null,null,null,null,null,null,null,null,null,null,null,null,null,null,null,null,null,null,null,null,null,null,null,null,null,null,null,null,null,null,null,null,null,0]
[null,null,null,null,null,null,null,null,null,null,null,null,null,null,null,null,null,null,null,null,null,null,null,null,null,null,null,null,null,null,null,null,null,null,null,null,null,null,null,null,null,null,null,null,null,null,null,null,null,null,null,null,null,null,null,null,null,null,null,null,null,null,0]
[null,null,null,null,null,null,null,null,null,null,null,null,null,null,null,null,null,null,null,null,null,null,null,null,null,null,null,null,null,null,null,null,null,null,null,null,null,null,null,null,null,null,null,null,null,null,null,null,null,null,null,null,null,null,null,null,null,null,null,null,null,null,0]
[null,null,null,null,null,null,null,null,null,null,null,null,null,null,null,null,null,null,null,null,null,null,null,null,null,null,null,null,null,null,null,null,null,null,null,null,null,null,null,null,null,null,null,null,null,null,null,null,null,null,null,null,null,null,null,null,null,null,null,null,null,null,0]
[null,null,null,null,null,null,null,null,null,null,null,null,null,null,null,null,null,null,null,null,null,null,null,null,null,null,null,null,null,null,null,null,null,null,null,null,null,null,null,null,null,null,null,null,null,null,null,null,null,null,null,null,null,null,null,null,null,null,null,null,null,null,0]
[null,null,null,null,null,null,null,null,null,null,null,null,null,null,null,null,null,null,null,null,null,null,null,null,null,null,null,null,null,null,null,null,null,null,null,null,null,null,null,null,null,null,null,null,null,null,null,null,null,null,null,null,null,null,null,null,null,null,null,null,null,null,0]
[null,null,null,null,null,null,null,null,null,null,null,null,null,null,null,null,null,null,null,null,null,null,null,null,null,null,null,null,null,null,null,null,null,null,null,null,null,null,null,null,null,null,null,null,null,null,null,null,null,null,null,null,null,null,null,null,null,null,null,null,null,null,0]
[null,null,null,null,null,null,null,null,null,null,null,null,null,null,null,null,null,null,null,null,null,null,null,null,null,null,null,null,null,null,null,null,null,null,null,null,null,null,null,null,null,null,null,null,null,null,null,null,null,null,null,null,null,null,null,null,null,null,null,null,null,null,0]
[null,null,null,null,null,null,null,null,null,null,null,null,null,null,null,null,null,null,null,null,null,null,null,null,null,null,null,null,null,null,null,null,null,null,null,null,null,null,null,null,null,null,null,null,null,null,null,null,null,null,null,null,null,null,null,null,null,null,null,null,null,null,0]
[null,null,null,null,null,null,null,null,null,null,null,null,null,null,null,null,null,null,null,null,null,null,null,null,null,null,null,null,null,null,null,null,null,null,null,null,null,null,null,null,null,null,null,null,null,null,null,null,null,null,null,null,null,null,null,null,null,null,null,null,null,null,0]
[null,null,null,null,null,null,null,null,null,null,null,null,null,null,null,null,null,null,null,null,null,null,null,null,null,null,null,null,null,null,null,null,null,null,null,null,null,null,null,null,null,null,null,null,null,null,null,null,null,null,null,null,null,null,null,null,null,null,null,null,null,null,0]
[null,null,null,null,null,null,null,null,null,null,null,null,null,null,null,null,null,null,null,null,null,null,null,null,null,null,null,null,null,null,null,null,null,null,null,null,null,null,null,null,null,null,null,null,null,null,null,null,null,null,null,null,null,null,null,null,null,null,null,null,null,null,0]
[null,null,null,null,null,null,null,null,null,null,null,null,null,null,null,null,null,null,null,null,null,null,null,null,null,null,null,null,null,null,null,null,null,null,null,null,null,null,null,null,null,null,null,null,null,null,null,null,null,null,null,null,null,null,null,null,null,null,null,null,null,null,0]
[null,null,null,null,null,null,null,null,null,null,null,null,null,null,null,null,null,null,null,null,null,null,null,null,null,null,null,null,null,null,null,null,null,null,null,null,null,null,null,null,null,null,null,null,null,null,null,null,null,null,null,null,null,null,null,null,null,null,null,null,null,null,0]
[null,null,null,null,null,null,null,null,null,null,null,null,null,null,null,null,null,null,null,null,null,null,null,null,null,null,null,null,null,null,null,null,null,null,null,null,null,null,null,null,null,null,null,null,null,null,null,null,null,null,null,null,null,null,null,null,null,null,null,null,null,null,0]
[null,null,null,null,null,null,null,null,null,null,null,null,null,null,null,null,null,null,null,null,null,null,null,null,null,null,null,null,null,null,null,null,null,null,null,null,null,null,null,null,null,null,null,null,null,null,null,null,null,null,null,null,null,null,null,null,null,null,null,null,null,null,0]
[null,null,null,null,null,null,null,null,null,null,null,null,null,null,null,null,null,null,null,null,null,null,null,null,null,null,null,null,null,null,null,null,null,null,null,null,null,null,null,null,null,null,null,null,null,null,null,null,null,null,null,null,null,null,null,null,null,null,null,null,null,null,0]
[null,null,null,null,null,null,null,null,null,null,null,null,null,null,null,null,null,null,null,null,null,null,null,null,null,null,null,null,null,null,null,null,null,null,null,null,null,null,null,null,null,null,null,null,null,null,null,null,null,null,null,null,null,null,null,null,null,null,null,null,null,null,0]
[null,null,null,null,null,null,null,null,null,null,null,null,null,null,null,null,null,null,null,null,null,null,null,null,null,null,null,null,null,null,null,null,null,null,null,null,null,null,null,null,null,null,null,null,null,null,null,null,null,null,null,null,null,null,null,null,null,null,null,null,null,null,0]
[null,null,null,null,null,null,null,null,null,null,null,null,null,null,null,null,null,null,null,null,null,null,null,null,null,null,null,null,null,null,null,null,null,null,null,null,null,null,null,null,null,null,null,null,null,null,null,null,null,null,null,null,null,null,null,null,null,null,null,null,null,null,0]
[null,null,null,null,null,null,null,null,null,null,null,null,null,null,null,null,null,null,null,null,null,null,null,null,null,null,null,null,null,null,null,null,null,null,null,null,null,null,null,null,null,null,null,null,null,null,null,null,null,null,null,null,null,null,null,null,null,null,null,null,null,null,0]
[null,null,null,null,null,null,null,null,null,null,null,null,null,null,null,null,null,null,null,null,null,null,null,null,null,null,null,null,null,null,null,null,null,null,null,null,null,null,null,null,null,null,null,null,null,null,null,null,null,null,null,null,null,null,null,null,null,null,null,null,null,null,0]
[null,null,null,null,null,null,null,null,null,null,null,null,null,null,null,null,null,null,null,null,null,null,null,null,null,null,null,null,null,null,null,null,null,null,null,null,null,null,null,null,null,null,null,null,null,null,null,null,null,null,null,null,null,null,null,null,null,null,null,null,null,null,0]
[null,null,null,null,null,null,null,null,null,null,null,null,null,null,null,null,null,null,null,null,null,null,null,null,null,null,null,null,null,null,null,null,null,null,null,null,null,null,null,null,null,null,null,null,null,null,null,null,null,null,null,null,null,null,null,null,null,null,null,null,null,null,0]
[null,null,null,null,null,null,null,null,null,null,null,null,null,null,null,null,null,null,null,null,null,null,null,null,null,null,null,null,null,null,null,null,null,null,null,null,null,null,null,null,null,null,null,null,null,null,null,null,null,null,null,null,null,null,null,null,null,null,null,null,null,null,0]
[null,null,null,null,null,null,null,null,null,null,null,null,null,null,null,null,null,null,null,null,null,null,null,null,null,null,null,null,null,null,null,null,null,null,null,null,null,null,null,null,null,null,null,null,null,null,null,null,null,null,null,null,null,null,null,null,null,null,null,null,null,null,0]
[null,null,null,null,null,null,null,null,null,null,null,null,null,null,null,null,null,null,null,null,null,null,null,null,null,null,null,null,null,null,null,null,null,null,null,null,null,null,null,null,null,null,null,null,null,null,null,null,null,null,null,null,null,null,null,null,null,null,null,null,null,null,0]
[null,null,null,null,null,null,null,null,null,null,null,null,null,null,null,null,null,null,null,null,null,null,null,null,null,null,null,null,null,null,null,null,null,null,null,null,null,null,null,null,null,null,null,null,null,null,null,null,null,null,null,null,null,null,null,null,null,null,null,null,null,null,0]
[null,null,null,null,null,null,null,null,null,null,null,null,null,null,null,null,null,null,null,null,null,null,null,null,null,null,null,null,null,null,null,null,null,null,null,null,null,null,null,null,null,null,null,null,null,null,null,null,null,null,null,null,null,null,null,null,null,null,null,null,null,null,0]
[null,null,null,null,null,null,null,null,null,null,null,null,null,null,null,null,null,null,null,null,null,null,null,null,null,null,null,null,null,null,null,null,null,null,null,null,null,null,null,null,null,null,null,null,null,null,null,null,null,null,null,null,null,null,null,null,null,null,null,null,null,null,0]
[null,null,null,null,null,null,null,null,null,null,null,null,null,null,null,null,null,null,null,null,null,null,null,null,null,null,null,null,null,null,null,null,null,null,null,null,null,null,null,null,null,null,null,null,null,null,null,null,null,null,null,null,null,null,null,null,null,null,null,null,null,null,0]
[null,null,null,null,null,null,null,null,null,null,null,null,null,null,null,null,null,null,null,null,null,null,null,null,null,null,null,null,null,null,null,null,null,null,null,null,null,null,null,null,null,null,null,null,null,null,null,null,null,null,null,null,null,null,null,null,null,null,null,null,null,null,0]
[null,null,null,null,null,null,null,null,null,null,null,null,null,null,null,null,null,null,null,null,null,null,null,null,null,null,null,null,null,null,null,null,null,null,null,null,null,null,null,null,null,null,null,null,null,null,null,null,null,null,null,null,null,null,null,null,null,null,null,null,null,null,0]
[null,null,null,null,null,null,null,null,null,null,null,null,null,null,null,null,null,null,null,null,null,null,null,null,null,null,null,null,null,null,null,null,null,null,null,null,null,null,null,null,null,null,null,null,null,null,null,null,null,null,null,null,null,null,null,null,null,null,null,null,null,null,0]
[null,null,null,null,null,null,null,null,null,null,null,null,null,null,null,null,null,null,null,null,null,null,null,null,null,null,null,null,null,null,null,null,null,null,null,null,null,null,null,null,null,null,null,null,null,null,null,null,null,null,null,null,null,null,null,null,null,null,null,null,null,null,0]
[null,null,null,null,null,null,null,null,null,null,null,null,null,null,null,null,null,null,null,null,null,null,null,null,null,null,null,null,null,null,null,null,null,null,null,null,null,null,null,null,null,null,null,null,null,null,null,null,null,null,null,null,null,null,null,null,null,null,null,null,null,null,0]
[null,null,null,null,null,null,null,null,null,null,null,null,null,null,null,null,null,null,null,null,null,null,null,null,null,null,null,null,null,null,null,null,null,null,null,null,null,null,null,null,null,null,null,null,null,null,null,null,null,null,null,null,null,null,null,null,null,null,null,null,null,null,0]
[null,null,null,null,null,null,null,null,null,null,null,null,null,null,null,null,null,null,null,null,null,null,null,null,null,null,null,null,null,null,null,null,null,null,null,null,null,null,null,null,null,null,null,null,null,null,null,null,null,null,null,null,null,null,null,null,null,null,null,null,null,null,0]
[null,null,null,null,null,null,null,null,null,null,null,null,null,null,null,null,null,null,null,null,null,null,null,null,null,null,null,null,null,null,null,null,null,null,null,null,null,null,null,null,null,null,null,null,null,null,null,null,null,null,null,null,null,null,null,null,null,null,null,null,null,null,0]
[null,null,null,null,null,null,null,null,null,null,null,null,null,null,null,null,null,null,null,null,null,null,null,null,null,null,null,null,null,null,null,null,null,null,null,null,null,null,null,null,null,null,null,null,null,null,null,null,null,null,null,null,null,null,null,null,null,null,null,null,null,null,0]
[null,null,null,null,null,null,null,null,null,null,null,null,null,null,null,null,null,null,null,null,null,null,null,null,null,null,null,null,null,null,null,null,null,null,null,null,null,null,null,null,null,null,null,null,null,null,null,null,null,null,null,null,null,null,null,null,null,null,null,null,null,null,0]
[null,null,null,null,null,null,null,null,null,null,null,null,null,null,null,null,null,null,null,null,null,null,null,null,null,null,null,null,null,null,null,null,null,null,null,null,null,null,null,null,null,null,null,null,null,null,null,null,null,null,null,null,null,null,null,null,null,null,null,null,null,null,0]
[null,null,null,null,null,null,null,null,null,null,null,null,null,null,null,null,null,null,null,null,null,null,null,null,null,null,null,null,null,null,null,null,null,null,null,null,null,null,null,null,null,null,null,null,null,null,null,null,null,null,null,null,null,null,null,null,null,null,null,null,null,null,0]
[null,null,null,null,null,null,null,null,null,null,null,null,null,null,null,null,null,null,null,null,null,null,null,null,null,null,null,null,null,null,null,null,null,null,null,null,null,null,null,null,null,null,null,null,null,null,null,null,null,null,null,null,null,null,null,null,null,null,null,null,null,null,{"$f":"C79*$C$11+D79*$D$11+E79*$E$11+F79*$F$11+G79*$G$11+H79*$H$11+I79*$I$11+J79*$J$11+K79*$K$11+L79*$L$11+M79*$M$11+N79*$N$11+O79*$O$11+P79*$P$11+Q79*$Q$11+R79*$R$11+S79*$S$11+T79*$T$11+U79*$U$11+V79*$V$11+W79*$W$11+X79*$X$11+Y79*$Y$11+Z79*$Z$11+AA79*$AA$11+AB79*$AB$11+AC79*$AC$11+AD79*$AD$11+AE79*$AE$11+AF79*$AF$11+AG79*$AG$11+AH79*$AH$11+AI79*$AI$11+AJ79*$AJ$11+AK79*$AK$11+AL79*$AL$11+AM79*$AM$11+AN79*$AN$11+AO79*$AO$11+AP79*$AP$11+AQ79*$AQ$11+AR79*$AR$11+AS79*$AS$11+AT79*$AT$11+AU79*$AU$11+AV79*$AV$11+AW79*$AW$11+AX79*$AX$11+AY79*$AY$11+AZ79*$AZ$11+BA79*$BA$11+BB79*$BB$11+BC79*$BC$11+BD79*$BD$11+BE79*$BE$11+BF79*$BF$11+BG79*$BG$11+BH79*$BH$11+BI79*$BI$11+BJ79*$BJ$11","v":0}]
[null,null,null,null,null,null,null,null,null,null,null,null,null,null,null,null,null,null,null,null,null,null,null,null,null,null,null,null,null,null,null,null,null,null,null,null,null,null,null,null,null,null,null,null,null,null,null,null,null,null,null,null,null,null,null,null,null,null,null,null,null,null,0]
[null,null,null,null,null,null,null,null,null,null,null,null,null,null,null,null,null,null,null,null,null,null,null,null,null,null,null,null,null,null,null,null,null,null,null,null,null,null,null,null,null,null,null,null,null,null,null,null,null,null,null,null,null,null,null,null,null,null,null,null,null,null,0]
[null,null,null,null,null,null,null,null,null,null,null,null,null,null,null,null,null,null,null,null,null,null,null,null,null,null,null,null,null,null,null,null,null,null,null,null,null,null,null,null,null,null,null,null,null,null,null,null,null,null,null,null,null,null,null,null,null,null,null,null,null,null,0]
[null,null,null,null,null,null,null,null,null,null,null,null,null,null,null,null,null,null,null,null,null,null,null,null,null,null,null,null,null,null,null,null,null,null,null,null,null,null,null,null,null,null,null,null,null,null,null,null,null,null,null,null,null,null,null,null,null,null,null,null,null,null,0]
[null,null,null,null,null,null,null,null,null,null,null,null,null,null,null,null,null,null,null,null,null,null,null,null,null,null,null,null,null,null,null,null,null,null,null,null,null,null,null,null,null,null,null,null,null,null,null,null,null,null,null,null,null,null,null,null,null,null,null,null,null,null,0]
[null,null,null,null,null,null,null,null,null,null,null,null,null,null,null,null,null,null,null,null,null,null,null,null,null,null,null,null,null,null,null,null,null,null,null,null,null,null,null,null,null,null,null,null,null,null,null,null,null,null,null,null,null,null,null,null,null,null,null,null,null,null,0]
[null,null,null,null,null,null,null,null,null,null,null,null,null,null,null,null,null,null,null,null,null,null,null,null,null,null,null,null,null,null,null,null,null,null,null,null,null,null,null,null,null,null,null,null,null,null,null,null,null,null,null,null,null,null,null,null,null,null,null,null,null,null,0]
[null,null,null,null,null,null,null,null,null,null,null,null,null,null,null,null,null,null,null,null,null,null,null,null,null,null,null,null,null,null,null,null,null,null,null,null,null,null,null,null,null,null,null,null,null,null,null,null,null,null,null,null,null,null,null,null,null,null,null,null,null,null,0]
[null,null,null,null,null,null,null,null,null,null,null,null,null,null,null,null,null,null,null,null,null,null,null,null,null,null,null,null,null,null,null,null,null,null,null,null,null,null,null,null,null,null,null,null,null,null,null,null,null,null,null,null,null,null,null,null,null,null,null,null,null,null,0]
[null,null,null,null,null,null,null,null,null,null,null,null,null,null,null,null,null,null,null,null,null,null,null,null,null,null,null,null,null,null,null,null,null,null,null,null,null,null,null,null,null,null,null,null,null,null,null,null,null,null,null,null,null,null,null,null,null,null,null,null,null,null,0]
[null,null,null,null,null,null,null,null,null,null,null,null,null,null,null,null,null,null,null,null,null,null,null,null,null,null,null,null,null,null,null,null,null,null,null,null,null,null,null,null,null,null,null,null,null,null,null,null,null,null,null,null,null,null,null,null,null,null,null,null,null,null,0]
[null,null,null,null,null,null,null,null,null,null,null,null,null,null,null,null,null,null,null,null,null,null,null,null,null,null,null,null,null,null,null,null,null,null,null,null,null,null,null,null,null,null,null,null,null,null,null,null,null,null,null,null,null,null,null,null,null,null,null,null,null,null,0]
[null,null,null,null,null,null,null,null,null,null,null,null,null,null,null,null,null,null,null,null,null,null,null,null,null,null,null,null,null,null,null,null,null,null,null,null,null,null,null,null,null,null,null,null,null,null,null,null,null,null,null,null,null,null,null,null,null,null,null,null,null,null,0]
[null,null,null,null,null,null,null,null,null,null,null,null,null,null,null,null,null,null,null,null,null,null,null,null,null,null,null,null,null,null,null,null,null,null,null,null,null,null,null,null,null,null,null,null,null,null,null,null,null,null,null,null,null,null,null,null,null,null,null,null,null,null,0]
[null,null,null,null,null,null,null,null,null,null,null,null,null,null,null,null,null,null,null,null,null,null,null,null,null,null,null,null,null,null,null,null,null,null,null,null,null,null,null,null,null,null,null,null,null,null,null,null,null,null,null,null,null,null,null,null,null,null,null,null,null,null,0]
[null,null,null,null,null,null,null,null,null,null,null,null,null,null,null,null,null,null,null,null,null,null,null,null,null,null,null,null,null,null,null,null,null,null,null,null,null,null,null,null,null,null,null,null,null,null,null,null,null,null,null,null,null,null,null,null,null,null,null,null,null,null,0]
[null,null,null,null,null,null,null,null,null,null,null,null,null,null,null,null,null,null,null,null,null,null,null,null,null,null,null,null,null,null,null,null,null,null,null,null,null,null,null,null,null,null,null,null,null,null,null,null,null,null,null,null,null,null,null,null,null,null,null,null,null,null,0]
[null,null,null,null,null,null,null,null,null,null,null,null,null,null,null,null,null,null,null,null,null,null,null,null,null,null,null,null,null,null,null,null,null,null,null,null,null,null,null,null,null,null,null,null,null,null,null,null,null,null,null,null,null,null,null,null,null,null,null,null,null,null,0]
[null,null,null,null,null,null,null,null,null,null,null,null,null,null,null,null,null,null,null,null,null,null,null,null,null,null,null,null,null,null,null,null,null,null,null,null,null,null,null,null,null,null,null,null,null,null,null,null,null,null,null,null,null,null,null,null,null,null,null,null,null,null,0]
[null,null,null,null,null,null,null,null,null,null,null,null,null,null,null,null,null,null,null,null,null,null,null,null,null,null,null,null,null,null,null,null,null,null,null,null,null,null,null,null,null,null,null,null,null,null,null,null,null,null,null,null,null,null,null,null,null,null,null,null,null,null,0]
[null,null,null,null,null,null,null,null,null,null,null,null,null,null,null,null,null,null,null,null,null,null,null,null,null,null,null,null,null,null,null,null,null,null,null,null,null,null,null,null,null,null,null,null,null,null,null,null,null,null,null,null,null,null,null,null,null,null,null,null,null,null,0]
[null,null,null,null,null,null,null,null,null,null,null,null,null,null,null,null,null,null,null,null,null,null,null,null,null,null,null,null,null,null,null,null,null,null,null,null,null,null,null,null,null,null,null,null,null,null,null,null,null,null,null,null,null,null,null,null,null,null,null,null,null,null,0]
[null,null,null,null,null,null,null,null,null,null,null,null,null,null,null,null,null,null,null,null,null,null,null,null,null,null,null,null,null,null,null,null,null,null,null,null,null,null,null,null,null,null,null,null,null,null,null,null,null,null,null,null,null,null,null,null,null,null,null,null,null,null,0]
[null,null,null,null,null,null,null,null,null,null,null,null,null,null,null,null,null,null,null,null,null,null,null,null,null,null,null,null,null,null,null,null,null,null,null,null,null,null,null,null,null,null,null,null,null,null,null,null,null,null,null,null,null,null,null,null,null,null,null,null,null,null,0]
[null,null,null,null,null,null,null,null,null,null,null,null,null,null,null,null,null,null,null,null,null,null,null,null,null,null,null,null,null,null,null,null,null,null,null,null,null,null,null,null,null,null,null,null,null,null,null,null,null,null,null,null,null,null,null,null,null,null,null,null,null,null,0]
[null,null,null,null,null,null,null,null,null,null,null,null,null,null,null,null,null,null,null,null,null,null,null,null,null,null,null,null,null,null,null,null,null,null,null,null,null,null,null,null,null,null,null,null,null,null,null,null,null,null,null,null,null,null,null,null,null,null,null,null,null,null,0]
[null,null,null,null,null,null,null,null,null,null,null,null,null,null,null,null,null,null,null,null,null,null,null,null,null,null,null,null,null,null,null,null,null,null,null,null,null,null,null,null,null,null,null,null,null,null,null,null,null,null,null,null,null,null,null,null,null,null,null,null,null,null,0]
[null,null,null,null,null,null,null,null,null,null,null,null,null,null,null,null,null,null,null,null,null,null,null,null,null,null,null,null,null,null,null,null,null,null,null,null,null,null,null,null,null,null,null,null,null,null,null,null,null,null,null,null,null,null,null,null,null,null,null,null,null,null,0]
[null,null,null,null,null,null,null,null,null,null,null,null,null,null,null,null,null,null,null,null,null,null,null,null,null,null,null,null,null,null,null,null,null,null,null,null,null,null,null,null,null,null,null,null,null,null,null,null,null,null,null,null,null,null,null,null,null,null,null,null,null,null,0]
[null,null,null,null,null,null,null,null,null,null,null,null,null,null,null,null,null,null,null,null,null,null,null,null,null,null,null,null,null,null,null,null,null,null,null,null,null,null,null,null,null,null,null,null,null,null,null,null,null,null,null,null,null,null,null,null,null,null,null,null,null,null,0]
[null,null,null,null,null,null,null,null,null,null,null,null,null,null,null,null,null,null,null,null,null,null,null,null,null,null,null,null,null,null,null,null,null,null,null,null,null,null,null,null,null,null,null,null,null,null,null,null,null,null,null,null,null,null,null,null,null,null,null,null,null,null,0]
[null,null,null,null,null,null,null,null,null,null,null,null,null,null,null,null,null,null,null,null,null,null,null,null,null,null,null,null,null,null,null,null,null,null,null,null,null,null,null,null,null,null,null,null,null,null,null,null,null,null,null,null,null,null,null,null,null,null,null,null,null,null,0]
[null,null,null,null,null,null,null,null,null,null,null,null,null,null,null,null,null,null,null,null,null,null,null,null,null,null,null,null,null,null,null,null,null,null,null,null,null,null,null,null,null,null,null,null,null,null,null,null,null,null,null,null,null,null,null,null,null,null,null,null,null,null,0]
[null,null,null,null,null,null,null,null,null,null,null,null,null,null,null,null,null,null,null,null,null,null,null,null,null,null,null,null,null,null,null,null,null,null,null,null,null,null,null,null,null,null,null,null,null,null,null,null,null,null,null,null,null,null,null,null,null,null,null,null,null,null,0]
[null,null,null,null,null,null,null,null,null,null,null,null,null,null,null,null,null,null,null,null,null,null,null,null,null,null,null,null,null,null,null,null,null,null,null,null,null,null,null,null,null,null,null,null,null,null,null,null,null,null,null,null,null,null,null,null,null,null,null,null,null,null,0]
[null,null,null,null,null,null,null,null,null,null,null,null,null,null,null,null,null,null,null,null,null,null,null,null,null,null,null,null,null,null,null,null,null,null,null,null,null,null,null,null,null,null,null,null,null,null,null,null,null,null,null,null,null,null,null,null,null,null,null,null,null,null,0]
[null,null,null,null,null,null,null,null,null,null,null,null,null,null,null,null,null,null,null,null,null,null,null,null,null,null,null,null,null,null,null,null,null,null,null,null,null,null,null,null,null,null,null,null,null,null,null,null,null,null,null,null,null,null,null,null,null,null,null,null,null,null,0]
[null,null,null,null,null,null,null,null,null,null,null,null,null,null,null,null,null,null,null,null,null,null,null,null,null,null,null,null,null,null,null,null,null,null,null,null,null,null,null,null,null,null,null,null,null,null,null,null,null,null,null,null,null,null,null,null,null,null,null,null,null,null,0]
[null,null,null,null,null,null,null,null,null,null,null,null,null,null,null,null,null,null,null,null,null,null,null,null,null,null,null,null,null,null,null,null,null,null,null,null,null,null,null,null,null,null,null,null,null,null,null,null,null,null,null,null,null,null,null,null,null,null,null,null,null,null,0]
[null,null,null,null,null,null,null,null,null,null,null,null,null,null,null,null,null,null,null,null,null,null,null,null,null,null,null,null,null,null,null,null,null,null,null,null,null,null,null,null,null,null,null,null,null,null,null,null,null,null,null,null,null,null,null,null,null,null,null,null,null,null,0]
[null,null,null,null,null,null,null,null,null,null,null,null,null,null,null,null,null,null,null,null,null,null,null,null,null,null,null,null,null,null,null,null,null,null,null,null,null,null,null,null,null,null,null,null,null,null,null,null,null,null,null,null,null,null,null,null,null,null,null,null,null,null,0]
[null,null,null,null,null,null,null,null,null,null,null,null,null,null,null,null,null,null,null,null,null,null,null,null,null,null,null,null,null,null,null,null,null,null,null,null,null,null,null,null,null,null,null,null,null,null,null,null,null,null,null,null,null,null,null,null,null,null,null,null,null,null,0]
[null,null,null,null,null,null,null,null,null,null,null,null,null,null,null,null,null,null,null,null,null,null,null,null,null,null,null,null,null,null,null,null,null,null,null,null,null,null,null,null,null,null,null,null,null,null,null,null,null,null,null,null,null,null,null,null,null,null,null,null,null,null,0]
[null,null,null,null,null,null,null,null,null,null,null,null,null,null,null,null,null,null,null,null,null,null,null,null,null,null,null,null,null,null,null,null,null,null,null,null,null,null,null,null,null,null,null,null,null,null,null,null,null,null,null,null,null,null,null,null,null,null,null,null,null,null,0]
[null,null,null,null,null,null,null,null,null,null,null,null,null,null,null,null,null,null,null,null,null,null,null,null,null,null,null,null,null,null,null,null,null,null,null,null,null,null,null,null,null,null,null,null,null,null,null,null,null,null,null,null,null,null,null,null,null,null,null,null,null,null,0]
[null,null,null,null,null,null,null,null,null,null,null,null,null,null,null,null,null,null,null,null,null,null,null,null,null,null,null,null,null,null,null,null,null,null,null,null,null,null,null,null,null,null,null,null,null,null,null,null,null,null,null,null,null,null,null,null,null,null,null,null,null,null,0]
[null,null,null,null,null,null,null,null,null,null,null,null,null,null,null,null,null,null,null,null,null,null,null,null,null,null,null,null,null,null,null,null,null,null,null,null,null,null,null,null,null,null,null,null,null,null,null,null,null,null,null,null,null,null,null,null,null,null,null,null,null,null,0]
[null,null,null,null,null,null,null,null,null,null,null,null,null,null,null,null,null,null,null,null,null,null,null,null,null,null,null,null,null,null,null,null,null,null,null,null,null,null,null,null,null,null,null,null,null,null,null,null,null,null,null,null,null,null,null,null,null,null,null,null,null,null,0]
[null,null,null,null,null,null,null,null,null,null,null,null,null,null,null,null,null,null,null,null,null,null,null,null,null,null,null,null,null,null,null,null,null,null,null,null,null,null,null,null,null,null,null,null,null,null,null,null,null,null,null,null,null,null,null,null,null,null,null,null,null,null,0]
[null,null,null,null,null,null,null,null,null,null,null,null,null,null,null,null,null,null,null,null,null,null,null,null,null,null,null,null,null,null,null,null,null,null,null,null,null,null,null,null,null,null,null,null,null,null,null,null,null,null,null,null,null,null,null,null,null,null,null,null,null,null,0]
[null,null,null,null,null,null,null,null,null,null,null,null,null,null,null,null,null,null,null,null,null,null,null,null,null,null,null,null,null,null,null,null,null,null,null,null,null,null,null,null,null,null,null,null,null,null,null,null,null,null,null,null,null,null,null,null,null,null,null,null,null,null,0]
[null,null,null,null,null,null,null,null,null,null,null,null,null,null,null,null,null,null,null,null,null,null,null,null,null,null,null,null,null,null,null,null,null,null,null,null,null,null,null,null,null,null,null,null,null,null,null,null,null,null,null,null,null,null,null,null,null,null,null,null,null,null,0]
[null,null,null,null,null,null,null,null,null,null,null,null,null,null,null,null,null,null,null,null,null,null,null,null,null,null,null,null,null,null,null,null,null,null,null,null,null,null,null,null,null,null,null,null,null,null,null,null,null,null,null,null,null,null,null,null,null,null,null,null,null,null,0]
[null,null,null,null,null,null,null,null,null,null,null,null,null,null,null,null,null,null,null,null,null,null,null,null,null,null,null,null,null,null,null,null,null,null,null,null,null,null,null,null,null,null,null,null,null,null,null,null,null,null,null,null,null,null,null,null,null,null,null,null,null,null,0]
[null,null,null,null,null,null,null,null,null,null,null,null,null,null,null,null,null,null,null,null,null,null,null,null,null,null,null,null,null,null,null,null,null,null,null,null,null,null,null,null,null,null,null,null,null,null,null,null,null,null,null,null,null,null,null,null,null,null,null,null,null,null,0]
[null,null,null,null,null,null,null,null,null,null,null,null,null,null,null,null,null,null,null,null,null,null,null,null,null,null,null,null,null,null,null,null,null,null,null,null,null,null,null,null,null,null,null,null,null,null,null,null,null,null,null,null,null,null,null,null,null,null,null,null,null,null,0]
[null,null,null,null,null,null,null,null,null,null,null,null,null,null,null,null,null,null,null,null,null,null,null,null,null,null,null,null,null,null,null,null,null,null,null,null,null,null,null,null,null,null,null,null,null,null,null,null,null,null,null,null,null,null,null,null,null,null,null,null,null,null,0]
[null,null,null,null,null,null,null,null,null,null,null,null,null,null,null,null,null,null,null,null,null,null,null,null,null,null,null,null,null,null,null,null,null,null,null,null,null,null,null,null,null,null,null,null,null,null,null,null,null,null,null,null,null,null,null,null,null,null,null,null,null,null,0]
[null,null,null,null,null,null,null,null,null,null,null,null,null,null,null,null,null,null,null,null,null,null,null,null,null,null,null,null,null,null,null,null,null,null,null,null,null,null,null,null,null,null,null,null,null,null,null,null,null,null,null,null,null,null,null,null,null,null,null,null,null,null,0]
[null,null,null,null,null,null,null,null,null,null,null,null,null,null,null,null,null,null,null,null,null,null,null,null,null,null,null,null,null,null,null,null,null,null,null,null,null,null,null,null,null,null,null,null,null,null,null,null,null,null,null,null,null,null,null,null,null,null,null,null,null,null,0]
[null,null,null,null,null,null,null,null,null,null,null,null,null,null,null,null,null,null,null,null,null,null,null,null,null,null,null,null,null,null,null,null,null,null,null,null,null,null,null,null,null,null,null,null,null,null,null,null,null,null,null,null,null,null,null,null,null,null,null,null,null,null,0]
[null,null,null,null,null,null,null,null,null,null,null,null,null,null,null,null,null,null,null,null,null,null,null,null,null,null,null,null,null,null,null,null,null,null,null,null,null,null,null,null,null,null,null,null,null,null,null,null,null,null,null,null,null,null,null,null,null,null,null,null,null,null,0]
[null,null,null,null,null,null,null,null,null,null,null,null,null,null,null,null,null,null,null,null,null,null,null,null,null,null,null,null,null,null,null,null,null,null,null,null,null,null,null,null,null,null,null,null,null,null,null,null,null,null,null,null,null,null,null,null,null,null,null,null,null,null,0]
[null,null,null,null,null,null,null,null,null,null,null,null,null,null,null,null,null,null,null,null,null,null,null,null,null,null,null,null,null,null,null,null,null,null,null,null,null,null,null,null,null,null,null,null,null,null,null,null,null,null,null,null,null,null,null,null,null,null,null,null,null,null,{"$f":"C143*$C$11+D143*$D$11+E143*$E$11+F143*$F$11+G143*$G$11+H143*$H$11+I143*$I$11+J143*$J$11+K143*$K$11+L143*$L$11+M143*$M$11+N143*$N$11+O143*$O$11+P143*$P$11+Q143*$Q$11+R143*$R$11+S143*$S$11+T143*$T$11+U143*$U$11+V143*$V$11+W143*$W$11+X143*$X$11+Y143*$Y$11+Z143*$Z$11+AA143*$AA$11+AB143*$AB$11+AC143*$AC$11+AD143*$AD$11+AE143*$AE$11+AF143*$AF$11+AG143*$AG$11+AH143*$AH$11+AI143*$AI$11+AJ143*$AJ$11+AK143*$AK$11+AL143*$AL$11+AM143*$AM$11+AN143*$AN$11+AO143*$AO$11+AP143*$AP$11+AQ143*$AQ$11+AR143*$AR$11+AS143*$AS$11+AT143*$AT$11+AU143*$AU$11+AV143*$AV$11+AW143*$AW$11+AX143*$AX$11+AY143*$AY$11+AZ143*$AZ$11+BA143*$BA$11+BB143*$BB$11+BC143*$BC$11+BD143*$BD$11+BE143*$BE$11+BF143*$BF$11+BG143*$BG$11+BH143*$BH$11+BI143*$BI$11+BJ143*$BJ$11","v":0}]
[null,null,null,null,null,null,null,null,null,null,null,null,null,null,null,null,null,null,null,null,null,null,null,null,null,null,null,null,null,null,null,null,null,null,null,null,null,null,null,null,null,null,null,null,null,null,null,null,null,null,null,null,null,null,null,null,null,null,null,null,null,null,0]
[null,null,null,null,null,null,null,null,null,null,null,null,null,null,null,null,null,null,null,null,null,null,null,null,null,null,null,null,null,null,null,null,null,null,null,null,null,null,null,null,null,null,null,null,null,null,null,null,null,null,null,null,null,null,null,null,null,null,null,null,null,null,0]
[null,null,null,null,null,null,null,null,null,null,null,null,null,null,null,null,null,null,null,null,null,null,null,null,null,null,null,null,null,null,null,null,null,null,null,null,null,null,null,null,null,null,null,null,null,null,null,null,null,null,null,null,null,null,null,null,null,null,null,null,null,null,0]
[null,null,null,null,null,null,null,null,null,null,null,null,null,null,null,null,null,null,null,null,null,null,null,null,null,null,null,null,null,null,null,null,null,null,null,null,null,null,null,null,null,null,null,null,null,null,null,null,null,null,null,null,null,null,null,null,null,null,null,null,null,null,0]
[null,null,null,null,null,null,null,null,null,null,null,null,null,null,null,null,null,null,null,null,null,null,null,null,null,null,null,null,null,null,null,null,null,null,null,null,null,null,null,null,null,null,null,null,null,null,null,null,null,null,null,null,null,null,null,null,null,null,null,null,null,null,0]
[null,null,null,null,null,null,null,null,null,null,null,null,null,null,null,null,null,null,null,null,null,null,null,null,null,null,null,null,null,null,null,null,null,null,null,null,null,null,null,null,null,null,null,null,null,null,null,null,null,null,null,null,null,null,null,null,null,null,null,null,null,null,0]
[null,null,null,null,null,null,null,null,null,null,null,null,null,null,null,null,null,null,null,null,null,null,null,null,null,null,null,null,null,null,null,null,null,null,null,null,null,null,null,null,null,null,null,null,null,null,null,null,null,null,null,null,null,null,null,null,null,null,null,null,null,null,0]
[null,null,null,null,null,null,null,null,null,null,null,null,null,null,null,null,null,null,null,null,null,null,null,null,null,null,null,null,null,null,null,null,null,null,null,null,null,null,null,null,null,null,null,null,null,null,null,null,null,null,null,null,null,null,null,null,null,null,null,null,null,null,0]
[null,null,null,null,null,null,null,null,null,null,null,null,null,null,null,null,null,null,null,null,null,null,null,null,null,null,null,null,null,null,null,null,null,null,null,null,null,null,null,null,null,null,null,null,null,null,null,null,null,null,null,null,null,null,null,null,null,null,null,null,null,null,0]
[null,null,null,null,null,null,null,null,null,null,null,null,null,null,null,null,null,null,null,null,null,null,null,null,null,null,null,null,null,null,null,null,null,null,null,null,null,null,null,null,null,null,null,null,null,null,null,null,null,null,null,null,null,null,null,null,null,null,null,null,null,null,0]
[null,null,null,null,null,null,null,null,null,null,null,null,null,null,null,null,null,null,null,null,null,null,null,null,null,null,null,null,null,null,null,null,null,null,null,null,null,null,null,null,null,null,null,null,null,null,null,null,null,null,null,null,null,null,null,null,null,null,null,null,null,null,0]
[null,null,null,null,null,null,null,null,null,null,null,null,null,null,null,null,null,null,null,null,null,null,null,null,null,null,null,null,null,null,null,null,null,null,null,null,null,null,null,null,null,null,null,null,null,null,null,null,null,null,null,null,null,null,null,null,null,null,null,null,null,null,0]
[null,null,null,null,null,null,null,null,null,null,null,null,null,null,null,null,null,null,null,null,null,null,null,null,null,null,null,null,null,null,null,null,null,null,null,null,null,null,null,null,null,null,null,null,null,null,null,null,null,null,null,null,null,null,null,null,null,null,null,null,null,null,0]
[null,null,null,null,null,null,null,null,null,null,null,null,null,null,null,null,null,null,null,null,null,null,null,null,null,null,null,null,null,null,null,null,null,null,null,null,null,null,null,null,null,null,null,null,null,null,null,null,null,null,null,null,null,null,null,null,null,null,null,null,null,null,0]
[null,null,null,null,null,null,null,null,null,null,null,null,null,null,null,null,null,null,null,null,null,null,null,null,null,null,null,null,null,null,null,null,null,null,null,null,null,null,null,null,null,null,null,null,null,null,null,null,null,null,null,null,null,null,null,null,null,null,null,null,null,null,0]
[null,null,null,null,null,null,null,null,null,null,null,null,null,null,null,null,null,null,null,null,null,null,null,null,null,null,null,null,null,null,null,null,null,null,null,null,null,null,null,null,null,null,null,null,null,null,null,null,null,null,null,null,null,null,null,null,null,null,null,null,null,null,0]
[null,null,null,null,null,null,null,null,null,null,null,null,null,null,null,null,null,null,null,null,null,null,null,null,null,null,null,null,null,null,null,null,null,null,null,null,null,null,null,null,null,null,null,null,null,null,null,null,null,null,null,null,null,null,null,null,null,null,null,null,null,null,0]
[null,null,null,null,null,null,null,null,null,null,null,null,null,null,null,null,null,null,null,null,null,null,null,null,null,null,null,null,null,null,null,null,null,null,null,null,null,null,null,null,null,null,null,null,null,null,null,null,null,null,null,null,null,null,null,null,null,null,null,null,null,null,0]
[null,null,null,null,null,null,null,null,null,null,null,null,null,null,null,null,null,null,null,null,null,null,null,null,null,null,null,null,null,null,null,null,null,null,null,null,null,null,null,null,null,null,null,null,null,null,null,null,null,null,null,null,null,null,null,null,null,null,null,null,null,null,0]
[null,null,null,null,null,null,null,null,null,null,null,null,null,null,null,null,null,null,null,null,null,null,null,null,null,null,null,null,null,null,null,null,null,null,null,null,null,null,null,null,null,null,null,null,null,null,null,null,null,null,null,null,null,null,null,null,null,null,null,null,null,null,0]
[null,null,null,null,null,null,null,null,null,null,null,null,null,null,null,null,null,null,null,null,null,null,null,null,null,null,null,null,null,null,null,null,null,null,null,null,null,null,null,null,null,null,null,null,null,null,null,null,null,null,null,null,null,null,null,null,null,null,null,null,null,null,0]
[null,null,null,null,null,null,null,null,null,null,null,null,null,null,null,null,null,null,null,null,null,null,null,null,null,null,null,null,null,null,null,null,null,null,null,null,null,null,null,null,null,null,null,null,null,null,null,null,null,null,null,null,null,null,null,null,null,null,null,null,null,null,0]
[null,null,null,null,null,null,null,null,null,null,null,null,null,null,null,null,null,null,null,null,null,null,null,null,null,null,null,null,null,null,null,null,null,null,null,null,null,null,null,null,null,null,null,null,null,null,null,null,null,null,null,null,null,null,null,null,null,null,null,null,null,null,0]
[null,null,null,null,null,null,null,null,null,null,null,null,null,null,null,null,null,null,null,null,null,null,null,null,null,null,null,null,null,null,null,null,null,null,null,null,null,null,null,null,null,null,null,null,null,null,null,null,null,null,null,null,null,null,null,null,null,null,null,null,null,null,0]
[null,null,null,null,null,null,null,null,null,null,null,null,null,null,null,null,null,null,null,null,null,null,null,null,null,null,null,null,null,null,null,null,null,null,null,null,null,null,null,null,null,null,null,null,null,null,null,null,null,null,null,null,null,null,null,null,null,null,null,null,null,null,0]
[null,null,null,null,null,null,null,null,null,null,null,null,null,null,null,null,null,null,null,null,null,null,null,null,null,null,null,null,null,null,null,null,null,null,null,null,null,null,null,null,null,null,null,null,null,null,null,null,null,null,null,null,null,null,null,null,null,null,null,null,null,null,0]
[null,null,null,null,null,null,null,null,null,null,null,null,null,null,null,null,null,null,null,null,null,null,null,null,null,null,null,null,null,null,null,null,null,null,null,null,null,null,null,null,null,null,null,null,null,null,null,null,null,null,null,null,null,null,null,null,null,null,null,null,null,null,0]
[null,null,null,null,null,null,null,null,null,null,null,null,null,null,null,null,null,null,null,null,null,null,null,null,null,null,null,null,null,null,null,null,null,null,null,null,null,null,null,null,null,null,null,null,null,null,null,null,null,null,null,null,null,null,null,null,null,null,null,null,null,null,0]
[null,null,null,null,null,null,null,null,null,null,null,null,null,null,null,null,null,null,null,null,null,null,null,null,null,null,null,null,null,null,null,null,null,null,null,null,null,null,null,null,null,null,null,null,null,null,null,null,null,null,null,null,null,null,null,null,null,null,null,null,null,null,0]
[null,null,null,null,null,null,null,null,null,null,null,null,null,null,null,null,null,null,null,null,null,null,null,null,null,null,null,null,null,null,null,null,null,null,null,null,null,null,null,null,null,null,null,null,null,null,null,null,null,null,null,null,null,null,null,null,null,null,null,null,null,null,0]
[null,null,null,null,null,null,null,null,null,null,null,null,null,null,null,null,null,null,null,null,null,null,null,null,null,null,null,null,null,null,null,null,null,null,null,null,null,null,null,null,null,null,null,null,null,null,null,null,null,null,null,null,null,null,null,null,null,null,null,null,null,null,0]
[null,null,null,null,null,null,null,null,null,null,null,null,null,null,null,null,null,null,null,null,null,null,null,null,null,null,null,null,null,null,null,null,null,null,null,null,null,null,null,null,null,null,null,null,null,null,null,null,null,null,null,null,null,null,null,null,null,null,null,null,null,null,0]
[null,null,null,null,null,null,null,null,null,null,null,null,null,null,null,null,null,null,null,null,null,null,null,null,null,null,null,null,null,null,null,null,null,null,null,null,null,null,null,null,null,null,null,null,null,null,null,null,null,null,null,null,null,null,null,null,null,null,null,null,null,null,0]
[null,null,null,null,null,null,null,null,null,null,null,null,null,null,null,null,null,null,null,null,null,null,null,null,null,null,null,null,null,null,null,null,null,null,null,null,null,null,null,null,null,null,null,null,null,null,null,null,null,null,null,null,null,null,null,null,null,null,null,null,null,null,0]
[null,null,null,null,null,null,null,null,null,null,null,null,null,null,null,null,null,null,null,null,null,null,null,null,null,null,null,null,null,null,null,null,null,null,null,null,null,null,null,null,null,null,null,null,null,null,null,null,null,null,null,null,null,null,null,null,null,null,null,null,null,null,0]
[null,null,null,null,null,null,null,null,null,null,null,null,null,null,null,null,null,null,null,null,null,null,null,null,null,null,null,null,null,null,null,null,null,null,null,null,null,null,null,null,null,null,null,null,null,null,null,null,null,null,null,null,null,null,null,null,null,null,null,null,null,null,0]
[null,null,null,null,null,null,null,null,null,null,null,null,null,null,null,null,null,null,null,null,null,null,null,null,null,null,null,null,null,null,null,null,null,null,null,null,null,null,null,null,null,null,null,null,null,null,null,null,null,null,null,null,null,null,null,null,null,null,null,null,null,null,0]
[null,null,null,null,null,null,null,null,null,null,null,null,null,null,null,null,null,null,null,null,null,null,null,null,null,null,null,null,null,null,null,null,null,null,null,null,null,null,null,null,null,null,null,null,null,null,null,null,null,null,null,null,null,null,null,null,null,null,null,null,null,null,0]
[null,null,null,null,null,null,null,null,null,null,null,null,null,null,null,null,null,null,null,null,null,null,null,null,null,null,null,null,null,null,null,null,null,null,null,null,null,null,null,null,null,null,null,null,null,null,null,null,null,null,null,null,null,null,null,null,null,null,null,null,null,null,0]
[null,null,null,null,null,null,null,null,null,null,null,null,null,null,null,null,null,null,null,null,null,null,null,null,null,null,null,null,null,null,null,null,null,null,null,null,null,null,null,null,null,null,null,null,null,null,null,null,null,null,null,null,null,null,null,null,null,null,null,null,null,null,0]
[null,null,null,null,null,null,null,null,null,null,null,null,null,null,null,null,null,null,null,null,null,null,null,null,null,null,null,null,null,null,null,null,null,null,null,null,null,null,null,null,null,null,null,null,null,null,null,null,null,null,null,null,null,null,null,null,null,null,null,null,null,null,0]
[null,null,null,null,null,null,null,null,null,null,null,null,null,null,null,null,null,null,null,null,null,null,null,null,null,null,null,null,null,null,null,null,null,null,null,null,null,null,null,null,null,null,null,null,null,null,null,null,null,null,null,null,null,null,null,null,null,null,null,null,null,null,0]
[null,null,null,null,null,null,null,null,null,null,null,null,null,null,null,null,null,null,null,null,null,null,null,null,null,null,null,null,null,null,null,null,null,null,null,null,null,null,null,null,null,null,null,null,null,null,null,null,null,null,null,null,null,null,null,null,null,null,null,null,null,null,0]
[null,null,null,null,null,null,null,null,null,null,null,null,null,null,null,null,null,null,null,null,null,null,null,null,null,null,null,null,null,null,null,null,null,null,null,null,null,null,null,null,null,null,null,null,null,null,null,null,null,null,null,null,null,null,null,null,null,null,null,null,null,null,0]
[null,null,null,null,null,null,null,null,null,null,null,null,null,null,null,null,null,null,null,null,null,null,null,null,null,null,null,null,null,null,null,null,null,null,null,null,null,null,null,null,null,null,null,null,null,null,null,null,null,null,null,null,null,null,null,null,null,null,null,null,null,null,0]
[null,null,null,null,null,null,null,null,null,null,null,null,null,null,null,null,null,null,null,null,null,null,null,null,null,null,null,null,null,null,null,null,null,null,null,null,null,null,null,null,null,null,null,null,null,null,null,null,null,null,null,null,null,null,null,null,null,null,null,null,null,null,0]
[null,null,null,null,null,null,null,null,null,null,null,null,null,null,null,null,null,null,null,null,null,null,null,null,null,null,null,null,null,null,null,null,null,null,null,null,null,null,null,null,null,null,null,null,null,null,null,null,null,null,null,null,null,null,null,null,null,null,null,null,null,null,0]
[null,null,null,null,null,null,null,null,null,null,null,null,null,null,null,null,null,null,null,null,null,null,null,null,null,null,null,null,null,null,null,null,null,null,null,null,null,null,null,null,null,null,null,null,null,null,null,null,null,null,null,null,null,null,null,null,null,null,null,null,null,null,0]
[null,null,null,null,null,null,null,null,null,null,null,null,null,null,null,null,null,null,null,null,null,null,null,null,null,null,null,null,null,null,null,null,null,null,null,null,null,null,null,null,null,null,null,null,null,null,null,null,null,null,null,null,null,null,null,null,null,null,null,null,null,null,0]
[null,null,null,null,null,null,null,null,null,null,null,null,null,null,null,null,null,null,null,null,null,null,null,null,null,null,null,null,null,null,null,null,null,null,null,null,null,null,null,null,null,null,null,null,null,null,null,null,null,null,null,null,null,null,null,null,null,null,null,null,null,null,0]
[null,null,null,null,null,null,null,null,null,null,null,null,null,null,null,null,null,null,null,null,null,null,null,null,null,null,null,null,null,null,null,null,null,null,null,null,null,null,null,null,null,null,null,null,null,null,null,null,null,null,null,null,null,null,null,null,null,null,null,null,null,null,0]
[null,null,null,null,null,null,null,null,null,null,null,null,null,null,null,null,null,null,null,null,null,null,null,null,null,null,null,null,null,null,null,null,null,null,null,null,null,null,null,null,null,null,null,null,null,null,null,null,null,null,null,null,null,null,null,null,null,null,null,null,null,null,0]
[null,null,null,null,null,null,null,null,null,null,null,null,null,null,null,null,null,null,null,null,null,null,null,null,null,null,null,null,null,null,null,null,null,null,null,null,null,null,null,null,null,null,null,null,null,null,null,null,null,null,null,null,null,null,null,null,null,null,null,null,null,null,0]
[null,null,null,null,null,null,null,null,null,null,null,null,null,null,null,null,null,null,null,null,null,null,null,null,null,null,null,null,null,null,null,null,null,null,null,null,null,null,null,null,null,null,null,null,null,null,null,null,null,null,null,null,null,null,null,null,null,null,null,null,null,null,0]
[null,null,null,null,null,null,null,null,null,null,null,null,null,null,null,null,null,null,null,null,null,null,null,null,null,null,null,null,null,null,null,null,null,null,null,null,null,null,null,null,null,null,null,null,null,null,null,null,null,null,null,null,null,null,null,null,null,null,null,null,null,null,0]
[null,null,null,null,null,null,null,null,null,null,null,null,null,null,null,null,null,null,null,null,null,null,null,null,null,null,null,null,null,null,null,null,null,null,null,null,null,null,null,null,null,null,null,null,null,null,null,null,null,null,null,null,null,null,null,null,null,null,null,null,null,null,0]
[null,null,null,null,null,null,null,null,null,null,null,null,null,null,null,null,null,null,null,null,null,null,null,null,null,null,null,null,null,null,null,null,null,null,null,null,null,null,null,null,null,null,null,null,null,null,null,null,null,null,null,null,null,null,null,null,null,null,null,null,null,null,0]
[null,null,null,null,null,null,null,null,null,null,null,null,null,null,null,null,null,null,null,null,null,null,null,null,null,null,null,null,null,null,null,null,null,null,null,null,null,null,null,null,null,null,null,null,null,null,null,null,null,null,null,null,null,null,null,null,null,null,null,null,null,null,0]
[null,null,null,null,null,null,null,null,null,null,null,null,null,null,null,null,null,null,null,null,null,null,null,null,null,null,null,null,null,null,null,null,null,null,null,null,null,null,null,null,null,null,null,null,null,null,null,null,null,null,null,null,null,null,null,null,null,null,null,null,null,null,0]
[null,null,null,null,null,null,null,null,null,null,null,null,null,null,null,null,null,null,null,null,null,null,null,null,null,null,null,null,null,null,null,null,null,null,null,null,null,null,null,null,null,null,null,null,null,null,null,null,null,null,null,null,null,null,null,null,null,null,null,null,null,null,0]
[null,null,null,null,null,null,null,null,null,null,null,null,null,null,null,null,null,null,null,null,null,null,null,null,null,null,null,null,null,null,null,null,null,null,null,null,null,null,null,null,null,null,null,null,null,null,null,null,null,null,null,null,null,null,null,null,null,null,null,null,null,null,0]
[null,null,null,null,null,null,null,null,null,null,null,null,null,null,null,null,null,null,null,null,null,null,null,null,null,null,null,null,null,null,null,null,null,null,null,null,null,null,null,null,null,null,null,null,null,null,null,null,null,null,null,null,null,null,null,null,null,null,null,null,null,null,0]
[null,null,null,null,null,null,null,null,null,null,null,null,null,null,null,null,null,null,null,null,null,null,null,null,null,null,null,null,null,null,null,null,null,null,null,null,null,null,null,null,null,null,null,null,null,null,null,null,null,null,null,null,null,null,null,null,null,null,null,null,null,null,0]
[null,null,null,null,null,null,null,null,null,null,null,null,null,null,null,null,null,null,null,null,null,null,null,null,null,null,null,null,null,null,null,null,null,null,null,null,null,null,null,null,null,null,null,null,null,null,null,null,null,null,null,null,null,null,null,null,null,null,null,null,null,null,{"$f":"C207*$C$11+D207*$D$11+E207*$E$11+F207*$F$11+G207*$G$11+H207*$H$11+I207*$I$11+J207*$J$11+K207*$K$11+L207*$L$11+M207*$M$11+N207*$N$11+O207*$O$11+P207*$P$11+Q207*$Q$11+R207*$R$11+S207*$S$11+T207*$T$11+U207*$U$11+V207*$V$11+W207*$W$11+X207*$X$11+Y207*$Y$11+Z207*$Z$11+AA207*$AA$11+AB207*$AB$11+AC207*$AC$11+AD207*$AD$11+AE207*$AE$11+AF207*$AF$11+AG207*$AG$11+AH207*$AH$11+AI207*$AI$11+AJ207*$AJ$11+AK207*$AK$11+AL207*$AL$11+AM207*$AM$11+AN207*$AN$11+AO207*$AO$11+AP207*$AP$11+AQ207*$AQ$11+AR207*$AR$11+AS207*$AS$11+AT207*$AT$11+AU207*$AU$11+AV207*$AV$11+AW207*$AW$11+AX207*$AX$11+AY207*$AY$11+AZ207*$AZ$11+BA207*$BA$11+BB207*$BB$11+BC207*$BC$11+BD207*$BD$11+BE207*$BE$11+BF207*$BF$11+BG207*$BG$11+BH207*$BH$11+BI207*$BI$11+BJ207*$BJ$11","v":0}]
[null,null,null,null,null,null,null,null,null,null,null,null,null,null,null,null,null,null,null,null,null,null,null,null,null,null,null,null,null,null,null,null,null,null,null,null,null,null,null,null,null,null,null,null,null,null,null,null,null,null,null,null,null,null,null,null,null,null,null,null,null,null,0]
[null,null,null,null,null,null,null,null,null,null,null,null,null,null,null,null,null,null,null,null,null,null,null,null,null,null,null,null,null,null,null,null,null,null,null,null,null,null,null,null,null,null,null,null,null,null,null,null,null,null,null,null,null,null,null,null,null,null,null,null,null,null,0]
[null,null,null,null,null,null,null,null,null,null,null,null,null,null,null,null,null,null,null,null,null,null,null,null,null,null,null,null,null,null,null,null,null,null,null,null,null,null,null,null,null,null,null,null,null,null,null,null,null,null,null,null,null,null,null,null,null,null,null,null,null,null,0]
[null,null,null,null,null,null,null,null,null,null,null,null,null,null,null,null,null,null,null,null,null,null,null,null,null,null,null,null,null,null,null,null,null,null,null,null,null,null,null,null,null,null,null,null,null,null,null,null,null,null,null,null,null,null,null,null,null,null,null,null,null,null,0]
[null,null,null,null,null,null,null,null,null,null,null,null,null,null,null,null,null,null,null,null,null,null,null,null,null,null,null,null,null,null,null,null,null,null,null,null,null,null,null,null,null,null,null,null,null,null,null,null,null,null,null,null,null,null,null,null,null,null,null,null,null,null,0]
[null,null,null,null,null,null,null,null,null,null,null,null,null,null,null,null,null,null,null,null,null,null,null,null,null,null,null,null,null,null,null,null,null,null,null,null,null,null,null,null,null,null,null,null,null,null,null,null,null,null,null,null,null,null,null,null,null,null,null,null,null,null,0]
[null,null,null,null,null,null,null,null,null,null,null,null,null,null,null,null,null,null,null,null,null,null,null,null,null,null,null,null,null,null,null,null,null,null,null,null,null,null,null,null,null,null,null,null,null,null,null,null,null,null,null,null,null,null,null,null,null,null,null,null,null,null,0]
[null,null,null,null,null,null,null,null,null,null,null,null,null,null,null,null,null,null,null,null,null,null,null,null,null,null,null,null,null,null,null,null,null,null,null,null,null,null,null,null,null,null,null,null,null,null,null,null,null,null,null,null,null,null,null,null,null,null,null,null,null,null,0]
[null,null,null,null,null,null,null,null,null,null,null,null,null,null,null,null,null,null,null,null,null,null,null,null,null,null,null,null,null,null,null,null,null,null,null,null,null,null,null,null,null,null,null,null,null,null,null,null,null,null,null,null,null,null,null,null,null,null,null,null,null,null,0]
[null,null,null,null,null,null,null,null,null,null,null,null,null,null,null,null,null,null,null,null,null,null,null,null,null,null,null,null,null,null,null,null,null,null,null,null,null,null,null,null,null,null,null,null,null,null,null,null,null,null,null,null,null,null,null,null,null,null,null,null,null,null,0]
[null,null,null,null,null,null,null,null,null,null,null,null,null,null,null,null,null,null,null,null,null,null,null,null,null,null,null,null,null,null,null,null,null,null,null,null,null,null,null,null,null,null,null,null,null,null,null,null,null,null,null,null,null,null,null,null,null,null,null,null,null,null,0]
[null,null,null,null,null,null,null,null,null,null,null,null,null,null,null,null,null,null,null,null,null,null,null,null,null,null,null,null,null,null,null,null,null,null,null,null,null,null,null,null,null,null,null,null,null,null,null,null,null,null,null,null,null,null,null,null,null,null,null,null,null,null,0]
[null,null,null,null,null,null,null,null,null,null,null,null,null,null,null,null,null,null,null,null,null,null,null,null,null,null,null,null,null,null,null,null,null,null,null,null,null,null,null,null,null,null,null,null,null,null,null,null,null,null,null,null,null,null,null,null,null,null,null,null,null,null,0]
[null,null,null,null,null,null,null,null,null,null,null,null,null,null,null,null,null,null,null,null,null,null,null,null,null,null,null,null,null,null,null,null,null,null,null,null,null,null,null,null,null,null,null,null,null,null,null,null,null,null,null,null,null,null,null,null,null,null,null,null,null,null,0]
[null,null,null,null,null,null,null,null,null,null,null,null,null,null,null,null,null,null,null,null,null,null,null,null,null,null,null,null,null,null,null,null,null,null,null,null,null,null,null,null,null,null,null,null,null,null,null,null,null,null,null,null,null,null,null,null,null,null,null,null,null,null,0]
[null,null,null,null,null,null,null,null,null,null,null,null,null,null,null,null,null,null,null,null,null,null,null,null,null,null,null,null,null,null,null,null,null,null,null,null,null,null,null,null,null,null,null,null,null,null,null,null,null,null,null,null,null,null,null,null,null,null,null,null,null,null,0]
[null,null,null,null,null,null,null,null,null,null,null,null,null,null,null,null,null,null,null,null,null,null,null,null,null,null,null,null,null,null,null,null,null,null,null,null,null,null,null,null,null,null,null,null,null,null,null,null,null,null,null,null,null,null,null,null,null,null,null,null,null,null,0]
[null,null,null,null,null,null,null,null,null,null,null,null,null,null,null,null,null,null,null,null,null,null,null,null,null,null,null,null,null,null,null,null,null,null,null,null,null,null,null,null,null,null,null,null,null,null,null,null,null,null,null,null,null,null,null,null,null,null,null,null,null,null,0]
[null,null,null,null,null,null,null,null,null,null,null,null,null,null,null,null,null,null,null,null,null,null,null,null,null,null,null,null,null,null,null,null,null,null,null,null,null,null,null,null,null,null,null,null,null,null,null,null,null,null,null,null,null,null,null,null,null,null,null,null,null,null,0]
[null,null,null,null,null,null,null,null,null,null,null,null,null,null,null,null,null,null,null,null,null,null,null,null,null,null,null,null,null,null,null,null,null,null,null,null,null,null,null,null,null,null,null,null,null,null,null,null,null,null,null,null,null,null,null,null,null,null,null,null,null,null,0]
[null,null,null,null,null,null,null,null,null,null,null,null,null,null,null,null,null,null,null,null,null,null,null,null,null,null,null,null,null,null,null,null,null,null,null,null,null,null,null,null,null,null,null,null,null,null,null,null,null,null,null,null,null,null,null,null,null,null,null,null,null,null,0]
[null,null,null,null,null,null,null,null,null,null,null,null,null,null,null,null,null,null,null,null,null,null,null,null,null,null,null,null,null,null,null,null,null,null,null,null,null,null,null,null,null,null,null,null,null,null,null,null,null,null,null,null,null,null,null,null,null,null,null,null,null,null,0]
[null,null,null,null,null,null,null,null,null,null,null,null,null,null,null,null,null,null,null,null,null,null,null,null,null,null,null,null,null,null,null,null,null,null,null,null,null,null,null,null,null,null,null,null,null,null,null,null,null,null,null,null,null,null,null,null,null,null,null,null,null,null,0]
[null,null,null,null,null,null,null,null,null,null,null,null,null,null,null,null,null,null,null,null,null,null,null,null,null,null,null,null,null,null,null,null,null,null,null,null,null,null,null,null,null,null,null,null,null,null,null,null,null,null,null,null,null,null,null,null,null,null,null,null,null,null,0]
[null,null,null,null,null,null,null,null,null,null,null,null,null,null,null,null,null,null,null,null,null,null,null,null,null,null,null,null,null,null,null,null,null,null,null,null,null,null,null,null,null,null,null,null,null,null,null,null,null,null,null,null,null,null,null,null,null,null,null,null,null,null,0]
[null,null,null,null,null,null,null,null,null,null,null,null,null,null,null,null,null,null,null,null,null,null,null,null,null,null,null,null,null,null,null,null,null,null,null,null,null,null,null,null,null,null,null,null,null,null,null,null,null,null,null,null,null,null,null,null,null,null,null,null,null,null,0]
[null,null,null,null,null,null,null,null,null,null,null,null,null,null,null,null,null,null,null,null,null,null,null,null,null,null,null,null,null,null,null,null,null,null,null,null,null,null,null,null,null,null,null,null,null,null,null,null,null,null,null,null,null,null,null,null,null,null,null,null,null,null,0]
[null,null,null,null,null,null,null,null,null,null,null,null,null,null,null,null,null,null,null,null,null,null,null,null,null,null,null,null,null,null,null,null,null,null,null,null,null,null,null,null,null,null,null,null,null,null,null,null,null,null,null,null,null,null,null,null,null,null,null,null,null,null,0]
[null,null,null,null,null,null,null,null,null,null,null,null,null,null,null,null,null,null,null,null,null,null,null,null,null,null,null,null,null,null,null,null,null,null,null,null,null,null,null,null,null,null,null,null,null,null,null,null,null,null,null,null,null,null,null,null,null,null,null,null,null,null,0]
[null,null,null,null,null,null,null,null,null,null,null,null,null,null,null,null,null,null,null,null,null,null,null,null,null,null,null,null,null,null,null,null,null,null,null,null,null,null,null,null,null,null,null,null,null,null,null,null,null,null,null,null,null,null,null,null,null,null,null,null,null,null,0]
[null,null,null,null,null,null,null,null,null,null,null,null,null,null,null,null,null,null,null,null,null,null,null,null,null,null,null,null,null,null,null,null,null,null,null,null,null,null,null,null,null,null,null,null,null,null,null,null,null,null,null,null,null,null,null,null,null,null,null,null,null,null,0]
[null,null,null,null,null,null,null,null,null,null,null,null,null,null,null,null,null,null,null,null,null,null,null,null,null,null,null,null,null,null,null,null,null,null,null,null,null,null,null,null,null,null,null,null,null,null,null,null,null,null,null,null,null,null,null,null,null,null,null,null,null,null,0]
[null,null,null,null,null,null,null,null,null,null,null,null,null,null,null,null,null,null,null,null,null,null,null,null,null,null,null,null,null,null,null,null,null,null,null,null,null,null,null,null,null,null,null,null,null,null,null,null,null,null,null,null,null,null,null,null,null,null,null,null,null,null,0]
[null,null,null,null,null,null,null,null,null,null,null,null,null,null,null,null,null,null,null,null,null,null,null,null,null,null,null,null,null,null,null,null,null,null,null,null,null,null,null,null,null,null,null,null,null,null,null,null,null,null,null,null,null,null,null,null,null,null,null,null,null,null,0]
[null,null,null,null,null,null,null,null,null,null,null,null,null,null,null,null,null,null,null,null,null,null,null,null,null,null,null,null,null,null,null,null,null,null,null,null,null,null,null,null,null,null,null,null,null,null,null,null,null,null,null,null,null,null,null,null,null,null,null,null,null,null,0]
[null,null,null,null,null,null,null,null,null,null,null,null,null,null,null,null,null,null,null,null,null,null,null,null,null,null,null,null,null,null,null,null,null,null,null,null,null,null,null,null,null,null,null,null,null,null,null,null,null,null,null,null,null,null,null,null,null,null,null,null,null,null,0]
[null,null,null,null,null,null,null,null,null,null,null,null,null,null,null,null,null,null,null,null,null,null,null,null,null,null,null,null,null,null,null,null,null,null,null,null,null,null,null,null,null,null,null,null,null,null,null,null,null,null,null,null,null,null,null,null,null,null,null,null,null,null,0]
[null,null,null,null,null,null,null,null,null,null,null,null,null,null,null,null,null,null,null,null,null,null,null,null,null,null,null,null,null,null,null,null,null,null,null,null,null,null,null,null,null,null,null,null,null,null,null,null,null,null,null,null,null,null,null,null,null,null,null,null,null,null,0]
[null,null,null,null,null,null,null,null,null,null,null,null,null,null,null,null,null,null,null,null,null,null,null,null,null,null,null,null,null,null,null,null,null,null,null,null,null,null,null,null,null,null,null,null,null,null,null,null,null,null,null,null,null,null,null,null,null,null,null,null,null,null,0]
[null,null,null,null,null,null,null,null,null,null,null,null,null,null,null,null,null,null,null,null,null,null,null,null,null,null,null,null,null,null,null,null,null,null,null,null,null,null,null,null,null,null,null,null,null,null,null,null,null,null,null,null,null,null,null,null,null,null,null,null,null,null,0]
[null,null,null,null,null,null,null,null,null,null,null,null,null,null,null,null,null,null,null,null,null,null,null,null,null,null,null,null,null,null,null,null,null,null,null,null,null,null,null,null,null,null,null,null,null,null,null,null,null,null,null,null,null,null,null,null,null,null,null,null,null,null,0]
[null,null,null,null,null,null,null,null,null,null,null,null,null,null,null,null,null,null,null,null,null,null,null,null,null,null,null,null,null,null,null,null,null,null,null,null,null,null,null,null,null,null,null,null,null,null,null,null,null,null,null,null,null,null,null,null,null,null,null,null,null,null,0]
[null,null,null,null,null,null,null,null,null,null,null,null,null,null,null,null,null,null,null,null,null,null,null,null,null,null,null,null,null,null,null,null,null,null,null,null,null,null,null,null,null,null,null,null,null,null,null,null,null,null,null,null,null,null,null,null,null,null,null,null,null,null,0]
[null,null,null,null,null,null,null,null,null,null,null,null,null,null,null,null,null,null,null,null,null,null,null,null,null,null,null,null,null,null,null,null,null,null,null,null,null,null,null,null,null,null,null,null,null,null,null,null,null,null,null,null,null,null,null,null,null,null,null,null,null,null,0]
[null,null,null,null,null,null,null,null,null,null,null,null,null,null,null,null,null,null,null,null,null,null,null,null,null,null,null,null,null,null,null,null,null,null,null,null,null,null,null,null,null,null,null,null,null,null,null,null,null,null,null,null,null,null,null,null,null,null,null,null,null,null,0]
[null,null,null,null,null,null,null,null,null,null,null,null,null,null,null,null,null,null,null,null,null,null,null,null,null,null,null,null,null,null,null,null,null,null,null,null,null,null,null,null,null,null,null,null,null,null,null,null,null,null,null,null,null,null,null,null,null,null,null,null,null,null,0]
[null,null,null,null,null,null,null,null,null,null,null,null,null,null,null,null,null,null,null,null,null,null,null,null,null,null,null,null,null,null,null,null,null,null,null,null,null,null,null,null,null,null,null,null,null,null,null,null,null,null,null,null,null,null,null,null,null,null,null,null,null,null,0]
[null,null,null,null,null,null,null,null,null,null,null,null,null,null,null,null,null,null,null,null,null,null,null,null,null,null,null,null,null,null,null,null,null,null,null,null,null,null,null,null,null,null,null,null,null,null,null,null,null,null,null,null,null,null,null,null,null,null,null,null,null,null,0]
[null,null,null,null,null,null,null,null,null,null,null,null,null,null,null,null,null,null,null,null,null,null,null,null,null,null,null,null,null,null,null,null,null,null,null,null,null,null,null,null,null,null,null,null,null,null,null,null,null,null,null,null,null,null,null,null,null,null,null,null,null,null,0]
[null,null,null,null,null,null,null,null,null,null,null,null,null,null,null,null,null,null,null,null,null,null,null,null,null,null,null,null,null,null,null,null,null,null,null,null,null,null,null,null,null,null,null,null,null,null,null,null,null,null,null,null,null,null,null,null,null,null,null,null,null,null,0]
[null,null,null,null,null,null,null,null,null,null,null,null,null,null,null,null,null,null,null,null,null,null,null,null,null,null,null,null,null,null,null,null,null,null,null,null,null,null,null,null,null,null,null,null,null,null,null,null,null,null,null,null,null,null,null,null,null,null,null,null,null,null,0]
[null,null,null,null,null,null,null,null,null,null,null,null,null,null,null,null,null,null,null,null,null,null,null,null,null,null,null,null,null,null,null,null,null,null,null,null,null,null,null,null,null,null,null,null,null,null,null,null,null,null,null,null,null,null,null,null,null,null,null,null,null,null,0]
[null,null,null,null,null,null,null,null,null,null,null,null,null,null,null,null,null,null,null,null,null,null,null,null,null,null,null,null,null,null,null,null,null,null,null,null,null,null,null,null,null,null,null,null,null,null,null,null,null,null,null,null,null,null,null,null,null,null,null,null,null,null,0]
[null,null,null,null,null,null,null,null,null,null,null,null,null,null,null,null,null,null,null,null,null,null,null,null,null,null,null,null,null,null,null,null,null,null,null,null,null,null,null,null,null,null,null,null,null,null,null,null,null,null,null,null,null,null,null,null,null,null,null,null,null,null,0]
[null,null,null,null,null,null,null,null,null,null,null,null,null,null,null,null,null,null,null,null,null,null,null,null,null,null,null,null,null,null,null,null,null,null,null,null,null,null,null,null,null,null,null,null,null,null,null,null,null,null,null,null,null,null,null,null,null,null,null,null,null,null,0]
[null,null,null,null,null,null,null,null,null,null,null,null,null,null,null,null,null,null,null,null,null,null,null,null,null,null,null,null,null,null,null,null,null,null,null,null,null,null,null,null,null,null,null,null,null,null,null,null,null,null,null,null,null,null,null,null,null,null,null,null,null,null,0]
[null,null,null,null,null,null,null,null,null,null,null,null,null,null,null,null,null,null,null,null,null,null,null,null,null,null,null,null,null,null,null,null,null,null,null,null,null,null,null,null,null,null,null,null,null,null,null,null,null,null,null,null,null,null,null,null,null,null,null,null,null,null,0]
[null,null,null,null,null,null,null,null,null,null,null,null,null,null,null,null,null,null,null,null,null,null,null,null,null,null,null,null,null,null,null,null,null,null,null,null,null,null,null,null,null,null,null,null,null,null,null,null,null,null,null,null,null,null,null,null,null,null,null,null,null,null,0]
[null,null,null,null,null,null,null,null,null,null,null,null,null,null,null,null,null,null,null,null,null,null,null,null,null,null,null,null,null,null,null,null,null,null,null,null,null,null,null,null,null,null,null,null,null,null,null,null,null,null,null,null,null,null,null,null,null,null,null,null,null,null,0]
[null,null,null,null,null,null,null,null,null,null,null,null,null,null,null,null,null,null,null,null,null,null,null,null,null,null,null,null,null,null,null,null,null,null,null,null,null,null,null,null,null,null,null,null,null,null,null,null,null,null,null,null,null,null,null,null,null,null,null,null,null,null,0]
[null,null,null,null,null,null,null,null,null,null,null,null,null,null,null,null,null,null,null,null,null,null,null,null,null,null,null,null,null,null,null,null,null,null,null,null,null,null,null,null,null,null,null,null,null,null,null,null,null,null,null,null,null,null,null,null,null,null,null,null,null,null,0]
[null,null,null,null,null,null,null,null,null,null,null,null,null,null,null,null,null,null,null,null,null,null,null,null,null,null,null,null,null,null,null,null,null,null,null,null,null,null,null,null,null,null,null,null,null,null,null,null,null,null,null,null,null,null,null,null,null,null,null,null,null,null,0]
[null,null,null,null,null,null,null,null,null,null,null,null,null,null,null,null,null,null,null,null,null,null,null,null,null,null,null,null,null,null,null,null,null,null,null,null,null,null,null,null,null,null,null,null,null,null,null,null,null,null,null,null,null,null,null,null,null,null,null,null,null,null,0]
[null,null,null,null,null,null,null,null,null,null,null,null,null,null,null,null,null,null,null,null,null,null,null,null,null,null,null,null,null,null,null,null,null,null,null,null,null,null,null,null,null,null,null,null,null,null,null,null,null,null,null,null,null,null,null,null,null,null,null,null,null,null,{"$f":"C271*$C$11+D271*$D$11+E271*$E$11+F271*$F$11+G271*$G$11+H271*$H$11+I271*$I$11+J271*$J$11+K271*$K$11+L271*$L$11+M271*$M$11+N271*$N$11+O271*$O$11+P271*$P$11+Q271*$Q$11+R271*$R$11+S271*$S$11+T271*$T$11+U271*$U$11+V271*$V$11+W271*$W$11+X271*$X$11+Y271*$Y$11+Z271*$Z$11+AA271*$AA$11+AB271*$AB$11+AC271*$AC$11+AD271*$AD$11+AE271*$AE$11+AF271*$AF$11+AG271*$AG$11+AH271*$AH$11+AI271*$AI$11+AJ271*$AJ$11+AK271*$AK$11+AL271*$AL$11+AM271*$AM$11+AN271*$AN$11+AO271*$AO$11+AP271*$AP$11+AQ271*$AQ$11+AR271*$AR$11+AS271*$AS$11+AT271*$AT$11+AU271*$AU$11+AV271*$AV$11+AW271*$AW$11+AX271*$AX$11+AY271*$AY$11+AZ271*$AZ$11+BA271*$BA$11+BB271*$BB$11+BC271*$BC$11+BD271*$BD$11+BE271*$BE$11+BF271*$BF$11+BG271*$BG$11+BH271*$BH$11+BI271*$BI$11+BJ271*$BJ$11","v":0}]
[null,null,null,null,null,null,null,null,null,null,null,null,null,null,null,null,null,null,null,null,null,null,null,null,null,null,null,null,null,null,null,null,null,null,null,null,null,null,null,null,null,null,null,null,null,null,null,null,null,null,null,null,null,null,null,null,null,null,null,null,null,null,0]
[null,null,null,null,null,null,null,null,null,null,null,null,null,null,null,null,null,null,null,null,null,null,null,null,null,null,null,null,null,null,null,null,null,null,null,null,null,null,null,null,null,null,null,null,null,null,null,null,null,null,null,null,null,null,null,null,null,null,null,null,null,null,0]
[null,null,null,null,null,null,null,null,null,null,null,null,null,null,null,null,null,null,null,null,null,null,null,null,null,null,null,null,null,null,null,null,null,null,null,null,null,null,null,null,null,null,null,null,null,null,null,null,null,null,null,null,null,null,null,null,null,null,null,null,null,null,0]
[null,null,null,null,null,null,null,null,null,null,null,null,null,null,null,null,null,null,null,null,null,null,null,null,null,null,null,null,null,null,null,null,null,null,null,null,null,null,null,null,null,null,null,null,null,null,null,null,null,null,null,null,null,null,null,null,null,null,null,null,null,null,0]
[null,null,null,null,null,null,null,null,null,null,null,null,null,null,null,null,null,null,null,null,null,null,null,null,null,null,null,null,null,null,null,null,null,null,null,null,null,null,null,null,null,null,null,null,null,null,null,null,null,null,null,null,null,null,null,null,null,null,null,null,null,null,0]
[null,null,null,null,null,null,null,null,null,null,null,null,null,null,null,null,null,null,null,null,null,null,null,null,null,null,null,null,null,null,null,null,null,null,null,null,null,null,null,null,null,null,null,null,null,null,null,null,null,null,null,null,null,null,null,null,null,null,null,null,null,null,0]
[null,null,null,null,null,null,null,null,null,null,null,null,null,null,null,null,null,null,null,null,null,null,null,null,null,null,null,null,null,null,null,null,null,null,null,null,null,null,null,null,null,null,null,null,null,null,null,null,null,null,null,null,null,null,null,null,null,null,null,null,null,null,0]
[null,null,null,null,null,null,null,null,null,null,null,null,null,null,null,null,null,null,null,null,null,null,null,null,null,null,null,null,null,null,null,null,null,null,null,null,null,null,null,null,null,null,null,null,null,null,null,null,null,null,null,null,null,null,null,null,null,null,null,null,null,null,0]
[null,null,null,null,null,null,null,null,null,null,null,null,null,null,null,null,null,null,null,null,null,null,null,null,null,null,null,null,null,null,null,null,null,null,null,null,null,null,null,null,null,null,null,null,null,null,null,null,null,null,null,null,null,null,null,null,null,null,null,null,null,null,0]
[null,null,null,null,null,null,null,null,null,null,null,null,null,null,null,null,null,null,null,null,null,null,null,null,null,null,null,null,null,null,null,null,null,null,null,null,null,null,null,null,null,null,null,null,null,null,null,null,null,null,null,null,null,null,null,null,null,null,null,null,null,null,0]
[null,null,null,null,null,null,null,null,null,null,null,null,null,null,null,null,null,null,null,null,null,null,null,null,null,null,null,null,null,null,null,null,null,null,null,null,null,null,null,null,null,null,null,null,null,null,null,null,null,null,null,null,null,null,null,null,null,null,null,null,null,null,0]
[null,null,null,null,null,null,null,null,null,null,null,null,null,null,null,null,null,null,null,null,null,null,null,null,null,null,null,null,null,null,null,null,null,null,null,null,null,null,null,null,null,null,null,null,null,null,null,null,null,null,null,null,null,null,null,null,null,null,null,null,null,null,0]
[null,null,null,null,null,null,null,null,null,null,null,null,null,null,null,null,null,null,null,null,null,null,null,null,null,null,null,null,null,null,null,null,null,null,null,null,null,null,null,null,null,null,null,null,null,null,null,null,null,null,null,null,null,null,null,null,null,null,null,null,null,null,0]
[null,null,null,null,null,null,null,null,null,null,null,null,null,null,null,null,null,null,null,null,null,null,null,null,null,null,null,null,null,null,null,null,null,null,null,null,null,null,null,null,null,null,null,null,null,null,null,null,null,null,null,null,null,null,null,null,null,null,null,null,null,null,0]
[null,null,null,null,null,null,null,null,null,null,null,null,null,null,null,null,null,null,null,null,null,null,null,null,null,null,null,null,null,null,null,null,null,null,null,null,null,null,null,null,null,null,null,null,null,null,null,null,null,null,null,null,null,null,null,null,null,null,null,null,null,null,0]
[null,null,null,null,null,null,null,null,null,null,null,null,null,null,null,null,null,null,null,null,null,null,null,null,null,null,null,null,null,null,null,null,null,null,null,null,null,null,null,null,null,null,null,null,null,null,null,null,null,null,null,null,null,null,null,null,null,null,null,null,null,null,0]
[null,null,null,null,null,null,null,null,null,null,null,null,null,null,null,null,null,null,null,null,null,null,null,null,null,null,null,null,null,null,null,null,null,null,null,null,null,null,null,null,null,null,null,null,null,null,null,null,null,null,null,null,null,null,null,null,null,null,null,null,null,null,0]
[null,null,null,null,null,null,null,null,null,null,null,null,null,null,null,null,null,null,null,null,null,null,null,null,null,null,null,null,null,null,null,null,null,null,null,null,null,null,null,null,null,null,null,null,null,null,null,null,null,null,null,null,null,null,null,null,null,null,null,null,null,null,0]
[null,null,null,null,null,null,null,null,null,null,null,null,null,null,null,null,null,null,null,null,null,null,null,null,null,null,null,null,null,null,null,null,null,null,null,null,null,null,null,null,null,null,null,null,null,null,null,null,null,null,null,null,null,null,null,null,null,null,null,null,null,null,0]
[null,null,null,null,null,null,null,null,null,null,null,null,null,null,null,null,null,null,null,null,null,null,null,null,null,null,null,null,null,null,null,null,null,null,null,null,null,null,null,null,null,null,null,null,null,null,null,null,null,null,null,null,null,null,null,null,null,null,null,null,null,null,0]
[null,null,null,null,null,null,null,null,null,null,null,null,null,null,null,null,null,null,null,null,null,null,null,null,null,null,null,null,null,null,null,null,null,null,null,null,null,null,null,null,null,null,null,null,null,null,null,null,null,null,null,null,null,null,null,null,null,null,null,null,null,null,0]
[null,null,null,null,null,null,null,null,null,null,null,null,null,null,null,null,null,null,null,null,null,null,null,null,null,null,null,null,null,null,null,null,null,null,null,null,null,null,null,null,null,null,null,null,null,null,null,null,null,null,null,null,null,null,null,null,null,null,null,null,null,null,0]
[null,null,null,null,null,null,null,null,null,null,null,null,null,null,null,null,null,null,null,null,null,null,null,null,null,null,null,null,null,null,null,null,null,null,null,null,null,null,null,null,null,null,null,null,null,null,null,null,null,null,null,null,null,null,null,null,null,null,null,null,null,null,0]
[null,null,null,null,null,null,null,null,null,null,null,null,null,null,null,null,null,null,null,null,null,null,null,null,null,null,null,null,null,null,null,null,null,null,null,null,null,null,null,null,null,null,null,null,null,null,null,null,null,null,null,null,null,null,null,null,null,null,null,null,null,null,0]
[null,null,null,null,null,null,null,null,null,null,null,null,null,null,null,null,null,null,null,null,null,null,null,null,null,null,null,null,null,null,null,null,null,null,null,null,null,null,null,null,null,null,null,null,null,null,null,null,null,null,null,null,null,null,null,null,null,null,null,null,null,null,0]
[null,null,null,null,null,null,null,null,null,null,null,null,null,null,null,null,null,null,null,null,null,null,null,null,null,null,null,null,null,null,null,null,null,null,null,null,null,null,null,null,null,null,null,null,null,null,null,null,null,null,null,null,null,null,null,null,null,null,null,null,null,null,0]
[null,null,null,null,null,null,null,null,null,null,null,null,null,null,null,null,null,null,null,null,null,null,null,null,null,null,null,null,null,null,null,null,null,null,null,null,null,null,null,null,null,null,null,null,null,null,null,null,null,null,null,null,null,null,null,null,null,null,null,null,null,null,0]
[null,null,null,null,null,null,null,null,null,null,null,null,null,null,null,null,null,null,null,null,null,null,null,null,null,null,null,null,null,null,null,null,null,null,null,null,null,null,null,null,null,null,null,null,null,null,null,null,null,null,null,null,null,null,null,null,null,null,null,null,null,null,0]
[null,null,null,null,null,null,null,null,null,null,null,null,null,null,null,null,null,null,null,null,null,null,null,null,null,null,null,null,null,null,null,null,null,null,null,null,null,null,null,null,null,null,null,null,null,null,null,null,null,null,null,null,null,null,null,null,null,null,null,null,null,null,0]
[null,null,null,null,null,null,null,null,null,null,null,null,null,null,null,null,null,null,null,null,null,null,null,null,null,null,null,null,null,null,null,null,null,null,null,null,null,null,null,null,null,null,null,null,null,null,null,null,null,null,null,null,null,null,null,null,null,null,null,null,null,null,0]
[null,null,null,null,null,null,null,null,null,null,null,null,null,null,null,null,null,null,null,null,null,null,null,null,null,null,null,null,null,null,null,null,null,null,null,null,null,null,null,null,null,null,null,null,null,null,null,null,null,null,null,null,null,null,null,null,null,null,null,null,null,null,0]
[null,null,null,null,null,null,null,null,null,null,null,null,null,null,null,null,null,null,null,null,null,null,null,null,null,null,null,null,null,null,null,null,null,null,null,null,null,null,null,null,null,null,null,null,null,null,null,null,null,null,null,null,null,null,null,null,null,null,null,null,null,null,0]
[null,null,null,null,null,null,null,null,null,null,null,null,null,null,null,null,null,null,null,null,null,null,null,null,null,null,null,null,null,null,null,null,null,null,null,null,null,null,null,null,null,null,null,null,null,null,null,null,null,null,null,null,null,null,null,null,null,null,null,null,null,null,0]
[null,null,null,null,null,null,null,null,null,null,null,null,null,null,null,null,null,null,null,null,null,null,null,null,null,null,null,null,null,null,null,null,null,null,null,null,null,null,null,null,null,null,null,null,null,null,null,null,null,null,null,null,null,null,null,null,null,null,null,null,null,null,0]
[null,null,null,null,null,null,null,null,null,null,null,null,null,null,null,null,null,null,null,null,null,null,null,null,null,null,null,null,null,null,null,null,null,null,null,null,null,null,null,null,null,null,null,null,null,null,null,null,null,null,null,null,null,null,null,null,null,null,null,null,null,null,0]
[null,null,null,null,null,null,null,null,null,null,null,null,null,null,null,null,null,null,null,null,null,null,null,null,null,null,null,null,null,null,null,null,null,null,null,null,null,null,null,null,null,null,null,null,null,null,null,null,null,null,null,null,null,null,null,null,null,null,null,null,null,null,0]
[null,null,null,null,null,null,null,null,null,null,null,null,null,null,null,null,null,null,null,null,null,null,null,null,null,null,null,null,null,null,null,null,null,null,null,null,null,null,null,null,null,null,null,null,null,null,null,null,null,null,null,null,null,null,null,null,null,null,null,null,null,null,0]
[null,null,null,null,null,null,null,null,null,null,null,null,null,null,null,null,null,null,null,null,null,null,null,null,null,null,null,null,null,null,null,null,null,null,null,null,null,null,null,null,null,null,null,null,null,null,null,null,null,null,null,null,null,null,null,null,null,null,null,null,null,null,0]
[null,null,null,null,null,null,null,null,null,null,null,null,null,null,null,null,null,null,null,null,null,null,null,null,null,null,null,null,null,null,null,null,null,null,null,null,null,null,null,null,null,null,null,null,null,null,null,null,null,null,null,null,null,null,null,null,null,null,null,null,null,null,0]
[null,null,null,null,null,null,null,null,null,null,null,null,null,null,null,null,null,null,null,null,null,null,null,null,null,null,null,null,null,null,null,null,null,null,null,null,null,null,null,null,null,null,null,null,null,null,null,null,null,null,null,null,null,null,null,null,null,null,null,null,null,null,0]
[null,null,null,null,null,null,null,null,null,null,null,null,null,null,null,null,null,null,null,null,null,null,null,null,null,null,null,null,null,null,null,null,null,null,null,null,null,null,null,null,null,null,null,null,null,null,null,null,null,null,null,null,null,null,null,null,null,null,null,null,null,null,0]
[null,null,null,null,null,null,null,null,null,null,null,null,null,null,null,null,null,null,null,null,null,null,null,null,null,null,null,null,null,null,null,null,null,null,null,null,null,null,null,null,null,null,null,null,null,null,null,null,null,null,null,null,null,null,null,null,null,null,null,null,null,null,0]
[null,null,null,null,null,null,null,null,null,null,null,null,null,null,null,null,null,null,null,null,null,null,null,null,null,null,null,null,null,null,null,null,null,null,null,null,null,null,null,null,null,null,null,null,null,null,null,null,null,null,null,null,null,null,null,null,null,null,null,null,null,null,0]
[null,null,null,null,null,null,null,null,null,null,null,null,null,null,null,null,null,null,null,null,null,null,null,null,null,null,null,null,null,null,null,null,null,null,null,null,null,null,null,null,null,null,null,null,null,null,null,null,null,null,null,null,null,null,null,null,null,null,null,null,null,null,0]
[null,null,null,null,null,null,null,null,null,null,null,null,null,null,null,null,null,null,null,null,null,null,null,null,null,null,null,null,null,null,null,null,null,null,null,null,null,null,null,null,null,null,null,null,null,null,null,null,null,null,null,null,null,null,null,null,null,null,null,null,null,null,0]
[null,null,null,null,null,null,null,null,null,null,null,null,null,null,null,null,null,null,null,null,null,null,null,null,null,null,null,null,null,null,null,null,null,null,null,null,null,null,null,null,null,null,null,null,null,null,null,null,null,null,null,null,null,null,null,null,null,null,null,null,null,null,0]
[null,null,null,null,null,null,null,null,null,null,null,null,null,null,null,null,null,null,null,null,null,null,null,null,null,null,null,null,null,null,null,null,null,null,null,null,null,null,null,null,null,null,null,null,null,null,null,null,null,null,null,null,null,null,null,null,null,null,null,null,null,null,0]
[null,null,null,null,null,null,null,null,null,null,null,null,null,null,null,null,null,null,null,null,null,null,null,null,null,null,null,null,null,null,null,null,null,null,null,null,null,null,null,null,null,null,null,null,null,null,null,null,null,null,null,null,null,null,null,null,null,null,null,null,null,null,0]
[null,null,null,null,null,null,null,null,null,null,null,null,null,null,null,null,null,null,null,null,null,null,null,null,null,null,null,null,null,null,null,null,null,null,null,null,null,null,null,null,null,null,null,null,null,null,null,null,null,null,null,null,null,null,null,null,null,null,null,null,null,null,0]
[null,null,null,null,null,null,null,null,null,null,null,null,null,null,null,null,null,null,null,null,null,null,null,null,null,null,null,null,null,null,null,null,null,null,null,null,null,null,null,null,null,null,null,null,null,null,null,null,null,null,null,null,null,null,null,null,null,null,null,null,null,null,0]
[null,null,null,null,null,null,null,null,null,null,null,null,null,null,null,null,null,null,null,null,null,null,null,null,null,null,null,null,null,null,null,null,null,null,null,null,null,null,null,null,null,null,null,null,null,null,null,null,null,null,null,null,null,null,null,null,null,null,null,null,null,null,0]
[null,null,null,null,null,null,null,null,null,null,null,null,null,null,null,null,null,null,null,null,null,null,null,null,null,null,null,null,null,null,null,null,null,null,null,null,null,null,null,null,null,null,null,null,null,null,null,null,null,null,null,null,null,null,null,null,null,null,null,null,null,null,0]
[null,null,null,null,null,null,null,null,null,null,null,null,null,null,null,null,null,null,null,null,null,null,null,null,null,null,null,null,null,null,null,null,null,null,null,null,null,null,null,null,null,null,null,null,null,null,null,null,null,null,null,null,null,null,null,null,null,null,null,null,null,null,0]
[null,null,null,null,null,null,null,null,null,null,null,null,null,null,null,null,null,null,null,null,null,null,null,null,null,null,null,null,null,null,null,null,null,null,null,null,null,null,null,null,null,null,null,null,null,null,null,null,null,null,null,null,null,null,null,null,null,null,null,null,null,null,0]
[null,null,null,null,null,null,null,null,null,null,null,null,null,null,null,null,null,null,null,null,null,null,null,null,null,null,null,null,null,null,null,null,null,null,null,null,null,null,null,null,null,null,null,null,null,null,null,null,null,null,null,null,null,null,null,null,null,null,null,null,null,null,0]
[null,null,null,null,null,null,null,null,null,null,null,null,null,null,null,null,null,null,null,null,null,null,null,null,null,null,null,null,null,null,null,null,null,null,null,null,null,null,null,null,null,null,null,null,null,null,null,null,null,null,null,null,null,null,null,null,null,null,null,null,null,null,0]
[null,null,null,null,null,null,null,null,null,null,null,null,null,null,null,null,null,null,null,null,null,null,null,null,null,null,null,null,null,null,null,null,null,null,null,null,null,null,null,null,null,null,null,null,null,null,null,null,null,null,null,null,null,null,null,null,null,null,null,null,null,null,0]
[null,null,null,null,null,null,null,null,null,null,null,null,null,null,null,null,null,null,null,null,null,null,null,null,null,null,null,null,null,null,null,null,null,null,null,null,null,null,null,null,null,null,null,null,null,null,null,null,null,null,null,null,null,null,null,null,null,null,null,null,null,null,0]
[null,null,null,null,null,null,null,null,null,null,null,null,null,null,null,null,null,null,null,null,null,null,null,null,null,null,null,null,null,null,null,null,null,null,null,null,null,null,null,null,null,null,null,null,null,null,null,null,null,null,null,null,null,null,null,null,null,null,null,null,null,null,0]
[null,null,null,null,null,null,null,null,null,null,null,null,null,null,null,null,null,null,null,null,null,null,null,null,null,null,null,null,null,null,null,null,null,null,null,null,null,null,null,null,null,null,null,null,null,null,null,null,null,null,null,null,null,null,null,null,null,null,null,null,null,null,0]
[null,null,null,null,null,null,null,null,null,null,null,null,null,null,null,null,null,null,null,null,null,null,null,null,null,null,null,null,null,null,null,null,null,null,null,null,null,null,null,null,null,null,null,null,null,null,null,null,null,null,null,null,null,null,null,null,null,null,null,null,null,null,0]
[null,null,null,null,null,null,null,null,null,null,null,null,null,null,null,null,null,null,null,null,null,null,null,null,null,null,null,null,null,null,null,null,null,null,null,null,null,null,null,null,null,null,null,null,null,null,null,null,null,null,null,null,null,null,null,null,null,null,null,null,null,null,0]
[null,null,null,null,null,null,null,null,null,null,null,null,null,null,null,null,null,null,null,null,null,null,null,null,null,null,null,null,null,null,null,null,null,null,null,null,null,null,null,null,null,null,null,null,null,null,null,null,null,null,null,null,null,null,null,null,null,null,null,null,null,null,0]
[null,null,null,null,null,null,null,null,null,null,null,null,null,null,null,null,null,null,null,null,null,null,null,null,null,null,null,null,null,null,null,null,null,null,null,null,null,null,null,null,null,null,null,null,null,null,null,null,null,null,null,null,null,null,null,null,null,null,null,null,null,null,{"$f":"C335*$C$11+D335*$D$11+E335*$E$11+F335*$F$11+G335*$G$11+H335*$H$11+I335*$I$11+J335*$J$11+K335*$K$11+L335*$L$11+M335*$M$11+N335*$N$11+O335*$O$11+P335*$P$11+Q335*$Q$11+R335*$R$11+S335*$S$11+T335*$T$11+U335*$U$11+V335*$V$11+W335*$W$11+X335*$X$11+Y335*$Y$11+Z335*$Z$11+AA335*$AA$11+AB335*$AB$11+AC335*$AC$11+AD335*$AD$11+AE335*$AE$11+AF335*$AF$11+AG335*$AG$11+AH335*$AH$11+AI335*$AI$11+AJ335*$AJ$11+AK335*$AK$11+AL335*$AL$11+AM335*$AM$11+AN335*$AN$11+AO335*$AO$11+AP335*$AP$11+AQ335*$AQ$11+AR335*$AR$11+AS335*$AS$11+AT335*$AT$11+AU335*$AU$11+AV335*$AV$11+AW335*$AW$11+AX335*$AX$11+AY335*$AY$11+AZ335*$AZ$11+BA335*$BA$11+BB335*$BB$11+BC335*$BC$11+BD335*$BD$11+BE335*$BE$11+BF335*$BF$11+BG335*$BG$11+BH335*$BH$11+BI335*$BI$11+BJ335*$BJ$11","v":0}]
[null,null,null,null,null,null,null,null,null,null,null,null,null,null,null,null,null,null,null,null,null,null,null,null,null,null,null,null,null,null,null,null,null,null,null,null,null,null,null,null,null,null,null,null,null,null,null,null,null,null,null,null,null,null,null,null,null,null,null,null,null,null,0]
[null,null,null,null,null,null,null,null,null,null,null,null,null,null,null,null,null,null,null,null,null,null,null,null,null,null,null,null,null,null,null,null,null,null,null,null,null,null,null,null,null,null,null,null,null,null,null,null,null,null,null,null,null,null,null,null,null,null,null,null,null,null,0]
[null,null,null,null,null,null,null,null,null,null,null,null,null,null,null,null,null,null,null,null,null,null,null,null,null,null,null,null,null,null,null,null,null,null,null,null,null,null,null,null,null,null,null,null,null,null,null,null,null,null,null,null,null,null,null,null,null,null,null,null,null,null,0]
[null,null,null,null,null,null,null,null,null,null,null,null,null,null,null,null,null,null,null,null,null,null,null,null,null,null,null,null,null,null,null,null,null,null,null,null,null,null,null,null,null,null,null,null,null,null,null,null,null,null,null,null,null,null,null,null,null,null,null,null,null,null,0]
[null,null,null,null,null,null,null,null,null,null,null,null,null,null,null,null,null,null,null,null,null,null,null,null,null,null,null,null,null,null,null,null,null,null,null,null,null,null,null,null,null,null,null,null,null,null,null,null,null,null,null,null,null,null,null,null,null,null,null,null,null,null,0]
[null,null,null,null,null,null,null,null,null,null,null,null,null,null,null,null,null,null,null,null,null,null,null,null,null,null,null,null,null,null,null,null,null,null,null,null,null,null,null,null,null,null,null,null,null,null,null,null,null,null,null,null,null,null,null,null,null,null,null,null,null,null,0]
[null,null,null,null,null,null,null,null,null,null,null,null,null,null,null,null,null,null,null,null,null,null,null,null,null,null,null,null,null,null,null,null,null,null,null,null,null,null,null,null,null,null,null,null,null,null,null,null,null,null,null,null,null,null,null,null,null,null,null,null,null,null,0]
[null,null,null,null,null,null,null,null,null,null,null,null,null,null,null,null,null,null,null,null,null,null,null,null,null,null,null,null,null,null,null,null,null,null,null,null,null,null,null,null,null,null,null,null,null,null,null,null,null,null,null,null,null,null,null,null,null,null,null,null,null,null,0]
[null,null,null,null,null,null,null,null,null,null,null,null,null,null,null,null,null,null,null,null,null,null,null,null,null,null,null,null,null,null,null,null,null,null,null,null,null,null,null,null,null,null,null,null,null,null,null,null,null,null,null,null,null,null,null,null,null,null,null,null,null,null,0]
[null,null,null,null,null,null,null,null,null,null,null,null,null,null,null,null,null,null,null,null,null,null,null,null,null,null,null,null,null,null,null,null,null,null,null,null,null,null,null,null,null,null,null,null,null,null,null,null,null,null,null,null,null,null,null,null,null,null,null,null,null,null,0]
[null,null,null,null,null,null,null,null,null,null,null,null,null,null,null,null,null,null,null,null,null,null,null,null,null,null,null,null,null,null,null,null,null,null,null,null,null,null,null,null,null,null,null,null,null,null,null,null,null,null,null,null,null,null,null,null,null,null,null,null,null,null,0]
[null,null,null,null,null,null,null,null,null,null,null,null,null,null,null,null,null,null,null,null,null,null,null,null,null,null,null,null,null,null,null,null,null,null,null,null,null,null,null,null,null,null,null,null,null,null,null,null,null,null,null,null,null,null,null,null,null,null,null,null,null,null,0]
[null,null,null,null,null,null,null,null,null,null,null,null,null,null,null,null,null,null,null,null,null,null,null,null,null,null,null,null,null,null,null,null,null,null,null,null,null,null,null,null,null,null,null,null,null,null,null,null,null,null,null,null,null,null,null,null,null,null,null,null,null,null,0]
[null,null,null,null,null,null,null,null,null,null,null,null,null,null,null,null,null,null,null,null,null,null,null,null,null,null,null,null,null,null,null,null,null,null,null,null,null,null,null,null,null,null,null,null,null,null,null,null,null,null,null,null,null,null,null,null,null,null,null,null,null,null,0]
[null,null,null,null,null,null,null,null,null,null,null,null,null,null,null,null,null,null,null,null,null,null,null,null,null,null,null,null,null,null,null,null,null,null,null,null,null,null,null,null,null,null,null,null,null,null,null,null,null,null,null,null,null,null,null,null,null,null,null,null,null,null,0]
[null,null,null,null,null,null,null,null,null,null,null,null,null,null,null,null,null,null,null,null,null,null,null,null,null,null,null,null,null,null,null,null,null,null,null,null,null,null,null,null,null,null,null,null,null,null,null,null,null,null,null,null,null,null,null,null,null,null,null,null,null,null,0]
[null,null,null,null,null,null,null,null,null,null,null,null,null,null,null,null,null,null,null,null,null,null,null,null,null,null,null,null,null,null,null,null,null,null,null,null,null,null,null,null,null,null,null,null,null,null,null,null,null,null,null,null,null,null,null,null,null,null,null,null,null,null,0]
[null,null,null,null,null,null,null,null,null,null,null,null,null,null,null,null,null,null,null,null,null,null,null,null,null,null,null,null,null,null,null,null,null,null,null,null,null,null,null,null,null,null,null,null,null,null,null,null,null,null,null,null,null,null,null,null,null,null,null,null,null,null,0]
[null,null,null,null,null,null,null,null,null,null,null,null,null,null,null,null,null,null,null,null,null,null,null,null,null,null,null,null,null,null,null,null,null,null,null,null,null,null,null,null,null,null,null,null,null,null,null,null,null,null,null,null,null,null,null,null,null,null,null,null,null,null,0]
[null,null,null,null,null,null,null,null,null,null,null,null,null,null,null,null,null,null,null,null,null,null,null,null,null,null,null,null,null,null,null,null,null,null,null,null,null,null,null,null,null,null,null,null,null,null,null,null,null,null,null,null,null,null,null,null,null,null,null,null,null,null,0]
[null,null,null,null,null,null,null,null,null,null,null,null,null,null,null,null,null,null,null,null,null,null,null,null,null,null,null,null,null,null,null,null,null,null,null,null,null,null,null,null,null,null,null,null,null,null,null,null,null,null,null,null,null,null,null,null,null,null,null,null,null,null,0]
[null,null,null,null,null,null,null,null,null,null,null,null,null,null,null,null,null,null,null,null,null,null,null,null,null,null,null,null,null,null,null,null,null,null,null,null,null,null,null,null,null,null,null,null,null,null,null,null,null,null,null,null,null,null,null,null,null,null,null,null,null,null,0]
[null,null,null,null,null,null,null,null,null,null,null,null,null,null,null,null,null,null,null,null,null,null,null,null,null,null,null,null,null,null,null,null,null,null,null,null,null,null,null,null,null,null,null,null,null,null,null,null,null,null,null,null,null,null,null,null,null,null,null,null,null,null,0]
[null,null,null,null,null,null,null,null,null,null,null,null,null,null,null,null,null,null,null,null,null,null,null,null,null,null,null,null,null,null,null,null,null,null,null,null,null,null,null,null,null,null,null,null,null,null,null,null,null,null,null,null,null,null,null,null,null,null,null,null,null,null,0]
[null,null,null,null,null,null,null,null,null,null,null,null,null,null,null,null,null,null,null,null,null,null,null,null,null,null,null,null,null,null,null,null,null,null,null,null,null,null,null,null,null,null,null,null,null,null,null,null,null,null,null,null,null,null,null,null,null,null,null,null,null,null,0]
[null,null,null,null,null,null,null,null,null,null,null,null,null,null,null,null,null,null,null,null,null,null,null,null,null,null,null,null,null,null,null,null,null,null,null,null,null,null,null,null,null,null,null,null,null,null,null,null,null,null,null,null,null,null,null,null,null,null,null,null,null,null,0]
[null,null,null,null,null,null,null,null,null,null,null,null,null,null,null,null,null,null,null,null,null,null,null,null,null,null,null,null,null,null,null,null,null,null,null,null,null,null,null,null,null,null,null,null,null,null,null,null,null,null,null,null,null,null,null,null,null,null,null,null,null,null,0]
[null,null,null,null,null,null,null,null,null,null,null,null,null,null,null,null,null,null,null,null,null,null,null,null,null,null,null,null,null,null,null,null,null,null,null,null,null,null,null,null,null,null,null,null,null,null,null,null,null,null,null,null,null,null,null,null,null,null,null,null,null,null,0]
[null,null,null,null,null,null,null,null,null,null,null,null,null,null,null,null,null,null,null,null,null,null,null,null,null,null,null,null,null,null,null,null,null,null,null,null,null,null,null,null,null,null,null,null,null,null,null,null,null,null,null,null,null,null,null,null,null,null,null,null,null,null,0]
[null,null,null,null,null,null,null,null,null,null,null,null,null,null,null,null,null,null,null,null,null,null,null,null,null,null,null,null,null,null,null,null,null,null,null,null,null,null,null,null,null,null,null,null,null,null,null,null,null,null,null,null,null,null,null,null,null,null,null,null,null,null,0]
[null,null,null,null,null,null,null,null,null,null,null,null,null,null,null,null,null,null,null,null,null,null,null,null,null,null,null,null,null,null,null,null,null,null,null,null,null,null,null,null,null,null,null,null,null,null,null,null,null,null,null,null,null,null,null,null,null,null,null,null,null,null,0]
[null,null,null,null,null,null,null,null,null,null,null,null,null,null,null,null,null,null,null,null,null,null,null,null,null,null,null,null,null,null,null,null,null,null,null,null,null,null,null,null,null,null,null,null,null,null,null,null,null,null,null,null,null,null,null,null,null,null,null,null,null,null,0]
[null,null,null,null,null,null,null,null,null,null,null,null,null,null,null,null,null,null,null,null,null,null,null,null,null,null,null,null,null,null,null,null,null,null,null,null,null,null,null,null,null,null,null,null,null,null,null,null,null,null,null,null,null,null,null,null,null,null,null,null,null,null,0]
[null,null,null,null,null,null,null,null,null,null,null,null,null,null,null,null,null,null,null,null,null,null,null,null,null,null,null,null,null,null,null,null,null,null,null,null,null,null,null,null,null,null,null,null,null,null,null,null,null,null,null,null,null,null,null,null,null,null,null,null,null,null,0]
[null,null,null,null,null,null,null,null,null,null,null,null,null,null,null,null,null,null,null,null,null,null,null,null,null,null,null,null,null,null,null,null,null,null,null,null,null,null,null,null,null,null,null,null,null,null,null,null,null,null,null,null,null,null,null,null,null,null,null,null,null,null,0]
[null,null,null,null,null,null,null,null,null,null,null,null,null,null,null,null,null,null,null,null,null,null,null,null,null,null,null,null,null,null,null,null,null,null,null,null,null,null,null,null,null,null,null,null,null,null,null,null,null,null,null,null,null,null,null,null,null,null,null,null,null,null,0]
[null,null,null,null,null,null,null,null,null,null,null,null,null,null,null,null,null,null,null,null,null,null,null,null,null,null,null,null,null,null,null,null,null,null,null,null,null,null,null,null,null,null,null,null,null,null,null,null,null,null,null,null,null,null,null,null,null,null,null,null,null,null,0]
[null,null,null,null,null,null,null,null,null,null,null,null,null,null,null,null,null,null,null,null,null,null,null,null,null,null,null,null,null,null,null,null,null,null,null,null,null,null,null,null,null,null,null,null,null,null,null,null,null,null,null,null,null,null,null,null,null,null,null,null,null,null,0]
[null,null,null,null,null,null,null,null,null,null,null,null,null,null,null,null,null,null,null,null,null,null,null,null,null,null,null,null,null,null,null,null,null,null,null,null,null,null,null,null,null,null,null,null,null,null,null,null,null,null,null,null,null,null,null,null,null,null,null,null,null,null,0]
[null,null,null,null,null,null,null,null,null,null,null,null,null,null,null,null,null,null,null,null,null,null,null,null,null,null,null,null,null,null,null,null,null,null,null,null,null,null,null,null,null,null,null,null,null,null,null,null,null,null,null,null,null,null,null,null,null,null,null,null,null,null,0]
[null,null,null,null,null,null,null,null,null,null,null,null,null,null,null,null,null,null,null,null,null,null,null,null,null,null,null,null,null,null,null,null,null,null,null,null,null,null,null,null,null,null,null,null,null,null,null,null,null,null,null,null,null,null,null,null,null,null,null,null,null,null,0]
[null,null,null,null,null,null,null,null,null,null,null,null,null,null,null,null,null,null,null,null,null,null,null,null,null,null,null,null,null,null,null,null,null,null,null,null,null,null,null,null,null,null,null,null,null,null,null,null,null,null,null,null,null,null,null,null,null,null,null,null,null,null,0]
[null,null,null,null,null,null,null,null,null,null,null,null,null,null,null,null,null,null,null,null,null,null,null,null,null,null,null,null,null,null,null,null,null,null,null,null,null,null,null,null,null,null,null,null,null,null,null,null,null,null,null,null,null,null,null,null,null,null,null,null,null,null,0]
[null,null,null,null,null,null,null,null,null,null,null,null,null,null,null,null,null,null,null,null,null,null,null,null,null,null,null,null,null,null,null,null,null,null,null,null,null,null,null,null,null,null,null,null,null,null,null,null,null,null,null,null,null,null,null,null,null,null,null,null,null,null,0]
[null,null,null,null,null,null,null,null,null,null,null,null,null,null,null,null,null,null,null,null,null,null,null,null,null,null,null,null,null,null,null,null,null,null,null,null,null,null,null,null,null,null,null,null,null,null,null,null,null,null,null,null,null,null,null,null,null,null,null,null,null,null,0]
[null,null,null,null,null,null,null,null,null,null,null,null,null,null,null,null,null,null,null,null,null,null,null,null,null,null,null,null,null,null,null,null,null,null,null,null,null,null,null,null,null,null,null,null,null,null,null,null,null,null,null,null,null,null,null,null,null,null,null,null,null,null,0]
[null,null,null,null,null,null,null,null,null,null,null,null,null,null,null,null,null,null,null,null,null,null,null,null,null,null,null,null,null,null,null,null,null,null,null,null,null,null,null,null,null,null,null,null,null,null,null,null,null,null,null,null,null,null,null,null,null,null,null,null,null,null,0]
[null,null,null,null,null,null,null,null,null,null,null,null,null,null,null,null,null,null,null,null,null,null,null,null,null,null,null,null,null,null,null,null,null,null,null,null,null,null,null,null,null,null,null,null,null,null,null,null,null,null,null,null,null,null,null,null,null,null,null,null,null,null,0]
[null,null,null,null,null,null,null,null,null,null,null,null,null,null,null,null,null,null,null,null,null,null,null,null,null,null,null,null,null,null,null,null,null,null,null,null,null,null,null,null,null,null,null,null,null,null,null,null,null,null,null,null,null,null,null,null,null,null,null,null,null,null,0]
[null,null,null,null,null,null,null,null,null,null,null,null,null,null,null,null,null,null,null,null,null,null,null,null,null,null,null,null,null,null,null,null,null,null,null,null,null,null,null,null,null,null,null,null,null,null,null,null,null,null,null,null,null,null,null,null,null,null,null,null,null,null,0]
[null,null,null,null,null,null,null,null,null,null,null,null,null,null,null,null,null,null,null,null,null,null,null,null,null,null,null,null,null,null,null,null,null,null,null,null,null,null,null,null,null,null,null,null,null,null,null,null,null,null,null,null,null,null,null,null,null,null,null,null,null,null,0]
[null,null,null,null,null,null,null,null,null,null,null,null,null,null,null,null,null,null,null,null,null,null,null,null,null,null,null,null,null,null,null,null,null,null,null,null,null,null,null,null,null,null,null,null,null,null,null,null,null,null,null,null,null,null,null,null,null,null,null,null,null,null,0]
[null,null,null,null,null,null,null,null,null,null,null,null,null,null,null,null,null,null,null,null,null,null,null,null,null,null,null,null,null,null,null,null,null,null,null,null,null,null,null,null,null,null,null,null,null,null,null,null,null,null,null,null,null,null,null,null,null,null,null,null,null,null,0]
[null,null,null,null,null,null,null,null,null,null,null,null,null,null,null,null,null,null,null,null,null,null,null,null,null,null,null,null,null,null,null,null,null,null,null,null,null,null,null,null,null,null,null,null,null,null,null,null,null,null,null,null,null,null,null,null,null,null,null,null,null,null,0]
[null,null,null,null,null,null,null,null,null,null,null,null,null,null,null,null,null,null,null,null,null,null,null,null,null,null,null,null,null,null,null,null,null,null,null,null,null,null,null,null,null,null,null,null,null,null,null,null,null,null,null,null,null,null,null,null,null,null,null,null,null,null,0]
[null,null,null,null,null,null,null,null,null,null,null,null,null,null,null,null,null,null,null,null,null,null,null,null,null,null,null,null,null,null,null,null,null,null,null,null,null,null,null,null,null,null,null,null,null,null,null,null,null,null,null,null,null,null,null,null,null,null,null,null,null,null,0]
[null,null,null,null,null,null,null,null,null,null,null,null,null,null,null,null,null,null,null,null,null,null,null,null,null,null,null,null,null,null,null,null,null,null,null,null,null,null,null,null,null,null,null,null,null,null,null,null,null,null,null,null,null,null,null,null,null,null,null,null,null,null,0]
[null,null,null,null,null,null,null,null,null,null,null,null,null,null,null,null,null,null,null,null,null,null,null,null,null,null,null,null,null,null,null,null,null,null,null,null,null,null,null,null,null,null,null,null,null,null,null,null,null,null,null,null,null,null,null,null,null,null,null,null,null,null,0]
[null,null,null,null,null,null,null,null,null,null,null,null,null,null,null,null,null,null,null,null,null,null,null,null,null,null,null,null,null,null,null,null,null,null,null,null,null,null,null,null,null,null,null,null,null,null,null,null,null,null,null,null,null,null,null,null,null,null,null,null,null,null,0]
[null,null,null,null,null,null,null,null,null,null,null,null,null,null,null,null,null,null,null,null,null,null,null,null,null,null,null,null,null,null,null,null,null,null,null,null,null,null,null,null,null,null,null,null,null,null,null,null,null,null,null,null,null,null,null,null,null,null,null,null,null,null,0]
[null,null,null,null,null,null,null,null,null,null,null,null,null,null,null,null,null,null,null,null,null,null,null,null,null,null,null,null,null,null,null,null,null,null,null,null,null,null,null,null,null,null,null,null,null,null,null,null,null,null,null,null,null,null,null,null,null,null,null,null,null,null,0]
[null,null,null,null,null,null,null,null,null,null,null,null,null,null,null,null,null,null,null,null,null,null,null,null,null,null,null,null,null,null,null,null,null,null,null,null,null,null,null,null,null,null,null,null,null,null,null,null,null,null,null,null,null,null,null,null,null,null,null,null,null,null,0]
[null,null,null,null,null,null,null,null,null,null,null,null,null,null,null,null,null,null,null,null,null,null,null,null,null,null,null,null,null,null,null,null,null,null,null,null,null,null,null,null,null,null,null,null,null,null,null,null,null,null,null,null,null,null,null,null,null,null,null,null,null,null,0]
[null,null,null,null,null,null,null,null,null,null,null,null,null,null,null,null,null,null,null,null,null,null,null,null,null,null,null,null,null,null,null,null,null,null,null,null,null,null,null,null,null,null,null,null,null,null,null,null,null,null,null,null,null,null,null,null,null,null,null,null,null,null,{"$f":"C399*$C$11+D399*$D$11+E399*$E$11+F399*$F$11+G399*$G$11+H399*$H$11+I399*$I$11+J399*$J$11+K399*$K$11+L399*$L$11+M399*$M$11+N399*$N$11+O399*$O$11+P399*$P$11+Q399*$Q$11+R399*$R$11+S399*$S$11+T399*$T$11+U399*$U$11+V399*$V$11+W399*$W$11+X399*$X$11+Y399*$Y$11+Z399*$Z$11+AA399*$AA$11+AB399*$AB$11+AC399*$AC$11+AD399*$AD$11+AE399*$AE$11+AF399*$AF$11+AG399*$AG$11+AH399*$AH$11+AI399*$AI$11+AJ399*$AJ$11+AK399*$AK$11+AL399*$AL$11+AM399*$AM$11+AN399*$AN$11+AO399*$AO$11+AP399*$AP$11+AQ399*$AQ$11+AR399*$AR$11+AS399*$AS$11+AT399*$AT$11+AU399*$AU$11+AV399*$AV$11+AW399*$AW$11+AX399*$AX$11+AY399*$AY$11+AZ399*$AZ$11+BA399*$BA$11+BB399*$BB$11+BC399*$BC$11+BD399*$BD$11+BE399*$BE$11+BF399*$BF$11+BG399*$BG$11+BH399*$BH$11+BI399*$BI$11+BJ399*$BJ$11","v":0}]
[null,null,null,null,null,null,null,null,null,null,null,null,null,null,null,null,null,null,null,null,null,null,null,null,null,null,null,null,null,null,null,null,null,null,null,null,null,null,null,null,null,null,null,null,null,null,null,null,null,null,null,null,null,null,null,null,null,null,null,null,null,null,0]
[null,null,null,null,null,null,null,null,null,null,null,null,null,null,null,null,null,null,null,null,null,null,null,null,null,null,null,null,null,null,null,null,null,null,null,null,null,null,null,null,null,null,null,null,null,null,null,null,null,null,null,null,null,null,null,null,null,null,null,null,null,null,0]
[null,null,null,null,null,null,null,null,null,null,null,null,null,null,null,null,null,null,null,null,null,null,null,null,null,null,null,null,null,null,null,null,null,null,null,null,null,null,null,null,null,null,null,null,null,null,null,null,null,null,null,null,null,null,null,null,null,null,null,null,null,null,0]
[null,null,null,null,null,null,null,null,null,null,null,null,null,null,null,null,null,null,null,null,null,null,null,null,null,null,null,null,null,null,null,null,null,null,null,null,null,null,null,null,null,null,null,null,null,null,null,null,null,null,null,null,null,null,null,null,null,null,null,null,null,null,0]
[null,null,null,null,null,null,null,null,null,null,null,null,null,null,null,null,null,null,null,null,null,null,null,null,null,null,null,null,null,null,null,null,null,null,null,null,null,null,null,null,null,null,null,null,null,null,null,null,null,null,null,null,null,null,null,null,null,null,null,null,null,null,0]
[null,null,null,null,null,null,null,null,null,null,null,null,null,null,null,null,null,null,null,null,null,null,null,null,null,null,null,null,null,null,null,null,null,null,null,null,null,null,null,null,null,null,null,null,null,null,null,null,null,null,null,null,null,null,null,null,null,null,null,null,null,null,0]
[null,null,null,null,null,null,null,null,null,null,null,null,null,null,null,null,null,null,null,null,null,null,null,null,null,null,null,null,null,null,null,null,null,null,null,null,null,null,null,null,null,null,null,null,null,null,null,null,null,null,null,null,null,null,null,null,null,null,null,null,null,null,0]
[null,null,null,null,null,null,null,null,null,null,null,null,null,null,null,null,null,null,null,null,null,null,null,null,null,null,null,null,null,null,null,null,null,null,null,null,null,null,null,null,null,null,null,null,null,null,null,null,null,null,null,null,null,null,null,null,null,null,null,null,null,null,0]
[null,null,null,null,null,null,null,null,null,null,null,null,null,null,null,null,null,null,null,null,null,null,null,null,null,null,null,null,null,null,null,null,null,null,null,null,null,null,null,null,null,null,null,null,null,null,null,null,null,null,null,null,null,null,null,null,null,null,null,null,null,null,0]
[null,null,null,null,null,null,null,null,null,null,null,null,null,null,null,null,null,null,null,null,null,null,null,null,null,null,null,null,null,null,null,null,null,null,null,null,null,null,null,null,null,null,null,null,null,null,null,null,null,null,null,null,null,null,null,null,null,null,null,null,null,null,0]
[null,null,null,null,null,null,null,null,null,null,null,null,null,null,null,null,null,null,null,null,null,null,null,null,null,null,null,null,null,null,null,null,null,null,null,null,null,null,null,null,null,null,null,null,null,null,null,null,null,null,null,null,null,null,null,null,null,null,null,null,null,null,0]
[null,null,null,null,null,null,null,null,null,null,null,null,null,null,null,null,null,null,null,null,null,null,null,null,null,null,null,null,null,null,null,null,null,null,null,null,null,null,null,null,null,null,null,null,null,null,null,null,null,null,null,null,null,null,null,null,null,null,null,null,null,null,0]
[null,null,null,null,null,null,null,null,null,null,null,null,null,null,null,null,null,null,null,null,null,null,null,null,null,null,null,null,null,null,null,null,null,null,null,null,null,null,null,null,null,null,null,null,null,null,null,null,null,null,null,null,null,null,null,null,null,null,null,null,null,null,0]
[null,null,null,null,null,null,null,null,null,null,null,null,null,null,null,null,null,null,null,null,null,null,null,null,null,null,null,null,null,null,null,null,null,null,null,null,null,null,null,null,null,null,null,null,null,null,null,null,null,null,null,null,null,null,null,null,null,null,null,null,null,null,0]
[null,null,null,null,null,null,null,null,null,null,null,null,null,null,null,null,null,null,null,null,null,null,null,null,null,null,null,null,null,null,null,null,null,null,null,null,null,null,null,null,null,null,null,null,null,null,null,null,null,null,null,null,null,null,null,null,null,null,null,null,null,null,0]
[null,null,null,null,null,null,null,null,null,null,null,null,null,null,null,null,null,null,null,null,null,null,null,null,null,null,null,null,null,null,null,null,null,null,null,null,null,null,null,null,null,null,null,null,null,null,null,null,null,null,null,null,null,null,null,null,null,null,null,null,null,null,0]
[null,null,null,null,null,null,null,null,null,null,null,null,null,null,null,null,null,null,null,null,null,null,null,null,null,null,null,null,null,null,null,null,null,null,null,null,null,null,null,null,null,null,null,null,null,null,null,null,null,null,null,null,null,null,null,null,null,null,null,null,null,null,0]
[null,null,null,null,null,null,null,null,null,null,null,null,null,null,null,null,null,null,null,null,null,null,null,null,null,null,null,null,null,null,null,null,null,null,null,null,null,null,null,null,null,null,null,null,null,null,null,null,null,null,null,null,null,null,null,null,null,null,null,null,null,null,0]
[null,null,null,null,null,null,null,null,null,null,null,null,null,null,null,null,null,null,null,null,null,null,null,null,null,null,null,null,null,null,null,null,null,null,null,null,null,null,null,null,null,null,null,null,null,null,null,null,null,null,null,null,null,null,null,null,null,null,null,null,null,null,0]
[null,null,null,null,null,null,null,null,null,null,null,null,null,null,null,null,null,null,null,null,null,null,null,null,null,null,null,null,null,null,null,null,null,null,null,null,null,null,null,null,null,null,null,null,null,null,null,null,null,null,null,null,null,null,null,null,null,null,null,null,null,null,0]
[null,null,null,null,null,null,null,null,null,null,null,null,null,null,null,null,null,null,null,null,null,null,null,null,null,null,null,null,null,null,null,null,null,null,null,null,null,null,null,null,null,null,null,null,null,null,null,null,null,null,null,null,null,null,null,null,null,null,null,null,null,null,0]
[null,null,null,null,null,null,null,null,null,null,null,null,null,null,null,null,null,null,null,null,null,null,null,null,null,null,null,null,null,null,null,null,null,null,null,null,null,null,null,null,null,null,null,null,null,null,null,null,null,null,null,null,null,null,null,null,null,null,null,null,null,null,0]
[null,null,null,null,null,null,null,null,null,null,null,null,null,null,null,null,null,null,null,null,null,null,null,null,null,null,null,null,null,null,null,null,null,null,null,null,null,null,null,null,null,null,null,null,null,null,null,null,null,null,null,null,null,null,null,null,null,null,null,null,null,null,0]
[null,null,null,null,null,null,null,null,null,null,null,null,null,null,null,null,null,null,null,null,null,null,null,null,null,null,null,null,null,null,null,null,null,null,null,null,null,null,null,null,null,null,null,null,null,null,null,null,null,null,null,null,null,null,null,null,null,null,null,null,null,null,0]
[null,null,null,null,null,null,null,null,null,null,null,null,null,null,null,null,null,null,null,null,null,null,null,null,null,null,null,null,null,null,null,null,null,null,null,null,null,null,null,null,null,null,null,null,null,null,null,null,null,null,null,null,null,null,null,null,null,null,null,null,null,null,0]
[null,null,null,null,null,null,null,null,null,null,null,null,null,null,null,null,null,null,null,null,null,null,null,null,null,null,null,null,null,null,null,null,null,null,null,null,null,null,null,null,null,null,null,null,null,null,null,null,null,null,null,null,null,null,null,null,null,null,null,null,null,null,0]
[null,null,null,null,null,null,null,null,null,null,null,null,null,null,null,null,null,null,null,null,null,null,null,null,null,null,null,null,null,null,null,null,null,null,null,null,null,null,null,null,null,null,null,null,null,null,null,null,null,null,null,null,null,null,null,null,null,null,null,null,null,null,0]
[null,null,null,null,null,null,null,null,null,null,null,null,null,null,null,null,null,null,null,null,null,null,null,null,null,null,null,null,null,null,null,null,null,null,null,null,null,null,null,null,null,null,null,null,null,null,null,null,null,null,null,null,null,null,null,null,null,null,null,null,null,null,0]
[null,null,null,null,null,null,null,null,null,null,null,null,null,null,null,null,null,null,null,null,null,null,null,null,null,null,null,null,null,null,null,null,null,null,null,null,null,null,null,null,null,null,null,null,null,null,null,null,null,null,null,null,null,null,null,null,null,null,null,null,null,null,0]
[null,null,null,null,null,null,null,null,null,null,null,null,null,null,null,null,null,null,null,null,null,null,null,null,null,null,null,null,null,null,null,null,null,null,null,null,null,null,null,null,null,null,null,null,null,null,null,null,null,null,null,null,null,null,null,null,null,null,null,null,null,null,0]
[null,null,null,null,null,null,null,null,null,null,null,null,null,null,null,null,null,null,null,null,null,null,null,null,null,null,null,null,null,null,null,null,null,null,null,null,null,null,null,null,null,null,null,null,null,null,null,null,null,null,null,null,null,null,null,null,null,null,null,null,null,null,0]
[null,null,null,null,null,null,null,null,null,null,null,null,null,null,null,null,null,null,null,null,null,null,null,null,null,null,null,null,null,null,null,null,null,null,null,null,null,null,null,null,null,null,null,null,null,null,null,null,null,null,null,null,null,null,null,null,null,null,null,null,null,null,0]
[null,null,null,null,null,null,null,null,null,null,null,null,null,null,null,null,null,null,null,null,null,null,null,null,null,null,null,null,null,null,null,null,null,null,null,null,null,null,null,null,null,null,null,null,null,null,null,null,null,null,null,null,null,null,null,null,null,null,null,null,null,null,0]
[null,null,null,null,null,null,null,null,null,null,null,null,null,null,null,null,null,null,null,null,null,null,null,null,null,null,null,null,null,null,null,null,null,null,null,null,null,null,null,null,null,null,null,null,null,null,null,null,null,null,null,null,null,null,null,null,null,null,null,null,null,null,0]
[null,null,null,null,null,null,null,null,null,null,null,null,null,null,null,null,null,null,null,null,null,null,null,null,null,null,null,null,null,null,null,null,null,null,null,null,null,null,null,null,null,null,null,null,null,null,null,null,null,null,null,null,null,null,null,null,null,null,null,null,null,null,0]
[null,null,null,null,null,null,null,null,null,null,null,null,null,null,null,null,null,null,null,null,null,null,null,null,null,null,null,null,null,null,null,null,null,null,null,null,null,null,null,null,null,null,null,null,null,null,null,null,null,null,null,null,null,null,null,null,null,null,null,null,null,null,0]
[null,null,null,null,null,null,null,null,null,null,null,null,null,null,null,null,null,null,null,null,null,null,null,null,null,null,null,null,null,null,null,null,null,null,null,null,null,null,null,null,null,null,null,null,null,null,null,null,null,null,null,null,null,null,null,null,null,null,null,null,null,null,0]
[null,null,null,null,null,null,null,null,null,null,null,null,null,null,null,null,null,null,null,null,null,null,null,null,null,null,null,null,null,null,null,null,null,null,null,null,null,null,null,null,null,null,null,null,null,null,null,null,null,null,null,null,null,null,null,null,null,null,null,null,null,null,0]
[null,null,null,null,null,null,null,null,null,null,null,null,null,null,null,null,null,null,null,null,null,null,null,null,null,null,null,null,null,null,null,null,null,null,null,null,null,null,null,null,null,null,null,null,null,null,null,null,null,null,null,null,null,null,null,null,null,null,null,null,null,null,0]
[null,null,null,null,null,null,null,null,null,null,null,null,null,null,null,null,null,null,null,null,null,null,null,null,null,null,null,null,null,null,null,null,null,null,null,null,null,null,null,null,null,null,null,null,null,null,null,null,null,null,null,null,null,null,null,null,null,null,null,null,null,null,0]
[null,null,null,null,null,null,null,null,null,null,null,null,null,null,null,null,null,null,null,null,null,null,null,null,null,null,null,null,null,null,null,null,null,null,null,null,null,null,null,null,null,null,null,null,null,null,null,null,null,null,null,null,null,null,null,null,null,null,null,null,null,null,0]
[null,null,null,null,null,null,null,null,null,null,null,null,null,null,null,null,null,null,null,null,null,null,null,null,null,null,null,null,null,null,null,null,null,null,null,null,null,null,null,null,null,null,null,null,null,null,null,null,null,null,null,null,null,null,null,null,null,null,null,null,null,null,0]
[null,null,null,null,null,null,null,null,null,null,null,null,null,null,null,null,null,null,null,null,null,null,null,null,null,null,null,null,null,null,null,null,null,null,null,null,null,null,null,null,null,null,null,null,null,null,null,null,null,null,null,null,null,null,null,null,null,null,null,null,null,null,0]
[null,null,null,null,null,null,null,null,null,null,null,null,null,null,null,null,null,null,null,null,null,null,null,null,null,null,null,null,null,null,null,null,null,null,null,null,null,null,null,null,null,null,null,null,null,null,null,null,null,null,null,null,null,null,null,null,null,null,null,null,null,null,0]
[null,null,null,null,null,null,null,null,null,null,null,null,null,null,null,null,null,null,null,null,null,null,null,null,null,null,null,null,null,null,null,null,null,null,null,null,null,null,null,null,null,null,null,null,null,null,null,null,null,null,null,null,null,null,null,null,null,null,null,null,null,null,0]
[null,null,null,null,null,null,null,null,null,null,null,null,null,null,null,null,null,null,null,null,null,null,null,null,null,null,null,null,null,null,null,null,null,null,null,null,null,null,null,null,null,null,null,null,null,null,null,null,null,null,null,null,null,null,null,null,null,null,null,null,null,null,0]
[null,null,null,null,null,null,null,null,null,null,null,null,null,null,null,null,null,null,null,null,null,null,null,null,null,null,null,null,null,null,null,null,null,null,null,null,null,null,null,null,null,null,null,null,null,null,null,null,null,null,null,null,null,null,null,null,null,null,null,null,null,null,0]
[null,null,null,null,null,null,null,null,null,null,null,null,null,null,null,null,null,null,null,null,null,null,null,null,null,null,null,null,null,null,null,null,null,null,null,null,null,null,null,null,null,null,null,null,null,null,null,null,null,null,null,null,null,null,null,null,null,null,null,null,null,null,0]
[null,null,null,null,null,null,null,null,null,null,null,null,null,null,null,null,null,null,null,null,null,null,null,null,null,null,null,null,null,null,null,null,null,null,null,null,null,null,null,null,null,null,null,null,null,null,null,null,null,null,null,null,null,null,null,null,null,null,null,null,null,null,0]
[null,null,null,null,null,null,null,null,null,null,null,null,null,null,null,null,null,null,null,null,null,null,null,null,null,null,null,null,null,null,null,null,null,null,null,null,null,null,null,null,null,null,null,null,null,null,null,null,null,null,null,null,null,null,null,null,null,null,null,null,null,null,0]
[null,null,null,null,null,null,null,null,null,null,null,null,null,null,null,null,null,null,null,null,null,null,null,null,null,null,null,null,null,null,null,null,null,null,null,null,null,null,null,null,null,null,null,null,null,null,null,null,null,null,null,null,null,null,null,null,null,null,null,null,null,null,0]
[null,null,null,null,null,null,null,null,null,null,null,null,null,null,null,null,null,null,null,null,null,null,null,null,null,null,null,null,null,null,null,null,null,null,null,null,null,null,null,null,null,null,null,null,null,null,null,null,null,null,null,null,null,null,null,null,null,null,null,null,null,null,0]
[null,null,null,null,null,null,null,null,null,null,null,null,null,null,null,null,null,null,null,null,null,null,null,null,null,null,null,null,null,null,null,null,null,null,null,null,null,null,null,null,null,null,null,null,null,null,null,null,null,null,null,null,null,null,null,null,null,null,null,null,null,null,0]
[null,null,null,null,null,null,null,null,null,null,null,null,null,null,null,null,null,null,null,null,null,null,null,null,null,null,null,null,null,null,null,null,null,null,null,null,null,null,null,null,null,null,null,null,null,null,null,null,null,null,null,null,null,null,null,null,null,null,null,null,null,null,0]
[null,null,null,null,null,null,null,null,null,null,null,null,null,null,null,null,null,null,null,null,null,null,null,null,null,null,null,null,null,null,null,null,null,null,null,null,null,null,null,null,null,null,null,null,null,null,null,null,null,null,null,null,null,null,null,null,null,null,null,null,null,null,0]
[null,null,null,null,null,null,null,null,null,null,null,null,null,null,null,null,null,null,null,null,null,null,null,null,null,null,null,null,null,null,null,null,null,null,null,null,null,null,null,null,null,null,null,null,null,null,null,null,null,null,null,null,null,null,null,null,null,null,null,null,null,null,0]
[null,null,null,null,null,null,null,null,null,null,null,null,null,null,null,null,null,null,null,null,null,null,null,null,null,null,null,null,null,null,null,null,null,null,null,null,null,null,null,null,null,null,null,null,null,null,null,null,null,null,null,null,null,null,null,null,null,null,null,null,null,null,0]
[null,null,null,null,null,null,null,null,null,null,null,null,null,null,null,null,null,null,null,null,null,null,null,null,null,null,null,null,null,null,null,null,null,null,null,null,null,null,null,null,null,null,null,null,null,null,null,null,null,null,null,null,null,null,null,null,null,null,null,null,null,null,0]
[null,null,null,null,null,null,null,null,null,null,null,null,null,null,null,null,null,null,null,null,null,null,null,null,null,null,null,null,null,null,null,null,null,null,null,null,null,null,null,null,null,null,null,null,null,null,null,null,null,null,null,null,null,null,null,null,null,null,null,null,null,null,0]
[null,null,null,null,null,null,null,null,null,null,null,null,null,null,null,null,null,null,null,null,null,null,null,null,null,null,null,null,null,null,null,null,null,null,null,null,null,null,null,null,null,null,null,null,null,null,null,null,null,null,null,null,null,null,null,null,null,null,null,null,null,null,0]
[null,null,null,null,null,null,null,null,null,null,null,null,null,null,null,null,null,null,null,null,null,null,null,null,null,null,null,null,null,null,null,null,null,null,null,null,null,null,null,null,null,null,null,null,null,null,null,null,null,null,null,null,null,null,null,null,null,null,null,null,null,null,0]
[null,null,null,null,null,null,null,null,null,null,null,null,null,null,null,null,null,null,null,null,null,null,null,null,null,null,null,null,null,null,null,null,null,null,null,null,null,null,null,null,null,null,null,null,null,null,null,null,null,null,null,null,null,null,null,null,null,null,null,null,null,null,0]
[null,null,null,null,null,null,null,null,null,null,null,null,null,null,null,null,null,null,null,null,null,null,null,null,null,null,null,null,null,null,null,null,null,null,null,null,null,null,null,null,null,null,null,null,null,null,null,null,null,null,null,null,null,null,null,null,null,null,null,null,null,null,0]
[null,null,null,null,null,null,null,null,null,null,null,null,null,null,null,null,null,null,null,null,null,null,null,null,null,null,null,null,null,null,null,null,null,null,null,null,null,null,null,null,null,null,null,null,null,null,null,null,null,null,null,null,null,null,null,null,null,null,null,null,null,null,{"$f":"C463*$C$11+D463*$D$11+E463*$E$11+F463*$F$11+G463*$G$11+H463*$H$11+I463*$I$11+J463*$J$11+K463*$K$11+L463*$L$11+M463*$M$11+N463*$N$11+O463*$O$11+P463*$P$11+Q463*$Q$11+R463*$R$11+S463*$S$11+T463*$T$11+U463*$U$11+V463*$V$11+W463*$W$11+X463*$X$11+Y463*$Y$11+Z463*$Z$11+AA463*$AA$11+AB463*$AB$11+AC463*$AC$11+AD463*$AD$11+AE463*$AE$11+AF463*$AF$11+AG463*$AG$11+AH463*$AH$11+AI463*$AI$11+AJ463*$AJ$11+AK463*$AK$11+AL463*$AL$11+AM463*$AM$11+AN463*$AN$11+AO463*$AO$11+AP463*$AP$11+AQ463*$AQ$11+AR463*$AR$11+AS463*$AS$11+AT463*$AT$11+AU463*$AU$11+AV463*$AV$11+AW463*$AW$11+AX463*$AX$11+AY463*$AY$11+AZ463*$AZ$11+BA463*$BA$11+BB463*$BB$11+BC463*$BC$11+BD463*$BD$11+BE463*$BE$11+BF463*$BF$11+BG463*$BG$11+BH463*$BH$11+BI463*$BI$11+BJ463*$BJ$11","v":0}]
[null,null,null,null,null,null,null,null,null,null,null,null,null,null,null,null,null,null,null,null,null,null,null,null,null,null,null,null,null,null,null,null,null,null,null,null,null,null,null,null,null,null,null,null,null,null,null,null,null,null,null,null,null,null,null,null,null,null,null,null,null,null,0]
[null,null,null,null,null,null,null,null,null,null,null,null,null,null,null,null,null,null,null,null,null,null,null,null,null,null,null,null,null,null,null,null,null,null,null,null,null,null,null,null,null,null,null,null,null,null,null,null,null,null,null,null,null,null,null,null,null,null,null,null,null,null,0]
[null,null,null,null,null,null,null,null,null,null,null,null,null,null,null,null,null,null,null,null,null,null,null,null,null,null,null,null,null,null,null,null,null,null,null,null,null,null,null,null,null,null,null,null,null,null,null,null,null,null,null,null,null,null,null,null,null,null,null,null,null,null,0]
[null,null,null,null,null,null,null,null,null,null,null,null,null,null,null,null,null,null,null,null,null,null,null,null,null,null,null,null,null,null,null,null,null,null,null,null,null,null,null,null,null,null,null,null,null,null,null,null,null,null,null,null,null,null,null,null,null,null,null,null,null,null,0]
[null,null,null,null,null,null,null,null,null,null,null,null,null,null,null,null,null,null,null,null,null,null,null,null,null,null,null,null,null,null,null,null,null,null,null,null,null,null,null,null,null,null,null,null,null,null,null,null,null,null,null,null,null,null,null,null,null,null,null,null,null,null,0]
[null,null,null,null,null,null,null,null,null,null,null,null,null,null,null,null,null,null,null,null,null,null,null,null,null,null,null,null,null,null,null,null,null,null,null,null,null,null,null,null,null,null,null,null,null,null,null,null,null,null,null,null,null,null,null,null,null,null,null,null,null,null,0]
[null,null,null,null,null,null,null,null,null,null,null,null,null,null,null,null,null,null,null,null,null,null,null,null,null,null,null,null,null,null,null,null,null,null,null,null,null,null,null,null,null,null,null,null,null,null,null,null,null,null,null,null,null,null,null,null,null,null,null,null,null,null,0]
[null,null,null,null,null,null,null,null,null,null,null,null,null,null,null,null,null,null,null,null,null,null,null,null,null,null,null,null,null,null,null,null,null,null,null,null,null,null,null,null,null,null,null,null,null,null,null,null,null,null,null,null,null,null,null,null,null,null,null,null,null,null,0]
[null,null,null,null,null,null,null,null,null,null,null,null,null,null,null,null,null,null,null,null,null,null,null,null,null,null,null,null,null,null,null,null,null,null,null,null,null,null,null,null,null,null,null,null,null,null,null,null,null,null,null,null,null,null,null,null,null,null,null,null,null,null,0]
[null,null,null,null,null,null,null,null,null,null,null,null,null,null,null,null,null,null,null,null,null,null,null,null,null,null,null,null,null,null,null,null,null,null,null,null,null,null,null,null,null,null,null,null,null,null,null,null,null,null,null,null,null,null,null,null,null,null,null,null,null,null,0]
[null,null,null,null,null,null,null,null,null,null,null,null,null,null,null,null,null,null,null,null,null,null,null,null,null,null,null,null,null,null,null,null,null,null,null,null,null,null,null,null,null,null,null,null,null,null,null,null,null,null,null,null,null,null,null,null,null,null,null,null,null,null,0]
[null,null,null,null,null,null,null,null,null,null,null,null,null,null,null,null,null,null,null,null,null,null,null,null,null,null,null,null,null,null,null,null,null,null,null,null,null,null,null,null,null,null,null,null,null,null,null,null,null,null,null,null,null,null,null,null,null,null,null,null,null,null,0]
[null,null,null,null,null,null,null,null,null,null,null,null,null,null,null,null,null,null,null,null,null,null,null,null,null,null,null,null,null,null,null,null,null,null,null,null,null,null,null,null,null,null,null,null,null,null,null,null,null,null,null,null,null,null,null,null,null,null,null,null,null,null,0]
[null,null,null,null,null,null,null,null,null,null,null,null,null,null,null,null,null,null,null,null,null,null,null,null,null,null,null,null,null,null,null,null,null,null,null,null,null,null,null,null,null,null,null,null,null,null,null,null,null,null,null,null,null,null,null,null,null,null,null,null,null,null,0]
[null,null,null,null,null,null,null,null,null,null,null,null,null,null,null,null,null,null,null,null,null,null,null,null,null,null,null,null,null,null,null,null,null,null,null,null,null,null,null,null,null,null,null,null,null,null,null,null,null,null,null,null,null,null,null,null,null,null,null,null,null,null,0]
[null,null,null,null,null,null,null,null,null,null,null,null,null,null,null,null,null,null,null,null,null,null,null,null,null,null,null,null,null,null,null,null,null,null,null,null,null,null,null,null,null,null,null,null,null,null,null,null,null,null,null,null,null,null,null,null,null,null,null,null,null,null,0]
[null,null,null,null,null,null,null,null,null,null,null,null,null,null,null,null,null,null,null,null,null,null,null,null,null,null,null,null,null,null,null,null,null,null,null,null,null,null,null,null,null,null,null,null,null,null,null,null,null,null,null,null,null,null,null,null,null,null,null,null,null,null,0]
[null,null,null,null,null,null,null,null,null,null,null,null,null,null,null,null,null,null,null,null,null,null,null,null,null,null,null,null,null,null,null,null,null,null,null,null,null,null,null,null,null,null,null,null,null,null,null,null,null,null,null,null,null,null,null,null,null,null,null,null,null,null,0]
[null,null,null,null,null,null,null,null,null,null,null,null,null,null,null,null,null,null,null,null,null,null,null,null,null,null,null,null,null,null,null,null,null,null,null,null,null,null,null,null,null,null,null,null,null,null,null,null,null,null,null,null,null,null,null,null,null,null,null,null,null,null,0]
[null,null,null,null,null,null,null,null,null,null,null,null,null,null,null,null,null,null,null,null,null,null,null,null,null,null,null,null,null,null,null,null,null,null,null,null,null,null,null,null,null,null,null,null,null,null,null,null,null,null,null,null,null,null,null,null,null,null,null,null,null,null,0]
[null,null,null,null,null,null,null,null,null,null,null,null,null,null,null,null,null,null,null,null,null,null,null,null,null,null,null,null,null,null,null,null,null,null,null,null,null,null,null,null,null,null,null,null,null,null,null,null,null,null,null,null,null,null,null,null,null,null,null,null,null,null,0]
[null,null,null,null,null,null,null,null,null,null,null,null,null,null,null,null,null,null,null,null,null,null,null,null,null,null,null,null,null,null,null,null,null,null,null,null,null,null,null,null,null,null,null,null,null,null,null,null,null,null,null,null,null,null,null,null,null,null,null,null,null,null,0]
[null,null,null,null,null,null,null,null,null,null,null,null,null,null,null,null,null,null,null,null,null,null,null,null,null,null,null,null,null,null,null,null,null,null,null,null,null,null,null,null,null,null,null,null,null,null,null,null,null,null,null,null,null,null,null,null,null,null,null,null,null,null,0]
[null,null,null,null,null,null,null,null,null,null,null,null,null,null,null,null,null,null,null,null,null,null,null,null,null,null,null,null,null,null,null,null,null,null,null,null,null,null,null,null,null,null,null,null,null,null,null,null,null,null,null,null,null,null,null,null,null,null,null,null,null,null,0]
[null,null,null,null,null,null,null,null,null,null,null,null,null,null,null,null,null,null,null,null,null,null,null,null,null,null,null,null,null,null,null,null,null,null,null,null,null,null,null,null,null,null,null,null,null,null,null,null,null,null,null,null,null,null,null,null,null,null,null,null,null,null,0]
[null,null,null,null,null,null,null,null,null,null,null,null,null,null,null,null,null,null,null,null,null,null,null,null,null,null,null,null,null,null,null,null,null,null,null,null,null,null,null,null,null,null,null,null,null,null,null,null,null,null,null,null,null,null,null,null,null,null,null,null,null,null,0]
[null,null,null,null,null,null,null,null,null,null,null,null,null,null,null,null,null,null,null,null,null,null,null,null,null,null,null,null,null,null,null,null,null,null,null,null,null,null,null,null,null,null,null,null,null,null,null,null,null,null,null,null,null,null,null,null,null,null,null,null,null,null,0]
[null,null,null,null,null,null,null,null,null,null,null,null,null,null,null,null,null,null,null,null,null,null,null,null,null,null,null,null,null,null,null,null,null,null,null,null,null,null,null,null,null,null,null,null,null,null,null,null,null,null,null,null,null,null,null,null,null,null,null,null,null,null,0]
[null,null,null,null,null,null,null,null,null,null,null,null,null,null,null,null,null,null,null,null,null,null,null,null,null,null,null,null,null,null,null,null,null,null,null,null,null,null,null,null,null,null,null,null,null,null,null,null,null,null,null,null,null,null,null,null,null,null,null,null,null,null,0]
[null,null,null,null,null,null,null,null,null,null,null,null,null,null,null,null,null,null,null,null,null,null,null,null,null,null,null,null,null,null,null,null,null,null,null,null,null,null,null,null,null,null,null,null,null,null,null,null,null,null,null,null,null,null,null,null,null,null,null,null,null,null,0]
[null,null,null,null,null,null,null,null,null,null,null,null,null,null,null,null,null,null,null,null,null,null,null,null,null,null,null,null,null,null,null,null,null,null,null,null,null,null,null,null,null,null,null,null,null,null,null,null,null,null,null,null,null,null,null,null,null,null,null,null,null,null,0]
[null,null,null,null,null,null,null,null,null,null,null,null,null,null,null,null,null,null,null,null,null,null,null,null,null,null,null,null,null,null,null,null,null,null,null,null,null,null,null,null,null,null,null,null,null,null,null,null,null,null,null,null,null,null,null,null,null,null,null,null,null,null,0]
[null,null,null,null,null,null,null,null,null,null,null,null,null,null,null,null,null,null,null,null,null,null,null,null,null,null,null,null,null,null,null,null,null,null,null,null,null,null,null,null,null,null,null,null,null,null,null,null,null,null,null,null,null,null,null,null,null,null,null,null,null,null,0]
[null,null,null,null,null,null,null,null,null,null,null,null,null,null,null,null,null,null,null,null,null,null,null,null,null,null,null,null,null,null,null,null,null,null,null,null,null,null,null,null,null,null,null,null,null,null,null,null,null,null,null,null,null,null,null,null,null,null,null,null,null,null,0]
[null,null,null,null,null,null,null,null,null,null,null,null,null,null,null,null,null,null,null,null,null,null,null,null,null,null,null,null,null,null,null,null,null,null,null,null,null,null,null,null,null,null,null,null,null,null,null,null,null,null,null,null,null,null,null,null,null,null,null,null,null,null,0]
[null,null,null,null,null,null,null,null,null,null,null,null,null,null,null,null,null,null,null,null,null,null,null,null,null,null,null,null,null,null,null,null,null,null,null,null,null,null,null,null,null,null,null,null,null,null,null,null,null,null,null,null,null,null,null,null,null,null,null,null,null,null,0]
[null,null,null,null,null,null,null,null,null,null,null,null,null,null,null,null,null,null,null,null,null,null,null,null,null,null,null,null,null,null,null,null,null,null,null,null,null,null,null,null,null,null,null,null,null,null,null,null,null,null,null,null,null,null,null,null,null,null,null,null,null,null,0]
[null,null,null,null,null,null,null,null,null,null,null,null,null,null,null,null,null,null,null,null,null,null,null,null,null,null,null,null,null,null,null,null,null,null,null,null,null,null,null,null,null,null,null,null,null,null,null,null,null,null,null,null,null,null,null,null,null,null,null,null,null,null,0]
[null,null,null,null,null,null,null,null,null,null,null,null,null,null,null,null,null,null,null,null,null,null,null,null,null,null,null,null,null,null,null,null,null,null,null,null,null,null,null,null,null,null,null,null,null,null,null,null,null,null,null,null,null,null,null,null,null,null,null,null,null,null,0]
[null,null,null,null,null,null,null,null,null,null,null,null,null,null,null,null,null,null,null,null,null,null,null,null,null,null,null,null,null,null,null,null,null,null,null,null,null,null,null,null,null,null,null,null,null,null,null,null,null,null,null,null,null,null,null,null,null,null,null,null,null,null,0]
[null,null,null,null,null,null,null,null,null,null,null,null,null,null,null,null,null,null,null,null,null,null,null,null,null,null,null,null,null,null,null,null,null,null,null,null,null,null,null,null,null,null,null,null,null,null,null,null,null,null,null,null,null,null,null,null,null,null,null,null,null,null,0]
[null,null,null,null,null,null,null,null,null,null,null,null,null,null,null,null,null,null,null,null,null,null,null,null,null,null,null,null,null,null,null,null,null,null,null,null,null,null,null,null,null,null,null,null,null,null,null,null,null,null,null,null,null,null,null,null,null,null,null,null,null,null,0]
[null,null,null,null,null,null,null,null,null,null,null,null,null,null,null,null,null,null,null,null,null,null,null,null,null,null,null,null,null,null,null,null,null,null,null,null,null,null,null,null,null,null,null,null,null,null,null,null,null,null,null,null,null,null,null,null,null,null,null,null,null,null,0]
[null,null,null,null,null,null,null,null,null,null,null,null,null,null,null,null,null,null,null,null,null,null,null,null,null,null,null,null,null,null,null,null,null,null,null,null,null,null,null,null,null,null,null,null,null,null,null,null,null,null,null,null,null,null,null,null,null,null,null,null,null,null,0]
[null,null,null,null,null,null,null,null,null,null,null,null,null,null,null,null,null,null,null,null,null,null,null,null,null,null,null,null,null,null,null,null,null,null,null,null,null,null,null,null,null,null,null,null,null,null,null,null,null,null,null,null,null,null,null,null,null,null,null,null,null,null,0]
[null,null,null,null,null,null,null,null,null,null,null,null,null,null,null,null,null,null,null,null,null,null,null,null,null,null,null,null,null,null,null,null,null,null,null,null,null,null,null,null,null,null,null,null,null,null,null,null,null,null,null,null,null,null,null,null,null,null,null,null,null,null,0]
[null,null,null,null,null,null,null,null,null,null,null,null,null,null,null,null,null,null,null,null,null,null,null,null,null,null,null,null,null,null,null,null,null,null,null,null,null,null,null,null,null,null,null,null,null,null,null,null,null,null,null,null,null,null,null,null,null,null,null,null,null,null,0]
[null,null,null,null,null,null,null,null,null,null,null,null,null,null,null,null,null,null,null,null,null,null,null,null,null,null,null,null,null,null,null,null,null,null,null,null,null,null,null,null,null,null,null,null,null,null,null,null,null,null,null,null,null,null,null,null,null,null,null,null,null,null,0]
[null,null,null,null,null,null,null,null,null,null,null,null,null,null,null,null,null,null,null,null,null,null,null,null,null,null,null,null,null,null,null,null,null,null,null,null,null,null,null,null,null,null,null,null,null,null,null,null,null,null,null,null,null,null,null,null,null,null,null,null,null,null,0]
[null,null,null,null,null,null,null,null,null,null,null,null,null,null,null,null,null,null,null,null,null,null,null,null,null,null,null,null,null,null,null,null,null,null,null,null,null,null,null,null,null,null,null,null,null,null,null,null,null,null,null,null,null,null,null,null,null,null,null,null,null,null,0]
[null,null,null,null,null,null,null,null,null,null,null,null,null,null,null,null,null,null,null,null,null,null,null,null,null,null,null,null,null,null,null,null,null,null,null,null,null,null,null,null,null,null,null,null,null,null,null,null,null,null,null,null,null,null,null,null,null,null,null,null,null,null,0]
["TOTALS",null,{"$f":"SUM(C14:C514)","v":0},0,0,0,0,0,0,0,0,0,0,0,0,0,0,0,0,0,0,0,0,0,0,0,0,0,0,0,0,0,0,0,0,0,0,0,0,0,0,0,0,0,0,0,0,0,0,0,0,0,0,0,0,0,0,0,0,0,0,0,{"$f":"SUM(BK14:BK514)","v":0}]

{"sheet":"Day4","index":12,"n_rows":515,"n_cols":63,"rows_kept":515,"cut":false,"hidden":false,"merged":[[0,0,0,62],[1,0,1,62],[2,0,2,62],[5,0,5,1],[5,62,7,62],[6,0,6,1],[7,0,7,1],[15,0,15,1],[16,0,16,1],[4,0,4,1],[17,0,17,1],[18,0,18,1],[19,0,19,1],[20,0,20,1],[8,0,8,1],[9,0,9,62],[10,0,12,0],[10,62,12,62],[13,0,13,1],[14,0,14,1],[27,0,27,1],[28,0,28,1],[29,0,29,1],[30,0,30,1],[31,0,31,1],[32,0,32,1],[21,0,21,1],[22,0,22,1],[23,0,23,1],[24,0,24,1],[25,0,25,1],[26,0,26,1],[39,0,39,1],[40,0,40,1],[41,0,41,1],[42,0,42,1],[43,0,43,1],[44,0,44,1],[33,0,33,1],[34,0,34,1],[35,0,35,1],[36,0,36,1],[37,0,37,1],[38,0,38,1],[51,0,51,1],[52,0,52,1],[53,0,53,1],[54,0,54,1],[55,0,55,1],[56,0,56,1],[45,0,45,1],[46,0,46,1],[47,0,47,1],[48,0,48,1],[49,0,49,1],[50,0,50,1],[63,0,63,1],[64,0,64,1],[65,0,65,1],[66,0,66,1],[67,0,67,1],[68,0,68,1],[57,0,57,1],[58,0,58,1],[59,0,59,1],[60,0,60,1],[61,0,61,1],[62,0,62,1],[75,0,75,1],[76,0,76,1],[77,0,77,1],[78,0,78,1],[79,0,79,1],[80,0,80,1],[69,0,69,1],[70,0,70,1],[71,0,71,1],[72,0,72,1],[73,0,73,1],[74,0,74,1],[87,0,87,1],[88,0,88,1],[89,0,89,1],[90,0,90,1],[91,0,91,1],[92,0,92,1],[81,0,81,1],[82,0,82,1],[83,0,83,1],[84,0,84,1],[85,0,85,1],[86,0,86,1],[99,0,99,1],[100,0,100,1],[101,0,101,1],[102,0,102,1],[103,0,103,1],[104,0,104,1],[93,0,93,1],[94,0,94,1],[95,0,95,1],[96,0,96,1],[97,0,97,1],[98,0,98,1],[111,0,111,1],[112,0,112,1],[113,0,113,1],[114,0,114,1],[115,0,115,1],[116,0,116,1],[105,0,105,1],[106,0,106,1],[107,0,107,1],[108,0,108,1],[109,0,109,1],[110,0,110,1],[123,0,123,1],[124,0,124,1],[125,0,125,1],[126,0,126,1],[127,0,127,1],[128,0,128,1],[117,0,117,1],[118,0,118,1],[119,0,119,1],[120,0,120,1],[121,0,121,1],[122,0,122,1],[135,0,135,1],[136,0,136,1],[137,0,137,1],[138,0,138,1],[139,0,139,1],[140,0,140,1],[129,0,129,1],[130,0,130,1],[131,0,131,1],[132,0,132,1],[133,0,133,1],[134,0,134,1],[147,0,147,1],[148,0,148,1],[149,0,149,1],[150,0,150,1],[151,0,151,1],[152,0,152,1],[141,0,141,1],[142,0,142,1],[143,0,143,1],[144,0,144,1],[145,0,145,1],[146,0,146,1],[159,0,159,1],[160,0,160,1],[161,0,161,1],[162,0,162,1],[163,0,163,1],[164,0,164,1],[153,0,153,1],[154,0,154,1],[155,0,155,1],[156,0,156,1],[157,0,157,1],[158,0,158,1],[171,0,171,1],[172,0,172,1],[173,0,173,1],[174,0,174,1],[175,0,175,1],[176,0,176,1],[165,0,165,1],[166,0,166,1],[167,0,167,1],[168,0,168,1],[169,0,169,1],[170,0,170,1],[183,0,183,1],[184,0,184,1],[185,0,185,1],[186,0,186,1],[187,0,187,1],[188,0,188,1],[177,0,177,1],[178,0,178,1],[179,0,179,1],[180,0,180,1],[181,0,181,1],[182,0,182,1],[195,0,195,1],[196,0,196,1],[197,0,197,1],[198,0,198,1],[199,0,199,1],[200,0,200,1],[189,0,189,1],[190,0,190,1],[191,0,191,1],[192,0,192,1],[193,0,193,1],[194,0,194,1],[207,0,207,1],[208,0,208,1],[209,0,209,1],[210,0,210,1],[211,0,211,1],[212,0,212,1],[201,0,201,1],[202,0,202,1],[203,0,203,1],[204,0,204,1],[205,0,205,1],[206,0,206,1],[219,0,219,1],[220,0,220,1],[221,0,221,1],[222,0,222,1],[223,0,223,1],[224,0,224,1],[213,0,213,1],[214,0,214,1],[215,0,215,1],[216,0,216,1],[217,0,217,1],[218,0,218,1],[231,0,231,1],[232,0,232,1],[233,0,233,1],[234,0,234,1],[235,0,235,1],[236,0,236,1],[225,0,225,1],[226,0,226,1],[227,0,227,1],[228,0,228,1],[229,0,229,1],[230,0,230,1],[243,0,243,1],[244,0,244,1],[245,0,245,1],[246,0,246,1],[247,0,247,1],[248,0,248,1],[237,0,237,1],[238,0,238,1],[239,0,239,1],[240,0,240,1],[241,0,241,1],[242,0,242,1],[255,0,255,1],[256,0,256,1],[257,0,257,1],[258,0,258,1],[259,0,259,1],[260,0,260,1],[249,0,249,1],[250,0,250,1],[251,0,251,1],[252,0,252,1],[253,0,253,1],[254,0,254,1],[267,0,267,1],[268,0,268,1],[269,0,269,1],[270,0,270,1],[271,0,271,1],[272,0,272,1],[261,0,261,1],[262,0,262,1],[263,0,263,1],[264,0,264,1],[265,0,265,1],[266,0,266,1],[279,0,279,1],[280,0,280,1],[281,0,281,1],[282,0,282,1],[283,0,283,1],[284,0,284,1],[273,0,273,1],[274,0,274,1],[275,0,275,1],[276,0,276,1],[277,0,277,1],[278,0,278,1],[291,0,291,1],[292,0,292,1],[293,0,293,1],[294,0,294,1],[295,0,295,1],[296,0,296,1],[285,0,285,1],[286,0,286,1],[287,0,287,1],[288,0,288,1],[289,0,289,1],[290,0,290,1],[303,0,303,1],[304,0,304,1],[305,0,305,1],[306,0,306,1],[307,0,307,1],[308,0,308,1],[297,0,297,1],[298,0,298,1],[299,0,299,1],[300,0,300,1],[301,0,301,1],[302,0,302,1],[315,0,315,1],[316,0,316,1],[317,0,317,1],[318,0,318,1],[319,0,319,1],[320,0,320,1],[309,0,309,1],[310,0,310,1],[311,0,311,1],[312,0,312,1],[313,0,313,1],[314,0,314,1],[327,0,327,1],[328,0,328,1],[329,0,329,1],[330,0,330,1],[331,0,331,1],[332,0,332,1],[321,0,321,1],[322,0,322,1],[323,0,323,1],[324,0,324,1],[325,0,325,1],[326,0,326,1],[339,0,339,1],[340,0,340,1],[341,0,341,1],[342,0,342,1],[343,0,343,1],[344,0,344,1],[333,0,333,1],[334,0,334,1],[335,0,335,1],[336,0,336,1],[337,0,337,1],[338,0,338,1],[351,0,351,1],[352,0,352,1],[353,0,353,1],[354,0,354,1],[355,0,355,1],[356,0,356,1],[345,0,345,1],[346,0,346,1],[347,0,347,1],[348,0,348,1],[349,0,349,1],[350,0,350,1],[363,0,363,1],[364,0,364,1],[365,0,365,1],[366,0,366,1],[367,0,367,1],[368,0,368,1],[357,0,357,1],[358,0,358,1],[359,0,359,1],[360,0,360,1],[361,0,361,1],[362,0,362,1],[375,0,375,1],[376,0,376,1],[377,0,377,1],[378,0,378,1],[379,0,379,1],[380,0,380,1],[369,0,369,1],[370,0,370,1],[371,0,371,1],[372,0,372,1],[373,0,373,1],[374,0,374,1],[387,0,387,1],[388,0,388,1],[389,0,389,1],[390,0,390,1],[391,0,391,1],[392,0,392,1],[381,0,381,1],[382,0,382,1],[383,0,383,1],[384,0,384,1],[385,0,385,1],[386,0,386,1],[399,0,399,1],[400,0,400,1],[401,0,401,1],[402,0,402,1],[403,0,403,1],[404,0,404,1],[393,0,393,1],[394,0,394,1],[395,0,395,1],[396,0,396,1],[397,0,397,1],[398,0,398,1],[411,0,411,1],[412,0,412,1],[413,0,413,1],[414,0,414,1],[415,0,415,1],[416,0,416,1],[405,0,405,1],[406,0,406,1],[407,0,407,1],[408,0,408,1],[409,0,409,1],[410,0,410,1],[423,0,423,1],[424,0,424,1],[425,0,425,1],[426,0,426,1],[427,0,427,1],[428,0,428,1],[417,0,417,1],[418,0,418,1],[419,0,419,1],[420,0,420,1],[421,0,421,1],[422,0,422,1],[435,0,435,1],[436,0,436,1],[437,0,437,1],[438,0,438,1],[439,0,439,1],[440,0,440,1],[429,0,429,1],[430,0,430,1],[431,0,431,1],[432,0,432,1],[433,0,433,1],[434,0,434,1],[447,0,447,1],[448,0,448,1],[449,0,449,1],[450,0,450,1],[451,0,451,1],[452,0,452,1],[441,0,441,1],[442,0,442,1],[443,0,443,1],[444,0,444,1],[445,0,445,1],[446,0,446,1],[459,0,459,1],[460,0,460,1],[461,0,461,1],[462,0,462,1],[463,0,463,1],[464,0,464,1],[453,0,453,1],[454,0,454,1],[455,0,455,1],[456,0,456,1],[457,0,457,1],[458,0,458,1],[471,0,471,1],[472,0,472,1],[473,0,473,1],[474,0,474,1],[475,0,475,1],[476,0,476,1],[465,0,465,1],[466,0,466,1],[467,0,467,1],[468,0,468,1],[469,0,469,1],[470,0,470,1],[483,0,483,1],[484,0,484,1],[485,0,485,1],[486,0,486,1],[487,0,487,1],[488,0,488,1],[477,0,477,1],[478,0,478,1],[479,0,479,1],[480,0,480,1],[481,0,481,1],[482,0,482,1],[495,0,495,1],[496,0,496,1],[497,0,497,1],[498,0,498,1],[499,0,499,1],[500,0,500,1],[489,0,489,1],[490,0,490,1],[491,0,491,1],[492,0,492,1],[493,0,493,1],[494,0,494,1],[513,0,513,1],[514,0,514,1],[507,0,507,1],[508,0,508,1],[509,0,509,1],[510,0,510,1],[511,0,511,1],[512,0,512,1],[501,0,501,1],[502,0,502,1],[503,0,503,1],[504,0,504,1],[505,0,505,1],[506,0,506,1]]}
[{"$f":"\"KRISHI\"&\"  BHAVAN\"&\"  \"&REGISTRATION!F13& \"  \"&\"DAY4\"","v":"KRISHI  BHAVAN    DAY4"}]
[{"$f":" REGISTRATION!F7&\" ONAM VEGETABLE MARKET, PURCHASE AND SALES MANAGEMENT SYSTEM\"","v":"jj ONAM VEGETABLE MARKET, PURCHASE AND SALES MANAGEMENT SYSTEM"}]
["INVENTORY MANAGEMENT"]
[null,null,1,2,3,4,5,6,7,8,9,10,11,12,13,14,15,16,17,18,19,20,21,22,23,24,25,26,27,28,29,30,31,32,33,34,35,36,37,38,39,40,41,42,43,44,45,46,47,48,49,50,51,52,53,54,55,56,57,58,59,60]
["Item",null,{"$f":"VLOOKUP(C13,'Sale Price'!$B$3:$I$64,3)","v":"Nendrn"},{"$f":"VLOOKUP(D13,'Sale Price'!$B$3:$I$64,3)","v":"Ban G"},{"$f":"VLOOKUP(E13,'Sale Price'!$B$3:$I$64,3)","v":"Palaya"},{"$f":"VLOOKUP(F13,'Sale Price'!$B$3:$I$64,3)","v":"Puvan"},{"$f":"VLOOKUP(G13,'Sale Price'!$B$3:$I$64,3)","v":"RasaK"},{"$f":"VLOOKUP(H13,'Sale Price'!$B$3:$I$64,3)","v":"RedB"},{"$f":"VLOOKUP(I13,'Sale Price'!$B$3:$I$64,3)","v":"Robst"},{"$f":"VLOOKUP(J13,'Sale Price'!$B$3:$I$64,3)","v":"Peyn"},{"$f":"VLOOKUP(K13,'Sale Price'!$B$3:$I$64,3)","v":"Chena"},{"$f":"VLOOKUP(L13,'Sale Price'!$B$3:$I$64,3)","v":"Beans"},{"$f":"VLOOKUP(M13,'Sale Price'!$B$3:$I$64,3)","v":"Amara"},{"$f":"VLOOKUP(N13,'Sale Price'!$B$3:$I$64,3)","v":"Carot"},{"$f":"VLOOKUP(O13,'Sale Price'!$B$3:$I$64,3)","v":"BeetR"},{"$f":"VLOOKUP(P13,'Sale Price'!$B$3:$I$64,3)","v":"Cabag"},{"$f":"VLOOKUP(Q13,'Sale Price'!$B$3:$I$64,3)","v":"CauliF"},{"$f":"VLOOKUP(R13,'Sale Price'!$B$3:$I$64,3)","v":"Capsic"},{"$f":"VLOOKUP(S13,'Sale Price'!$B$3:$I$64,3)","v":"Tomat"},{"$f":"VLOOKUP(T13,'Sale Price'!$B$3:$I$64,3)","v":"ChillS"},{"$f":"VLOOKUP(U13,'Sale Price'!$B$3:$I$64,3)","v":"ChillB"},{"$f":"VLOOKUP(V13,'Sale Price'!$B$3:$I$64,3)","v":"BittrG"},{"$f":"VLOOKUP(W13,'Sale Price'!$B$3:$I$64,3)","v":"BottG"},{"$f":"VLOOKUP(X13,'Sale Price'!$B$3:$I$64,3)","v":"SnakG"},{"$f":"VLOOKUP(Y13,'Sale Price'!$B$3:$I$64,3)","v":"BrinjR"},{"$f":"VLOOKUP(Z13,'Sale Price'!$B$3:$I$64,3)","v":"Vazhut"},{"$f":"VLOOKUP(AA13,'Sale Price'!$B$3:$I$64,3)","v":"Pumpk"},{"$f":"VLOOKUP(AB13,'Sale Price'!$B$3:$I$64,3)","v":"Savala"},{"$f":"VLOOKUP(AC13,'Sale Price'!$B$3:$I$64,3)","v":"Ulli"},{"$f":"VLOOKUP(AD13,'Sale Price'!$B$3:$I$64,3)","v":"Garlc"},{"$f":"VLOOKUP(AE13,'Sale Price'!$B$3:$I$64,3)","v":"Ginger"},{"$f":"VLOOKUP(AF13,'Sale Price'!$B$3:$I$64,3)","v":"Cucum"},{"$f":"VLOOKUP(AG13,'Sale Price'!$B$3:$I$64,3)","v":"Chemb"},{"$f":"VLOOKUP(AH13,'Sale Price'!$B$3:$I$64,3)","v":"Cowp"},{"$f":"VLOOKUP(AI13,'Sale Price'!$B$3:$I$64,3)","v":"AshG"},{"$f":"VLOOKUP(AJ13,'Sale Price'!$B$3:$I$64,3)","v":"Venda"},{"$f":"VLOOKUP(AK13,'Sale Price'!$B$3:$I$64,3)","v":"Drumst"},{"$f":"VLOOKUP(AL13,'Sale Price'!$B$3:$I$64,3)","v":"Koval"},{"$f":"VLOOKUP(AM13,'Sale Price'!$B$3:$I$64,3)","v":"CryLef"},{"$f":"VLOOKUP(AN13,'Sale Price'!$B$3:$I$64,3)","v":"MntLf"},{"$f":"VLOOKUP(AO13,'Sale Price'!$B$3:$I$64,3)","v":"CorLf"},{"$f":"VLOOKUP(AP13,'Sale Price'!$B$3:$I$64,3)","v":"Cheera"},{"$f":"VLOOKUP(AQ13,'Sale Price'!$B$3:$I$64,3)","v":"LemnB"},{"$f":"VLOOKUP(AR13,'Sale Price'!$B$3:$I$64,3)","v":"LemnS"},{"$f":"VLOOKUP(AS13,'Sale Price'!$B$3:$I$64,3)","v":"Mango"},{"$f":"VLOOKUP(AT13,'Sale Price'!$B$3:$I$64,3)","v":"PineA"},{"$f":"VLOOKUP(AU13,'Sale Price'!$B$3:$I$64,3)","v":"Potat"},{"$f":"VLOOKUP(AV13,'Sale Price'!$B$3:$I$64,3)","v":"Amla"},{"$f":"VLOOKUP(AW13,'Sale Price'!$B$3:$I$64,3)","v":"Tap"},{"$f":"VLOOKUP(AX13,'Sale Price'!$B$3:$I$64,3)","v":0},{"$f":"VLOOKUP(AY13,'Sale Price'!$B$3:$I$64,3)","v":0},{"$f":"VLOOKUP(AZ13,'Sale Price'!$B$3:$I$64,3)","v":0},{"$f":"VLOOKUP(BA13,'Sale Price'!$B$3:$I$64,3)","v":0},{"$f":"VLOOKUP(BB13,'Sale Price'!$B$3:$I$64,3)","v":0},{"$f":"VLOOKUP(BC13,'Sale Price'!$B$3:$I$64,3)","v":0},{"$f":"VLOOKUP(BD13,'Sale Price'!$B$3:$I$64,3)","v":0},{"$f":"VLOOKUP(BE13,'Sale Price'!$B$3:$I$64,3)","v":0},{"$f":"VLOOKUP(BF13,'Sale Price'!$B$3:$I$64,3)","v":0},{"$f":"VLOOKUP(BG13,'Sale Price'!$B$3:$I$64,3)","v":0},{"$f":"VLOOKUP(BH13,'Sale Price'!$B$3:$I$64,3)","v":0},{"$f":"VLOOKUP(BI13,'Sale Price'!$B$3:$I$64,3)","v":0},{"$f":"VLOOKUP(BJ13,'Sale Price'!$B$3:$I$64,3)","v":0}]
["INITIAL STOCK KG",null,{"$f":"'Day3'!C9","v":0},{"$f":"'Day3'!D9","v":0},{"$f":"'Day3'!E9","v":0},{"$f":"'Day3'!F9","v":0},{"$f":"'Day3'!G9","v":0},{"$f":"'Day3'!H9","v":0},{"$f":"'Day3'!I9","v":0},{"$f":"'Day3'!J9","v":0},{"$f":"'Day3'!K9","v":0},{"$f":"'Day3'!L9","v":0},{"$f":"'Day3'!M9","v":0},{"$f":"'Day3'!N9","v":0},{"$f":"'Day3'!O9","v":0},{"$f":"'Day3'!P9","v":0},{"$f":"'Day3'!Q9","v":0},{"$f":"'Day3'!R9","v":0},{"$f":"'Day3'!S9","v":0},{"$f":"'Day3'!T9","v":0},{"$f":"'Day3'!U9","v":0},{"$f":"'Day3'!V9","v":0},{"$f":"'Day3'!W9","v":0},{"$f":"'Day3'!X9","v":0},{"$f":"'Day3'!Y9","v":0},{"$f":"'Day3'!Z9","v":0},{"$f":"'Day3'!AA9","v":0},{"$f":"'Day3'!AB9","v":0},{"$f":"'Day3'!AC9","v":0},{"$f":"'Day3'!AD9","v":0},{"$f":"'Day3'!AE9","v":0},{"$f":"'Day3'!AF9","v":0},{"$f":"'Day3'!AG9","v":0},{"$f":"'Day3'!AH9","v":0},{"$f":"'Day3'!AI9","v":0},{"$f":"'Day3'!AJ9","v":0},{"$f":"'Day3'!AK9","v":0},{"$f":"'Day3'!AL9","v":0},{"$f":"'Day3'!AM9","v":0},{"$f":"'Day3'!AN9","v":0},{"$f":"'Day3'!AO9","v":0},{"$f":"'Day3'!AP9","v":0},{"$f":"'Day3'!AQ9","v":0},{"$f":"'Day3'!AR9","v":0},{"$f":"'Day3'!AS9","v":0},{"$f":"'Day3'!AT9","v":0},{"$f":"'Day3'!AU9","v":0},{"$f":"'Day3'!AV9","v":0},{"$f":"'Day3'!AW9","v":0},{"$f":"'Day3'!AX9","v":0},{"$f":"'Day3'!AY9","v":0},{"$f":"'Day3'!AZ9","v":0},{"$f":"'Day3'!BA9","v":0},{"$f":"'Day3'!BB9","v":0},{"$f":"'Day3'!BC9","v":0},{"$f":"'Day3'!BD9","v":0},{"$f":"'Day3'!BE9","v":0},{"$f":"'Day3'!BF9","v":0},{"$f":"'Day3'!BG9","v":0},{"$f":"'Day3'!BH9","v":0},{"$f":"'Day3'!BI9","v":0},{"$f":"'Day3'!BJ9","v":0},"Total Sales Amount for the day (Rs.)"]
["PURCHASE KG",null,{"$f":"VLOOKUP(C13,PURCH4!$C$4:$O$65,12)","v":0},{"$f":"VLOOKUP(D13,PURCH4!$C$4:$O$65,12)","v":0},{"$f":"VLOOKUP(E13,PURCH4!$C$4:$O$65,12)","v":0},{"$f":"VLOOKUP(F13,PURCH4!$C$4:$O$65,12)","v":0},{"$f":"VLOOKUP(G13,PURCH4!$C$4:$O$65,12)","v":0},{"$f":"VLOOKUP(H13,PURCH4!$C$4:$O$65,12)","v":0},{"$f":"VLOOKUP(I13,PURCH4!$C$4:$O$65,12)","v":0},{"$f":"VLOOKUP(J13,PURCH4!$C$4:$O$65,12)","v":0},{"$f":"VLOOKUP(K13,PURCH4!$C$4:$O$65,12)","v":0},{"$f":"VLOOKUP(L13,PURCH4!$C$4:$O$65,12)","v":0},{"$f":"VLOOKUP(M13,PURCH4!$C$4:$O$65,12)","v":0},{"$f":"VLOOKUP(N13,PURCH4!$C$4:$O$65,12)","v":0},{"$f":"VLOOKUP(O13,PURCH4!$C$4:$O$65,12)","v":0},{"$f":"VLOOKUP(P13,PURCH4!$C$4:$O$65,12)","v":0},{"$f":"VLOOKUP(Q13,PURCH4!$C$4:$O$65,12)","v":0},{"$f":"VLOOKUP(R13,PURCH4!$C$4:$O$65,12)","v":0},{"$f":"VLOOKUP(S13,PURCH4!$C$4:$O$65,12)","v":0},{"$f":"VLOOKUP(T13,PURCH4!$C$4:$O$65,12)","v":0},{"$f":"VLOOKUP(U13,PURCH4!$C$4:$O$65,12)","v":0},{"$f":"VLOOKUP(V13,PURCH4!$C$4:$O$65,12)","v":0},{"$f":"VLOOKUP(W13,PURCH4!$C$4:$O$65,12)","v":0},{"$f":"VLOOKUP(X13,PURCH4!$C$4:$O$65,12)","v":0},{"$f":"VLOOKUP(Y13,PURCH4!$C$4:$O$65,12)","v":0},{"$f":"VLOOKUP(Z13,PURCH4!$C$4:$O$65,12)","v":0},{"$f":"VLOOKUP(AA13,PURCH4!$C$4:$O$65,12)","v":0},{"$f":"VLOOKUP(AB13,PURCH4!$C$4:$O$65,12)","v":0},{"$f":"VLOOKUP(AC13,PURCH4!$C$4:$O$65,12)","v":0},{"$f":"VLOOKUP(AD13,PURCH4!$C$4:$O$65,12)","v":0},{"$f":"VLOOKUP(AE13,PURCH4!$C$4:$O$65,12)","v":0},{"$f":"VLOOKUP(AF13,PURCH4!$C$4:$O$65,12)","v":0},{"$f":"VLOOKUP(AG13,PURCH4!$C$4:$O$65,12)","v":0},{"$f":"VLOOKUP(AH13,PURCH4!$C$4:$O$65,12)","v":0},{"$f":"VLOOKUP(AI13,PURCH4!$C$4:$O$65,12)","v":0},{"$f":"VLOOKUP(AJ13,PURCH4!$C$4:$O$65,12)","v":0},{"$f":"VLOOKUP(AK13,PURCH4!$C$4:$O$65,12)","v":0},{"$f":"VLOOKUP(AL13,PURCH4!$C$4:$O$65,12)","v":0},{"$f":"VLOOKUP(AM13,PURCH4!$C$4:$O$65,12)","v":0},{"$f":"VLOOKUP(AN13,PURCH4!$C$4:$O$65,12)","v":0},{"$f":"VLOOKUP(AO13,PURCH4!$C$4:$O$65,12)","v":0},{"$f":"VLOOKUP(AP13,PURCH4!$C$4:$O$65,12)","v":0},{"$f":"VLOOKUP(AQ13,PURCH4!$C$4:$O$65,12)","v":0},{"$f":"VLOOKUP(AR13,PURCH4!$C$4:$O$65,12)","v":0},{"$f":"VLOOKUP(AS13,PURCH4!$C$4:$O$65,12)","v":0},{"$f":"VLOOKUP(AT13,PURCH4!$C$4:$O$65,12)","v":0},{"$f":"VLOOKUP(AU13,PURCH4!$C$4:$O$65,12)","v":0},{"$f":"VLOOKUP(AV13,PURCH4!$C$4:$O$65,12)","v":0},{"$f":"VLOOKUP(AW13,PURCH4!$C$4:$O$65,12)","v":0},{"$f":"VLOOKUP(AX13,PURCH4!$C$4:$O$65,12)","v":0},{"$f":"VLOOKUP(AY13,PURCH4!$C$4:$O$65,12)","v":0},{"$f":"VLOOKUP(AZ13,PURCH4!$C$4:$O$65,12)","v":0},{"$f":"VLOOKUP(BA13,PURCH4!$C$4:$O$65,12)","v":0},{"$f":"VLOOKUP(BB13,PURCH4!$C$4:$O$65,12)","v":0},{"$f":"VLOOKUP(BC13,PURCH4!$C$4:$O$65,12)","v":0},{"$f":"VLOOKUP(BD13,PURCH4!$C$4:$O$65,12)","v":0},{"$f":"VLOOKUP(BE13,PURCH4!$C$4:$O$65,12)","v":0},{"$f":"VLOOKUP(BF13,PURCH4!$C$4:$O$65,12)","v":0},{"$f":"VLOOKUP(BG13,PURCH4!$C$4:$O$65,12)","v":0},{"$f":"VLOOKUP(BH13,PURCH4!$C$4:$O$65,12)","v":0},{"$f":"VLOOKUP(BI13,PURCH4!$C$4:$O$65,12)","v":0},{"$f":"VLOOKUP(BJ13,PURCH4!$C$4:$O$65,12)","v":0}]
["TOTAL SALE KG",null,{"$f":"C515","v":0},{"$f":"D515","v":0},0,0,0,0,0,0,0,0,0,0,0,0,0,0,0,0,0,0,0,0,0,0,0,0,0,0,0,0,{"$f":"AG515","v":0},0,0,0,0,0,0,0,0,0,0,0,0,0,0,0,0,0,0,0,0,0,0,0,0,0,0,0,0,0]
["BALANCE KG",null,{"$f":"C6+C7-C8","v":0},{"$f":"D6+D7-D8","v":0},0,0,0,0,0,0,0,0,0,0,0,0,0,0,0,0,0,0,0,0,0,0,0,0,0,0,0,0,{"$f":"AG6+AG7-AG8","v":0},0,0,0,0,0,0,0,0,0,0,0,0,0,0,0,0,0,0,0,0,0,0,0,0,0,0,0,0,0,{"$f":"BK515","v":0}]
["SALES MANAGEMENT"]
["Bill No.","S.Price",{"$f":"VLOOKUP(C13,'Sale Price'!$B$3:$I$64,7)","v":0},{"$f":"VLOOKUP(D13,'Sale Price'!$B$3:$I$64,7)","v":0},{"$f":"VLOOKUP(E13,'Sale Price'!$B$3:$I$64,7)","v":0},{"$f":"VLOOKUP(F13,'Sale Price'!$B$3:$I$64,7)","v":0},{"$f":"VLOOKUP(G13,'Sale Price'!$B$3:$I$64,7)","v":0},{"$f":"VLOOKUP(H13,'Sale Price'!$B$3:$I$64,7)","v":0},{"$f":"VLOOKUP(I13,'Sale Price'!$B$3:$I$64,7)","v":0},{"$f":"VLOOKUP(J13,'Sale Price'!$B$3:$I$64,7)","v":0},{"$f":"VLOOKUP(K13,'Sale Price'!$B$3:$I$64,7)","v":0},{"$f":"VLOOKUP(L13,'Sale Price'!$B$3:$I$64,7)","v":0},{"$f":"VLOOKUP(M13,'Sale Price'!$B$3:$I$64,7)","v":0},{"$f":"VLOOKUP(N13,'Sale Price'!$B$3:$I$64,7)","v":0},{"$f":"VLOOKUP(O13,'Sale Price'!$B$3:$I$64,7)","v":0},{"$f":"VLOOKUP(P13,'Sale Price'!$B$3:$I$64,7)","v":0},{"$f":"VLOOKUP(Q13,'Sale Price'!$B$3:$I$64,7)","v":0},{"$f":"VLOOKUP(R13,'Sale Price'!$B$3:$I$64,7)","v":0},{"$f":"VLOOKUP(S13,'Sale Price'!$B$3:$I$64,7)","v":0},{"$f":"VLOOKUP(T13,'Sale Price'!$B$3:$I$64,7)","v":0},{"$f":"VLOOKUP(U13,'Sale Price'!$B$3:$I$64,7)","v":0},{"$f":"VLOOKUP(V13,'Sale Price'!$B$3:$I$64,7)","v":0},{"$f":"VLOOKUP(W13,'Sale Price'!$B$3:$I$64,7)","v":0},{"$f":"VLOOKUP(X13,'Sale Price'!$B$3:$I$64,7)","v":0},{"$f":"VLOOKUP(Y13,'Sale Price'!$B$3:$I$64,7)","v":0},{"$f":"VLOOKUP(Z13,'Sale Price'!$B$3:$I$64,7)","v":0},{"$f":"VLOOKUP(AA13,'Sale Price'!$B$3:$I$64,7)","v":0},{"$f":"VLOOKUP(AB13,'Sale Price'!$B$3:$I$64,7)","v":0},{"$f":"VLOOKUP(AC13,'Sale Price'!$B$3:$I$64,7)","v":0},{"$f":"VLOOKUP(AD13,'Sale Price'!$B$3:$I$64,7)","v":0},{"$f":"VLOOKUP(AE13,'Sale Price'!$B$3:$I$64,7)","v":0},{"$f":"VLOOKUP(AF13,'Sale Price'!$B$3:$I$64,7)","v":0},{"$f":"VLOOKUP(AG13,'Sale Price'!$B$3:$I$64,7)","v":0},{"$f":"VLOOKUP(AH13,'Sale Price'!$B$3:$I$64,7)","v":0},{"$f":"VLOOKUP(AI13,'Sale Price'!$B$3:$I$64,7)","v":0},{"$f":"VLOOKUP(AJ13,'Sale Price'!$B$3:$I$64,7)","v":0},{"$f":"VLOOKUP(AK13,'Sale Price'!$B$3:$I$64,7)","v":0},{"$f":"VLOOKUP(AL13,'Sale Price'!$B$3:$I$64,7)","v":0},{"$f":"VLOOKUP(AM13,'Sale Price'!$B$3:$I$64,7)","v":0},{"$f":"VLOOKUP(AN13,'Sale Price'!$B$3:$I$64,7)","v":0},{"$f":"VLOOKUP(AO13,'Sale Price'!$B$3:$I$64,7)","v":0},{"$f":"VLOOKUP(AP13,'Sale Price'!$B$3:$I$64,7)","v":0},{"$f":"VLOOKUP(AQ13,'Sale Price'!$B$3:$I$64,7)","v":0},{"$f":"VLOOKUP(AR13,'Sale Price'!$B$3:$I$64,7)","v":0},{"$f":"VLOOKUP(AS13,'Sale Price'!$B$3:$I$64,7)","v":0},{"$f":"VLOOKUP(AT13,'Sale Price'!$B$3:$I$64,7)","v":0},{"$f":"VLOOKUP(AU13,'Sale Price'!$B$3:$I$64,7)","v":0},{"$f":"VLOOKUP(AV13,'Sale Price'!$B$3:$I$64,7)","v":0},{"$f":"VLOOKUP(AW13,'Sale Price'!$B$3:$I$64,7)","v":0},{"$f":"VLOOKUP(AX13,'Sale Price'!$B$3:$I$64,7)","v":0},{"$f":"VLOOKUP(AY13,'Sale Price'!$B$3:$I$64,7)","v":0},{"$f":"VLOOKUP(AZ13,'Sale Price'!$B$3:$I$64,7)","v":0},{"$f":"VLOOKUP(BA13,'Sale Price'!$B$3:$I$64,7)","v":0},{"$f":"VLOOKUP(BB13,'Sale Price'!$B$3:$I$64,7)","v":0},{"$f":"VLOOKUP(BC13,'Sale Price'!$B$3:$I$64,7)","v":0},{"$f":"VLOOKUP(BD13,'Sale Price'!$B$3:$I$64,7)","v":0},{"$f":"VLOOKUP(BE13,'Sale Price'!$B$3:$I$64,7)","v":0},{"$f":"VLOOKUP(BF13,'Sale Price'!$B$3:$I$64,7)","v":0},{"$f":"VLOOKUP(BG13,'Sale Price'!$B$3:$I$64,7)","v":0},{"$f":"VLOOKUP(BH13,'Sale Price'!$B$3:$I$64,7)","v":0},{"$f":"VLOOKUP(BI13,'Sale Price'!$B$3:$I$64,7)","v":0},{"$f":"VLOOKUP(BJ13,'Sale Price'!$B$3:$I$64,7)","v":0},"Total Bill Rs."]
[null,"Item",{"$f":"VLOOKUP('Day1'!C13,'Sale Price'!$B$5:$I$64,3)","v":"Nendrn"},{"$f":"VLOOKUP('Day1'!D13,'Sale Price'!$B$5:$I$64,3)","v":"Ban G"},{"$f":"VLOOKUP('Day1'!E13,'Sale Price'!$B$5:$I$64,3)","v":"Palaya"},{"$f":"VLOOKUP('Day1'!F13,'Sale Price'!$B$5:$I$64,3)","v":"Puvan"},{"$f":"VLOOKUP('Day1'!G13,'Sale Price'!$B$5:$I$64,3)","v":"RasaK"},{"$f":"VLOOKUP('Day1'!H13,'Sale Price'!$B$5:$I$64,3)","v":"RedB"},{"$f":"VLOOKUP('Day1'!I13,'Sale Price'!$B$5:$I$64,3)","v":"Robst"},{"$f":"VLOOKUP('Day1'!J13,'Sale Price'!$B$5:$I$64,3)","v":"Peyn"},{"$f":"VLOOKUP('Day1'!K13,'Sale Price'!$B$5:$I$64,3)","v":"Chena"},{"$f":"VLOOKUP('Day1'!L13,'Sale Price'!$B$5:$I$64,3)","v":"Beans"},{"$f":"VLOOKUP('Day1'!M13,'Sale Price'!$B$5:$I$64,3)","v":"Amara"},{"$f":"VLOOKUP('Day1'!N13,'Sale Price'!$B$5:$I$64,3)","v":"Carot"},{"$f":"VLOOKUP('Day1'!O13,'Sale Price'!$B$5:$I$64,3)","v":"BeetR"},{"$f":"VLOOKUP('Day1'!P13,'Sale Price'!$B$5:$I$64,3)","v":"Cabag"},{"$f":"VLOOKUP('Day1'!Q13,'Sale Price'!$B$5:$I$64,3)","v":"CauliF"},{"$f":"VLOOKUP('Day1'!R13,'Sale Price'!$B$5:$I$64,3)","v":"Capsic"},{"$f":"VLOOKUP('Day1'!S13,'Sale Price'!$B$5:$I$64,3)","v":"Tomat"},{"$f":"VLOOKUP('Day1'!T13,'Sale Price'!$B$5:$I$64,3)","v":"ChillS"},{"$f":"VLOOKUP('Day1'!U13,'Sale Price'!$B$5:$I$64,3)","v":"ChillB"},{"$f":"VLOOKUP('Day1'!V13,'Sale Price'!$B$5:$I$64,3)","v":"BittrG"},{"$f":"VLOOKUP('Day1'!W13,'Sale Price'!$B$5:$I$64,3)","v":"BottG"},{"$f":"VLOOKUP('Day1'!X13,'Sale Price'!$B$5:$I$64,3)","v":"SnakG"},{"$f":"VLOOKUP('Day1'!Y13,'Sale Price'!$B$5:$I$64,3)","v":"BrinjR"},{"$f":"VLOOKUP('Day1'!Z13,'Sale Price'!$B$5:$I$64,3)","v":"Vazhut"},{"$f":"VLOOKUP('Day1'!AA13,'Sale Price'!$B$5:$I$64,3)","v":"Pumpk"},{"$f":"VLOOKUP('Day1'!AB13,'Sale Price'!$B$5:$I$64,3)","v":"Savala"},{"$f":"VLOOKUP('Day1'!AC13,'Sale Price'!$B$5:$I$64,3)","v":"Ulli"},{"$f":"VLOOKUP('Day1'!AD13,'Sale Price'!$B$5:$I$64,3)","v":"Garlc"},{"$f":"VLOOKUP('Day1'!AE13,'Sale Price'!$B$5:$I$64,3)","v":"Ginger"},{"$f":"VLOOKUP('Day1'!AF13,'Sale Price'!$B$5:$I$64,3)","v":"Cucum"},{"$f":"VLOOKUP('Day1'!AG13,'Sale Price'!$B$5:$I$64,3)","v":"Chemb"},{"$f":"VLOOKUP('Day1'!AH13,'Sale Price'!$B$5:$I$64,3)","v":"Cowp"},{"$f":"VLOOKUP('Day1'!AI13,'Sale Price'!$B$5:$I$64,3)","v":"AshG"},{"$f":"VLOOKUP('Day1'!AJ13,'Sale Price'!$B$5:$I$64,3)","v":"Venda"},{"$f":"VLOOKUP('Day1'!AK13,'Sale Price'!$B$5:$I$64,3)","v":"Drumst"},{"$f":"VLOOKUP('Day1'!AL13,'Sale Price'!$B$5:$I$64,3)","v":"Koval"},{"$f":"VLOOKUP('Day1'!AM13,'Sale Price'!$B$5:$I$64,3)","v":"CryLef"},{"$f":"VLOOKUP('Day1'!AN13,'Sale Price'!$B$5:$I$64,3)","v":"MntLf"},{"$f":"VLOOKUP('Day1'!AO13,'Sale Price'!$B$5:$I$64,3)","v":"CorLf"},{"$f":"VLOOKUP('Day1'!AP13,'Sale Price'!$B$5:$I$64,3)","v":"Cheera"},{"$f":"VLOOKUP('Day1'!AQ13,'Sale Price'!$B$5:$I$64,3)","v":"LemnB"},{"$f":"VLOOKUP('Day1'!AR13,'Sale Price'!$B$5:$I$64,3)","v":"LemnS"},{"$f":"VLOOKUP('Day1'!AS13,'Sale Price'!$B$5:$I$64,3)","v":"Mango"},{"$f":"VLOOKUP('Day1'!AT13,'Sale Price'!$B$5:$I$64,3)","v":"PineA"},{"$f":"VLOOKUP('Day1'!AU13,'Sale Price'!$B$5:$I$64,3)","v":"Potat"},{"$f":"VLOOKUP('Day1'!AV13,'Sale Price'!$B$5:$I$64,3)","v":"Amla"},{"$f":"VLOOKUP('Day1'!AW13,'Sale Price'!$B$5:$I$64,3)","v":"Tap"},{"$f":"VLOOKUP('Day1'!AX13,'Sale Price'!$B$5:$I$64,3)","v":0},{"$f":"VLOOKUP('Day1'!AY13,'Sale Price'!$B$5:$I$64,3)","v":0},{"$f":"VLOOKUP('Day1'!AZ13,'Sale Price'!$B$5:$I$64,3)","v":0},{"$f":"VLOOKUP('Day1'!BA13,'Sale Price'!$B$5:$I$64,3)","v":0},{"$f":"VLOOKUP('Day1'!BB13,'Sale Price'!$B$5:$I$64,3)","v":0},{"$f":"VLOOKUP('Day1'!BC13,'Sale Price'!$B$5:$I$64,3)","v":0},{"$f":"VLOOKUP('Day1'!BD13,'Sale Price'!$B$5:$I$64,3)","v":0},{"$f":"VLOOKUP('Day1'!BE13,'Sale Price'!$B$5:$I$64,3)","v":0},{"$f":"VLOOKUP('Day1'!BF13,'Sale Price'!$B$5:$I$64,3)","v":0},{"$f":"VLOOKUP('Day1'!BG13,'Sale Price'!$B$5:$I$64,3)","v":0},{"$f":"VLOOKUP('Day1'!BH13,'Sale Price'!$B$5:$I$64,3)","v":0},{"$f":"VLOOKUP('Day1'!BI13,'Sale Price'!$B$5:$I$64,3)","v":0},{"$f":"VLOOKUP('Day1'!BJ13,'Sale Price'!$B$5:$I$64,3)","v":0}]
[null,"Code",1,2,3,4,5,6,7,8,9,10,11,12,13,14,15,16,17,18,19,20,21,22,23,24,25,26,27,28,29,30,31,32,33,34,35,36,37,38,39,40,41,42,43,44,45,46,47,48,49,50,51,52,53,54,55,56,57,58,59,60]
[null,null,null,null,null,null,null,null,null,null,null,null,null,null,null,null,null,null,null,null,null,null,null,null,null,null,null,null,null,null,null,null,null,null,null,null,null,null,null,null,null,null,null,null,null,null,null,null,null,null,null,null,null,null,null,null,null,null,null,null,null,null,{"$f":"C14*$C$11+D14*$D$11+E14*$E$11+F14*$F$11+G14*$G$11+H14*$H$11+I14*$I$11+J14*$J$11+K14*$K$11+L14*$L$11+M14*$M$11+N14*$N$11+O14*$O$11+P14*$P$11+Q14*$Q$11+R14*$R$11+S14*$S$11+T14*$T$11+U14*$U$11+V14*$V$11+W14*$W$11+X14*$X$11+Y14*$Y$11+Z14*$Z$11+AA14*$AA$11+AB14*$AB$11+AC14*$AC$11+AD14*$AD$11+AE14*$AE$11+AF14*$AF$11+AG14*$AG$11+AH14*$AH$11+AI14*$AI$11+AJ14*$AJ$11+AK14*$AK$11+AL14*$AL$11+AM14*$AM$11+AN14*$AN$11+AO14*$AO$11+AP14*$AP$11+AQ14*$AQ$11+AR14*$AR$11+AS14*$AS$11+AT14*$AT$11+AU14*$AU$11+AV14*$AV$11+AW14*$AW$11+AX14*$AX$11+AY14*$AY$11+AZ14*$AZ$11+BA14*$BA$11+BB14*$BB$11+BC14*$BC$11+BD14*$BD$11+BE14*$BE$11+BF14*$BF$11+BG14*$BG$11+BH14*$BH$11+BI14*$BI$11+BJ14*$BJ$11","v":0}]
[null,null,null,null,null,null,null,null,null,null,null,null,null,null,null,null,null,null,null,null,null,null,null,null,null,null,null,null,null,null,null,null,null,null,null,null,null,null,null,null,null,null,null,null,null,null,null,null,null,null,null,null,null,null,null,null,null,null,null,null,null,null,{"$f":"C15*$C$11+D15*$D$11+E15*$E$11+F15*$F$11+G15*$G$11+H15*$H$11+I15*$I$11+J15*$J$11+K15*$K$11+L15*$L$11+M15*$M$11+N15*$N$11+O15*$O$11+P15*$P$11+Q15*$Q$11+R15*$R$11+S15*$S$11+T15*$T$11+U15*$U$11+V15*$V$11+W15*$W$11+X15*$X$11+Y15*$Y$11+Z15*$Z$11+AA15*$AA$11+AB15*$AB$11+AC15*$AC$11+AD15*$AD$11+AE15*$AE$11+AF15*$AF$11+AG15*$AG$11+AH15*$AH$11+AI15*$AI$11+AJ15*$AJ$11+AK15*$AK$11+AL15*$AL$11+AM15*$AM$11+AN15*$AN$11+AO15*$AO$11+AP15*$AP$11+AQ15*$AQ$11+AR15*$AR$11+AS15*$AS$11+AT15*$AT$11+AU15*$AU$11+AV15*$AV$11+AW15*$AW$11+AX15*$AX$11+AY15*$AY$11+AZ15*$AZ$11+BA15*$BA$11+BB15*$BB$11+BC15*$BC$11+BD15*$BD$11+BE15*$BE$11+BF15*$BF$11+BG15*$BG$11+BH15*$BH$11+BI15*$BI$11+BJ15*$BJ$11","v":0}]
[null,null,null,null,null,null,null,null,null,null,null,null,null,null,null,null,null,null,null,null,null,null,null,null,null,null,null,null,null,null,null,null,null,null,null,null,null,null,null,null,null,null,null,null,null,null,null,null,null,null,null,null,null,null,null,null,null,null,null,null,null,null,0]
[null,null,null,null,null,null,null,null,null,null,null,null,null,null,null,null,null,null,null,null,null,null,null,null,null,null,null,null,null,null,null,null,null,null,null,null,null,null,null,null,null,null,null,null,null,null,null,null,null,null,null,null,null,null,null,null,null,null,null,null,null,null,0]
[null,null,null,null,null,null,null,null,null,null,null,null,null,null,null,null,null,null,null,null,null,null,null,null,null,null,null,null,null,null,null,null,null,null,null,null,null,null,null,null,null,null,null,null,null,null,null,null,null,null,null,null,null,null,null,null,null,null,null,null,null,null,0]
[null,null,null,null,null,null,null,null,null,null,null,null,null,null,null,null,null,null,null,null,null,null,null,null,null,null,null,null,null,null,null,null,null,null,null,null,null,null,null,null,null,null,null,null,null,null,null,null,null,null,null,null,null,null,null,null,null,null,null,null,null,null,0]
[null,null,null,null,null,null,null,null,null,null,null,null,null,null,null,null,null,null,null,null,null,null,null,null,null,null,null,null,null,null,null,null,null,null,null,null,null,null,null,null,null,null,null,null,null,null,null,null,null,null,null,null,null,null,null,null,null,null,null,null,null,null,0]
[null,null,null,null,null,null,null,null,null,null,null,null,null,null,null,null,null,null,null,null,null,null,null,null,null,null,null,null,null,null,null,null,null,null,null,null,null,null,null,null,null,null,null,null,null,null,null,null,null,null,null,null,null,null,null,null,null,null,null,null,null,null,0]
[null,null,null,null,null,null,null,null,null,null,null,null,null,null,null,null,null,null,null,null,null,null,null,null,null,null,null,null,null,null,null,null,null,null,null,null,null,null,null,null,null,null,null,null,null,null,null,null,null,null,null,null,null,null,null,null,null,null,null,null,null,null,0]
[null,null,null,null,null,null,null,null,null,null,null,null,null,null,null,null,null,null,null,null,null,null,null,null,null,null,null,null,null,null,null,null,null,null,null,null,null,null,null,null,null,null,null,null,null,null,null,null,null,null,null,null,null,null,null,null,null,null,null,null,null,null,0]
[null,null,null,null,null,null,null,null,null,null,null,null,null,null,null,null,null,null,null,null,null,null,null,null,null,null,null,null,null,null,null,null,null,null,null,null,null,null,null,null,null,null,null,null,null,null,null,null,null,null,null,null,null,null,null,null,null,null,null,null,null,null,0]
[null,null,null,null,null,null,null,null,null,null,null,null,null,null,null,null,null,null,null,null,null,null,null,null,null,null,null,null,null,null,null,null,null,null,null,null,null,null,null,null,null,null,null,null,null,null,null,null,null,null,null,null,null,null,null,null,null,null,null,null,null,null,0]
[null,null,null,null,null,null,null,null,null,null,null,null,null,null,null,null,null,null,null,null,null,null,null,null,null,null,null,null,null,null,null,null,null,null,null,null,null,null,null,null,null,null,null,null,null,null,null,null,null,null,null,null,null,null,null,null,null,null,null,null,null,null,0]
[null,null,null,null,null,null,null,null,null,null,null,null,null,null,null,null,null,null,null,null,null,null,null,null,null,null,null,null,null,null,null,null,null,null,null,null,null,null,null,null,null,null,null,null,null,null,null,null,null,null,null,null,null,null,null,null,null,null,null,null,null,null,0]
[null,null,null,null,null,null,null,null,null,null,null,null,null,null,null,null,null,null,null,null,null,null,null,null,null,null,null,null,null,null,null,null,null,null,null,null,null,null,null,null,null,null,null,null,null,null,null,null,null,null,null,null,null,null,null,null,null,null,null,null,null,null,0]
[null,null,null,null,null,null,null,null,null,null,null,null,null,null,null,null,null,null,null,null,null,null,null,null,null,null,null,null,null,null,null,null,null,null,null,null,null,null,null,null,null,null,null,null,null,null,null,null,null,null,null,null,null,null,null,null,null,null,null,null,null,null,0]
[null,null,null,null,null,null,null,null,null,null,null,null,null,null,null,null,null,null,null,null,null,null,null,null,null,null,null,null,null,null,null,null,null,null,null,null,null,null,null,null,null,null,null,null,null,null,null,null,null,null,null,null,null,null,null,null,null,null,null,null,null,null,0]
[null,null,null,null,null,null,null,null,null,null,null,null,null,null,null,null,null,null,null,null,null,null,null,null,null,null,null,null,null,null,null,null,null,null,null,null,null,null,null,null,null,null,null,null,null,null,null,null,null,null,null,null,null,null,null,null,null,null,null,null,null,null,0]
[null,null,null,null,null,null,null,null,null,null,null,null,null,null,null,null,null,null,null,null,null,null,null,null,null,null,null,null,null,null,null,null,null,null,null,null,null,null,null,null,null,null,null,null,null,null,null,null,null,null,null,null,null,null,null,null,null,null,null,null,null,null,0]
[null,null,null,null,null,null,null,null,null,null,null,null,null,null,null,null,null,null,null,null,null,null,null,null,null,null,null,null,null,null,null,null,null,null,null,null,null,null,null,null,null,null,null,null,null,null,null,null,null,null,null,null,null,null,null,null,null,null,null,null,null,null,0]
[null,null,null,null,null,null,null,null,null,null,null,null,null,null,null,null,null,null,null,null,null,null,null,null,null,null,null,null,null,null,null,null,null,null,null,null,null,null,null,null,null,null,null,null,null,null,null,null,null,null,null,null,null,null,null,null,null,null,null,null,null,null,0]
[null,null,null,null,null,null,null,null,null,null,null,null,null,null,null,null,null,null,null,null,null,null,null,null,null,null,null,null,null,null,null,null,null,null,null,null,null,null,null,null,null,null,null,null,null,null,null,null,null,null,null,null,null,null,null,null,null,null,null,null,null,null,0]
[null,null,null,null,null,null,null,null,null,null,null,null,null,null,null,null,null,null,null,null,null,null,null,null,null,null,null,null,null,null,null,null,null,null,null,null,null,null,null,null,null,null,null,null,null,null,null,null,null,null,null,null,null,null,null,null,null,null,null,null,null,null,0]
[null,null,null,null,null,null,null,null,null,null,null,null,null,null,null,null,null,null,null,null,null,null,null,null,null,null,null,null,null,null,null,null,null,null,null,null,null,null,null,null,null,null,null,null,null,null,null,null,null,null,null,null,null,null,null,null,null,null,null,null,null,null,0]
[null,null,null,null,null,null,null,null,null,null,null,null,null,null,null,null,null,null,null,null,null,null,null,null,null,null,null,null,null,null,null,null,null,null,null,null,null,null,null,null,null,null,null,null,null,null,null,null,null,null,null,null,null,null,null,null,null,null,null,null,null,null,0]
[null,null,null,null,null,null,null,null,null,null,null,null,null,null,null,null,null,null,null,null,null,null,null,null,null,null,null,null,null,null,null,null,null,null,null,null,null,null,null,null,null,null,null,null,null,null,null,null,null,null,null,null,null,null,null,null,null,null,null,null,null,null,0]
[null,null,null,null,null,null,null,null,null,null,null,null,null,null,null,null,null,null,null,null,null,null,null,null,null,null,null,null,null,null,null,null,null,null,null,null,null,null,null,null,null,null,null,null,null,null,null,null,null,null,null,null,null,null,null,null,null,null,null,null,null,null,0]
[null,null,null,null,null,null,null,null,null,null,null,null,null,null,null,null,null,null,null,null,null,null,null,null,null,null,null,null,null,null,null,null,null,null,null,null,null,null,null,null,null,null,null,null,null,null,null,null,null,null,null,null,null,null,null,null,null,null,null,null,null,null,0]
[null,null,null,null,null,null,null,null,null,null,null,null,null,null,null,null,null,null,null,null,null,null,null,null,null,null,null,null,null,null,null,null,null,null,null,null,null,null,null,null,null,null,null,null,null,null,null,null,null,null,null,null,null,null,null,null,null,null,null,null,null,null,0]
[null,null,null,null,null,null,null,null,null,null,null,null,null,null,null,null,null,null,null,null,null,null,null,null,null,null,null,null,null,null,null,null,null,null,null,null,null,null,null,null,null,null,null,null,null,null,null,null,null,null,null,null,null,null,null,null,null,null,null,null,null,null,0]
[null,null,null,null,null,null,null,null,null,null,null,null,null,null,null,null,null,null,null,null,null,null,null,null,null,null,null,null,null,null,null,null,null,null,null,null,null,null,null,null,null,null,null,null,null,null,null,null,null,null,null,null,null,null,null,null,null,null,null,null,null,null,0]
[null,null,null,null,null,null,null,null,null,null,null,null,null,null,null,null,null,null,null,null,null,null,null,null,null,null,null,null,null,null,null,null,null,null,null,null,null,null,null,null,null,null,null,null,null,null,null,null,null,null,null,null,null,null,null,null,null,null,null,null,null,null,0]
[null,null,null,null,null,null,null,null,null,null,null,null,null,null,null,null,null,null,null,null,null,null,null,null,null,null,null,null,null,null,null,null,null,null,null,null,null,null,null,null,null,null,null,null,null,null,null,null,null,null,null,null,null,null,null,null,null,null,null,null,null,null,0]
[null,null,null,null,null,null,null,null,null,null,null,null,null,null,null,null,null,null,null,null,null,null,null,null,null,null,null,null,null,null,null,null,null,null,null,null,null,null,null,null,null,null,null,null,null,null,null,null,null,null,null,null,null,null,null,null,null,null,null,null,null,null,0]
[null,null,null,null,null,null,null,null,null,null,null,null,null,null,null,null,null,null,null,null,null,null,null,null,null,null,null,null,null,null,null,null,null,null,null,null,null,null,null,null,null,null,null,null,null,null,null,null,null,null,null,null,null,null,null,null,null,null,null,null,null,null,0]
[null,null,null,null,null,null,null,null,null,null,null,null,null,null,null,null,null,null,null,null,null,null,null,null,null,null,null,null,null,null,null,null,null,null,null,null,null,null,null,null,null,null,null,null,null,null,null,null,null,null,null,null,null,null,null,null,null,null,null,null,null,null,0]
[null,null,null,null,null,null,null,null,null,null,null,null,null,null,null,null,null,null,null,null,null,null,null,null,null,null,null,null,null,null,null,null,null,null,null,null,null,null,null,null,null,null,null,null,null,null,null,null,null,null,null,null,null,null,null,null,null,null,null,null,null,null,0]
[null,null,null,null,null,null,null,null,null,null,null,null,null,null,null,null,null,null,null,null,null,null,null,null,null,null,null,null,null,null,null,null,null,null,null,null,null,null,null,null,null,null,null,null,null,null,null,null,null,null,null,null,null,null,null,null,null,null,null,null,null,null,0]
[null,null,null,null,null,null,null,null,null,null,null,null,null,null,null,null,null,null,null,null,null,null,null,null,null,null,null,null,null,null,null,null,null,null,null,null,null,null,null,null,null,null,null,null,null,null,null,null,null,null,null,null,null,null,null,null,null,null,null,null,null,null,0]
[null,null,null,null,null,null,null,null,null,null,null,null,null,null,null,null,null,null,null,null,null,null,null,null,null,null,null,null,null,null,null,null,null,null,null,null,null,null,null,null,null,null,null,null,null,null,null,null,null,null,null,null,null,null,null,null,null,null,null,null,null,null,0]
[null,null,null,null,null,null,null,null,null,null,null,null,null,null,null,null,null,null,null,null,null,null,null,null,null,null,null,null,null,null,null,null,null,null,null,null,null,null,null,null,null,null,null,null,null,null,null,null,null,null,null,null,null,null,null,null,null,null,null,null,null,null,0]
[null,null,null,null,null,null,null,null,null,null,null,null,null,null,null,null,null,null,null,null,null,null,null,null,null,null,null,null,null,null,null,null,null,null,null,null,null,null,null,null,null,null,null,null,null,null,null,null,null,null,null,null,null,null,null,null,null,null,null,null,null,null,0]
[null,null,null,null,null,null,null,null,null,null,null,null,null,null,null,null,null,null,null,null,null,null,null,null,null,null,null,null,null,null,null,null,null,null,null,null,null,null,null,null,null,null,null,null,null,null,null,null,null,null,null,null,null,null,null,null,null,null,null,null,null,null,0]
[null,null,null,null,null,null,null,null,null,null,null,null,null,null,null,null,null,null,null,null,null,null,null,null,null,null,null,null,null,null,null,null,null,null,null,null,null,null,null,null,null,null,null,null,null,null,null,null,null,null,null,null,null,null,null,null,null,null,null,null,null,null,0]
[null,null,null,null,null,null,null,null,null,null,null,null,null,null,null,null,null,null,null,null,null,null,null,null,null,null,null,null,null,null,null,null,null,null,null,null,null,null,null,null,null,null,null,null,null,null,null,null,null,null,null,null,null,null,null,null,null,null,null,null,null,null,0]
[null,null,null,null,null,null,null,null,null,null,null,null,null,null,null,null,null,null,null,null,null,null,null,null,null,null,null,null,null,null,null,null,null,null,null,null,null,null,null,null,null,null,null,null,null,null,null,null,null,null,null,null,null,null,null,null,null,null,null,null,null,null,0]
[null,null,null,null,null,null,null,null,null,null,null,null,null,null,null,null,null,null,null,null,null,null,null,null,null,null,null,null,null,null,null,null,null,null,null,null,null,null,null,null,null,null,null,null,null,null,null,null,null,null,null,null,null,null,null,null,null,null,null,null,null,null,0]
[null,null,null,null,null,null,null,null,null,null,null,null,null,null,null,null,null,null,null,null,null,null,null,null,null,null,null,null,null,null,null,null,null,null,null,null,null,null,null,null,null,null,null,null,null,null,null,null,null,null,null,null,null,null,null,null,null,null,null,null,null,null,0]
[null,null,null,null,null,null,null,null,null,null,null,null,null,null,null,null,null,null,null,null,null,null,null,null,null,null,null,null,null,null,null,null,null,null,null,null,null,null,null,null,null,null,null,null,null,null,null,null,null,null,null,null,null,null,null,null,null,null,null,null,null,null,0]
[null,null,null,null,null,null,null,null,null,null,null,null,null,null,null,null,null,null,null,null,null,null,null,null,null,null,null,null,null,null,null,null,null,null,null,null,null,null,null,null,null,null,null,null,null,null,null,null,null,null,null,null,null,null,null,null,null,null,null,null,null,null,0]
[null,null,null,null,null,null,null,null,null,null,null,null,null,null,null,null,null,null,null,null,null,null,null,null,null,null,null,null,null,null,null,null,null,null,null,null,null,null,null,null,null,null,null,null,null,null,null,null,null,null,null,null,null,null,null,null,null,null,null,null,null,null,0]
[null,null,null,null,null,null,null,null,null,null,null,null,null,null,null,null,null,null,null,null,null,null,null,null,null,null,null,null,null,null,null,null,null,null,null,null,null,null,null,null,null,null,null,null,null,null,null,null,null,null,null,null,null,null,null,null,null,null,null,null,null,null,0]
[null,null,null,null,null,null,null,null,null,null,null,null,null,null,null,null,null,null,null,null,null,null,null,null,null,null,null,null,null,null,null,null,null,null,null,null,null,null,null,null,null,null,null,null,null,null,null,null,null,null,null,null,null,null,null,null,null,null,null,null,null,null,0]
[null,null,null,null,null,null,null,null,null,null,null,null,null,null,null,null,null,null,null,null,null,null,null,null,null,null,null,null,null,null,null,null,null,null,null,null,null,null,null,null,null,null,null,null,null,null,null,null,null,null,null,null,null,null,null,null,null,null,null,null,null,null,0]
[null,null,null,null,null,null,null,null,null,null,null,null,null,null,null,null,null,null,null,null,null,null,null,null,null,null,null,null,null,null,null,null,null,null,null,null,null,null,null,null,null,null,null,null,null,null,null,null,null,null,null,null,null,null,null,null,null,null,null,null,null,null,0]
[null,null,null,null,null,null,null,null,null,null,null,null,null,null,null,null,null,null,null,null,null,null,null,null,null,null,null,null,null,null,null,null,null,null,null,null,null,null,null,null,null,null,null,null,null,null,null,null,null,null,null,null,null,null,null,null,null,null,null,null,null,null,0]
[null,null,null,null,null,null,null,null,null,null,null,null,null,null,null,null,null,null,null,null,null,null,null,null,null,null,null,null,null,null,null,null,null,null,null,null,null,null,null,null,null,null,null,null,null,null,null,null,null,null,null,null,null,null,null,null,null,null,null,null,null,null,0]
[null,null,null,null,null,null,null,null,null,null,null,null,null,null,null,null,null,null,null,null,null,null,null,null,null,null,null,null,null,null,null,null,null,null,null,null,null,null,null,null,null,null,null,null,null,null,null,null,null,null,null,null,null,null,null,null,null,null,null,null,null,null,0]
[null,null,null,null,null,null,null,null,null,null,null,null,null,null,null,null,null,null,null,null,null,null,null,null,null,null,null,null,null,null,null,null,null,null,null,null,null,null,null,null,null,null,null,null,null,null,null,null,null,null,null,null,null,null,null,null,null,null,null,null,null,null,0]
[null,null,null,null,null,null,null,null,null,null,null,null,null,null,null,null,null,null,null,null,null,null,null,null,null,null,null,null,null,null,null,null,null,null,null,null,null,null,null,null,null,null,null,null,null,null,null,null,null,null,null,null,null,null,null,null,null,null,null,null,null,null,0]
[null,null,null,null,null,null,null,null,null,null,null,null,null,null,null,null,null,null,null,null,null,null,null,null,null,null,null,null,null,null,null,null,null,null,null,null,null,null,null,null,null,null,null,null,null,null,null,null,null,null,null,null,null,null,null,null,null,null,null,null,null,null,0]
[null,null,null,null,null,null,null,null,null,null,null,null,null,null,null,null,null,null,null,null,null,null,null,null,null,null,null,null,null,null,null,null,null,null,null,null,null,null,null,null,null,null,null,null,null,null,null,null,null,null,null,null,null,null,null,null,null,null,null,null,null,null,0]
[null,null,null,null,null,null,null,null,null,null,null,null,null,null,null,null,null,null,null,null,null,null,null,null,null,null,null,null,null,null,null,null,null,null,null,null,null,null,null,null,null,null,null,null,null,null,null,null,null,null,null,null,null,null,null,null,null,null,null,null,null,null,0]
[null,null,null,null,null,null,null,null,null,null,null,null,null,null,null,null,null,null,null,null,null,null,null,null,null,null,null,null,null,null,null,null,null,null,null,null,null,null,null,null,null,null,null,null,null,null,null,null,null,null,null,null,null,null,null,null,null,null,null,null,null,null,0]
[null,null,null,null,null,null,null,null,null,null,null,null,null,null,null,null,null,null,null,null,null,null,null,null,null,null,null,null,null,null,null,null,null,null,null,null,null,null,null,null,null,null,null,null,null,null,null,null,null,null,null,null,null,null,null,null,null,null,null,null,null,null,0]
[null,null,null,null,null,null,null,null,null,null,null,null,null,null,null,null,null,null,null,null,null,null,null,null,null,null,null,null,null,null,null,null,null,null,null,null,null,null,null,null,null,null,null,null,null,null,null,null,null,null,null,null,null,null,null,null,null,null,null,null,null,null,{"$f":"C79*$C$11+D79*$D$11+E79*$E$11+F79*$F$11+G79*$G$11+H79*$H$11+I79*$I$11+J79*$J$11+K79*$K$11+L79*$L$11+M79*$M$11+N79*$N$11+O79*$O$11+P79*$P$11+Q79*$Q$11+R79*$R$11+S79*$S$11+T79*$T$11+U79*$U$11+V79*$V$11+W79*$W$11+X79*$X$11+Y79*$Y$11+Z79*$Z$11+AA79*$AA$11+AB79*$AB$11+AC79*$AC$11+AD79*$AD$11+AE79*$AE$11+AF79*$AF$11+AG79*$AG$11+AH79*$AH$11+AI79*$AI$11+AJ79*$AJ$11+AK79*$AK$11+AL79*$AL$11+AM79*$AM$11+AN79*$AN$11+AO79*$AO$11+AP79*$AP$11+AQ79*$AQ$11+AR79*$AR$11+AS79*$AS$11+AT79*$AT$11+AU79*$AU$11+AV79*$AV$11+AW79*$AW$11+AX79*$AX$11+AY79*$AY$11+AZ79*$AZ$11+BA79*$BA$11+BB79*$BB$11+BC79*$BC$11+BD79*$BD$11+BE79*$BE$11+BF79*$BF$11+BG79*$BG$11+BH79*$BH$11+BI79*$BI$11+BJ79*$BJ$11","v":0}]
[null,null,null,null,null,null,null,null,null,null,null,null,null,null,null,null,null,null,null,null,null,null,null,null,null,null,null,null,null,null,null,null,null,null,null,null,null,null,null,null,null,null,null,null,null,null,null,null,null,null,null,null,null,null,null,null,null,null,null,null,null,null,0]
[null,null,null,null,null,null,null,null,null,null,null,null,null,null,null,null,null,null,null,null,null,null,null,null,null,null,null,null,null,null,null,null,null,null,null,null,null,null,null,null,null,null,null,null,null,null,null,null,null,null,null,null,null,null,null,null,null,null,null,null,null,null,0]
[null,null,null,null,null,null,null,null,null,null,null,null,null,null,null,null,null,null,null,null,null,null,null,null,null,null,null,null,null,null,null,null,null,null,null,null,null,null,null,null,null,null,null,null,null,null,null,null,null,null,null,null,null,null,null,null,null,null,null,null,null,null,0]
[null,null,null,null,null,null,null,null,null,null,null,null,null,null,null,null,null,null,null,null,null,null,null,null,null,null,null,null,null,null,null,null,null,null,null,null,null,null,null,null,null,null,null,null,null,null,null,null,null,null,null,null,null,null,null,null,null,null,null,null,null,null,0]
[null,null,null,null,null,null,null,null,null,null,null,null,null,null,null,null,null,null,null,null,null,null,null,null,null,null,null,null,null,null,null,null,null,null,null,null,null,null,null,null,null,null,null,null,null,null,null,null,null,null,null,null,null,null,null,null,null,null,null,null,null,null,0]
[null,null,null,null,null,null,null,null,null,null,null,null,null,null,null,null,null,null,null,null,null,null,null,null,null,null,null,null,null,null,null,null,null,null,null,null,null,null,null,null,null,null,null,null,null,null,null,null,null,null,null,null,null,null,null,null,null,null,null,null,null,null,0]
[null,null,null,null,null,null,null,null,null,null,null,null,null,null,null,null,null,null,null,null,null,null,null,null,null,null,null,null,null,null,null,null,null,null,null,null,null,null,null,null,null,null,null,null,null,null,null,null,null,null,null,null,null,null,null,null,null,null,null,null,null,null,0]
[null,null,null,null,null,null,null,null,null,null,null,null,null,null,null,null,null,null,null,null,null,null,null,null,null,null,null,null,null,null,null,null,null,null,null,null,null,null,null,null,null,null,null,null,null,null,null,null,null,null,null,null,null,null,null,null,null,null,null,null,null,null,0]
[null,null,null,null,null,null,null,null,null,null,null,null,null,null,null,null,null,null,null,null,null,null,null,null,null,null,null,null,null,null,null,null,null,null,null,null,null,null,null,null,null,null,null,null,null,null,null,null,null,null,null,null,null,null,null,null,null,null,null,null,null,null,0]
[null,null,null,null,null,null,null,null,null,null,null,null,null,null,null,null,null,null,null,null,null,null,null,null,null,null,null,null,null,null,null,null,null,null,null,null,null,null,null,null,null,null,null,null,null,null,null,null,null,null,null,null,null,null,null,null,null,null,null,null,null,null,0]
[null,null,null,null,null,null,null,null,null,null,null,null,null,null,null,null,null,null,null,null,null,null,null,null,null,null,null,null,null,null,null,null,null,null,null,null,null,null,null,null,null,null,null,null,null,null,null,null,null,null,null,null,null,null,null,null,null,null,null,null,null,null,0]
[null,null,null,null,null,null,null,null,null,null,null,null,null,null,null,null,null,null,null,null,null,null,null,null,null,null,null,null,null,null,null,null,null,null,null,null,null,null,null,null,null,null,null,null,null,null,null,null,null,null,null,null,null,null,null,null,null,null,null,null,null,null,0]
[null,null,null,null,null,null,null,null,null,null,null,null,null,null,null,null,null,null,null,null,null,null,null,null,null,null,null,null,null,null,null,null,null,null,null,null,null,null,null,null,null,null,null,null,null,null,null,null,null,null,null,null,null,null,null,null,null,null,null,null,null,null,0]
[null,null,null,null,null,null,null,null,null,null,null,null,null,null,null,null,null,null,null,null,null,null,null,null,null,null,null,null,null,null,null,null,null,null,null,null,null,null,null,null,null,null,null,null,null,null,null,null,null,null,null,null,null,null,null,null,null,null,null,null,null,null,0]
[null,null,null,null,null,null,null,null,null,null,null,null,null,null,null,null,null,null,null,null,null,null,null,null,null,null,null,null,null,null,null,null,null,null,null,null,null,null,null,null,null,null,null,null,null,null,null,null,null,null,null,null,null,null,null,null,null,null,null,null,null,null,0]
[null,null,null,null,null,null,null,null,null,null,null,null,null,null,null,null,null,null,null,null,null,null,null,null,null,null,null,null,null,null,null,null,null,null,null,null,null,null,null,null,null,null,null,null,null,null,null,null,null,null,null,null,null,null,null,null,null,null,null,null,null,null,0]
[null,null,null,null,null,null,null,null,null,null,null,null,null,null,null,null,null,null,null,null,null,null,null,null,null,null,null,null,null,null,null,null,null,null,null,null,null,null,null,null,null,null,null,null,null,null,null,null,null,null,null,null,null,null,null,null,null,null,null,null,null,null,0]
[null,null,null,null,null,null,null,null,null,null,null,null,null,null,null,null,null,null,null,null,null,null,null,null,null,null,null,null,null,null,null,null,null,null,null,null,null,null,null,null,null,null,null,null,null,null,null,null,null,null,null,null,null,null,null,null,null,null,null,null,null,null,0]
[null,null,null,null,null,null,null,null,null,null,null,null,null,null,null,null,null,null,null,null,null,null,null,null,null,null,null,null,null,null,null,null,null,null,null,null,null,null,null,null,null,null,null,null,null,null,null,null,null,null,null,null,null,null,null,null,null,null,null,null,null,null,0]
[null,null,null,null,null,null,null,null,null,null,null,null,null,null,null,null,null,null,null,null,null,null,null,null,null,null,null,null,null,null,null,null,null,null,null,null,null,null,null,null,null,null,null,null,null,null,null,null,null,null,null,null,null,null,null,null,null,null,null,null,null,null,0]
[null,null,null,null,null,null,null,null,null,null,null,null,null,null,null,null,null,null,null,null,null,null,null,null,null,null,null,null,null,null,null,null,null,null,null,null,null,null,null,null,null,null,null,null,null,null,null,null,null,null,null,null,null,null,null,null,null,null,null,null,null,null,0]
[null,null,null,null,null,null,null,null,null,null,null,null,null,null,null,null,null,null,null,null,null,null,null,null,null,null,null,null,null,null,null,null,null,null,null,null,null,null,null,null,null,null,null,null,null,null,null,null,null,null,null,null,null,null,null,null,null,null,null,null,null,null,0]
[null,null,null,null,null,null,null,null,null,null,null,null,null,null,null,null,null,null,null,null,null,null,null,null,null,null,null,null,null,null,null,null,null,null,null,null,null,null,null,null,null,null,null,null,null,null,null,null,null,null,null,null,null,null,null,null,null,null,null,null,null,null,0]
[null,null,null,null,null,null,null,null,null,null,null,null,null,null,null,null,null,null,null,null,null,null,null,null,null,null,null,null,null,null,null,null,null,null,null,null,null,null,null,null,null,null,null,null,null,null,null,null,null,null,null,null,null,null,null,null,null,null,null,null,null,null,0]
[null,null,null,null,null,null,null,null,null,null,null,null,null,null,null,null,null,null,null,null,null,null,null,null,null,null,null,null,null,null,null,null,null,null,null,null,null,null,null,null,null,null,null,null,null,null,null,null,null,null,null,null,null,null,null,null,null,null,null,null,null,null,0]
[null,null,null,null,null,null,null,null,null,null,null,null,null,null,null,null,null,null,null,null,null,null,null,null,null,null,null,null,null,null,null,null,null,null,null,null,null,null,null,null,null,null,null,null,null,null,null,null,null,null,null,null,null,null,null,null,null,null,null,null,null,null,0]
[null,null,null,null,null,null,null,null,null,null,null,null,null,null,null,null,null,null,null,null,null,null,null,null,null,null,null,null,null,null,null,null,null,null,null,null,null,null,null,null,null,null,null,null,null,null,null,null,null,null,null,null,null,null,null,null,null,null,null,null,null,null,0]
[null,null,null,null,null,null,null,null,null,null,null,null,null,null,null,null,null,null,null,null,null,null,null,null,null,null,null,null,null,null,null,null,null,null,null,null,null,null,null,null,null,null,null,null,null,null,null,null,null,null,null,null,null,null,null,null,null,null,null,null,null,null,0]
[null,null,null,null,null,null,null,null,null,null,null,null,null,null,null,null,null,null,null,null,null,null,null,null,null,null,null,null,null,null,null,null,null,null,null,null,null,null,null,null,null,null,null,null,null,null,null,null,null,null,null,null,null,null,null,null,null,null,null,null,null,null,0]
[null,null,null,null,null,null,null,null,null,null,null,null,null,null,null,null,null,null,null,null,null,null,null,null,null,null,null,null,null,null,null,null,null,null,null,null,null,null,null,null,null,null,null,null,null,null,null,null,null,null,null,null,null,null,null,null,null,null,null,null,null,null,0]
[null,null,null,null,null,null,null,null,null,null,null,null,null,null,null,null,null,null,null,null,null,null,null,null,null,null,null,null,null,null,null,null,null,null,null,null,null,null,null,null,null,null,null,null,null,null,null,null,null,null,null,null,null,null,null,null,null,null,null,null,null,null,0]
[null,null,null,null,null,null,null,null,null,null,null,null,null,null,null,null,null,null,null,null,null,null,null,null,null,null,null,null,null,null,null,null,null,null,null,null,null,null,null,null,null,null,null,null,null,null,null,null,null,null,null,null,null,null,null,null,null,null,null,null,null,null,0]
[null,null,null,null,null,null,null,null,null,null,null,null,null,null,null,null,null,null,null,null,null,null,null,null,null,null,null,null,null,null,null,null,null,null,null,null,null,null,null,null,null,null,null,null,null,null,null,null,null,null,null,null,null,null,null,null,null,null,null,null,null,null,0]
[null,null,null,null,null,null,null,null,null,null,null,null,null,null,null,null,null,null,null,null,null,null,null,null,null,null,null,null,null,null,null,null,null,null,null,null,null,null,null,null,null,null,null,null,null,null,null,null,null,null,null,null,null,null,null,null,null,null,null,null,null,null,0]
[null,null,null,null,null,null,null,null,null,null,null,null,null,null,null,null,null,null,null,null,null,null,null,null,null,null,null,null,null,null,null,null,null,null,null,null,null,null,null,null,null,null,null,null,null,null,null,null,null,null,null,null,null,null,null,null,null,null,null,null,null,null,0]
[null,null,null,null,null,null,null,null,null,null,null,null,null,null,null,null,null,null,null,null,null,null,null,null,null,null,null,null,null,null,null,null,null,null,null,null,null,null,null,null,null,null,null,null,null,null,null,null,null,null,null,null,null,null,null,null,null,null,null,null,null,null,0]
[null,null,null,null,null,null,null,null,null,null,null,null,null,null,null,null,null,null,null,null,null,null,null,null,null,null,null,null,null,null,null,null,null,null,null,null,null,null,null,null,null,null,null,null,null,null,null,null,null,null,null,null,null,null,null,null,null,null,null,null,null,null,0]
[null,null,null,null,null,null,null,null,null,null,null,null,null,null,null,null,null,null,null,null,null,null,null,null,null,null,null,null,null,null,null,null,null,null,null,null,null,null,null,null,null,null,null,null,null,null,null,null,null,null,null,null,null,null,null,null,null,null,null,null,null,null,0]
[null,null,null,null,null,null,null,null,null,null,null,null,null,null,null,null,null,null,null,null,null,null,null,null,null,null,null,null,null,null,null,null,null,null,null,null,null,null,null,null,null,null,null,null,null,null,null,null,null,null,null,null,null,null,null,null,null,null,null,null,null,null,0]
[null,null,null,null,null,null,null,null,null,null,null,null,null,null,null,null,null,null,null,null,null,null,null,null,null,null,null,null,null,null,null,null,null,null,null,null,null,null,null,null,null,null,null,null,null,null,null,null,null,null,null,null,null,null,null,null,null,null,null,null,null,null,0]
[null,null,null,null,null,null,null,null,null,null,null,null,null,null,null,null,null,null,null,null,null,null,null,null,null,null,null,null,null,null,null,null,null,null,null,null,null,null,null,null,null,null,null,null,null,null,null,null,null,null,null,null,null,null,null,null,null,null,null,null,null,null,0]
[null,null,null,null,null,null,null,null,null,null,null,null,null,null,null,null,null,null,null,null,null,null,null,null,null,null,null,null,null,null,null,null,null,null,null,null,null,null,null,null,null,null,null,null,null,null,null,null,null,null,null,null,null,null,null,null,null,null,null,null,null,null,0]
[null,null,null,null,null,null,null,null,null,null,null,null,null,null,null,null,null,null,null,null,null,null,null,null,null,null,null,null,null,null,null,null,null,null,null,null,null,null,null,null,null,null,null,null,null,null,null,null,null,null,null,null,null,null,null,null,null,null,null,null,null,null,0]
[null,null,null,null,null,null,null,null,null,null,null,null,null,null,null,null,null,null,null,null,null,null,null,null,null,null,null,null,null,null,null,null,null,null,null,null,null,null,null,null,null,null,null,null,null,null,null,null,null,null,null,null,null,null,null,null,null,null,null,null,null,null,0]
[null,null,null,null,null,null,null,null,null,null,null,null,null,null,null,null,null,null,null,null,null,null,null,null,null,null,null,null,null,null,null,null,null,null,null,null,null,null,null,null,null,null,null,null,null,null,null,null,null,null,null,null,null,null,null,null,null,null,null,null,null,null,0]
[null,null,null,null,null,null,null,null,null,null,null,null,null,null,null,null,null,null,null,null,null,null,null,null,null,null,null,null,null,null,null,null,null,null,null,null,null,null,null,null,null,null,null,null,null,null,null,null,null,null,null,null,null,null,null,null,null,null,null,null,null,null,0]
[null,null,null,null,null,null,null,null,null,null,null,null,null,null,null,null,null,null,null,null,null,null,null,null,null,null,null,null,null,null,null,null,null,null,null,null,null,null,null,null,null,null,null,null,null,null,null,null,null,null,null,null,null,null,null,null,null,null,null,null,null,null,0]
[null,null,null,null,null,null,null,null,null,null,null,null,null,null,null,null,null,null,null,null,null,null,null,null,null,null,null,null,null,null,null,null,null,null,null,null,null,null,null,null,null,null,null,null,null,null,null,null,null,null,null,null,null,null,null,null,null,null,null,null,null,null,0]
[null,null,null,null,null,null,null,null,null,null,null,null,null,null,null,null,null,null,null,null,null,null,null,null,null,null,null,null,null,null,null,null,null,null,null,null,null,null,null,null,null,null,null,null,null,null,null,null,null,null,null,null,null,null,null,null,null,null,null,null,null,null,0]
[null,null,null,null,null,null,null,null,null,null,null,null,null,null,null,null,null,null,null,null,null,null,null,null,null,null,null,null,null,null,null,null,null,null,null,null,null,null,null,null,null,null,null,null,null,null,null,null,null,null,null,null,null,null,null,null,null,null,null,null,null,null,0]
[null,null,null,null,null,null,null,null,null,null,null,null,null,null,null,null,null,null,null,null,null,null,null,null,null,null,null,null,null,null,null,null,null,null,null,null,null,null,null,null,null,null,null,null,null,null,null,null,null,null,null,null,null,null,null,null,null,null,null,null,null,null,0]
[null,null,null,null,null,null,null,null,null,null,null,null,null,null,null,null,null,null,null,null,null,null,null,null,null,null,null,null,null,null,null,null,null,null,null,null,null,null,null,null,null,null,null,null,null,null,null,null,null,null,null,null,null,null,null,null,null,null,null,null,null,null,0]
[null,null,null,null,null,null,null,null,null,null,null,null,null,null,null,null,null,null,null,null,null,null,null,null,null,null,null,null,null,null,null,null,null,null,null,null,null,null,null,null,null,null,null,null,null,null,null,null,null,null,null,null,null,null,null,null,null,null,null,null,null,null,0]
[null,null,null,null,null,null,null,null,null,null,null,null,null,null,null,null,null,null,null,null,null,null,null,null,null,null,null,null,null,null,null,null,null,null,null,null,null,null,null,null,null,null,null,null,null,null,null,null,null,null,null,null,null,null,null,null,null,null,null,null,null,null,0]
[null,null,null,null,null,null,null,null,null,null,null,null,null,null,null,null,null,null,null,null,null,null,null,null,null,null,null,null,null,null,null,null,null,null,null,null,null,null,null,null,null,null,null,null,null,null,null,null,null,null,null,null,null,null,null,null,null,null,null,null,null,null,0]
[null,null,null,null,null,null,null,null,null,null,null,null,null,null,null,null,null,null,null,null,null,null,null,null,null,null,null,null,null,null,null,null,null,null,null,null,null,null,null,null,null,null,null,null,null,null,null,null,null,null,null,null,null,null,null,null,null,null,null,null,null,null,0]
[null,null,null,null,null,null,null,null,null,null,null,null,null,null,null,null,null,null,null,null,null,null,null,null,null,null,null,null,null,null,null,null,null,null,null,null,null,null,null,null,null,null,null,null,null,null,null,null,null,null,null,null,null,null,null,null,null,null,null,null,null,null,0]
[null,null,null,null,null,null,null,null,null,null,null,null,null,null,null,null,null,null,null,null,null,null,null,null,null,null,null,null,null,null,null,null,null,null,null,null,null,null,null,null,null,null,null,null,null,null,null,null,null,null,null,null,null,null,null,null,null,null,null,null,null,null,0]
[null,null,null,null,null,null,null,null,null,null,null,null,null,null,null,null,null,null,null,null,null,null,null,null,null,null,null,null,null,null,null,null,null,null,null,null,null,null,null,null,null,null,null,null,null,null,null,null,null,null,null,null,null,null,null,null,null,null,null,null,null,null,0]
[null,null,null,null,null,null,null,null,null,null,null,null,null,null,null,null,null,null,null,null,null,null,null,null,null,null,null,null,null,null,null,null,null,null,null,null,null,null,null,null,null,null,null,null,null,null,null,null,null,null,null,null,null,null,null,null,null,null,null,null,null,null,0]
[null,null,null,null,null,null,null,null,null,null,null,null,null,null,null,null,null,null,null,null,null,null,null,null,null,null,null,null,null,null,null,null,null,null,null,null,null,null,null,null,null,null,null,null,null,null,null,null,null,null,null,null,null,null,null,null,null,null,null,null,null,null,0]
[null,null,null,null,null,null,null,null,null,null,null,null,null,null,null,null,null,null,null,null,null,null,null,null,null,null,null,null,null,null,null,null,null,null,null,null,null,null,null,null,null,null,null,null,null,null,null,null,null,null,null,null,null,null,null,null,null,null,null,null,null,null,0]
[null,null,null,null,null,null,null,null,null,null,null,null,null,null,null,null,null,null,null,null,null,null,null,null,null,null,null,null,null,null,null,null,null,null,null,null,null,null,null,null,null,null,null,null,null,null,null,null,null,null,null,null,null,null,null,null,null,null,null,null,null,null,0]
[null,null,null,null,null,null,null,null,null,null,null,null,null,null,null,null,null,null,null,null,null,null,null,null,null,null,null,null,null,null,null,null,null,null,null,null,null,null,null,null,null,null,null,null,null,null,null,null,null,null,null,null,null,null,null,null,null,null,null,null,null,null,{"$f":"C143*$C$11+D143*$D$11+E143*$E$11+F143*$F$11+G143*$G$11+H143*$H$11+I143*$I$11+J143*$J$11+K143*$K$11+L143*$L$11+M143*$M$11+N143*$N$11+O143*$O$11+P143*$P$11+Q143*$Q$11+R143*$R$11+S143*$S$11+T143*$T$11+U143*$U$11+V143*$V$11+W143*$W$11+X143*$X$11+Y143*$Y$11+Z143*$Z$11+AA143*$AA$11+AB143*$AB$11+AC143*$AC$11+AD143*$AD$11+AE143*$AE$11+AF143*$AF$11+AG143*$AG$11+AH143*$AH$11+AI143*$AI$11+AJ143*$AJ$11+AK143*$AK$11+AL143*$AL$11+AM143*$AM$11+AN143*$AN$11+AO143*$AO$11+AP143*$AP$11+AQ143*$AQ$11+AR143*$AR$11+AS143*$AS$11+AT143*$AT$11+AU143*$AU$11+AV143*$AV$11+AW143*$AW$11+AX143*$AX$11+AY143*$AY$11+AZ143*$AZ$11+BA143*$BA$11+BB143*$BB$11+BC143*$BC$11+BD143*$BD$11+BE143*$BE$11+BF143*$BF$11+BG143*$BG$11+BH143*$BH$11+BI143*$BI$11+BJ143*$BJ$11","v":0}]
[null,null,null,null,null,null,null,null,null,null,null,null,null,null,null,null,null,null,null,null,null,null,null,null,null,null,null,null,null,null,null,null,null,null,null,null,null,null,null,null,null,null,null,null,null,null,null,null,null,null,null,null,null,null,null,null,null,null,null,null,null,null,0]
[null,null,null,null,null,null,null,null,null,null,null,null,null,null,null,null,null,null,null,null,null,null,null,null,null,null,null,null,null,null,null,null,null,null,null,null,null,null,null,null,null,null,null,null,null,null,null,null,null,null,null,null,null,null,null,null,null,null,null,null,null,null,0]
[null,null,null,null,null,null,null,null,null,null,null,null,null,null,null,null,null,null,null,null,null,null,null,null,null,null,null,null,null,null,null,null,null,null,null,null,null,null,null,null,null,null,null,null,null,null,null,null,null,null,null,null,null,null,null,null,null,null,null,null,null,null,0]
[null,null,null,null,null,null,null,null,null,null,null,null,null,null,null,null,null,null,null,null,null,null,null,null,null,null,null,null,null,null,null,null,null,null,null,null,null,null,null,null,null,null,null,null,null,null,null,null,null,null,null,null,null,null,null,null,null,null,null,null,null,null,0]
[null,null,null,null,null,null,null,null,null,null,null,null,null,null,null,null,null,null,null,null,null,null,null,null,null,null,null,null,null,null,null,null,null,null,null,null,null,null,null,null,null,null,null,null,null,null,null,null,null,null,null,null,null,null,null,null,null,null,null,null,null,null,0]
[null,null,null,null,null,null,null,null,null,null,null,null,null,null,null,null,null,null,null,null,null,null,null,null,null,null,null,null,null,null,null,null,null,null,null,null,null,null,null,null,null,null,null,null,null,null,null,null,null,null,null,null,null,null,null,null,null,null,null,null,null,null,0]
[null,null,null,null,null,null,null,null,null,null,null,null,null,null,null,null,null,null,null,null,null,null,null,null,null,null,null,null,null,null,null,null,null,null,null,null,null,null,null,null,null,null,null,null,null,null,null,null,null,null,null,null,null,null,null,null,null,null,null,null,null,null,0]
[null,null,null,null,null,null,null,null,null,null,null,null,null,null,null,null,null,null,null,null,null,null,null,null,null,null,null,null,null,null,null,null,null,null,null,null,null,null,null,null,null,null,null,null,null,null,null,null,null,null,null,null,null,null,null,null,null,null,null,null,null,null,0]
[null,null,null,null,null,null,null,null,null,null,null,null,null,null,null,null,null,null,null,null,null,null,null,null,null,null,null,null,null,null,null,null,null,null,null,null,null,null,null,null,null,null,null,null,null,null,null,null,null,null,null,null,null,null,null,null,null,null,null,null,null,null,0]
[null,null,null,null,null,null,null,null,null,null,null,null,null,null,null,null,null,null,null,null,null,null,null,null,null,null,null,null,null,null,null,null,null,null,null,null,null,null,null,null,null,null,null,null,null,null,null,null,null,null,null,null,null,null,null,null,null,null,null,null,null,null,0]
[null,null,null,null,null,null,null,null,null,null,null,null,null,null,null,null,null,null,null,null,null,null,null,null,null,null,null,null,null,null,null,null,null,null,null,null,null,null,null,null,null,null,null,null,null,null,null,null,null,null,null,null,null,null,null,null,null,null,null,null,null,null,0]
[null,null,null,null,null,null,null,null,null,null,null,null,null,null,null,null,null,null,null,null,null,null,null,null,null,null,null,null,null,null,null,null,null,null,null,null,null,null,null,null,null,null,null,null,null,null,null,null,null,null,null,null,null,null,null,null,null,null,null,null,null,null,0]
[null,null,null,null,null,null,null,null,null,null,null,null,null,null,null,null,null,null,null,null,null,null,null,null,null,null,null,null,null,null,null,null,null,null,null,null,null,null,null,null,null,null,null,null,null,null,null,null,null,null,null,null,null,null,null,null,null,null,null,null,null,null,0]
[null,null,null,null,null,null,null,null,null,null,null,null,null,null,null,null,null,null,null,null,null,null,null,null,null,null,null,null,null,null,null,null,null,null,null,null,null,null,null,null,null,null,null,null,null,null,null,null,null,null,null,null,null,null,null,null,null,null,null,null,null,null,0]
[null,null,null,null,null,null,null,null,null,null,null,null,null,null,null,null,null,null,null,null,null,null,null,null,null,null,null,null,null,null,null,null,null,null,null,null,null,null,null,null,null,null,null,null,null,null,null,null,null,null,null,null,null,null,null,null,null,null,null,null,null,null,0]
[null,null,null,null,null,null,null,null,null,null,null,null,null,null,null,null,null,null,null,null,null,null,null,null,null,null,null,null,null,null,null,null,null,null,null,null,null,null,null,null,null,null,null,null,null,null,null,null,null,null,null,null,null,null,null,null,null,null,null,null,null,null,0]
[null,null,null,null,null,null,null,null,null,null,null,null,null,null,null,null,null,null,null,null,null,null,null,null,null,null,null,null,null,null,null,null,null,null,null,null,null,null,null,null,null,null,null,null,null,null,null,null,null,null,null,null,null,null,null,null,null,null,null,null,null,null,0]
[null,null,null,null,null,null,null,null,null,null,null,null,null,null,null,null,null,null,null,null,null,null,null,null,null,null,null,null,null,null,null,null,null,null,null,null,null,null,null,null,null,null,null,null,null,null,null,null,null,null,null,null,null,null,null,null,null,null,null,null,null,null,0]
[null,null,null,null,null,null,null,null,null,null,null,null,null,null,null,null,null,null,null,null,null,null,null,null,null,null,null,null,null,null,null,null,null,null,null,null,null,null,null,null,null,null,null,null,null,null,null,null,null,null,null,null,null,null,null,null,null,null,null,null,null,null,0]
[null,null,null,null,null,null,null,null,null,null,null,null,null,null,null,null,null,null,null,null,null,null,null,null,null,null,null,null,null,null,null,null,null,null,null,null,null,null,null,null,null,null,null,null,null,null,null,null,null,null,null,null,null,null,null,null,null,null,null,null,null,null,0]
[null,null,null,null,null,null,null,null,null,null,null,null,null,null,null,null,null,null,null,null,null,null,null,null,null,null,null,null,null,null,null,null,null,null,null,null,null,null,null,null,null,null,null,null,null,null,null,null,null,null,null,null,null,null,null,null,null,null,null,null,null,null,0]
[null,null,null,null,null,null,null,null,null,null,null,null,null,null,null,null,null,null,null,null,null,null,null,null,null,null,null,null,null,null,null,null,null,null,null,null,null,null,null,null,null,null,null,null,null,null,null,null,null,null,null,null,null,null,null,null,null,null,null,null,null,null,0]
[null,null,null,null,null,null,null,null,null,null,null,null,null,null,null,null,null,null,null,null,null,null,null,null,null,null,null,null,null,null,null,null,null,null,null,null,null,null,null,null,null,null,null,null,null,null,null,null,null,null,null,null,null,null,null,null,null,null,null,null,null,null,0]
[null,null,null,null,null,null,null,null,null,null,null,null,null,null,null,null,null,null,null,null,null,null,null,null,null,null,null,null,null,null,null,null,null,null,null,null,null,null,null,null,null,null,null,null,null,null,null,null,null,null,null,null,null,null,null,null,null,null,null,null,null,null,0]
[null,null,null,null,null,null,null,null,null,null,null,null,null,null,null,null,null,null,null,null,null,null,null,null,null,null,null,null,null,null,null,null,null,null,null,null,null,null,null,null,null,null,null,null,null,null,null,null,null,null,null,null,null,null,null,null,null,null,null,null,null,null,0]
[null,null,null,null,null,null,null,null,null,null,null,null,null,null,null,null,null,null,null,null,null,null,null,null,null,null,null,null,null,null,null,null,null,null,null,null,null,null,null,null,null,null,null,null,null,null,null,null,null,null,null,null,null,null,null,null,null,null,null,null,null,null,0]
[null,null,null,null,null,null,null,null,null,null,null,null,null,null,null,null,null,null,null,null,null,null,null,null,null,null,null,null,null,null,null,null,null,null,null,null,null,null,null,null,null,null,null,null,null,null,null,null,null,null,null,null,null,null,null,null,null,null,null,null,null,null,0]
[null,null,null,null,null,null,null,null,null,null,null,null,null,null,null,null,null,null,null,null,null,null,null,null,null,null,null,null,null,null,null,null,null,null,null,null,null,null,null,null,null,null,null,null,null,null,null,null,null,null,null,null,null,null,null,null,null,null,null,null,null,null,0]
[null,null,null,null,null,null,null,null,null,null,null,null,null,null,null,null,null,null,null,null,null,null,null,null,null,null,null,null,null,null,null,null,null,null,null,null,null,null,null,null,null,null,null,null,null,null,null,null,null,null,null,null,null,null,null,null,null,null,null,null,null,null,0]
[null,null,null,null,null,null,null,null,null,null,null,null,null,null,null,null,null,null,null,null,null,null,null,null,null,null,null,null,null,null,null,null,null,null,null,null,null,null,null,null,null,null,null,null,null,null,null,null,null,null,null,null,null,null,null,null,null,null,null,null,null,null,0]
[null,null,null,null,null,null,null,null,null,null,null,null,null,null,null,null,null,null,null,null,null,null,null,null,null,null,null,null,null,null,null,null,null,null,null,null,null,null,null,null,null,null,null,null,null,null,null,null,null,null,null,null,null,null,null,null,null,null,null,null,null,null,0]
[null,null,null,null,null,null,null,null,null,null,null,null,null,null,null,null,null,null,null,null,null,null,null,null,null,null,null,null,null,null,null,null,null,null,null,null,null,null,null,null,null,null,null,null,null,null,null,null,null,null,null,null,null,null,null,null,null,null,null,null,null,null,0]
[null,null,null,null,null,null,null,null,null,null,null,null,null,null,null,null,null,null,null,null,null,null,null,null,null,null,null,null,null,null,null,null,null,null,null,null,null,null,null,null,null,null,null,null,null,null,null,null,null,null,null,null,null,null,null,null,null,null,null,null,null,null,0]
[null,null,null,null,null,null,null,null,null,null,null,null,null,null,null,null,null,null,null,null,null,null,null,null,null,null,null,null,null,null,null,null,null,null,null,null,null,null,null,null,null,null,null,null,null,null,null,null,null,null,null,null,null,null,null,null,null,null,null,null,null,null,0]
[null,null,null,null,null,null,null,null,null,null,null,null,null,null,null,null,null,null,null,null,null,null,null,null,null,null,null,null,null,null,null,null,null,null,null,null,null,null,null,null,null,null,null,null,null,null,null,null,null,null,null,null,null,null,null,null,null,null,null,null,null,null,0]
[null,null,null,null,null,null,null,null,null,null,null,null,null,null,null,null,null,null,null,null,null,null,null,null,null,null,null,null,null,null,null,null,null,null,null,null,null,null,null,null,null,null,null,null,null,null,null,null,null,null,null,null,null,null,null,null,null,null,null,null,null,null,0]
[null,null,null,null,null,null,null,null,null,null,null,null,null,null,null,null,null,null,null,null,null,null,null,null,null,null,null,null,null,null,null,null,null,null,null,null,null,null,null,null,null,null,null,null,null,null,null,null,null,null,null,null,null,null,null,null,null,null,null,null,null,null,0]
[null,null,null,null,null,null,null,null,null,null,null,null,null,null,null,null,null,null,null,null,null,null,null,null,null,null,null,null,null,null,null,null,null,null,null,null,null,null,null,null,null,null,null,null,null,null,null,null,null,null,null,null,null,null,null,null,null,null,null,null,null,null,0]
[null,null,null,null,null,null,null,null,null,null,null,null,null,null,null,null,null,null,null,null,null,null,null,null,null,null,null,null,null,null,null,null,null,null,null,null,null,null,null,null,null,null,null,null,null,null,null,null,null,null,null,null,null,null,null,null,null,null,null,null,null,null,0]
[null,null,null,null,null,null,null,null,null,null,null,null,null,null,null,null,null,null,null,null,null,null,null,null,null,null,null,null,null,null,null,null,null,null,null,null,null,null,null,null,null,null,null,null,null,null,null,null,null,null,null,null,null,null,null,null,null,null,null,null,null,null,0]
[null,null,null,null,null,null,null,null,null,null,null,null,null,null,null,null,null,null,null,null,null,null,null,null,null,null,null,null,null,null,null,null,null,null,null,null,null,null,null,null,null,null,null,null,null,null,null,null,null,null,null,null,null,null,null,null,null,null,null,null,null,null,0]
[null,null,null,null,null,null,null,null,null,null,null,null,null,null,null,null,null,null,null,null,null,null,null,null,null,null,null,null,null,null,null,null,null,null,null,null,null,null,null,null,null,null,null,null,null,null,null,null,null,null,null,null,null,null,null,null,null,null,null,null,null,null,0]
[null,null,null,null,null,null,null,null,null,null,null,null,null,null,null,null,null,null,null,null,null,null,null,null,null,null,null,null,null,null,null,null,null,null,null,null,null,null,null,null,null,null,null,null,null,null,null,null,null,null,null,null,null,null,null,null,null,null,null,null,null,null,0]
[null,null,null,null,null,null,null,null,null,null,null,null,null,null,null,null,null,null,null,null,null,null,null,null,null,null,null,null,null,null,null,null,null,null,null,null,null,null,null,null,null,null,null,null,null,null,null,null,null,null,null,null,null,null,null,null,null,null,null,null,null,null,0]
[null,null,null,null,null,null,null,null,null,null,null,null,null,null,null,null,null,null,null,null,null,null,null,null,null,null,null,null,null,null,null,null,null,null,null,null,null,null,null,null,null,null,null,null,null,null,null,null,null,null,null,null,null,null,null,null,null,null,null,null,null,null,0]
[null,null,null,null,null,null,null,null,null,null,null,null,null,null,null,null,null,null,null,null,null,null,null,null,null,null,null,null,null,null,null,null,null,null,null,null,null,null,null,null,null,null,null,null,null,null,null,null,null,null,null,null,null,null,null,null,null,null,null,null,null,null,0]
[null,null,null,null,null,null,null,null,null,null,null,null,null,null,null,null,null,null,null,null,null,null,null,null,null,null,null,null,null,null,null,null,null,null,null,null,null,null,null,null,null,null,null,null,null,null,null,null,null,null,null,null,null,null,null,null,null,null,null,null,null,null,0]
[null,null,null,null,null,null,null,null,null,null,null,null,null,null,null,null,null,null,null,null,null,null,null,null,null,null,null,null,null,null,null,null,null,null,null,null,null,null,null,null,null,null,null,null,null,null,null,null,null,null,null,null,null,null,null,null,null,null,null,null,null,null,0]
[null,null,null,null,null,null,null,null,null,null,null,null,null,null,null,null,null,null,null,null,null,null,null,null,null,null,null,null,null,null,null,null,null,null,null,null,null,null,null,null,null,null,null,null,null,null,null,null,null,null,null,null,null,null,null,null,null,null,null,null,null,null,0]
[null,null,null,null,null,null,null,null,null,null,null,null,null,null,null,null,null,null,null,null,null,null,null,null,null,null,null,null,null,null,null,null,null,null,null,null,null,null,null,null,null,null,null,null,null,null,null,null,null,null,null,null,null,null,null,null,null,null,null,null,null,null,0]
[null,null,null,null,null,null,null,null,null,null,null,null,null,null,null,null,null,null,null,null,null,null,null,null,null,null,null,null,null,null,null,null,null,null,null,null,null,null,null,null,null,null,null,null,null,null,null,null,null,null,null,null,null,null,null,null,null,null,null,null,null,null,0]
[null,null,null,null,null,null,null,null,null,null,null,null,null,null,null,null,null,null,null,null,null,null,null,null,null,null,null,null,null,null,null,null,null,null,null,null,null,null,null,null,null,null,null,null,null,null,null,null,null,null,null,null,null,null,null,null,null,null,null,null,null,null,0]
[null,null,null,null,null,null,null,null,null,null,null,null,null,null,null,null,null,null,null,null,null,null,null,null,null,null,null,null,null,null,null,null,null,null,null,null,null,null,null,null,null,null,null,null,null,null,null,null,null,null,null,null,null,null,null,null,null,null,null,null,null,null,0]
[null,null,null,null,null,null,null,null,null,null,null,null,null,null,null,null,null,null,null,null,null,null,null,null,null,null,null,null,null,null,null,null,null,null,null,null,null,null,null,null,null,null,null,null,null,null,null,null,null,null,null,null,null,null,null,null,null,null,null,null,null,null,0]
[null,null,null,null,null,null,null,null,null,null,null,null,null,null,null,null,null,null,null,null,null,null,null,null,null,null,null,null,null,null,null,null,null,null,null,null,null,null,null,null,null,null,null,null,null,null,null,null,null,null,null,null,null,null,null,null,null,null,null,null,null,null,0]
[null,null,null,null,null,null,null,null,null,null,null,null,null,null,null,null,null,null,null,null,null,null,null,null,null,null,null,null,null,null,null,null,null,null,null,null,null,null,null,null,null,null,null,null,null,null,null,null,null,null,null,null,null,null,null,null,null,null,null,null,null,null,0]
[null,null,null,null,null,null,null,null,null,null,null,null,null,null,null,null,null,null,null,null,null,null,null,null,null,null,null,null,null,null,null,null,null,null,null,null,null,null,null,null,null,null,null,null,null,null,null,null,null,null,null,null,null,null,null,null,null,null,null,null,null,null,0]
[null,null,null,null,null,null,null,null,null,null,null,null,null,null,null,null,null,null,null,null,null,null,null,null,null,null,null,null,null,null,null,null,null,null,null,null,null,null,null,null,null,null,null,null,null,null,null,null,null,null,null,null,null,null,null,null,null,null,null,null,null,null,0]
[null,null,null,null,null,null,null,null,null,null,null,null,null,null,null,null,null,null,null,null,null,null,null,null,null,null,null,null,null,null,null,null,null,null,null,null,null,null,null,null,null,null,null,null,null,null,null,null,null,null,null,null,null,null,null,null,null,null,null,null,null,null,0]
[null,null,null,null,null,null,null,null,null,null,null,null,null,null,null,null,null,null,null,null,null,null,null,null,null,null,null,null,null,null,null,null,null,null,null,null,null,null,null,null,null,null,null,null,null,null,null,null,null,null,null,null,null,null,null,null,null,null,null,null,null,null,0]
[null,null,null,null,null,null,null,null,null,null,null,null,null,null,null,null,null,null,null,null,null,null,null,null,null,null,null,null,null,null,null,null,null,null,null,null,null,null,null,null,null,null,null,null,null,null,null,null,null,null,null,null,null,null,null,null,null,null,null,null,null,null,0]
[null,null,null,null,null,null,null,null,null,null,null,null,null,null,null,null,null,null,null,null,null,null,null,null,null,null,null,null,null,null,null,null,null,null,null,null,null,null,null,null,null,null,null,null,null,null,null,null,null,null,null,null,null,null,null,null,null,null,null,null,null,null,0]
[null,null,null,null,null,null,null,null,null,null,null,null,null,null,null,null,null,null,null,null,null,null,null,null,null,null,null,null,null,null,null,null,null,null,null,null,null,null,null,null,null,null,null,null,null,null,null,null,null,null,null,null,null,null,null,null,null,null,null,null,null,null,0]
[null,null,null,null,null,null,null,null,null,null,null,null,null,null,null,null,null,null,null,null,null,null,null,null,null,null,null,null,null,null,null,null,null,null,null,null,null,null,null,null,null,null,null,null,null,null,null,null,null,null,null,null,null,null,null,null,null,null,null,null,null,null,{"$f":"C207*$C$11+D207*$D$11+E207*$E$11+F207*$F$11+G207*$G$11+H207*$H$11+I207*$I$11+J207*$J$11+K207*$K$11+L207*$L$11+M207*$M$11+N207*$N$11+O207*$O$11+P207*$P$11+Q207*$Q$11+R207*$R$11+S207*$S$11+T207*$T$11+U207*$U$11+V207*$V$11+W207*$W$11+X207*$X$11+Y207*$Y$11+Z207*$Z$11+AA207*$AA$11+AB207*$AB$11+AC207*$AC$11+AD207*$AD$11+AE207*$AE$11+AF207*$AF$11+AG207*$AG$11+AH207*$AH$11+AI207*$AI$11+AJ207*$AJ$11+AK207*$AK$11+AL207*$AL$11+AM207*$AM$11+AN207*$AN$11+AO207*$AO$11+AP207*$AP$11+AQ207*$AQ$11+AR207*$AR$11+AS207*$AS$11+AT207*$AT$11+AU207*$AU$11+AV207*$AV$11+AW207*$AW$11+AX207*$AX$11+AY207*$AY$11+AZ207*$AZ$11+BA207*$BA$11+BB207*$BB$11+BC207*$BC$11+BD207*$BD$11+BE207*$BE$11+BF207*$BF$11+BG207*$BG$11+BH207*$BH$11+BI207*$BI$11+BJ207*$BJ$11","v":0}]
[null,null,null,null,null,null,null,null,null,null,null,null,null,null,null,null,null,null,null,null,null,null,null,null,null,null,null,null,null,null,null,null,null,null,null,null,null,null,null,null,null,null,null,null,null,null,null,null,null,null,null,null,null,null,null,null,null,null,null,null,null,null,0]
[null,null,null,null,null,null,null,null,null,null,null,null,null,null,null,null,null,null,null,null,null,null,null,null,null,null,null,null,null,null,null,null,null,null,null,null,null,null,null,null,null,null,null,null,null,null,null,null,null,null,null,null,null,null,null,null,null,null,null,null,null,null,0]
[null,null,null,null,null,null,null,null,null,null,null,null,null,null,null,null,null,null,null,null,null,null,null,null,null,null,null,null,null,null,null,null,null,null,null,null,null,null,null,null,null,null,null,null,null,null,null,null,null,null,null,null,null,null,null,null,null,null,null,null,null,null,0]
[null,null,null,null,null,null,null,null,null,null,null,null,null,null,null,null,null,null,null,null,null,null,null,null,null,null,null,null,null,null,null,null,null,null,null,null,null,null,null,null,null,null,null,null,null,null,null,null,null,null,null,null,null,null,null,null,null,null,null,null,null,null,0]
[null,null,null,null,null,null,null,null,null,null,null,null,null,null,null,null,null,null,null,null,null,null,null,null,null,null,null,null,null,null,null,null,null,null,null,null,null,null,null,null,null,null,null,null,null,null,null,null,null,null,null,null,null,null,null,null,null,null,null,null,null,null,0]
[null,null,null,null,null,null,null,null,null,null,null,null,null,null,null,null,null,null,null,null,null,null,null,null,null,null,null,null,null,null,null,null,null,null,null,null,null,null,null,null,null,null,null,null,null,null,null,null,null,null,null,null,null,null,null,null,null,null,null,null,null,null,0]
[null,null,null,null,null,null,null,null,null,null,null,null,null,null,null,null,null,null,null,null,null,null,null,null,null,null,null,null,null,null,null,null,null,null,null,null,null,null,null,null,null,null,null,null,null,null,null,null,null,null,null,null,null,null,null,null,null,null,null,null,null,null,0]
[null,null,null,null,null,null,null,null,null,null,null,null,null,null,null,null,null,null,null,null,null,null,null,null,null,null,null,null,null,null,null,null,null,null,null,null,null,null,null,null,null,null,null,null,null,null,null,null,null,null,null,null,null,null,null,null,null,null,null,null,null,null,0]
[null,null,null,null,null,null,null,null,null,null,null,null,null,null,null,null,null,null,null,null,null,null,null,null,null,null,null,null,null,null,null,null,null,null,null,null,null,null,null,null,null,null,null,null,null,null,null,null,null,null,null,null,null,null,null,null,null,null,null,null,null,null,0]
[null,null,null,null,null,null,null,null,null,null,null,null,null,null,null,null,null,null,null,null,null,null,null,null,null,null,null,null,null,null,null,null,null,null,null,null,null,null,null,null,null,null,null,null,null,null,null,null,null,null,null,null,null,null,null,null,null,null,null,null,null,null,0]
[null,null,null,null,null,null,null,null,null,null,null,null,null,null,null,null,null,null,null,null,null,null,null,null,null,null,null,null,null,null,null,null,null,null,null,null,null,null,null,null,null,null,null,null,null,null,null,null,null,null,null,null,null,null,null,null,null,null,null,null,null,null,0]
[null,null,null,null,null,null,null,null,null,null,null,null,null,null,null,null,null,null,null,null,null,null,null,null,null,null,null,null,null,null,null,null,null,null,null,null,null,null,null,null,null,null,null,null,null,null,null,null,null,null,null,null,null,null,null,null,null,null,null,null,null,null,0]
[null,null,null,null,null,null,null,null,null,null,null,null,null,null,null,null,null,null,null,null,null,null,null,null,null,null,null,null,null,null,null,null,null,null,null,null,null,null,null,null,null,null,null,null,null,null,null,null,null,null,null,null,null,null,null,null,null,null,null,null,null,null,0]
[null,null,null,null,null,null,null,null,null,null,null,null,null,null,null,null,null,null,null,null,null,null,null,null,null,null,null,null,null,null,null,null,null,null,null,null,null,null,null,null,null,null,null,null,null,null,null,null,null,null,null,null,null,null,null,null,null,null,null,null,null,null,0]
[null,null,null,null,null,null,null,null,null,null,null,null,null,null,null,null,null,null,null,null,null,null,null,null,null,null,null,null,null,null,null,null,null,null,null,null,null,null,null,null,null,null,null,null,null,null,null,null,null,null,null,null,null,null,null,null,null,null,null,null,null,null,0]
[null,null,null,null,null,null,null,null,null,null,null,null,null,null,null,null,null,null,null,null,null,null,null,null,null,null,null,null,null,null,null,null,null,null,null,null,null,null,null,null,null,null,null,null,null,null,null,null,null,null,null,null,null,null,null,null,null,null,null,null,null,null,0]
[null,null,null,null,null,null,null,null,null,null,null,null,null,null,null,null,null,null,null,null,null,null,null,null,null,null,null,null,null,null,null,null,null,null,null,null,null,null,null,null,null,null,null,null,null,null,null,null,null,null,null,null,null,null,null,null,null,null,null,null,null,null,0]
[null,null,null,null,null,null,null,null,null,null,null,null,null,null,null,null,null,null,null,null,null,null,null,null,null,null,null,null,null,null,null,null,null,null,null,null,null,null,null,null,null,null,null,null,null,null,null,null,null,null,null,null,null,null,null,null,null,null,null,null,null,null,0]
[null,null,null,null,null,null,null,null,null,null,null,null,null,null,null,null,null,null,null,null,null,null,null,null,null,null,null,null,null,null,null,null,null,null,null,null,null,null,null,null,null,null,null,null,null,null,null,null,null,null,null,null,null,null,null,null,null,null,null,null,null,null,0]
[null,null,null,null,null,null,null,null,null,null,null,null,null,null,null,null,null,null,null,null,null,null,null,null,null,null,null,null,null,null,null,null,null,null,null,null,null,null,null,null,null,null,null,null,null,null,null,null,null,null,null,null,null,null,null,null,null,null,null,null,null,null,0]
[null,null,null,null,null,null,null,null,null,null,null,null,null,null,null,null,null,null,null,null,null,null,null,null,null,null,null,null,null,null,null,null,null,null,null,null,null,null,null,null,null,null,null,null,null,null,null,null,null,null,null,null,null,null,null,null,null,null,null,null,null,null,0]
[null,null,null,null,null,null,null,null,null,null,null,null,null,null,null,null,null,null,null,null,null,null,null,null,null,null,null,null,null,null,null,null,null,null,null,null,null,null,null,null,null,null,null,null,null,null,null,null,null,null,null,null,null,null,null,null,null,null,null,null,null,null,0]
[null,null,null,null,null,null,null,null,null,null,null,null,null,null,null,null,null,null,null,null,null,null,null,null,null,null,null,null,null,null,null,null,null,null,null,null,null,null,null,null,null,null,null,null,null,null,null,null,null,null,null,null,null,null,null,null,null,null,null,null,null,null,0]
[null,null,null,null,null,null,null,null,null,null,null,null,null,null,null,null,null,null,null,null,null,null,null,null,null,null,null,null,null,null,null,null,null,null,null,null,null,null,null,null,null,null,null,null,null,null,null,null,null,null,null,null,null,null,null,null,null,null,null,null,null,null,0]
[null,null,null,null,null,null,null,null,null,null,null,null,null,null,null,null,null,null,null,null,null,null,null,null,null,null,null,null,null,null,null,null,null,null,null,null,null,null,null,null,null,null,null,null,null,null,null,null,null,null,null,null,null,null,null,null,null,null,null,null,null,null,0]
[null,null,null,null,null,null,null,null,null,null,null,null,null,null,null,null,null,null,null,null,null,null,null,null,null,null,null,null,null,null,null,null,null,null,null,null,null,null,null,null,null,null,null,null,null,null,null,null,null,null,null,null,null,null,null,null,null,null,null,null,null,null,0]
[null,null,null,null,null,null,null,null,null,null,null,null,null,null,null,null,null,null,null,null,null,null,null,null,null,null,null,null,null,null,null,null,null,null,null,null,null,null,null,null,null,null,null,null,null,null,null,null,null,null,null,null,null,null,null,null,null,null,null,null,null,null,0]
[null,null,null,null,null,null,null,null,null,null,null,null,null,null,null,null,null,null,null,null,null,null,null,null,null,null,null,null,null,null,null,null,null,null,null,null,null,null,null,null,null,null,null,null,null,null,null,null,null,null,null,null,null,null,null,null,null,null,null,null,null,null,0]
[null,null,null,null,null,null,null,null,null,null,null,null,null,null,null,null,null,null,null,null,null,null,null,null,null,null,null,null,null,null,null,null,null,null,null,null,null,null,null,null,null,null,null,null,null,null,null,null,null,null,null,null,null,null,null,null,null,null,null,null,null,null,0]
[null,null,null,null,null,null,null,null,null,null,null,null,null,null,null,null,null,null,null,null,null,null,null,null,null,null,null,null,null,null,null,null,null,null,null,null,null,null,null,null,null,null,null,null,null,null,null,null,null,null,null,null,null,null,null,null,null,null,null,null,null,null,0]
[null,null,null,null,null,null,null,null,null,null,null,null,null,null,null,null,null,null,null,null,null,null,null,null,null,null,null,null,null,null,null,null,null,null,null,null,null,null,null,null,null,null,null,null,null,null,null,null,null,null,null,null,null,null,null,null,null,null,null,null,null,null,0]
[null,null,null,null,null,null,null,null,null,null,null,null,null,null,null,null,null,null,null,null,null,null,null,null,null,null,null,null,null,null,null,null,null,null,null,null,null,null,null,null,null,null,null,null,null,null,null,null,null,null,null,null,null,null,null,null,null,null,null,null,null,null,0]
[null,null,null,null,null,null,null,null,null,null,null,null,null,null,null,null,null,null,null,null,null,null,null,null,null,null,null,null,null,null,null,null,null,null,null,null,null,null,null,null,null,null,null,null,null,null,null,null,null,null,null,null,null,null,null,null,null,null,null,null,null,null,0]
[null,null,null,null,null,null,null,null,null,null,null,null,null,null,null,null,null,null,null,null,null,null,null,null,null,null,null,null,null,null,null,null,null,null,null,null,null,null,null,null,null,null,null,null,null,null,null,null,null,null,null,null,null,null,null,null,null,null,null,null,null,null,0]
[null,null,null,null,null,null,null,null,null,null,null,null,null,null,null,null,null,null,null,null,null,null,null,null,null,null,null,null,null,null,null,null,null,null,null,null,null,null,null,null,null,null,null,null,null,null,null,null,null,null,null,null,null,null,null,null,null,null,null,null,null,null,0]
[null,null,null,null,null,null,null,null,null,null,null,null,null,null,null,null,null,null,null,null,null,null,null,null,null,null,null,null,null,null,null,null,null,null,null,null,null,null,null,null,null,null,null,null,null,null,null,null,null,null,null,null,null,null,null,null,null,null,null,null,null,null,0]
[null,null,null,null,null,null,null,null,null,null,null,null,null,null,null,null,null,null,null,null,null,null,null,null,null,null,null,null,null,null,null,null,null,null,null,null,null,null,null,null,null,null,null,null,null,null,null,null,null,null,null,null,null,null,null,null,null,null,null,null,null,null,0]
[null,null,null,null,null,null,null,null,null,null,null,null,null,null,null,null,null,null,null,null,null,null,null,null,null,null,null,null,null,null,null,null,null,null,null,null,null,null,null,null,null,null,null,null,null,null,null,null,null,null,null,null,null,null,null,null,null,null,null,null,null,null,0]
[null,null,null,null,null,null,null,null,null,null,null,null,null,null,null,null,null,null,null,null,null,null,null,null,null,null,null,null,null,null,null,null,null,null,null,null,null,null,null,null,null,null,null,null,null,null,null,null,null,null,null,null,null,null,null,null,null,null,null,null,null,null,0]
[null,null,null,null,null,null,null,null,null,null,null,null,null,null,null,null,null,null,null,null,null,null,null,null,null,null,null,null,null,null,null,null,null,null,null,null,null,null,null,null,null,null,null,null,null,null,null,null,null,null,null,null,null,null,null,null,null,null,null,null,null,null,0]
[null,null,null,null,null,null,null,null,null,null,null,null,null,null,null,null,null,null,null,null,null,null,null,null,null,null,null,null,null,null,null,null,null,null,null,null,null,null,null,null,null,null,null,null,null,null,null,null,null,null,null,null,null,null,null,null,null,null,null,null,null,null,0]
[null,null,null,null,null,null,null,null,null,null,null,null,null,null,null,null,null,null,null,null,null,null,null,null,null,null,null,null,null,null,null,null,null,null,null,null,null,null,null,null,null,null,null,null,null,null,null,null,null,null,null,null,null,null,null,null,null,null,null,null,null,null,0]
[null,null,null,null,null,null,null,null,null,null,null,null,null,null,null,null,null,null,null,null,null,null,null,null,null,null,null,null,null,null,null,null,null,null,null,null,null,null,null,null,null,null,null,null,null,null,null,null,null,null,null,null,null,null,null,null,null,null,null,null,null,null,0]
[null,null,null,null,null,null,null,null,null,null,null,null,null,null,null,null,null,null,null,null,null,null,null,null,null,null,null,null,null,null,null,null,null,null,null,null,null,null,null,null,null,null,null,null,null,null,null,null,null,null,null,null,null,null,null,null,null,null,null,null,null,null,0]
[null,null,null,null,null,null,null,null,null,null,null,null,null,null,null,null,null,null,null,null,null,null,null,null,null,null,null,null,null,null,null,null,null,null,null,null,null,null,null,null,null,null,null,null,null,null,null,null,null,null,null,null,null,null,null,null,null,null,null,null,null,null,0]
[null,null,null,null,null,null,null,null,null,null,null,null,null,null,null,null,null,null,null,null,null,null,null,null,null,null,null,null,null,null,null,null,null,null,null,null,null,null,null,null,null,null,null,null,null,null,null,null,null,null,null,null,null,null,null,null,null,null,null,null,null,null,0]
[null,null,null,null,null,null,null,null,null,null,null,null,null,null,null,null,null,null,null,null,null,null,null,null,null,null,null,null,null,null,null,null,null,null,null,null,null,null,null,null,null,null,null,null,null,null,null,null,null,null,null,null,null,null,null,null,null,null,null,null,null,null,0]
[null,null,null,null,null,null,null,null,null,null,null,null,null,null,null,null,null,null,null,null,null,null,null,null,null,null,null,null,null,null,null,null,null,null,null,null,null,null,null,null,null,null,null,null,null,null,null,null,null,null,null,null,null,null,null,null,null,null,null,null,null,null,0]
[null,null,null,null,null,null,null,null,null,null,null,null,null,null,null,null,null,null,null,null,null,null,null,null,null,null,null,null,null,null,null,null,null,null,null,null,null,null,null,null,null,null,null,null,null,null,null,null,null,null,null,null,null,null,null,null,null,null,null,null,null,null,0]
[null,null,null,null,null,null,null,null,null,null,null,null,null,null,null,null,null,null,null,null,null,null,null,null,null,null,null,null,null,null,null,null,null,null,null,null,null,null,null,null,null,null,null,null,null,null,null,null,null,null,null,null,null,null,null,null,null,null,null,null,null,null,0]
[null,null,null,null,null,null,null,null,null,null,null,null,null,null,null,null,null,null,null,null,null,null,null,null,null,null,null,null,null,null,null,null,null,null,null,null,null,null,null,null,null,null,null,null,null,null,null,null,null,null,null,null,null,null,null,null,null,null,null,null,null,null,0]
[null,null,null,null,null,null,null,null,null,null,null,null,null,null,null,null,null,null,null,null,null,null,null,null,null,null,null,null,null,null,null,null,null,null,null,null,null,null,null,null,null,null,null,null,null,null,null,null,null,null,null,null,null,null,null,null,null,null,null,null,null,null,0]
[null,null,null,null,null,null,null,null,null,null,null,null,null,null,null,null,null,null,null,null,null,null,null,null,null,null,null,null,null,null,null,null,null,null,null,null,null,null,null,null,null,null,null,null,null,null,null,null,null,null,null,null,null,null,null,null,null,null,null,null,null,null,0]
[null,null,null,null,null,null,null,null,null,null,null,null,null,null,null,null,null,null,null,null,null,null,null,null,null,null,null,null,null,null,null,null,null,null,null,null,null,null,null,null,null,null,null,null,null,null,null,null,null,null,null,null,null,null,null,null,null,null,null,null,null,null,0]
[null,null,null,null,null,null,null,null,null,null,null,null,null,null,null,null,null,null,null,null,null,null,null,null,null,null,null,null,null,null,null,null,null,null,null,null,null,null,null,null,null,null,null,null,null,null,null,null,null,null,null,null,null,null,null,null,null,null,null,null,null,null,0]
[null,null,null,null,null,null,null,null,null,null,null,null,null,null,null,null,null,null,null,null,null,null,null,null,null,null,null,null,null,null,null,null,null,null,null,null,null,null,null,null,null,null,null,null,null,null,null,null,null,null,null,null,null,null,null,null,null,null,null,null,null,null,0]
[null,null,null,null,null,null,null,null,null,null,null,null,null,null,null,null,null,null,null,null,null,null,null,null,null,null,null,null,null,null,null,null,null,null,null,null,null,null,null,null,null,null,null,null,null,null,null,null,null,null,null,null,null,null,null,null,null,null,null,null,null,null,0]
[null,null,null,null,null,null,null,null,null,null,null,null,null,null,null,null,null,null,null,null,null,null,null,null,null,null,null,null,null,null,null,null,null,null,null,null,null,null,null,null,null,null,null,null,null,null,null,null,null,null,null,null,null,null,null,null,null,null,null,null,null,null,0]
[null,null,null,null,null,null,null,null,null,null,null,null,null,null,null,null,null,null,null,null,null,null,null,null,null,null,null,null,null,null,null,null,null,null,null,null,null,null,null,null,null,null,null,null,null,null,null,null,null,null,null,null,null,null,null,null,null,null,null,null,null,null,0]
[null,null,null,null,null,null,null,null,null,null,null,null,null,null,null,null,null,null,null,null,null,null,null,null,null,null,null,null,null,null,null,null,null,null,null,null,null,null,null,null,null,null,null,null,null,null,null,null,null,null,null,null,null,null,null,null,null,null,null,null,null,null,0]
[null,null,null,null,null,null,null,null,null,null,null,null,null,null,null,null,null,null,null,null,null,null,null,null,null,null,null,null,null,null,null,null,null,null,null,null,null,null,null,null,null,null,null,null,null,null,null,null,null,null,null,null,null,null,null,null,null,null,null,null,null,null,0]
[null,null,null,null,null,null,null,null,null,null,null,null,null,null,null,null,null,null,null,null,null,null,null,null,null,null,null,null,null,null,null,null,null,null,null,null,null,null,null,null,null,null,null,null,null,null,null,null,null,null,null,null,null,null,null,null,null,null,null,null,null,null,0]
[null,null,null,null,null,null,null,null,null,null,null,null,null,null,null,null,null,null,null,null,null,null,null,null,null,null,null,null,null,null,null,null,null,null,null,null,null,null,null,null,null,null,null,null,null,null,null,null,null,null,null,null,null,null,null,null,null,null,null,null,null,null,0]
[null,null,null,null,null,null,null,null,null,null,null,null,null,null,null,null,null,null,null,null,null,null,null,null,null,null,null,null,null,null,null,null,null,null,null,null,null,null,null,null,null,null,null,null,null,null,null,null,null,null,null,null,null,null,null,null,null,null,null,null,null,null,{"$f":"C271*$C$11+D271*$D$11+E271*$E$11+F271*$F$11+G271*$G$11+H271*$H$11+I271*$I$11+J271*$J$11+K271*$K$11+L271*$L$11+M271*$M$11+N271*$N$11+O271*$O$11+P271*$P$11+Q271*$Q$11+R271*$R$11+S271*$S$11+T271*$T$11+U271*$U$11+V271*$V$11+W271*$W$11+X271*$X$11+Y271*$Y$11+Z271*$Z$11+AA271*$AA$11+AB271*$AB$11+AC271*$AC$11+AD271*$AD$11+AE271*$AE$11+AF271*$AF$11+AG271*$AG$11+AH271*$AH$11+AI271*$AI$11+AJ271*$AJ$11+AK271*$AK$11+AL271*$AL$11+AM271*$AM$11+AN271*$AN$11+AO271*$AO$11+AP271*$AP$11+AQ271*$AQ$11+AR271*$AR$11+AS271*$AS$11+AT271*$AT$11+AU271*$AU$11+AV271*$AV$11+AW271*$AW$11+AX271*$AX$11+AY271*$AY$11+AZ271*$AZ$11+BA271*$BA$11+BB271*$BB$11+BC271*$BC$11+BD271*$BD$11+BE271*$BE$11+BF271*$BF$11+BG271*$BG$11+BH271*$BH$11+BI271*$BI$11+BJ271*$BJ$11","v":0}]
[null,null,null,null,null,null,null,null,null,null,null,null,null,null,null,null,null,null,null,null,null,null,null,null,null,null,null,null,null,null,null,null,null,null,null,null,null,null,null,null,null,null,null,null,null,null,null,null,null,null,null,null,null,null,null,null,null,null,null,null,null,null,0]
[null,null,null,null,null,null,null,null,null,null,null,null,null,null,null,null,null,null,null,null,null,null,null,null,null,null,null,null,null,null,null,null,null,null,null,null,null,null,null,null,null,null,null,null,null,null,null,null,null,null,null,null,null,null,null,null,null,null,null,null,null,null,0]
[null,null,null,null,null,null,null,null,null,null,null,null,null,null,null,null,null,null,null,null,null,null,null,null,null,null,null,null,null,null,null,null,null,null,null,null,null,null,null,null,null,null,null,null,null,null,null,null,null,null,null,null,null,null,null,null,null,null,null,null,null,null,0]
[null,null,null,null,null,null,null,null,null,null,null,null,null,null,null,null,null,null,null,null,null,null,null,null,null,null,null,null,null,null,null,null,null,null,null,null,null,null,null,null,null,null,null,null,null,null,null,null,null,null,null,null,null,null,null,null,null,null,null,null,null,null,0]
[null,null,null,null,null,null,null,null,null,null,null,null,null,null,null,null,null,null,null,null,null,null,null,null,null,null,null,null,null,null,null,null,null,null,null,null,null,null,null,null,null,null,null,null,null,null,null,null,null,null,null,null,null,null,null,null,null,null,null,null,null,null,0]
[null,null,null,null,null,null,null,null,null,null,null,null,null,null,null,null,null,null,null,null,null,null,null,null,null,null,null,null,null,null,null,null,null,null,null,null,null,null,null,null,null,null,null,null,null,null,null,null,null,null,null,null,null,null,null,null,null,null,null,null,null,null,0]
[null,null,null,null,null,null,null,null,null,null,null,null,null,null,null,null,null,null,null,null,null,null,null,null,null,null,null,null,null,null,null,null,null,null,null,null,null,null,null,null,null,null,null,null,null,null,null,null,null,null,null,null,null,null,null,null,null,null,null,null,null,null,0]
[null,null,null,null,null,null,null,null,null,null,null,null,null,null,null,null,null,null,null,null,null,null,null,null,null,null,null,null,null,null,null,null,null,null,null,null,null,null,null,null,null,null,null,null,null,null,null,null,null,null,null,null,null,null,null,null,null,null,null,null,null,null,0]
[null,null,null,null,null,null,null,null,null,null,null,null,null,null,null,null,null,null,null,null,null,null,null,null,null,null,null,null,null,null,null,null,null,null,null,null,null,null,null,null,null,null,null,null,null,null,null,null,null,null,null,null,null,null,null,null,null,null,null,null,null,null,0]
[null,null,null,null,null,null,null,null,null,null,null,null,null,null,null,null,null,null,null,null,null,null,null,null,null,null,null,null,null,null,null,null,null,null,null,null,null,null,null,null,null,null,null,null,null,null,null,null,null,null,null,null,null,null,null,null,null,null,null,null,null,null,0]
[null,null,null,null,null,null,null,null,null,null,null,null,null,null,null,null,null,null,null,null,null,null,null,null,null,null,null,null,null,null,null,null,null,null,null,null,null,null,null,null,null,null,null,null,null,null,null,null,null,null,null,null,null,null,null,null,null,null,null,null,null,null,0]
[null,null,null,null,null,null,null,null,null,null,null,null,null,null,null,null,null,null,null,null,null,null,null,null,null,null,null,null,null,null,null,null,null,null,null,null,null,null,null,null,null,null,null,null,null,null,null,null,null,null,null,null,null,null,null,null,null,null,null,null,null,null,0]
[null,null,null,null,null,null,null,null,null,null,null,null,null,null,null,null,null,null,null,null,null,null,null,null,null,null,null,null,null,null,null,null,null,null,null,null,null,null,null,null,null,null,null,null,null,null,null,null,null,null,null,null,null,null,null,null,null,null,null,null,null,null,0]
[null,null,null,null,null,null,null,null,null,null,null,null,null,null,null,null,null,null,null,null,null,null,null,null,null,null,null,null,null,null,null,null,null,null,null,null,null,null,null,null,null,null,null,null,null,null,null,null,null,null,null,null,null,null,null,null,null,null,null,null,null,null,0]
[null,null,null,null,null,null,null,null,null,null,null,null,null,null,null,null,null,null,null,null,null,null,null,null,null,null,null,null,null,null,null,null,null,null,null,null,null,null,null,null,null,null,null,null,null,null,null,null,null,null,null,null,null,null,null,null,null,null,null,null,null,null,0]
[null,null,null,null,null,null,null,null,null,null,null,null,null,null,null,null,null,null,null,null,null,null,null,null,null,null,null,null,null,null,null,null,null,null,null,null,null,null,null,null,null,null,null,null,null,null,null,null,null,null,null,null,null,null,null,null,null,null,null,null,null,null,0]
[null,null,null,null,null,null,null,null,null,null,null,null,null,null,null,null,null,null,null,null,null,null,null,null,null,null,null,null,null,null,null,null,null,null,null,null,null,null,null,null,null,null,null,null,null,null,null,null,null,null,null,null,null,null,null,null,null,null,null,null,null,null,0]
[null,null,null,null,null,null,null,null,null,null,null,null,null,null,null,null,null,null,null,null,null,null,null,null,null,null,null,null,null,null,null,null,null,null,null,null,null,null,null,null,null,null,null,null,null,null,null,null,null,null,null,null,null,null,null,null,null,null,null,null,null,null,0]
[null,null,null,null,null,null,null,null,null,null,null,null,null,null,null,null,null,null,null,null,null,null,null,null,null,null,null,null,null,null,null,null,null,null,null,null,null,null,null,null,null,null,null,null,null,null,null,null,null,null,null,null,null,null,null,null,null,null,null,null,null,null,0]
[null,null,null,null,null,null,null,null,null,null,null,null,null,null,null,null,null,null,null,null,null,null,null,null,null,null,null,null,null,null,null,null,null,null,null,null,null,null,null,null,null,null,null,null,null,null,null,null,null,null,null,null,null,null,null,null,null,null,null,null,null,null,0]
[null,null,null,null,null,null,null,null,null,null,null,null,null,null,null,null,null,null,null,null,null,null,null,null,null,null,null,null,null,null,null,null,null,null,null,null,null,null,null,null,null,null,null,null,null,null,null,null,null,null,null,null,null,null,null,null,null,null,null,null,null,null,0]
[null,null,null,null,null,null,null,null,null,null,null,null,null,null,null,null,null,null,null,null,null,null,null,null,null,null,null,null,null,null,null,null,null,null,null,null,null,null,null,null,null,null,null,null,null,null,null,null,null,null,null,null,null,null,null,null,null,null,null,null,null,null,0]
[null,null,null,null,null,null,null,null,null,null,null,null,null,null,null,null,null,null,null,null,null,null,null,null,null,null,null,null,null,null,null,null,null,null,null,null,null,null,null,null,null,null,null,null,null,null,null,null,null,null,null,null,null,null,null,null,null,null,null,null,null,null,0]
[null,null,null,null,null,null,null,null,null,null,null,null,null,null,null,null,null,null,null,null,null,null,null,null,null,null,null,null,null,null,null,null,null,null,null,null,null,null,null,null,null,null,null,null,null,null,null,null,null,null,null,null,null,null,null,null,null,null,null,null,null,null,0]
[null,null,null,null,null,null,null,null,null,null,null,null,null,null,null,null,null,null,null,null,null,null,null,null,null,null,null,null,null,null,null,null,null,null,null,null,null,null,null,null,null,null,null,null,null,null,null,null,null,null,null,null,null,null,null,null,null,null,null,null,null,null,0]
[null,null,null,null,null,null,null,null,null,null,null,null,null,null,null,null,null,null,null,null,null,null,null,null,null,null,null,null,null,null,null,null,null,null,null,null,null,null,null,null,null,null,null,null,null,null,null,null,null,null,null,null,null,null,null,null,null,null,null,null,null,null,0]
[null,null,null,null,null,null,null,null,null,null,null,null,null,null,null,null,null,null,null,null,null,null,null,null,null,null,null,null,null,null,null,null,null,null,null,null,null,null,null,null,null,null,null,null,null,null,null,null,null,null,null,null,null,null,null,null,null,null,null,null,null,null,0]
[null,null,null,null,null,null,null,null,null,null,null,null,null,null,null,null,null,null,null,null,null,null,null,null,null,null,null,null,null,null,null,null,null,null,null,null,null,null,null,null,null,null,null,null,null,null,null,null,null,null,null,null,null,null,null,null,null,null,null,null,null,null,0]
[null,null,null,null,null,null,null,null,null,null,null,null,null,null,null,null,null,null,null,null,null,null,null,null,null,null,null,null,null,null,null,null,null,null,null,null,null,null,null,null,null,null,null,null,null,null,null,null,null,null,null,null,null,null,null,null,null,null,null,null,null,null,0]
[null,null,null,null,null,null,null,null,null,null,null,null,null,null,null,null,null,null,null,null,null,null,null,null,null,null,null,null,null,null,null,null,null,null,null,null,null,null,null,null,null,null,null,null,null,null,null,null,null,null,null,null,null,null,null,null,null,null,null,null,null,null,0]
[null,null,null,null,null,null,null,null,null,null,null,null,null,null,null,null,null,null,null,null,null,null,null,null,null,null,null,null,null,null,null,null,null,null,null,null,null,null,null,null,null,null,null,null,null,null,null,null,null,null,null,null,null,null,null,null,null,null,null,null,null,null,0]
[null,null,null,null,null,null,null,null,null,null,null,null,null,null,null,null,null,null,null,null,null,null,null,null,null,null,null,null,null,null,null,null,null,null,null,null,null,null,null,null,null,null,null,null,null,null,null,null,null,null,null,null,null,null,null,null,null,null,null,null,null,null,0]
[null,null,null,null,null,null,null,null,null,null,null,null,null,null,null,null,null,null,null,null,null,null,null,null,null,null,null,null,null,null,null,null,null,null,null,null,null,null,null,null,null,null,null,null,null,null,null,null,null,null,null,null,null,null,null,null,null,null,null,null,null,null,0]
[null,null,null,null,null,null,null,null,null,null,null,null,null,null,null,null,null,null,null,null,null,null,null,null,null,null,null,null,null,null,null,null,null,null,null,null,null,null,null,null,null,null,null,null,null,null,null,null,null,null,null,null,null,null,null,null,null,null,null,null,null,null,0]
[null,null,null,null,null,null,null,null,null,null,null,null,null,null,null,null,null,null,null,null,null,null,null,null,null,null,null,null,null,null,null,null,null,null,null,null,null,null,null,null,null,null,null,null,null,null,null,null,null,null,null,null,null,null,null,null,null,null,null,null,null,null,0]
[null,null,null,null,null,null,null,null,null,null,null,null,null,null,null,null,null,null,null,null,null,null,null,null,null,null,null,null,null,null,null,null,null,null,null,null,null,null,null,null,null,null,null,null,null,null,null,null,null,null,null,null,null,null,null,null,null,null,null,null,null,null,0]
[null,null,null,null,null,null,null,null,null,null,null,null,null,null,null,null,null,null,null,null,null,null,null,null,null,null,null,null,null,null,null,null,null,null,null,null,null,null,null,null,null,null,null,null,null,null,null,null,null,null,null,null,null,null,null,null,null,null,null,null,null,null,0]
[null,null,null,null,null,null,null,null,null,null,null,null,null,null,null,null,null,null,null,null,null,null,null,null,null,null,null,null,null,null,null,null,null,null,null,null,null,null,null,null,null,null,null,null,null,null,null,null,null,null,null,null,null,null,null,null,null,null,null,null,null,null,0]
[null,null,null,null,null,null,null,null,null,null,null,null,null,null,null,null,null,null,null,null,null,null,null,null,null,null,null,null,null,null,null,null,null,null,null,null,null,null,null,null,null,null,null,null,null,null,null,null,null,null,null,null,null,null,null,null,null,null,null,null,null,null,0]
[null,null,null,null,null,null,null,null,null,null,null,null,null,null,null,null,null,null,null,null,null,null,null,null,null,null,null,null,null,null,null,null,null,null,null,null,null,null,null,null,null,null,null,null,null,null,null,null,null,null,null,null,null,null,null,null,null,null,null,null,null,null,0]
[null,null,null,null,null,null,null,null,null,null,null,null,null,null,null,null,null,null,null,null,null,null,null,null,null,null,null,null,null,null,null,null,null,null,null,null,null,null,null,null,null,null,null,null,null,null,null,null,null,null,null,null,null,null,null,null,null,null,null,null,null,null,0]
[null,null,null,null,null,null,null,null,null,null,null,null,null,null,null,null,null,null,null,null,null,null,null,null,null,null,null,null,null,null,null,null,null,null,null,null,null,null,null,null,null,null,null,null,null,null,null,null,null,null,null,null,null,null,null,null,null,null,null,null,null,null,0]
[null,null,null,null,null,null,null,null,null,null,null,null,null,null,null,null,null,null,null,null,null,null,null,null,null,null,null,null,null,null,null,null,null,null,null,null,null,null,null,null,null,null,null,null,null,null,null,null,null,null,null,null,null,null,null,null,null,null,null,null,null,null,0]
[null,null,null,null,null,null,null,null,null,null,null,null,null,null,null,null,null,null,null,null,null,null,null,null,null,null,null,null,null,null,null,null,null,null,null,null,null,null,null,null,null,null,null,null,null,null,null,null,null,null,null,null,null,null,null,null,null,null,null,null,null,null,0]
[null,null,null,null,null,null,null,null,null,null,null,null,null,null,null,null,null,null,null,null,null,null,null,null,null,null,null,null,null,null,null,null,null,null,null,null,null,null,null,null,null,null,null,null,null,null,null,null,null,null,null,null,null,null,null,null,null,null,null,null,null,null,0]
[null,null,null,null,null,null,null,null,null,null,null,null,null,null,null,null,null,null,null,null,null,null,null,null,null,null,null,null,null,null,null,null,null,null,null,null,null,null,null,null,null,null,null,null,null,null,null,null,null,null,null,null,null,null,null,null,null,null,null,null,null,null,0]
[null,null,null,null,null,null,null,null,null,null,null,null,null,null,null,null,null,null,null,null,null,null,null,null,null,null,null,null,null,null,null,null,null,null,null,null,null,null,null,null,null,null,null,null,null,null,null,null,null,null,null,null,null,null,null,null,null,null,null,null,null,null,0]
[null,null,null,null,null,null,null,null,null,null,null,null,null,null,null,null,null,null,null,null,null,null,null,null,null,null,null,null,null,null,null,null,null,null,null,null,null,null,null,null,null,null,null,null,null,null,null,null,null,null,null,null,null,null,null,null,null,null,null,null,null,null,0]
[null,null,null,null,null,null,null,null,null,null,null,null,null,null,null,null,null,null,null,null,null,null,null,null,null,null,null,null,null,null,null,null,null,null,null,null,null,null,null,null,null,null,null,null,null,null,null,null,null,null,null,null,null,null,null,null,null,null,null,null,null,null,0]
[null,null,null,null,null,null,null,null,null,null,null,null,null,null,null,null,null,null,null,null,null,null,null,null,null,null,null,null,null,null,null,null,null,null,null,null,null,null,null,null,null,null,null,null,null,null,null,null,null,null,null,null,null,null,null,null,null,null,null,null,null,null,0]
[null,null,null,null,null,null,null,null,null,null,null,null,null,null,null,null,null,null,null,null,null,null,null,null,null,null,null,null,null,null,null,null,null,null,null,null,null,null,null,null,null,null,null,null,null,null,null,null,null,null,null,null,null,null,null,null,null,null,null,null,null,null,0]
[null,null,null,null,null,null,null,null,null,null,null,null,null,null,null,null,null,null,null,null,null,null,null,null,null,null,null,null,null,null,null,null,null,null,null,null,null,null,null,null,null,null,null,null,null,null,null,null,null,null,null,null,null,null,null,null,null,null,null,null,null,null,0]
[null,null,null,null,null,null,null,null,null,null,null,null,null,null,null,null,null,null,null,null,null,null,null,null,null,null,null,null,null,null,null,null,null,null,null,null,null,null,null,null,null,null,null,null,null,null,null,null,null,null,null,null,null,null,null,null,null,null,null,null,null,null,0]
[null,null,null,null,null,null,null,null,null,null,null,null,null,null,null,null,null,null,null,null,null,null,null,null,null,null,null,null,null,null,null,null,null,null,null,null,null,null,null,null,null,null,null,null,null,null,null,null,null,null,null,null,null,null,null,null,null,null,null,null,null,null,0]
[null,null,null,null,null,null,null,null,null,null,null,null,null,null,null,null,null,null,null,null,null,null,null,null,null,null,null,null,null,null,null,null,null,null,null,null,null,null,null,null,null,null,null,null,null,null,null,null,null,null,null,null,null,null,null,null,null,null,null,null,null,null,0]
[null,null,null,null,null,null,null,null,null,null,null,null,null,null,null,null,null,null,null,null,null,null,null,null,null,null,null,null,null,null,null,null,null,null,null,null,null,null,null,null,null,null,null,null,null,null,null,null,null,null,null,null,null,null,null,null,null,null,null,null,null,null,0]
[null,null,null,null,null,null,null,null,null,null,null,null,null,null,null,null,null,null,null,null,null,null,null,null,null,null,null,null,null,null,null,null,null,null,null,null,null,null,null,null,null,null,null,null,null,null,null,null,null,null,null,null,null,null,null,null,null,null,null,null,null,null,0]
[null,null,null,null,null,null,null,null,null,null,null,null,null,null,null,null,null,null,null,null,null,null,null,null,null,null,null,null,null,null,null,null,null,null,null,null,null,null,null,null,null,null,null,null,null,null,null,null,null,null,null,null,null,null,null,null,null,null,null,null,null,null,0]
[null,null,null,null,null,null,null,null,null,null,null,null,null,null,null,null,null,null,null,null,null,null,null,null,null,null,null,null,null,null,null,null,null,null,null,null,null,null,null,null,null,null,null,null,null,null,null,null,null,null,null,null,null,null,null,null,null,null,null,null,null,null,0]
[null,null,null,null,null,null,null,null,null,null,null,null,null,null,null,null,null,null,null,null,null,null,null,null,null,null,null,null,null,null,null,null,null,null,null,null,null,null,null,null,null,null,null,null,null,null,null,null,null,null,null,null,null,null,null,null,null,null,null,null,null,null,0]
[null,null,null,null,null,null,null,null,null,null,null,null,null,null,null,null,null,null,null,null,null,null,null,null,null,null,null,null,null,null,null,null,null,null,null,null,null,null,null,null,null,null,null,null,null,null,null,null,null,null,null,null,null,null,null,null,null,null,null,null,null,null,0]
[null,null,null,null,null,null,null,null,null,null,null,null,null,null,null,null,null,null,null,null,null,null,null,null,null,null,null,null,null,null,null,null,null,null,null,null,null,null,null,null,null,null,null,null,null,null,null,null,null,null,null,null,null,null,null,null,null,null,null,null,null,null,0]
[null,null,null,null,null,null,null,null,null,null,null,null,null,null,null,null,null,null,null,null,null,null,null,null,null,null,null,null,null,null,null,null,null,null,null,null,null,null,null,null,null,null,null,null,null,null,null,null,null,null,null,null,null,null,null,null,null,null,null,null,null,null,0]
[null,null,null,null,null,null,null,null,null,null,null,null,null,null,null,null,null,null,null,null,null,null,null,null,null,null,null,null,null,null,null,null,null,null,null,null,null,null,null,null,null,null,null,null,null,null,null,null,null,null,null,null,null,null,null,null,null,null,null,null,null,null,{"$f":"C335*$C$11+D335*$D$11+E335*$E$11+F335*$F$11+G335*$G$11+H335*$H$11+I335*$I$11+J335*$J$11+K335*$K$11+L335*$L$11+M335*$M$11+N335*$N$11+O335*$O$11+P335*$P$11+Q335*$Q$11+R335*$R$11+S335*$S$11+T335*$T$11+U335*$U$11+V335*$V$11+W335*$W$11+X335*$X$11+Y335*$Y$11+Z335*$Z$11+AA335*$AA$11+AB335*$AB$11+AC335*$AC$11+AD335*$AD$11+AE335*$AE$11+AF335*$AF$11+AG335*$AG$11+AH335*$AH$11+AI335*$AI$11+AJ335*$AJ$11+AK335*$AK$11+AL335*$AL$11+AM335*$AM$11+AN335*$AN$11+AO335*$AO$11+AP335*$AP$11+AQ335*$AQ$11+AR335*$AR$11+AS335*$AS$11+AT335*$AT$11+AU335*$AU$11+AV335*$AV$11+AW335*$AW$11+AX335*$AX$11+AY335*$AY$11+AZ335*$AZ$11+BA335*$BA$11+BB335*$BB$11+BC335*$BC$11+BD335*$BD$11+BE335*$BE$11+BF335*$BF$11+BG335*$BG$11+BH335*$BH$11+BI335*$BI$11+BJ335*$BJ$11","v":0}]
[null,null,null,null,null,null,null,null,null,null,null,null,null,null,null,null,null,null,null,null,null,null,null,null,null,null,null,null,null,null,null,null,null,null,null,null,null,null,null,null,null,null,null,null,null,null,null,null,null,null,null,null,null,null,null,null,null,null,null,null,null,null,0]
[null,null,null,null,null,null,null,null,null,null,null,null,null,null,null,null,null,null,null,null,null,null,null,null,null,null,null,null,null,null,null,null,null,null,null,null,null,null,null,null,null,null,null,null,null,null,null,null,null,null,null,null,null,null,null,null,null,null,null,null,null,null,0]
[null,null,null,null,null,null,null,null,null,null,null,null,null,null,null,null,null,null,null,null,null,null,null,null,null,null,null,null,null,null,null,null,null,null,null,null,null,null,null,null,null,null,null,null,null,null,null,null,null,null,null,null,null,null,null,null,null,null,null,null,null,null,0]
[null,null,null,null,null,null,null,null,null,null,null,null,null,null,null,null,null,null,null,null,null,null,null,null,null,null,null,null,null,null,null,null,null,null,null,null,null,null,null,null,null,null,null,null,null,null,null,null,null,null,null,null,null,null,null,null,null,null,null,null,null,null,0]
[null,null,null,null,null,null,null,null,null,null,null,null,null,null,null,null,null,null,null,null,null,null,null,null,null,null,null,null,null,null,null,null,null,null,null,null,null,null,null,null,null,null,null,null,null,null,null,null,null,null,null,null,null,null,null,null,null,null,null,null,null,null,0]
[null,null,null,null,null,null,null,null,null,null,null,null,null,null,null,null,null,null,null,null,null,null,null,null,null,null,null,null,null,null,null,null,null,null,null,null,null,null,null,null,null,null,null,null,null,null,null,null,null,null,null,null,null,null,null,null,null,null,null,null,null,null,0]
[null,null,null,null,null,null,null,null,null,null,null,null,null,null,null,null,null,null,null,null,null,null,null,null,null,null,null,null,null,null,null,null,null,null,null,null,null,null,null,null,null,null,null,null,null,null,null,null,null,null,null,null,null,null,null,null,null,null,null,null,null,null,0]
[null,null,null,null,null,null,null,null,null,null,null,null,null,null,null,null,null,null,null,null,null,null,null,null,null,null,null,null,null,null,null,null,null,null,null,null,null,null,null,null,null,null,null,null,null,null,null,null,null,null,null,null,null,null,null,null,null,null,null,null,null,null,0]
[null,null,null,null,null,null,null,null,null,null,null,null,null,null,null,null,null,null,null,null,null,null,null,null,null,null,null,null,null,null,null,null,null,null,null,null,null,null,null,null,null,null,null,null,null,null,null,null,null,null,null,null,null,null,null,null,null,null,null,null,null,null,0]
[null,null,null,null,null,null,null,null,null,null,null,null,null,null,null,null,null,null,null,null,null,null,null,null,null,null,null,null,null,null,null,null,null,null,null,null,null,null,null,null,null,null,null,null,null,null,null,null,null,null,null,null,null,null,null,null,null,null,null,null,null,null,0]
[null,null,null,null,null,null,null,null,null,null,null,null,null,null,null,null,null,null,null,null,null,null,null,null,null,null,null,null,null,null,null,null,null,null,null,null,null,null,null,null,null,null,null,null,null,null,null,null,null,null,null,null,null,null,null,null,null,null,null,null,null,null,0]
[null,null,null,null,null,null,null,null,null,null,null,null,null,null,null,null,null,null,null,null,null,null,null,null,null,null,null,null,null,null,null,null,null,null,null,null,null,null,null,null,null,null,null,null,null,null,null,null,null,null,null,null,null,null,null,null,null,null,null,null,null,null,0]
[null,null,null,null,null,null,null,null,null,null,null,null,null,null,null,null,null,null,null,null,null,null,null,null,null,null,null,null,null,null,null,null,null,null,null,null,null,null,null,null,null,null,null,null,null,null,null,null,null,null,null,null,null,null,null,null,null,null,null,null,null,null,0]
[null,null,null,null,null,null,null,null,null,null,null,null,null,null,null,null,null,null,null,null,null,null,null,null,null,null,null,null,null,null,null,null,null,null,null,null,null,null,null,null,null,null,null,null,null,null,null,null,null,null,null,null,null,null,null,null,null,null,null,null,null,null,0]
[null,null,null,null,null,null,null,null,null,null,null,null,null,null,null,null,null,null,null,null,null,null,null,null,null,null,null,null,null,null,null,null,null,null,null,null,null,null,null,null,null,null,null,null,null,null,null,null,null,null,null,null,null,null,null,null,null,null,null,null,null,null,0]
[null,null,null,null,null,null,null,null,null,null,null,null,null,null,null,null,null,null,null,null,null,null,null,null,null,null,null,null,null,null,null,null,null,null,null,null,null,null,null,null,null,null,null,null,null,null,null,null,null,null,null,null,null,null,null,null,null,null,null,null,null,null,0]
[null,null,null,null,null,null,null,null,null,null,null,null,null,null,null,null,null,null,null,null,null,null,null,null,null,null,null,null,null,null,null,null,null,null,null,null,null,null,null,null,null,null,null,null,null,null,null,null,null,null,null,null,null,null,null,null,null,null,null,null,null,null,0]
[null,null,null,null,null,null,null,null,null,null,null,null,null,null,null,null,null,null,null,null,null,null,null,null,null,null,null,null,null,null,null,null,null,null,null,null,null,null,null,null,null,null,null,null,null,null,null,null,null,null,null,null,null,null,null,null,null,null,null,null,null,null,0]
[null,null,null,null,null,null,null,null,null,null,null,null,null,null,null,null,null,null,null,null,null,null,null,null,null,null,null,null,null,null,null,null,null,null,null,null,null,null,null,null,null,null,null,null,null,null,null,null,null,null,null,null,null,null,null,null,null,null,null,null,null,null,0]
[null,null,null,null,null,null,null,null,null,null,null,null,null,null,null,null,null,null,null,null,null,null,null,null,null,null,null,null,null,null,null,null,null,null,null,null,null,null,null,null,null,null,null,null,null,null,null,null,null,null,null,null,null,null,null,null,null,null,null,null,null,null,0]
[null,null,null,null,null,null,null,null,null,null,null,null,null,null,null,null,null,null,null,null,null,null,null,null,null,null,null,null,null,null,null,null,null,null,null,null,null,null,null,null,null,null,null,null,null,null,null,null,null,null,null,null,null,null,null,null,null,null,null,null,null,null,0]
[null,null,null,null,null,null,null,null,null,null,null,null,null,null,null,null,null,null,null,null,null,null,null,null,null,null,null,null,null,null,null,null,null,null,null,null,null,null,null,null,null,null,null,null,null,null,null,null,null,null,null,null,null,null,null,null,null,null,null,null,null,null,0]
[null,null,null,null,null,null,null,null,null,null,null,null,null,null,null,null,null,null,null,null,null,null,null,null,null,null,null,null,null,null,null,null,null,null,null,null,null,null,null,null,null,null,null,null,null,null,null,null,null,null,null,null,null,null,null,null,null,null,null,null,null,null,0]
[null,null,null,null,null,null,null,null,null,null,null,null,null,null,null,null,null,null,null,null,null,null,null,null,null,null,null,null,null,null,null,null,null,null,null,null,null,null,null,null,null,null,null,null,null,null,null,null,null,null,null,null,null,null,null,null,null,null,null,null,null,null,0]
[null,null,null,null,null,null,null,null,null,null,null,null,null,null,null,null,null,null,null,null,null,null,null,null,null,null,null,null,null,null,null,null,null,null,null,null,null,null,null,null,null,null,null,null,null,null,null,null,null,null,null,null,null,null,null,null,null,null,null,null,null,null,0]
[null,null,null,null,null,null,null,null,null,null,null,null,null,null,null,null,null,null,null,null,null,null,null,null,null,null,null,null,null,null,null,null,null,null,null,null,null,null,null,null,null,null,null,null,null,null,null,null,null,null,null,null,null,null,null,null,null,null,null,null,null,null,0]
[null,null,null,null,null,null,null,null,null,null,null,null,null,null,null,null,null,null,null,null,null,null,null,null,null,null,null,null,null,null,null,null,null,null,null,null,null,null,null,null,null,null,null,null,null,null,null,null,null,null,null,null,null,null,null,null,null,null,null,null,null,null,0]
[null,null,null,null,null,null,null,null,null,null,null,null,null,null,null,null,null,null,null,null,null,null,null,null,null,null,null,null,null,null,null,null,null,null,null,null,null,null,null,null,null,null,null,null,null,null,null,null,null,null,null,null,null,null,null,null,null,null,null,null,null,null,0]
[null,null,null,null,null,null,null,null,null,null,null,null,null,null,null,null,null,null,null,null,null,null,null,null,null,null,null,null,null,null,null,null,null,null,null,null,null,null,null,null,null,null,null,null,null,null,null,null,null,null,null,null,null,null,null,null,null,null,null,null,null,null,0]
[null,null,null,null,null,null,null,null,null,null,null,null,null,null,null,null,null,null,null,null,null,null,null,null,null,null,null,null,null,null,null,null,null,null,null,null,null,null,null,null,null,null,null,null,null,null,null,null,null,null,null,null,null,null,null,null,null,null,null,null,null,null,0]
[null,null,null,null,null,null,null,null,null,null,null,null,null,null,null,null,null,null,null,null,null,null,null,null,null,null,null,null,null,null,null,null,null,null,null,null,null,null,null,null,null,null,null,null,null,null,null,null,null,null,null,null,null,null,null,null,null,null,null,null,null,null,0]
[null,null,null,null,null,null,null,null,null,null,null,null,null,null,null,null,null,null,null,null,null,null,null,null,null,null,null,null,null,null,null,null,null,null,null,null,null,null,null,null,null,null,null,null,null,null,null,null,null,null,null,null,null,null,null,null,null,null,null,null,null,null,0]
[null,null,null,null,null,null,null,null,null,null,null,null,null,null,null,null,null,null,null,null,null,null,null,null,null,null,null,null,null,null,null,null,null,null,null,null,null,null,null,null,null,null,null,null,null,null,null,null,null,null,null,null,null,null,null,null,null,null,null,null,null,null,0]
[null,null,null,null,null,null,null,null,null,null,null,null,null,null,null,null,null,null,null,null,null,null,null,null,null,null,null,null,null,null,null,null,null,null,null,null,null,null,null,null,null,null,null,null,null,null,null,null,null,null,null,null,null,null,null,null,null,null,null,null,null,null,0]
[null,null,null,null,null,null,null,null,null,null,null,null,null,null,null,null,null,null,null,null,null,null,null,null,null,null,null,null,null,null,null,null,null,null,null,null,null,null,null,null,null,null,null,null,null,null,null,null,null,null,null,null,null,null,null,null,null,null,null,null,null,null,0]
[null,null,null,null,null,null,null,null,null,null,null,null,null,null,null,null,null,null,null,null,null,null,null,null,null,null,null,null,null,null,null,null,null,null,null,null,null,null,null,null,null,null,null,null,null,null,null,null,null,null,null,null,null,null,null,null,null,null,null,null,null,null,0]
[null,null,null,null,null,null,null,null,null,null,null,null,null,null,null,null,null,null,null,null,null,null,null,null,null,null,null,null,null,null,null,null,null,null,null,null,null,null,null,null,null,null,null,null,null,null,null,null,null,null,null,null,null,null,null,null,null,null,null,null,null,null,0]
[null,null,null,null,null,null,null,null,null,null,null,null,null,null,null,null,null,null,null,null,null,null,null,null,null,null,null,null,null,null,null,null,null,null,null,null,null,null,null,null,null,null,null,null,null,null,null,null,null,null,null,null,null,null,null,null,null,null,null,null,null,null,0]
[null,null,null,null,null,null,null,null,null,null,null,null,null,null,null,null,null,null,null,null,null,null,null,null,null,null,null,null,null,null,null,null,null,null,null,null,null,null,null,null,null,null,null,null,null,null,null,null,null,null,null,null,null,null,null,null,null,null,null,null,null,null,0]
[null,null,null,null,null,null,null,null,null,null,null,null,null,null,null,null,null,null,null,null,null,null,null,null,null,null,null,null,null,null,null,null,null,null,null,null,null,null,null,null,null,null,null,null,null,null,null,null,null,null,null,null,null,null,null,null,null,null,null,null,null,null,0]
[null,null,null,null,null,null,null,null,null,null,null,null,null,null,null,null,null,null,null,null,null,null,null,null,null,null,null,null,null,null,null,null,null,null,null,null,null,null,null,null,null,null,null,null,null,null,null,null,null,null,null,null,null,null,null,null,null,null,null,null,null,null,0]
[null,null,null,null,null,null,null,null,null,null,null,null,null,null,null,null,null,null,null,null,null,null,null,null,null,null,null,null,null,null,null,null,null,null,null,null,null,null,null,null,null,null,null,null,null,null,null,null,null,null,null,null,null,null,null,null,null,null,null,null,null,null,0]
[null,null,null,null,null,null,null,null,null,null,null,null,null,null,null,null,null,null,null,null,null,null,null,null,null,null,null,null,null,null,null,null,null,null,null,null,null,null,null,null,null,null,null,null,null,null,null,null,null,null,null,null,null,null,null,null,null,null,null,null,null,null,0]
[null,null,null,null,null,null,null,null,null,null,null,null,null,null,null,null,null,null,null,null,null,null,null,null,null,null,null,null,null,null,null,null,null,null,null,null,null,null,null,null,null,null,null,null,null,null,null,null,null,null,null,null,null,null,null,null,null,null,null,null,null,null,0]
[null,null,null,null,null,null,null,null,null,null,null,null,null,null,null,null,null,null,null,null,null,null,null,null,null,null,null,null,null,null,null,null,null,null,null,null,null,null,null,null,null,null,null,null,null,null,null,null,null,null,null,null,null,null,null,null,null,null,null,null,null,null,0]
[null,null,null,null,null,null,null,null,null,null,null,null,null,null,null,null,null,null,null,null,null,null,null,null,null,null,null,null,null,null,null,null,null,null,null,null,null,null,null,null,null,null,null,null,null,null,null,null,null,null,null,null,null,null,null,null,null,null,null,null,null,null,0]
[null,null,null,null,null,null,null,null,null,null,null,null,null,null,null,null,null,null,null,null,null,null,null,null,null,null,null,null,null,null,null,null,null,null,null,null,null,null,null,null,null,null,null,null,null,null,null,null,null,null,null,null,null,null,null,null,null,null,null,null,null,null,0]
[null,null,null,null,null,null,null,null,null,null,null,null,null,null,null,null,null,null,null,null,null,null,null,null,null,null,null,null,null,null,null,null,null,null,null,null,null,null,null,null,null,null,null,null,null,null,null,null,null,null,null,null,null,null,null,null,null,null,null,null,null,null,0]
[null,null,null,null,null,null,null,null,null,null,null,null,null,null,null,null,null,null,null,null,null,null,null,null,null,null,null,null,null,null,null,null,null,null,null,null,null,null,null,null,null,null,null,null,null,null,null,null,null,null,null,null,null,null,null,null,null,null,null,null,null,null,0]
[null,null,null,null,null,null,null,null,null,null,null,null,null,null,null,null,null,null,null,null,null,null,null,null,null,null,null,null,null,null,null,null,null,null,null,null,null,null,null,null,null,null,null,null,null,null,null,null,null,null,null,null,null,null,null,null,null,null,null,null,null,null,0]
[null,null,null,null,null,null,null,null,null,null,null,null,null,null,null,null,null,null,null,null,null,null,null,null,null,null,null,null,null,null,null,null,null,null,null,null,null,null,null,null,null,null,null,null,null,null,null,null,null,null,null,null,null,null,null,null,null,null,null,null,null,null,0]
[null,null,null,null,null,null,null,null,null,null,null,null,null,null,null,null,null,null,null,null,null,null,null,null,null,null,null,null,null,null,null,null,null,null,null,null,null,null,null,null,null,null,null,null,null,null,null,null,null,null,null,null,null,null,null,null,null,null,null,null,null,null,0]
[null,null,null,null,null,null,null,null,null,null,null,null,null,null,null,null,null,null,null,null,null,null,null,null,null,null,null,null,null,null,null,null,null,null,null,null,null,null,null,null,null,null,null,null,null,null,null,null,null,null,null,null,null,null,null,null,null,null,null,null,null,null,0]
[null,null,null,null,null,null,null,null,null,null,null,null,null,null,null,null,null,null,null,null,null,null,null,null,null,null,null,null,null,null,null,null,null,null,null,null,null,null,null,null,null,null,null,null,null,null,null,null,null,null,null,null,null,null,null,null,null,null,null,null,null,null,0]
[null,null,null,null,null,null,null,null,null,null,null,null,null,null,null,null,null,null,null,null,null,null,null,null,null,null,null,null,null,null,null,null,null,null,null,null,null,null,null,null,null,null,null,null,null,null,null,null,null,null,null,null,null,null,null,null,null,null,null,null,null,null,0]
[null,null,null,null,null,null,null,null,null,null,null,null,null,null,null,null,null,null,null,null,null,null,null,null,null,null,null,null,null,null,null,null,null,null,null,null,null,null,null,null,null,null,null,null,null,null,null,null,null,null,null,null,null,null,null,null,null,null,null,null,null,null,0]
[null,null,null,null,null,null,null,null,null,null,null,null,null,null,null,null,null,null,null,null,null,null,null,null,null,null,null,null,null,null,null,null,null,null,null,null,null,null,null,null,null,null,null,null,null,null,null,null,null,null,null,null,null,null,null,null,null,null,null,null,null,null,0]
[null,null,null,null,null,null,null,null,null,null,null,null,null,null,null,null,null,null,null,null,null,null,null,null,null,null,null,null,null,null,null,null,null,null,null,null,null,null,null,null,null,null,null,null,null,null,null,null,null,null,null,null,null,null,null,null,null,null,null,null,null,null,0]
[null,null,null,null,null,null,null,null,null,null,null,null,null,null,null,null,null,null,null,null,null,null,null,null,null,null,null,null,null,null,null,null,null,null,null,null,null,null,null,null,null,null,null,null,null,null,null,null,null,null,null,null,null,null,null,null,null,null,null,null,null,null,0]
[null,null,null,null,null,null,null,null,null,null,null,null,null,null,null,null,null,null,null,null,null,null,null,null,null,null,null,null,null,null,null,null,null,null,null,null,null,null,null,null,null,null,null,null,null,null,null,null,null,null,null,null,null,null,null,null,null,null,null,null,null,null,0]
[null,null,null,null,null,null,null,null,null,null,null,null,null,null,null,null,null,null,null,null,null,null,null,null,null,null,null,null,null,null,null,null,null,null,null,null,null,null,null,null,null,null,null,null,null,null,null,null,null,null,null,null,null,null,null,null,null,null,null,null,null,null,0]
[null,null,null,null,null,null,null,null,null,null,null,null,null,null,null,null,null,null,null,null,null,null,null,null,null,null,null,null,null,null,null,null,null,null,null,null,null,null,null,null,null,null,null,null,null,null,null,null,null,null,null,null,null,null,null,null,null,null,null,null,null,null,0]
[null,null,null,null,null,null,null,null,null,null,null,null,null,null,null,null,null,null,null,null,null,null,null,null,null,null,null,null,null,null,null,null,null,null,null,null,null,null,null,null,null,null,null,null,null,null,null,null,null,null,null,null,null,null,null,null,null,null,null,null,null,null,0]
[null,null,null,null,null,null,null,null,null,null,null,null,null,null,null,null,null,null,null,null,null,null,null,null,null,null,null,null,null,null,null,null,null,null,null,null,null,null,null,null,null,null,null,null,null,null,null,null,null,null,null,null,null,null,null,null,null,null,null,null,null,null,{"$f":"C399*$C$11+D399*$D$11+E399*$E$11+F399*$F$11+G399*$G$11+H399*$H$11+I399*$I$11+J399*$J$11+K399*$K$11+L399*$L$11+M399*$M$11+N399*$N$11+O399*$O$11+P399*$P$11+Q399*$Q$11+R399*$R$11+S399*$S$11+T399*$T$11+U399*$U$11+V399*$V$11+W399*$W$11+X399*$X$11+Y399*$Y$11+Z399*$Z$11+AA399*$AA$11+AB399*$AB$11+AC399*$AC$11+AD399*$AD$11+AE399*$AE$11+AF399*$AF$11+AG399*$AG$11+AH399*$AH$11+AI399*$AI$11+AJ399*$AJ$11+AK399*$AK$11+AL399*$AL$11+AM399*$AM$11+AN399*$AN$11+AO399*$AO$11+AP399*$AP$11+AQ399*$AQ$11+AR399*$AR$11+AS399*$AS$11+AT399*$AT$11+AU399*$AU$11+AV399*$AV$11+AW399*$AW$11+AX399*$AX$11+AY399*$AY$11+AZ399*$AZ$11+BA399*$BA$11+BB399*$BB$11+BC399*$BC$11+BD399*$BD$11+BE399*$BE$11+BF399*$BF$11+BG399*$BG$11+BH399*$BH$11+BI399*$BI$11+BJ399*$BJ$11","v":0}]
[null,null,null,null,null,null,null,null,null,null,null,null,null,null,null,null,null,null,null,null,null,null,null,null,null,null,null,null,null,null,null,null,null,null,null,null,null,null,null,null,null,null,null,null,null,null,null,null,null,null,null,null,null,null,null,null,null,null,null,null,null,null,0]
[null,null,null,null,null,null,null,null,null,null,null,null,null,null,null,null,null,null,null,null,null,null,null,null,null,null,null,null,null,null,null,null,null,null,null,null,null,null,null,null,null,null,null,null,null,null,null,null,null,null,null,null,null,null,null,null,null,null,null,null,null,null,0]
[null,null,null,null,null,null,null,null,null,null,null,null,null,null,null,null,null,null,null,null,null,null,null,null,null,null,null,null,null,null,null,null,null,null,null,null,null,null,null,null,null,null,null,null,null,null,null,null,null,null,null,null,null,null,null,null,null,null,null,null,null,null,0]
[null,null,null,null,null,null,null,null,null,null,null,null,null,null,null,null,null,null,null,null,null,null,null,null,null,null,null,null,null,null,null,null,null,null,null,null,null,null,null,null,null,null,null,null,null,null,null,null,null,null,null,null,null,null,null,null,null,null,null,null,null,null,0]
[null,null,null,null,null,null,null,null,null,null,null,null,null,null,null,null,null,null,null,null,null,null,null,null,null,null,null,null,null,null,null,null,null,null,null,null,null,null,null,null,null,null,null,null,null,null,null,null,null,null,null,null,null,null,null,null,null,null,null,null,null,null,0]
[null,null,null,null,null,null,null,null,null,null,null,null,null,null,null,null,null,null,null,null,null,null,null,null,null,null,null,null,null,null,null,null,null,null,null,null,null,null,null,null,null,null,null,null,null,null,null,null,null,null,null,null,null,null,null,null,null,null,null,null,null,null,0]
[null,null,null,null,null,null,null,null,null,null,null,null,null,null,null,null,null,null,null,null,null,null,null,null,null,null,null,null,null,null,null,null,null,null,null,null,null,null,null,null,null,null,null,null,null,null,null,null,null,null,null,null,null,null,null,null,null,null,null,null,null,null,0]
[null,null,null,null,null,null,null,null,null,null,null,null,null,null,null,null,null,null,null,null,null,null,null,null,null,null,null,null,null,null,null,null,null,null,null,null,null,null,null,null,null,null,null,null,null,null,null,null,null,null,null,null,null,null,null,null,null,null,null,null,null,null,0]
[null,null,null,null,null,null,null,null,null,null,null,null,null,null,null,null,null,null,null,null,null,null,null,null,null,null,null,null,null,null,null,null,null,null,null,null,null,null,null,null,null,null,null,null,null,null,null,null,null,null,null,null,null,null,null,null,null,null,null,null,null,null,0]
[null,null,null,null,null,null,null,null,null,null,null,null,null,null,null,null,null,null,null,null,null,null,null,null,null,null,null,null,null,null,null,null,null,null,null,null,null,null,null,null,null,null,null,null,null,null,null,null,null,null,null,null,null,null,null,null,null,null,null,null,null,null,0]
[null,null,null,null,null,null,null,null,null,null,null,null,null,null,null,null,null,null,null,null,null,null,null,null,null,null,null,null,null,null,null,null,null,null,null,null,null,null,null,null,null,null,null,null,null,null,null,null,null,null,null,null,null,null,null,null,null,null,null,null,null,null,0]
[null,null,null,null,null,null,null,null,null,null,null,null,null,null,null,null,null,null,null,null,null,null,null,null,null,null,null,null,null,null,null,null,null,null,null,null,null,null,null,null,null,null,null,null,null,null,null,null,null,null,null,null,null,null,null,null,null,null,null,null,null,null,0]
[null,null,null,null,null,null,null,null,null,null,null,null,null,null,null,null,null,null,null,null,null,null,null,null,null,null,null,null,null,null,null,null,null,null,null,null,null,null,null,null,null,null,null,null,null,null,null,null,null,null,null,null,null,null,null,null,null,null,null,null,null,null,0]
[null,null,null,null,null,null,null,null,null,null,null,null,null,null,null,null,null,null,null,null,null,null,null,null,null,null,null,null,null,null,null,null,null,null,null,null,null,null,null,null,null,null,null,null,null,null,null,null,null,null,null,null,null,null,null,null,null,null,null,null,null,null,0]
[null,null,null,null,null,null,null,null,null,null,null,null,null,null,null,null,null,null,null,null,null,null,null,null,null,null,null,null,null,null,null,null,null,null,null,null,null,null,null,null,null,null,null,null,null,null,null,null,null,null,null,null,null,null,null,null,null,null,null,null,null,null,0]
[null,null,null,null,null,null,null,null,null,null,null,null,null,null,null,null,null,null,null,null,null,null,null,null,null,null,null,null,null,null,null,null,null,null,null,null,null,null,null,null,null,null,null,null,null,null,null,null,null,null,null,null,null,null,null,null,null,null,null,null,null,null,0]
[null,null,null,null,null,null,null,null,null,null,null,null,null,null,null,null,null,null,null,null,null,null,null,null,null,null,null,null,null,null,null,null,null,null,null,null,null,null,null,null,null,null,null,null,null,null,null,null,null,null,null,null,null,null,null,null,null,null,null,null,null,null,0]
[null,null,null,null,null,null,null,null,null,null,null,null,null,null,null,null,null,null,null,null,null,null,null,null,null,null,null,null,null,null,null,null,null,null,null,null,null,null,null,null,null,null,null,null,null,null,null,null,null,null,null,null,null,null,null,null,null,null,null,null,null,null,0]
[null,null,null,null,null,null,null,null,null,null,null,null,null,null,null,null,null,null,null,null,null,null,null,null,null,null,null,null,null,null,null,null,null,null,null,null,null,null,null,null,null,null,null,null,null,null,null,null,null,null,null,null,null,null,null,null,null,null,null,null,null,null,0]
[null,null,null,null,null,null,null,null,null,null,null,null,null,null,null,null,null,null,null,null,null,null,null,null,null,null,null,null,null,null,null,null,null,null,null,null,null,null,null,null,null,null,null,null,null,null,null,null,null,null,null,null,null,null,null,null,null,null,null,null,null,null,0]
[null,null,null,null,null,null,null,null,null,null,null,null,null,null,null,null,null,null,null,null,null,null,null,null,null,null,null,null,null,null,null,null,null,null,null,null,null,null,null,null,null,null,null,null,null,null,null,null,null,null,null,null,null,null,null,null,null,null,null,null,null,null,0]
[null,null,null,null,null,null,null,null,null,null,null,null,null,null,null,null,null,null,null,null,null,null,null,null,null,null,null,null,null,null,null,null,null,null,null,null,null,null,null,null,null,null,null,null,null,null,null,null,null,null,null,null,null,null,null,null,null,null,null,null,null,null,0]
[null,null,null,null,null,null,null,null,null,null,null,null,null,null,null,null,null,null,null,null,null,null,null,null,null,null,null,null,null,null,null,null,null,null,null,null,null,null,null,null,null,null,null,null,null,null,null,null,null,null,null,null,null,null,null,null,null,null,null,null,null,null,0]
[null,null,null,null,null,null,null,null,null,null,null,null,null,null,null,null,null,null,null,null,null,null,null,null,null,null,null,null,null,null,null,null,null,null,null,null,null,null,null,null,null,null,null,null,null,null,null,null,null,null,null,null,null,null,null,null,null,null,null,null,null,null,0]
[null,null,null,null,null,null,null,null,null,null,null,null,null,null,null,null,null,null,null,null,null,null,null,null,null,null,null,null,null,null,null,null,null,null,null,null,null,null,null,null,null,null,null,null,null,null,null,null,null,null,null,null,null,null,null,null,null,null,null,null,null,null,0]
[null,null,null,null,null,null,null,null,null,null,null,null,null,null,null,null,null,null,null,null,null,null,null,null,null,null,null,null,null,null,null,null,null,null,null,null,null,null,null,null,null,null,null,null,null,null,null,null,null,null,null,null,null,null,null,null,null,null,null,null,null,null,0]
[null,null,null,null,null,null,null,null,null,null,null,null,null,null,null,null,null,null,null,null,null,null,null,null,null,null,null,null,null,null,null,null,null,null,null,null,null,null,null,null,null,null,null,null,null,null,null,null,null,null,null,null,null,null,null,null,null,null,null,null,null,null,0]
[null,null,null,null,null,null,null,null,null,null,null,null,null,null,null,null,null,null,null,null,null,null,null,null,null,null,null,null,null,null,null,null,null,null,null,null,null,null,null,null,null,null,null,null,null,null,null,null,null,null,null,null,null,null,null,null,null,null,null,null,null,null,0]
[null,null,null,null,null,null,null,null,null,null,null,null,null,null,null,null,null,null,null,null,null,null,null,null,null,null,null,null,null,null,null,null,null,null,null,null,null,null,null,null,null,null,null,null,null,null,null,null,null,null,null,null,null,null,null,null,null,null,null,null,null,null,0]
[null,null,null,null,null,null,null,null,null,null,null,null,null,null,null,null,null,null,null,null,null,null,null,null,null,null,null,null,null,null,null,null,null,null,null,null,null,null,null,null,null,null,null,null,null,null,null,null,null,null,null,null,null,null,null,null,null,null,null,null,null,null,0]
[null,null,null,null,null,null,null,null,null,null,null,null,null,null,null,null,null,null,null,null,null,null,null,null,null,null,null,null,null,null,null,null,null,null,null,null,null,null,null,null,null,null,null,null,null,null,null,null,null,null,null,null,null,null,null,null,null,null,null,null,null,null,0]
[null,null,null,null,null,null,null,null,null,null,null,null,null,null,null,null,null,null,null,null,null,null,null,null,null,null,null,null,null,null,null,null,null,null,null,null,null,null,null,null,null,null,null,null,null,null,null,null,null,null,null,null,null,null,null,null,null,null,null,null,null,null,0]
[null,null,null,null,null,null,null,null,null,null,null,null,null,null,null,null,null,null,null,null,null,null,null,null,null,null,null,null,null,null,null,null,null,null,null,null,null,null,null,null,null,null,null,null,null,null,null,null,null,null,null,null,null,null,null,null,null,null,null,null,null,null,0]
[null,null,null,null,null,null,null,null,null,null,null,null,null,null,null,null,null,null,null,null,null,null,null,null,null,null,null,null,null,null,null,null,null,null,null,null,null,null,null,null,null,null,null,null,null,null,null,null,null,null,null,null,null,null,null,null,null,null,null,null,null,null,0]
[null,null,null,null,null,null,null,null,null,null,null,null,null,null,null,null,null,null,null,null,null,null,null,null,null,null,null,null,null,null,null,null,null,null,null,null,null,null,null,null,null,null,null,null,null,null,null,null,null,null,null,null,null,null,null,null,null,null,null,null,null,null,0]
[null,null,null,null,null,null,null,null,null,null,null,null,null,null,null,null,null,null,null,null,null,null,null,null,null,null,null,null,null,null,null,null,null,null,null,null,null,null,null,null,null,null,null,null,null,null,null,null,null,null,null,null,null,null,null,null,null,null,null,null,null,null,0]
[null,null,null,null,null,null,null,null,null,null,null,null,null,null,null,null,null,null,null,null,null,null,null,null,null,null,null,null,null,null,null,null,null,null,null,null,null,null,null,null,null,null,null,null,null,null,null,null,null,null,null,null,null,null,null,null,null,null,null,null,null,null,0]
[null,null,null,null,null,null,null,null,null,null,null,null,null,null,null,null,null,null,null,null,null,null,null,null,null,null,null,null,null,null,null,null,null,null,null,null,null,null,null,null,null,null,null,null,null,null,null,null,null,null,null,null,null,null,null,null,null,null,null,null,null,null,0]
[null,null,null,null,null,null,null,null,null,null,null,null,null,null,null,null,null,null,null,null,null,null,null,null,null,null,null,null,null,null,null,null,null,null,null,null,null,null,null,null,null,null,null,null,null,null,null,null,null,null,null,null,null,null,null,null,null,null,null,null,null,null,0]
[null,null,null,null,null,null,null,null,null,null,null,null,null,null,null,null,null,null,null,null,null,null,null,null,null,null,null,null,null,null,null,null,null,null,null,null,null,null,null,null,null,null,null,null,null,null,null,null,null,null,null,null,null,null,null,null,null,null,null,null,null,null,0]
[null,null,null,null,null,null,null,null,null,null,null,null,null,null,null,null,null,null,null,null,null,null,null,null,null,null,null,null,null,null,null,null,null,null,null,null,null,null,null,null,null,null,null,null,null,null,null,null,null,null,null,null,null,null,null,null,null,null,null,null,null,null,0]
[null,null,null,null,null,null,null,null,null,null,null,null,null,null,null,null,null,null,null,null,null,null,null,null,null,null,null,null,null,null,null,null,null,null,null,null,null,null,null,null,null,null,null,null,null,null,null,null,null,null,null,null,null,null,null,null,null,null,null,null,null,null,0]
[null,null,null,null,null,null,null,null,null,null,null,null,null,null,null,null,null,null,null,null,null,null,null,null,null,null,null,null,null,null,null,null,null,null,null,null,null,null,null,null,null,null,null,null,null,null,null,null,null,null,null,null,null,null,null,null,null,null,null,null,null,null,0]
[null,null,null,null,null,null,null,null,null,null,null,null,null,null,null,null,null,null,null,null,null,null,null,null,null,null,null,null,null,null,null,null,null,null,null,null,null,null,null,null,null,null,null,null,null,null,null,null,null,null,null,null,null,null,null,null,null,null,null,null,null,null,0]
[null,null,null,null,null,null,null,null,null,null,null,null,null,null,null,null,null,null,null,null,null,null,null,null,null,null,null,null,null,null,null,null,null,null,null,null,null,null,null,null,null,null,null,null,null,null,null,null,null,null,null,null,null,null,null,null,null,null,null,null,null,null,0]
[null,null,null,null,null,null,null,null,null,null,null,null,null,null,null,null,null,null,null,null,null,null,null,null,null,null,null,null,null,null,null,null,null,null,null,null,null,null,null,null,null,null,null,null,null,null,null,null,null,null,null,null,null,null,null,null,null,null,null,null,null,null,0]
[null,null,null,null,null,null,null,null,null,null,null,null,null,null,null,null,null,null,null,null,null,null,null,null,null,null,null,null,null,null,null,null,null,null,null,null,null,null,null,null,null,null,null,null,null,null,null,null,null,null,null,null,null,null,null,null,null,null,null,null,null,null,0]
[null,null,null,null,null,null,null,null,null,null,null,null,null,null,null,null,null,null,null,null,null,null,null,null,null,null,null,null,null,null,null,null,null,null,null,null,null,null,null,null,null,null,null,null,null,null,null,null,null,null,null,null,null,null,null,null,null,null,null,null,null,null,0]
[null,null,null,null,null,null,null,null,null,null,null,null,null,null,null,null,null,null,null,null,null,null,null,null,null,null,null,null,null,null,null,null,null,null,null,null,null,null,null,null,null,null,null,null,null,null,null,null,null,null,null,null,null,null,null,null,null,null,null,null,null,null,0]
[null,null,null,null,null,null,null,null,null,null,null,null,null,null,null,null,null,null,null,null,null,null,null,null,null,null,null,null,null,null,null,null,null,null,null,null,null,null,null,null,null,null,null,null,null,null,null,null,null,null,null,null,null,null,null,null,null,null,null,null,null,null,0]
[null,null,null,null,null,null,null,null,null,null,null,null,null,null,null,null,null,null,null,null,null,null,null,null,null,null,null,null,null,null,null,null,null,null,null,null,null,null,null,null,null,null,null,null,null,null,null,null,null,null,null,null,null,null,null,null,null,null,null,null,null,null,0]
[null,null,null,null,null,null,null,null,null,null,null,null,null,null,null,null,null,null,null,null,null,null,null,null,null,null,null,null,null,null,null,null,null,null,null,null,null,null,null,null,null,null,null,null,null,null,null,null,null,null,null,null,null,null,null,null,null,null,null,null,null,null,0]
[null,null,null,null,null,null,null,null,null,null,null,null,null,null,null,null,null,null,null,null,null,null,null,null,null,null,null,null,null,null,null,null,null,null,null,null,null,null,null,null,null,null,null,null,null,null,null,null,null,null,null,null,null,null,null,null,null,null,null,null,null,null,0]
[null,null,null,null,null,null,null,null,null,null,null,null,null,null,null,null,null,null,null,null,null,null,null,null,null,null,null,null,null,null,null,null,null,null,null,null,null,null,null,null,null,null,null,null,null,null,null,null,null,null,null,null,null,null,null,null,null,null,null,null,null,null,0]
[null,null,null,null,null,null,null,null,null,null,null,null,null,null,null,null,null,null,null,null,null,null,null,null,null,null,null,null,null,null,null,null,null,null,null,null,null,null,null,null,null,null,null,null,null,null,null,null,null,null,null,null,null,null,null,null,null,null,null,null,null,null,0]
[null,null,null,null,null,null,null,null,null,null,null,null,null,null,null,null,null,null,null,null,null,null,null,null,null,null,null,null,null,null,null,null,null,null,null,null,null,null,null,null,null,null,null,null,null,null,null,null,null,null,null,null,null,null,null,null,null,null,null,null,null,null,0]
[null,null,null,null,null,null,null,null,null,null,null,null,null,null,null,null,null,null,null,null,null,null,null,null,null,null,null,null,null,null,null,null,null,null,null,null,null,null,null,null,null,null,null,null,null,null,null,null,null,null,null,null,null,null,null,null,null,null,null,null,null,null,0]
[null,null,null,null,null,null,null,null,null,null,null,null,null,null,null,null,null,null,null,null,null,null,null,null,null,null,null,null,null,null,null,null,null,null,null,null,null,null,null,null,null,null,null,null,null,null,null,null,null,null,null,null,null,null,null,null,null,null,null,null,null,null,0]
[null,null,null,null,null,null,null,null,null,null,null,null,null,null,null,null,null,null,null,null,null,null,null,null,null,null,null,null,null,null,null,null,null,null,null,null,null,null,null,null,null,null,null,null,null,null,null,null,null,null,null,null,null,null,null,null,null,null,null,null,null,null,0]
[null,null,null,null,null,null,null,null,null,null,null,null,null,null,null,null,null,null,null,null,null,null,null,null,null,null,null,null,null,null,null,null,null,null,null,null,null,null,null,null,null,null,null,null,null,null,null,null,null,null,null,null,null,null,null,null,null,null,null,null,null,null,0]
[null,null,null,null,null,null,null,null,null,null,null,null,null,null,null,null,null,null,null,null,null,null,null,null,null,null,null,null,null,null,null,null,null,null,null,null,null,null,null,null,null,null,null,null,null,null,null,null,null,null,null,null,null,null,null,null,null,null,null,null,null,null,0]
[null,null,null,null,null,null,null,null,null,null,null,null,null,null,null,null,null,null,null,null,null,null,null,null,null,null,null,null,null,null,null,null,null,null,null,null,null,null,null,null,null,null,null,null,null,null,null,null,null,null,null,null,null,null,null,null,null,null,null,null,null,null,0]
[null,null,null,null,null,null,null,null,null,null,null,null,null,null,null,null,null,null,null,null,null,null,null,null,null,null,null,null,null,null,null,null,null,null,null,null,null,null,null,null,null,null,null,null,null,null,null,null,null,null,null,null,null,null,null,null,null,null,null,null,null,null,0]
[null,null,null,null,null,null,null,null,null,null,null,null,null,null,null,null,null,null,null,null,null,null,null,null,null,null,null,null,null,null,null,null,null,null,null,null,null,null,null,null,null,null,null,null,null,null,null,null,null,null,null,null,null,null,null,null,null,null,null,null,null,null,{"$f":"C463*$C$11+D463*$D$11+E463*$E$11+F463*$F$11+G463*$G$11+H463*$H$11+I463*$I$11+J463*$J$11+K463*$K$11+L463*$L$11+M463*$M$11+N463*$N$11+O463*$O$11+P463*$P$11+Q463*$Q$11+R463*$R$11+S463*$S$11+T463*$T$11+U463*$U$11+V463*$V$11+W463*$W$11+X463*$X$11+Y463*$Y$11+Z463*$Z$11+AA463*$AA$11+AB463*$AB$11+AC463*$AC$11+AD463*$AD$11+AE463*$AE$11+AF463*$AF$11+AG463*$AG$11+AH463*$AH$11+AI463*$AI$11+AJ463*$AJ$11+AK463*$AK$11+AL463*$AL$11+AM463*$AM$11+AN463*$AN$11+AO463*$AO$11+AP463*$AP$11+AQ463*$AQ$11+AR463*$AR$11+AS463*$AS$11+AT463*$AT$11+AU463*$AU$11+AV463*$AV$11+AW463*$AW$11+AX463*$AX$11+AY463*$AY$11+AZ463*$AZ$11+BA463*$BA$11+BB463*$BB$11+BC463*$BC$11+BD463*$BD$11+BE463*$BE$11+BF463*$BF$11+BG463*$BG$11+BH463*$BH$11+BI463*$BI$11+BJ463*$BJ$11","v":0}]
[null,null,null,null,null,null,null,null,null,null,null,null,null,null,null,null,null,null,null,null,null,null,null,null,null,null,null,null,null,null,null,null,null,null,null,null,null,null,null,null,null,null,null,null,null,null,null,null,null,null,null,null,null,null,null,null,null,null,null,null,null,null,0]
[null,null,null,null,null,null,null,null,null,null,null,null,null,null,null,null,null,null,null,null,null,null,null,null,null,null,null,null,null,null,null,null,null,null,null,null,null,null,null,null,null,null,null,null,null,null,null,null,null,null,null,null,null,null,null,null,null,null,null,null,null,null,0]
[null,null,null,null,null,null,null,null,null,null,null,null,null,null,null,null,null,null,null,null,null,null,null,null,null,null,null,null,null,null,null,null,null,null,null,null,null,null,null,null,null,null,null,null,null,null,null,null,null,null,null,null,null,null,null,null,null,null,null,null,null,null,0]
[null,null,null,null,null,null,null,null,null,null,null,null,null,null,null,null,null,null,null,null,null,null,null,null,null,null,null,null,null,null,null,null,null,null,null,null,null,null,null,null,null,null,null,null,null,null,null,null,null,null,null,null,null,null,null,null,null,null,null,null,null,null,0]
[null,null,null,null,null,null,null,null,null,null,null,null,null,null,null,null,null,null,null,null,null,null,null,null,null,null,null,null,null,null,null,null,null,null,null,null,null,null,null,null,null,null,null,null,null,null,null,null,null,null,null,null,null,null,null,null,null,null,null,null,null,null,0]
[null,null,null,null,null,null,null,null,null,null,null,null,null,null,null,null,null,null,null,null,null,null,null,null,null,null,null,null,null,null,null,null,null,null,null,null,null,null,null,null,null,null,null,null,null,null,null,null,null,null,null,null,null,null,null,null,null,null,null,null,null,null,0]
[null,null,null,null,null,null,null,null,null,null,null,null,null,null,null,null,null,null,null,null,null,null,null,null,null,null,null,null,null,null,null,null,null,null,null,null,null,null,null,null,null,null,null,null,null,null,null,null,null,null,null,null,null,null,null,null,null,null,null,null,null,null,0]
[null,null,null,null,null,null,null,null,null,null,null,null,null,null,null,null,null,null,null,null,null,null,null,null,null,null,null,null,null,null,null,null,null,null,null,null,null,null,null,null,null,null,null,null,null,null,null,null,null,null,null,null,null,null,null,null,null,null,null,null,null,null,0]
[null,null,null,null,null,null,null,null,null,null,null,null,null,null,null,null,null,null,null,null,null,null,null,null,null,null,null,null,null,null,null,null,null,null,null,null,null,null,null,null,null,null,null,null,null,null,null,null,null,null,null,null,null,null,null,null,null,null,null,null,null,null,0]
[null,null,null,null,null,null,null,null,null,null,null,null,null,null,null,null,null,null,null,null,null,null,null,null,null,null,null,null,null,null,null,null,null,null,null,null,null,null,null,null,null,null,null,null,null,null,null,null,null,null,null,null,null,null,null,null,null,null,null,null,null,null,0]
[null,null,null,null,null,null,null,null,null,null,null,null,null,null,null,null,null,null,null,null,null,null,null,null,null,null,null,null,null,null,null,null,null,null,null,null,null,null,null,null,null,null,null,null,null,null,null,null,null,null,null,null,null,null,null,null,null,null,null,null,null,null,0]
[null,null,null,null,null,null,null,null,null,null,null,null,null,null,null,null,null,null,null,null,null,null,null,null,null,null,null,null,null,null,null,null,null,null,null,null,null,null,null,null,null,null,null,null,null,null,null,null,null,null,null,null,null,null,null,null,null,null,null,null,null,null,0]
[null,null,null,null,null,null,null,null,null,null,null,null,null,null,null,null,null,null,null,null,null,null,null,null,null,null,null,null,null,null,null,null,null,null,null,null,null,null,null,null,null,null,null,null,null,null,null,null,null,null,null,null,null,null,null,null,null,null,null,null,null,null,0]
[null,null,null,null,null,null,null,null,null,null,null,null,null,null,null,null,null,null,null,null,null,null,null,null,null,null,null,null,null,null,null,null,null,null,null,null,null,null,null,null,null,null,null,null,null,null,null,null,null,null,null,null,null,null,null,null,null,null,null,null,null,null,0]
[null,null,null,null,null,null,null,null,null,null,null,null,null,null,null,null,null,null,null,null,null,null,null,null,null,null,null,null,null,null,null,null,null,null,null,null,null,null,null,null,null,null,null,null,null,null,null,null,null,null,null,null,null,null,null,null,null,null,null,null,null,null,0]
[null,null,null,null,null,null,null,null,null,null,null,null,null,null,null,null,null,null,null,null,null,null,null,null,null,null,null,null,null,null,null,null,null,null,null,null,null,null,null,null,null,null,null,null,null,null,null,null,null,null,null,null,null,null,null,null,null,null,null,null,null,null,0]
[null,null,null,null,null,null,null,null,null,null,null,null,null,null,null,null,null,null,null,null,null,null,null,null,null,null,null,null,null,null,null,null,null,null,null,null,null,null,null,null,null,null,null,null,null,null,null,null,null,null,null,null,null,null,null,null,null,null,null,null,null,null,0]
[null,null,null,null,null,null,null,null,null,null,null,null,null,null,null,null,null,null,null,null,null,null,null,null,null,null,null,null,null,null,null,null,null,null,null,null,null,null,null,null,null,null,null,null,null,null,null,null,null,null,null,null,null,null,null,null,null,null,null,null,null,null,0]
[null,null,null,null,null,null,null,null,null,null,null,null,null,null,null,null,null,null,null,null,null,null,null,null,null,null,null,null,null,null,null,null,null,null,null,null,null,null,null,null,null,null,null,null,null,null,null,null,null,null,null,null,null,null,null,null,null,null,null,null,null,null,0]
[null,null,null,null,null,null,null,null,null,null,null,null,null,null,null,null,null,null,null,null,null,null,null,null,null,null,null,null,null,null,null,null,null,null,null,null,null,null,null,null,null,null,null,null,null,null,null,null,null,null,null,null,null,null,null,null,null,null,null,null,null,null,0]
[null,null,null,null,null,null,null,null,null,null,null,null,null,null,null,null,null,null,null,null,null,null,null,null,null,null,null,null,null,null,null,null,null,null,null,null,null,null,null,null,null,null,null,null,null,null,null,null,null,null,null,null,null,null,null,null,null,null,null,null,null,null,0]
[null,null,null,null,null,null,null,null,null,null,null,null,null,null,null,null,null,null,null,null,null,null,null,null,null,null,null,null,null,null,null,null,null,null,null,null,null,null,null,null,null,null,null,null,null,null,null,null,null,null,null,null,null,null,null,null,null,null,null,null,null,null,0]
[null,null,null,null,null,null,null,null,null,null,null,null,null,null,null,null,null,null,null,null,null,null,null,null,null,null,null,null,null,null,null,null,null,null,null,null,null,null,null,null,null,null,null,null,null,null,null,null,null,null,null,null,null,null,null,null,null,null,null,null,null,null,0]
[null,null,null,null,null,null,null,null,null,null,null,null,null,null,null,null,null,null,null,null,null,null,null,null,null,null,null,null,null,null,null,null,null,null,null,null,null,null,null,null,null,null,null,null,null,null,null,null,null,null,null,null,null,null,null,null,null,null,null,null,null,null,0]
[null,null,null,null,null,null,null,null,null,null,null,null,null,null,null,null,null,null,null,null,null,null,null,null,null,null,null,null,null,null,null,null,null,null,null,null,null,null,null,null,null,null,null,null,null,null,null,null,null,null,null,null,null,null,null,null,null,null,null,null,null,null,0]
[null,null,null,null,null,null,null,null,null,null,null,null,null,null,null,null,null,null,null,null,null,null,null,null,null,null,null,null,null,null,null,null,null,null,null,null,null,null,null,null,null,null,null,null,null,null,null,null,null,null,null,null,null,null,null,null,null,null,null,null,null,null,0]
[null,null,null,null,null,null,null,null,null,null,null,null,null,null,null,null,null,null,null,null,null,null,null,null,null,null,null,null,null,null,null,null,null,null,null,null,null,null,null,null,null,null,null,null,null,null,null,null,null,null,null,null,null,null,null,null,null,null,null,null,null,null,0]
[null,null,null,null,null,null,null,null,null,null,null,null,null,null,null,null,null,null,null,null,null,null,null,null,null,null,null,null,null,null,null,null,null,null,null,null,null,null,null,null,null,null,null,null,null,null,null,null,null,null,null,null,null,null,null,null,null,null,null,null,null,null,0]
[null,null,null,null,null,null,null,null,null,null,null,null,null,null,null,null,null,null,null,null,null,null,null,null,null,null,null,null,null,null,null,null,null,null,null,null,null,null,null,null,null,null,null,null,null,null,null,null,null,null,null,null,null,null,null,null,null,null,null,null,null,null,0]
[null,null,null,null,null,null,null,null,null,null,null,null,null,null,null,null,null,null,null,null,null,null,null,null,null,null,null,null,null,null,null,null,null,null,null,null,null,null,null,null,null,null,null,null,null,null,null,null,null,null,null,null,null,null,null,null,null,null,null,null,null,null,0]
[null,null,null,null,null,null,null,null,null,null,null,null,null,null,null,null,null,null,null,null,null,null,null,null,null,null,null,null,null,null,null,null,null,null,null,null,null,null,null,null,null,null,null,null,null,null,null,null,null,null,null,null,null,null,null,null,null,null,null,null,null,null,0]
[null,null,null,null,null,null,null,null,null,null,null,null,null,null,null,null,null,null,null,null,null,null,null,null,null,null,null,null,null,null,null,null,null,null,null,null,null,null,null,null,null,null,null,null,null,null,null,null,null,null,null,null,null,null,null,null,null,null,null,null,null,null,0]
[null,null,null,null,null,null,null,null,null,null,null,null,null,null,null,null,null,null,null,null,null,null,null,null,null,null,null,null,null,null,null,null,null,null,null,null,null,null,null,null,null,null,null,null,null,null,null,null,null,null,null,null,null,null,null,null,null,null,null,null,null,null,0]
[null,null,null,null,null,null,null,null,null,null,null,null,null,null,null,null,null,null,null,null,null,null,null,null,null,null,null,null,null,null,null,null,null,null,null,null,null,null,null,null,null,null,null,null,null,null,null,null,null,null,null,null,null,null,null,null,null,null,null,null,null,null,0]
[null,null,null,null,null,null,null,null,null,null,null,null,null,null,null,null,null,null,null,null,null,null,null,null,null,null,null,null,null,null,null,null,null,null,null,null,null,null,null,null,null,null,null,null,null,null,null,null,null,null,null,null,null,null,null,null,null,null,null,null,null,null,0]
[null,null,null,null,null,null,null,null,null,null,null,null,null,null,null,null,null,null,null,null,null,null,null,null,null,null,null,null,null,null,null,null,null,null,null,null,null,null,null,null,null,null,null,null,null,null,null,null,null,null,null,null,null,null,null,null,null,null,null,null,null,null,0]
[null,null,null,null,null,null,null,null,null,null,null,null,null,null,null,null,null,null,null,null,null,null,null,null,null,null,null,null,null,null,null,null,null,null,null,null,null,null,null,null,null,null,null,null,null,null,null,null,null,null,null,null,null,null,null,null,null,null,null,null,null,null,0]
[null,null,null,null,null,null,null,null,null,null,null,null,null,null,null,null,null,null,null,null,null,null,null,null,null,null,null,null,null,null,null,null,null,null,null,null,null,null,null,null,null,null,null,null,null,null,null,null,null,null,null,null,null,null,null,null,null,null,null,null,null,null,0]
[null,null,null,null,null,null,null,null,null,null,null,null,null,null,null,null,null,null,null,null,null,null,null,null,null,null,null,null,null,null,null,null,null,null,null,null,null,null,null,null,null,null,null,null,null,null,null,null,null,null,null,null,null,null,null,null,null,null,null,null,null,null,0]
[null,null,null,null,null,null,null,null,null,null,null,null,null,null,null,null,null,null,null,null,null,null,null,null,null,null,null,null,null,null,null,null,null,null,null,null,null,null,null,null,null,null,null,null,null,null,null,null,null,null,null,null,null,null,null,null,null,null,null,null,null,null,0]
[null,null,null,null,null,null,null,null,null,null,null,null,null,null,null,null,null,null,null,null,null,null,null,null,null,null,null,null,null,null,null,null,null,null,null,null,null,null,null,null,null,null,null,null,null,null,null,null,null,null,null,null,null,null,null,null,null,null,null,null,null,null,0]
[null,null,null,null,null,null,null,null,null,null,null,null,null,null,null,null,null,null,null,null,null,null,null,null,null,null,null,null,null,null,null,null,null,null,null,null,null,null,null,null,null,null,null,null,null,null,null,null,null,null,null,null,null,null,null,null,null,null,null,null,null,null,0]
[null,null,null,null,null,null,null,null,null,null,null,null,null,null,null,null,null,null,null,null,null,null,null,null,null,null,null,null,null,null,null,null,null,null,null,null,null,null,null,null,null,null,null,null,null,null,null,null,null,null,null,null,null,null,null,null,null,null,null,null,null,null,0]
[null,null,null,null,null,null,null,null,null,null,null,null,null,null,null,null,null,null,null,null,null,null,null,null,null,null,null,null,null,null,null,null,null,null,null,null,null,null,null,null,null,null,null,null,null,null,null,null,null,null,null,null,null,null,null,null,null,null,null,null,null,null,0]
[null,null,null,null,null,null,null,null,null,null,null,null,null,null,null,null,null,null,null,null,null,null,null,null,null,null,null,null,null,null,null,null,null,null,null,null,null,null,null,null,null,null,null,null,null,null,null,null,null,null,null,null,null,null,null,null,null,null,null,null,null,null,0]
[null,null,null,null,null,null,null,null,null,null,null,null,null,null,null,null,null,null,null,null,null,null,null,null,null,null,null,null,null,null,null,null,null,null,null,null,null,null,null,null,null,null,null,null,null,null,null,null,null,null,null,null,null,null,null,null,null,null,null,null,null,null,0]
[null,null,null,null,null,null,null,null,null,null,null,null,null,null,null,null,null,null,null,null,null,null,null,null,null,null,null,null,null,null,null,null,null,null,null,null,null,null,null,null,null,null,null,null,null,null,null,null,null,null,null,null,null,null,null,null,null,null,null,null,null,null,0]
[null,null,null,null,null,null,null,null,null,null,null,null,null,null,null,null,null,null,null,null,null,null,null,null,null,null,null,null,null,null,null,null,null,null,null,null,null,null,null,null,null,null,null,null,null,null,null,null,null,null,null,null,null,null,null,null,null,null,null,null,null,null,0]
[null,null,null,null,null,null,null,null,null,null,null,null,null,null,null,null,null,null,null,null,null,null,null,null,null,null,null,null,null,null,null,null,null,null,null,null,null,null,null,null,null,null,null,null,null,null,null,null,null,null,null,null,null,null,null,null,null,null,null,null,null,null,0]
[null,null,null,null,null,null,null,null,null,null,null,null,null,null,null,null,null,null,null,null,null,null,null,null,null,null,null,null,null,null,null,null,null,null,null,null,null,null,null,null,null,null,null,null,null,null,null,null,null,null,null,null,null,null,null,null,null,null,null,null,null,null,0]
[null,null,null,null,null,null,null,null,null,null,null,null,null,null,null,null,null,null,null,null,null,null,null,null,null,null,null,null,null,null,null,null,null,null,null,null,null,null,null,null,null,null,null,null,null,null,null,null,null,null,null,null,null,null,null,null,null,null,null,null,null,null,0]
["TOTALS",null,{"$f":"SUM(C14:C514)","v":0},0,0,0,0,0,0,0,0,0,0,0,0,0,0,0,0,0,0,0,0,0,0,0,0,0,0,0,0,0,0,0,0,0,0,0,0,0,0,0,0,0,0,0,0,0,0,0,0,0,0,0,0,0,0,0,0,0,0,0,{"$f":"SUM(BK14:BK514)","v":0}]

{"sheet":"Day5","index":13,"n_rows":515,"n_cols":63,"rows_kept":515,"cut":false,"hidden":false,"merged":[[0,0,0,62],[1,0,1,62],[2,0,2,62],[5,0,5,1],[5,62,7,62],[6,0,6,1],[7,0,7,1],[15,0,15,1],[16,0,16,1],[4,0,4,1],[17,0,17,1],[18,0,18,1],[19,0,19,1],[20,0,20,1],[8,0,8,1],[9,0,9,62],[10,0,12,0],[10,62,12,62],[13,0,13,1],[14,0,14,1],[27,0,27,1],[28,0,28,1],[29,0,29,1],[30,0,30,1],[31,0,31,1],[32,0,32,1],[21,0,21,1],[22,0,22,1],[23,0,23,1],[24,0,24,1],[25,0,25,1],[26,0,26,1],[39,0,39,1],[40,0,40,1],[41,0,41,1],[42,0,42,1],[43,0,43,1],[44,0,44,1],[33,0,33,1],[34,0,34,1],[35,0,35,1],[36,0,36,1],[37,0,37,1],[38,0,38,1],[51,0,51,1],[52,0,52,1],[53,0,53,1],[54,0,54,1],[55,0,55,1],[56,0,56,1],[45,0,45,1],[46,0,46,1],[47,0,47,1],[48,0,48,1],[49,0,49,1],[50,0,50,1],[63,0,63,1],[64,0,64,1],[65,0,65,1],[66,0,66,1],[67,0,67,1],[68,0,68,1],[57,0,57,1],[58,0,58,1],[59,0,59,1],[60,0,60,1],[61,0,61,1],[62,0,62,1],[75,0,75,1],[76,0,76,1],[77,0,77,1],[78,0,78,1],[79,0,79,1],[80,0,80,1],[69,0,69,1],[70,0,70,1],[71,0,71,1],[72,0,72,1],[73,0,73,1],[74,0,74,1],[87,0,87,1],[88,0,88,1],[89,0,89,1],[90,0,90,1],[91,0,91,1],[92,0,92,1],[81,0,81,1],[82,0,82,1],[83,0,83,1],[84,0,84,1],[85,0,85,1],[86,0,86,1],[99,0,99,1],[100,0,100,1],[101,0,101,1],[102,0,102,1],[103,0,103,1],[104,0,104,1],[93,0,93,1],[94,0,94,1],[95,0,95,1],[96,0,96,1],[97,0,97,1],[98,0,98,1],[111,0,111,1],[112,0,112,1],[113,0,113,1],[114,0,114,1],[115,0,115,1],[116,0,116,1],[105,0,105,1],[106,0,106,1],[107,0,107,1],[108,0,108,1],[109,0,109,1],[110,0,110,1],[123,0,123,1],[124,0,124,1],[125,0,125,1],[126,0,126,1],[127,0,127,1],[128,0,128,1],[117,0,117,1],[118,0,118,1],[119,0,119,1],[120,0,120,1],[121,0,121,1],[122,0,122,1],[135,0,135,1],[136,0,136,1],[137,0,137,1],[138,0,138,1],[139,0,139,1],[140,0,140,1],[129,0,129,1],[130,0,130,1],[131,0,131,1],[132,0,132,1],[133,0,133,1],[134,0,134,1],[147,0,147,1],[148,0,148,1],[149,0,149,1],[150,0,150,1],[151,0,151,1],[152,0,152,1],[141,0,141,1],[142,0,142,1],[143,0,143,1],[144,0,144,1],[145,0,145,1],[146,0,146,1],[159,0,159,1],[160,0,160,1],[161,0,161,1],[162,0,162,1],[163,0,163,1],[164,0,164,1],[153,0,153,1],[154,0,154,1],[155,0,155,1],[156,0,156,1],[157,0,157,1],[158,0,158,1],[171,0,171,1],[172,0,172,1],[173,0,173,1],[174,0,174,1],[175,0,175,1],[176,0,176,1],[165,0,165,1],[166,0,166,1],[167,0,167,1],[168,0,168,1],[169,0,169,1],[170,0,170,1],[183,0,183,1],[184,0,184,1],[185,0,185,1],[186,0,186,1],[187,0,187,1],[188,0,188,1],[177,0,177,1],[178,0,178,1],[179,0,179,1],[180,0,180,1],[181,0,181,1],[182,0,182,1],[195,0,195,1],[196,0,196,1],[197,0,197,1],[198,0,198,1],[199,0,199,1],[200,0,200,1],[189,0,189,1],[190,0,190,1],[191,0,191,1],[192,0,192,1],[193,0,193,1],[194,0,194,1],[207,0,207,1],[208,0,208,1],[209,0,209,1],[210,0,210,1],[211,0,211,1],[212,0,212,1],[201,0,201,1],[202,0,202,1],[203,0,203,1],[204,0,204,1],[205,0,205,1],[206,0,206,1],[219,0,219,1],[220,0,220,1],[221,0,221,1],[222,0,222,1],[223,0,223,1],[224,0,224,1],[213,0,213,1],[214,0,214,1],[215,0,215,1],[216,0,216,1],[217,0,217,1],[218,0,218,1],[231,0,231,1],[232,0,232,1],[233,0,233,1],[234,0,234,1],[235,0,235,1],[236,0,236,1],[225,0,225,1],[226,0,226,1],[227,0,227,1],[228,0,228,1],[229,0,229,1],[230,0,230,1],[243,0,243,1],[244,0,244,1],[245,0,245,1],[246,0,246,1],[247,0,247,1],[248,0,248,1],[237,0,237,1],[238,0,238,1],[239,0,239,1],[240,0,240,1],[241,0,241,1],[242,0,242,1],[255,0,255,1],[256,0,256,1],[257,0,257,1],[258,0,258,1],[259,0,259,1],[260,0,260,1],[249,0,249,1],[250,0,250,1],[251,0,251,1],[252,0,252,1],[253,0,253,1],[254,0,254,1],[267,0,267,1],[268,0,268,1],[269,0,269,1],[270,0,270,1],[271,0,271,1],[272,0,272,1],[261,0,261,1],[262,0,262,1],[263,0,263,1],[264,0,264,1],[265,0,265,1],[266,0,266,1],[279,0,279,1],[280,0,280,1],[281,0,281,1],[282,0,282,1],[283,0,283,1],[284,0,284,1],[273,0,273,1],[274,0,274,1],[275,0,275,1],[276,0,276,1],[277,0,277,1],[278,0,278,1],[291,0,291,1],[292,0,292,1],[293,0,293,1],[294,0,294,1],[295,0,295,1],[296,0,296,1],[285,0,285,1],[286,0,286,1],[287,0,287,1],[288,0,288,1],[289,0,289,1],[290,0,290,1],[303,0,303,1],[304,0,304,1],[305,0,305,1],[306,0,306,1],[307,0,307,1],[308,0,308,1],[297,0,297,1],[298,0,298,1],[299,0,299,1],[300,0,300,1],[301,0,301,1],[302,0,302,1],[315,0,315,1],[316,0,316,1],[317,0,317,1],[318,0,318,1],[319,0,319,1],[320,0,320,1],[309,0,309,1],[310,0,310,1],[311,0,311,1],[312,0,312,1],[313,0,313,1],[314,0,314,1],[327,0,327,1],[328,0,328,1],[329,0,329,1],[330,0,330,1],[331,0,331,1],[332,0,332,1],[321,0,321,1],[322,0,322,1],[323,0,323,1],[324,0,324,1],[325,0,325,1],[326,0,326,1],[339,0,339,1],[340,0,340,1],[341,0,341,1],[342,0,342,1],[343,0,343,1],[344,0,344,1],[333,0,333,1],[334,0,334,1],[335,0,335,1],[336,0,336,1],[337,0,337,1],[338,0,338,1],[351,0,351,1],[352,0,352,1],[353,0,353,1],[354,0,354,1],[355,0,355,1],[356,0,356,1],[345,0,345,1],[346,0,346,1],[347,0,347,1],[348,0,348,1],[349,0,349,1],[350,0,350,1],[363,0,363,1],[364,0,364,1],[365,0,365,1],[366,0,366,1],[367,0,367,1],[368,0,368,1],[357,0,357,1],[358,0,358,1],[359,0,359,1],[360,0,360,1],[361,0,361,1],[362,0,362,1],[375,0,375,1],[376,0,376,1],[377,0,377,1],[378,0,378,1],[379,0,379,1],[380,0,380,1],[369,0,369,1],[370,0,370,1],[371,0,371,1],[372,0,372,1],[373,0,373,1],[374,0,374,1],[387,0,387,1],[388,0,388,1],[389,0,389,1],[390,0,390,1],[391,0,391,1],[392,0,392,1],[381,0,381,1],[382,0,382,1],[383,0,383,1],[384,0,384,1],[385,0,385,1],[386,0,386,1],[399,0,399,1],[400,0,400,1],[401,0,401,1],[402,0,402,1],[403,0,403,1],[404,0,404,1],[393,0,393,1],[394,0,394,1],[395,0,395,1],[396,0,396,1],[397,0,397,1],[398,0,398,1],[411,0,411,1],[412,0,412,1],[413,0,413,1],[414,0,414,1],[415,0,415,1],[416,0,416,1],[405,0,405,1],[406,0,406,1],[407,0,407,1],[408,0,408,1],[409,0,409,1],[410,0,410,1],[423,0,423,1],[424,0,424,1],[425,0,425,1],[426,0,426,1],[427,0,427,1],[428,0,428,1],[417,0,417,1],[418,0,418,1],[419,0,419,1],[420,0,420,1],[421,0,421,1],[422,0,422,1],[435,0,435,1],[436,0,436,1],[437,0,437,1],[438,0,438,1],[439,0,439,1],[440,0,440,1],[429,0,429,1],[430,0,430,1],[431,0,431,1],[432,0,432,1],[433,0,433,1],[434,0,434,1],[447,0,447,1],[448,0,448,1],[449,0,449,1],[450,0,450,1],[451,0,451,1],[452,0,452,1],[441,0,441,1],[442,0,442,1],[443,0,443,1],[444,0,444,1],[445,0,445,1],[446,0,446,1],[459,0,459,1],[460,0,460,1],[461,0,461,1],[462,0,462,1],[463,0,463,1],[464,0,464,1],[453,0,453,1],[454,0,454,1],[455,0,455,1],[456,0,456,1],[457,0,457,1],[458,0,458,1],[471,0,471,1],[472,0,472,1],[473,0,473,1],[474,0,474,1],[475,0,475,1],[476,0,476,1],[465,0,465,1],[466,0,466,1],[467,0,467,1],[468,0,468,1],[469,0,469,1],[470,0,470,1],[483,0,483,1],[484,0,484,1],[485,0,485,1],[486,0,486,1],[487,0,487,1],[488,0,488,1],[477,0,477,1],[478,0,478,1],[479,0,479,1],[480,0,480,1],[481,0,481,1],[482,0,482,1],[495,0,495,1],[496,0,496,1],[497,0,497,1],[498,0,498,1],[499,0,499,1],[500,0,500,1],[489,0,489,1],[490,0,490,1],[491,0,491,1],[492,0,492,1],[493,0,493,1],[494,0,494,1],[513,0,513,1],[514,0,514,1],[507,0,507,1],[508,0,508,1],[509,0,509,1],[510,0,510,1],[511,0,511,1],[512,0,512,1],[501,0,501,1],[502,0,502,1],[503,0,503,1],[504,0,504,1],[505,0,505,1],[506,0,506,1]]}
[{"$f":"\"KRISHI\"&\"  BHAVAN\"&\"  \"&REGISTRATION!F13& \"  \"&\"DAY5\"","v":"KRISHI  BHAVAN    DAY5"}]
[{"$f":" REGISTRATION!F7&\" ONAM VEGETABLE MARKET, PURCHASE AND SALES MANAGEMENT SYSTEM\"","v":"jj ONAM VEGETABLE MARKET, PURCHASE AND SALES MANAGEMENT SYSTEM"}]
["INVENTORY MANAGEMENT"]
[null,null,1,2,3,4,5,6,7,8,9,10,11,12,13,14,15,16,17,18,19,20,21,22,23,24,25,26,27,28,29,30,31,32,33,34,35,36,37,38,39,40,41,42,43,44,45,46,47,48,49,50,51,52,53,54,55,56,57,58,59,60]
["Item",null,{"$f":"VLOOKUP(C13,'Sale Price'!$B$3:$I$64,3)","v":"Nendrn"},{"$f":"VLOOKUP(D13,'Sale Price'!$B$3:$I$64,3)","v":"Ban G"},{"$f":"VLOOKUP(E13,'Sale Price'!$B$3:$I$64,3)","v":"Palaya"},{"$f":"VLOOKUP(F13,'Sale Price'!$B$3:$I$64,3)","v":"Puvan"},{"$f":"VLOOKUP(G13,'Sale Price'!$B$3:$I$64,3)","v":"RasaK"},{"$f":"VLOOKUP(H13,'Sale Price'!$B$3:$I$64,3)","v":"RedB"},{"$f":"VLOOKUP(I13,'Sale Price'!$B$3:$I$64,3)","v":"Robst"},{"$f":"VLOOKUP(J13,'Sale Price'!$B$3:$I$64,3)","v":"Peyn"},{"$f":"VLOOKUP(K13,'Sale Price'!$B$3:$I$64,3)","v":"Chena"},{"$f":"VLOOKUP(L13,'Sale Price'!$B$3:$I$64,3)","v":"Beans"},{"$f":"VLOOKUP(M13,'Sale Price'!$B$3:$I$64,3)","v":"Amara"},{"$f":"VLOOKUP(N13,'Sale Price'!$B$3:$I$64,3)","v":"Carot"},{"$f":"VLOOKUP(O13,'Sale Price'!$B$3:$I$64,3)","v":"BeetR"},{"$f":"VLOOKUP(P13,'Sale Price'!$B$3:$I$64,3)","v":"Cabag"},{"$f":"VLOOKUP(Q13,'Sale Price'!$B$3:$I$64,3)","v":"CauliF"},{"$f":"VLOOKUP(R13,'Sale Price'!$B$3:$I$64,3)","v":"Capsic"},{"$f":"VLOOKUP(S13,'Sale Price'!$B$3:$I$64,3)","v":"Tomat"},{"$f":"VLOOKUP(T13,'Sale Price'!$B$3:$I$64,3)","v":"ChillS"},{"$f":"VLOOKUP(U13,'Sale Price'!$B$3:$I$64,3)","v":"ChillB"},{"$f":"VLOOKUP(V13,'Sale Price'!$B$3:$I$64,3)","v":"BittrG"},{"$f":"VLOOKUP(W13,'Sale Price'!$B$3:$I$64,3)","v":"BottG"},{"$f":"VLOOKUP(X13,'Sale Price'!$B$3:$I$64,3)","v":"SnakG"},{"$f":"VLOOKUP(Y13,'Sale Price'!$B$3:$I$64,3)","v":"BrinjR"},{"$f":"VLOOKUP(Z13,'Sale Price'!$B$3:$I$64,3)","v":"Vazhut"},{"$f":"VLOOKUP(AA13,'Sale Price'!$B$3:$I$64,3)","v":"Pumpk"},{"$f":"VLOOKUP(AB13,'Sale Price'!$B$3:$I$64,3)","v":"Savala"},{"$f":"VLOOKUP(AC13,'Sale Price'!$B$3:$I$64,3)","v":"Ulli"},{"$f":"VLOOKUP(AD13,'Sale Price'!$B$3:$I$64,3)","v":"Garlc"},{"$f":"VLOOKUP(AE13,'Sale Price'!$B$3:$I$64,3)","v":"Ginger"},{"$f":"VLOOKUP(AF13,'Sale Price'!$B$3:$I$64,3)","v":"Cucum"},{"$f":"VLOOKUP(AG13,'Sale Price'!$B$3:$I$64,3)","v":"Chemb"},{"$f":"VLOOKUP(AH13,'Sale Price'!$B$3:$I$64,3)","v":"Cowp"},{"$f":"VLOOKUP(AI13,'Sale Price'!$B$3:$I$64,3)","v":"AshG"},{"$f":"VLOOKUP(AJ13,'Sale Price'!$B$3:$I$64,3)","v":"Venda"},{"$f":"VLOOKUP(AK13,'Sale Price'!$B$3:$I$64,3)","v":"Drumst"},{"$f":"VLOOKUP(AL13,'Sale Price'!$B$3:$I$64,3)","v":"Koval"},{"$f":"VLOOKUP(AM13,'Sale Price'!$B$3:$I$64,3)","v":"CryLef"},{"$f":"VLOOKUP(AN13,'Sale Price'!$B$3:$I$64,3)","v":"MntLf"},{"$f":"VLOOKUP(AO13,'Sale Price'!$B$3:$I$64,3)","v":"CorLf"},{"$f":"VLOOKUP(AP13,'Sale Price'!$B$3:$I$64,3)","v":"Cheera"},{"$f":"VLOOKUP(AQ13,'Sale Price'!$B$3:$I$64,3)","v":"LemnB"},{"$f":"VLOOKUP(AR13,'Sale Price'!$B$3:$I$64,3)","v":"LemnS"},{"$f":"VLOOKUP(AS13,'Sale Price'!$B$3:$I$64,3)","v":"Mango"},{"$f":"VLOOKUP(AT13,'Sale Price'!$B$3:$I$64,3)","v":"PineA"},{"$f":"VLOOKUP(AU13,'Sale Price'!$B$3:$I$64,3)","v":"Potat"},{"$f":"VLOOKUP(AV13,'Sale Price'!$B$3:$I$64,3)","v":"Amla"},{"$f":"VLOOKUP(AW13,'Sale Price'!$B$3:$I$64,3)","v":"Tap"},{"$f":"VLOOKUP(AX13,'Sale Price'!$B$3:$I$64,3)","v":0},{"$f":"VLOOKUP(AY13,'Sale Price'!$B$3:$I$64,3)","v":0},{"$f":"VLOOKUP(AZ13,'Sale Price'!$B$3:$I$64,3)","v":0},{"$f":"VLOOKUP(BA13,'Sale Price'!$B$3:$I$64,3)","v":0},{"$f":"VLOOKUP(BB13,'Sale Price'!$B$3:$I$64,3)","v":0},{"$f":"VLOOKUP(BC13,'Sale Price'!$B$3:$I$64,3)","v":0},{"$f":"VLOOKUP(BD13,'Sale Price'!$B$3:$I$64,3)","v":0},{"$f":"VLOOKUP(BE13,'Sale Price'!$B$3:$I$64,3)","v":0},{"$f":"VLOOKUP(BF13,'Sale Price'!$B$3:$I$64,3)","v":0},{"$f":"VLOOKUP(BG13,'Sale Price'!$B$3:$I$64,3)","v":0},{"$f":"VLOOKUP(BH13,'Sale Price'!$B$3:$I$64,3)","v":0},{"$f":"VLOOKUP(BI13,'Sale Price'!$B$3:$I$64,3)","v":0},{"$f":"VLOOKUP(BJ13,'Sale Price'!$B$3:$I$64,3)","v":0}]
["INITIAL STOCK KG",null,{"$f":"'Day4'!C9","v":0},{"$f":"'Day4'!D9","v":0},{"$f":"'Day4'!E9","v":0},{"$f":"'Day4'!F9","v":0},{"$f":"'Day4'!G9","v":0},{"$f":"'Day4'!H9","v":0},{"$f":"'Day4'!I9","v":0},{"$f":"'Day4'!J9","v":0},{"$f":"'Day4'!K9","v":0},{"$f":"'Day4'!L9","v":0},{"$f":"'Day4'!M9","v":0},{"$f":"'Day4'!N9","v":0},{"$f":"'Day4'!O9","v":0},{"$f":"'Day4'!P9","v":0},{"$f":"'Day4'!Q9","v":0},{"$f":"'Day4'!R9","v":0},{"$f":"'Day4'!S9","v":0},{"$f":"'Day4'!T9","v":0},{"$f":"'Day4'!U9","v":0},{"$f":"'Day4'!V9","v":0},{"$f":"'Day4'!W9","v":0},{"$f":"'Day4'!X9","v":0},{"$f":"'Day4'!Y9","v":0},{"$f":"'Day4'!Z9","v":0},{"$f":"'Day4'!AA9","v":0},{"$f":"'Day4'!AB9","v":0},{"$f":"'Day4'!AC9","v":0},{"$f":"'Day4'!AD9","v":0},{"$f":"'Day4'!AE9","v":0},{"$f":"'Day4'!AF9","v":0},{"$f":"'Day4'!AG9","v":0},{"$f":"'Day4'!AH9","v":0},{"$f":"'Day4'!AI9","v":0},{"$f":"'Day4'!AJ9","v":0},{"$f":"'Day4'!AK9","v":0},{"$f":"'Day4'!AL9","v":0},{"$f":"'Day4'!AM9","v":0},{"$f":"'Day4'!AN9","v":0},{"$f":"'Day4'!AO9","v":0},{"$f":"'Day4'!AP9","v":0},{"$f":"'Day4'!AQ9","v":0},{"$f":"'Day4'!AR9","v":0},{"$f":"'Day4'!AS9","v":0},{"$f":"'Day4'!AT9","v":0},{"$f":"'Day4'!AU9","v":0},{"$f":"'Day4'!AV9","v":0},{"$f":"'Day4'!AW9","v":0},{"$f":"'Day4'!AX9","v":0},{"$f":"'Day4'!AY9","v":0},{"$f":"'Day4'!AZ9","v":0},{"$f":"'Day4'!BA9","v":0},{"$f":"'Day4'!BB9","v":0},{"$f":"'Day4'!BC9","v":0},{"$f":"'Day4'!BD9","v":0},{"$f":"'Day4'!BE9","v":0},{"$f":"'Day4'!BF9","v":0},{"$f":"'Day4'!BG9","v":0},{"$f":"'Day4'!BH9","v":0},{"$f":"'Day4'!BI9","v":0},{"$f":"'Day4'!BJ9","v":0},"Total Sales Amount for the day (Rs.)"]
["PURCHASE KG",null,{"$f":"VLOOKUP(C13,PURCH5!$C$4:$O$65,12)","v":0},{"$f":"VLOOKUP(D13,PURCH5!$C$4:$O$65,12)","v":0},{"$f":"VLOOKUP(E13,PURCH5!$C$4:$O$65,12)","v":0},{"$f":"VLOOKUP(F13,PURCH5!$C$4:$O$65,12)","v":0},{"$f":"VLOOKUP(G13,PURCH5!$C$4:$O$65,12)","v":0},{"$f":"VLOOKUP(H13,PURCH5!$C$4:$O$65,12)","v":0},{"$f":"VLOOKUP(I13,PURCH5!$C$4:$O$65,12)","v":0},{"$f":"VLOOKUP(J13,PURCH5!$C$4:$O$65,12)","v":0},{"$f":"VLOOKUP(K13,PURCH5!$C$4:$O$65,12)","v":0},{"$f":"VLOOKUP(L13,PURCH5!$C$4:$O$65,12)","v":0},{"$f":"VLOOKUP(M13,PURCH5!$C$4:$O$65,12)","v":0},{"$f":"VLOOKUP(N13,PURCH5!$C$4:$O$65,12)","v":0},{"$f":"VLOOKUP(O13,PURCH5!$C$4:$O$65,12)","v":0},{"$f":"VLOOKUP(P13,PURCH5!$C$4:$O$65,12)","v":0},{"$f":"VLOOKUP(Q13,PURCH5!$C$4:$O$65,12)","v":0},{"$f":"VLOOKUP(R13,PURCH5!$C$4:$O$65,12)","v":0},{"$f":"VLOOKUP(S13,PURCH5!$C$4:$O$65,12)","v":0},{"$f":"VLOOKUP(T13,PURCH5!$C$4:$O$65,12)","v":0},{"$f":"VLOOKUP(U13,PURCH5!$C$4:$O$65,12)","v":0},{"$f":"VLOOKUP(V13,PURCH5!$C$4:$O$65,12)","v":0},{"$f":"VLOOKUP(W13,PURCH5!$C$4:$O$65,12)","v":0},{"$f":"VLOOKUP(X13,PURCH5!$C$4:$O$65,12)","v":0},{"$f":"VLOOKUP(Y13,PURCH5!$C$4:$O$65,12)","v":0},{"$f":"VLOOKUP(Z13,PURCH5!$C$4:$O$65,12)","v":0},{"$f":"VLOOKUP(AA13,PURCH5!$C$4:$O$65,12)","v":0},{"$f":"VLOOKUP(AB13,PURCH5!$C$4:$O$65,12)","v":0},{"$f":"VLOOKUP(AC13,PURCH5!$C$4:$O$65,12)","v":0},{"$f":"VLOOKUP(AD13,PURCH5!$C$4:$O$65,12)","v":0},{"$f":"VLOOKUP(AE13,PURCH5!$C$4:$O$65,12)","v":0},{"$f":"VLOOKUP(AF13,PURCH5!$C$4:$O$65,12)","v":0},{"$f":"VLOOKUP(AG13,PURCH5!$C$4:$O$65,12)","v":0},{"$f":"VLOOKUP(AH13,PURCH5!$C$4:$O$65,12)","v":0},{"$f":"VLOOKUP(AI13,PURCH5!$C$4:$O$65,12)","v":0},{"$f":"VLOOKUP(AJ13,PURCH5!$C$4:$O$65,12)","v":0},{"$f":"VLOOKUP(AK13,PURCH5!$C$4:$O$65,12)","v":0},{"$f":"VLOOKUP(AL13,PURCH5!$C$4:$O$65,12)","v":0},{"$f":"VLOOKUP(AM13,PURCH5!$C$4:$O$65,12)","v":0},{"$f":"VLOOKUP(AN13,PURCH5!$C$4:$O$65,12)","v":0},{"$f":"VLOOKUP(AO13,PURCH5!$C$4:$O$65,12)","v":0},{"$f":"VLOOKUP(AP13,PURCH5!$C$4:$O$65,12)","v":0},{"$f":"VLOOKUP(AQ13,PURCH5!$C$4:$O$65,12)","v":0},{"$f":"VLOOKUP(AR13,PURCH5!$C$4:$O$65,12)","v":0},{"$f":"VLOOKUP(AS13,PURCH5!$C$4:$O$65,12)","v":0},{"$f":"VLOOKUP(AT13,PURCH5!$C$4:$O$65,12)","v":0},{"$f":"VLOOKUP(AU13,PURCH5!$C$4:$O$65,12)","v":0},{"$f":"VLOOKUP(AV13,PURCH5!$C$4:$O$65,12)","v":0},{"$f":"VLOOKUP(AW13,PURCH5!$C$4:$O$65,12)","v":0},{"$f":"VLOOKUP(AX13,PURCH5!$C$4:$O$65,12)","v":0},{"$f":"VLOOKUP(AY13,PURCH5!$C$4:$O$65,12)","v":0},{"$f":"VLOOKUP(AZ13,PURCH5!$C$4:$O$65,12)","v":0},{"$f":"VLOOKUP(BA13,PURCH5!$C$4:$O$65,12)","v":0},{"$f":"VLOOKUP(BB13,PURCH5!$C$4:$O$65,12)","v":0},{"$f":"VLOOKUP(BC13,PURCH5!$C$4:$O$65,12)","v":0},{"$f":"VLOOKUP(BD13,PURCH5!$C$4:$O$65,12)","v":0},{"$f":"VLOOKUP(BE13,PURCH5!$C$4:$O$65,12)","v":0},{"$f":"VLOOKUP(BF13,PURCH5!$C$4:$O$65,12)","v":0},{"$f":"VLOOKUP(BG13,PURCH5!$C$4:$O$65,12)","v":0},{"$f":"VLOOKUP(BH13,PURCH5!$C$4:$O$65,12)","v":0},{"$f":"VLOOKUP(BI13,PURCH5!$C$4:$O$65,12)","v":0},{"$f":"VLOOKUP(BJ13,PURCH5!$C$4:$O$65,12)","v":0}]
["TOTAL SALE KG",null,{"$f":"C515","v":0},{"$f":"D515","v":0},0,0,0,0,0,0,0,0,0,0,0,0,0,0,0,0,0,0,0,0,0,0,0,0,0,0,0,0,0,0,0,0,0,0,0,0,0,0,0,0,0,0,0,0,0,0,0,0,0,0,0,0,0,0,0,0,0,0]
["BALANCE KG",null,{"$f":"C6+C7-C8","v":0},{"$f":"D6+D7-D8","v":0},0,0,0,0,0,0,0,0,0,0,0,0,0,0,0,0,0,0,0,0,0,0,0,0,0,0,0,0,{"$f":"AG6+AG7-AG8","v":0},0,0,0,0,0,0,0,0,0,0,0,0,0,0,0,0,0,0,0,0,0,0,0,0,0,0,0,0,0,{"$f":"BK515","v":0}]
["SALES MANAGEMENT"]
["Bill No.","S.Price",{"$f":"VLOOKUP(C13,'Sale Price'!$B$3:$I$64,8)","v":0},{"$f":"VLOOKUP(D13,'Sale Price'!$B$3:$I$64,8)","v":0},{"$f":"VLOOKUP(E13,'Sale Price'!$B$3:$I$64,8)","v":0},{"$f":"VLOOKUP(F13,'Sale Price'!$B$3:$I$64,8)","v":0},{"$f":"VLOOKUP(G13,'Sale Price'!$B$3:$I$64,8)","v":0},{"$f":"VLOOKUP(H13,'Sale Price'!$B$3:$I$64,8)","v":0},{"$f":"VLOOKUP(I13,'Sale Price'!$B$3:$I$64,8)","v":0},{"$f":"VLOOKUP(J13,'Sale Price'!$B$3:$I$64,8)","v":0},{"$f":"VLOOKUP(K13,'Sale Price'!$B$3:$I$64,8)","v":0},{"$f":"VLOOKUP(L13,'Sale Price'!$B$3:$I$64,8)","v":0},{"$f":"VLOOKUP(M13,'Sale Price'!$B$3:$I$64,8)","v":0},{"$f":"VLOOKUP(N13,'Sale Price'!$B$3:$I$64,8)","v":0},{"$f":"VLOOKUP(O13,'Sale Price'!$B$3:$I$64,8)","v":0},{"$f":"VLOOKUP(P13,'Sale Price'!$B$3:$I$64,8)","v":0},{"$f":"VLOOKUP(Q13,'Sale Price'!$B$3:$I$64,8)","v":0},{"$f":"VLOOKUP(R13,'Sale Price'!$B$3:$I$64,8)","v":0},{"$f":"VLOOKUP(S13,'Sale Price'!$B$3:$I$64,8)","v":0},{"$f":"VLOOKUP(T13,'Sale Price'!$B$3:$I$64,8)","v":0},{"$f":"VLOOKUP(U13,'Sale Price'!$B$3:$I$64,8)","v":0},{"$f":"VLOOKUP(V13,'Sale Price'!$B$3:$I$64,8)","v":0},{"$f":"VLOOKUP(W13,'Sale Price'!$B$3:$I$64,8)","v":0},{"$f":"VLOOKUP(X13,'Sale Price'!$B$3:$I$64,8)","v":0},{"$f":"VLOOKUP(Y13,'Sale Price'!$B$3:$I$64,8)","v":0},{"$f":"VLOOKUP(Z13,'Sale Price'!$B$3:$I$64,8)","v":0},{"$f":"VLOOKUP(AA13,'Sale Price'!$B$3:$I$64,8)","v":0},{"$f":"VLOOKUP(AB13,'Sale Price'!$B$3:$I$64,8)","v":0},{"$f":"VLOOKUP(AC13,'Sale Price'!$B$3:$I$64,8)","v":0},{"$f":"VLOOKUP(AD13,'Sale Price'!$B$3:$I$64,8)","v":0},{"$f":"VLOOKUP(AE13,'Sale Price'!$B$3:$I$64,8)","v":0},{"$f":"VLOOKUP(AF13,'Sale Price'!$B$3:$I$64,8)","v":0},{"$f":"VLOOKUP(AG13,'Sale Price'!$B$3:$I$64,8)","v":0},{"$f":"VLOOKUP(AH13,'Sale Price'!$B$3:$I$64,8)","v":0},{"$f":"VLOOKUP(AI13,'Sale Price'!$B$3:$I$64,8)","v":0},{"$f":"VLOOKUP(AJ13,'Sale Price'!$B$3:$I$64,8)","v":0},{"$f":"VLOOKUP(AK13,'Sale Price'!$B$3:$I$64,8)","v":0},{"$f":"VLOOKUP(AL13,'Sale Price'!$B$3:$I$64,8)","v":0},{"$f":"VLOOKUP(AM13,'Sale Price'!$B$3:$I$64,8)","v":0},{"$f":"VLOOKUP(AN13,'Sale Price'!$B$3:$I$64,8)","v":0},{"$f":"VLOOKUP(AO13,'Sale Price'!$B$3:$I$64,8)","v":0},{"$f":"VLOOKUP(AP13,'Sale Price'!$B$3:$I$64,8)","v":0},{"$f":"VLOOKUP(AQ13,'Sale Price'!$B$3:$I$64,8)","v":0},{"$f":"VLOOKUP(AR13,'Sale Price'!$B$3:$I$64,8)","v":0},{"$f":"VLOOKUP(AS13,'Sale Price'!$B$3:$I$64,8)","v":0},{"$f":"VLOOKUP(AT13,'Sale Price'!$B$3:$I$64,8)","v":0},{"$f":"VLOOKUP(AU13,'Sale Price'!$B$3:$I$64,8)","v":0},{"$f":"VLOOKUP(AV13,'Sale Price'!$B$3:$I$64,8)","v":0},{"$f":"VLOOKUP(AW13,'Sale Price'!$B$3:$I$64,8)","v":0},{"$f":"VLOOKUP(AX13,'Sale Price'!$B$3:$I$64,8)","v":0},{"$f":"VLOOKUP(AY13,'Sale Price'!$B$3:$I$64,8)","v":0},{"$f":"VLOOKUP(AZ13,'Sale Price'!$B$3:$I$64,8)","v":0},{"$f":"VLOOKUP(BA13,'Sale Price'!$B$3:$I$64,8)","v":0},{"$f":"VLOOKUP(BB13,'Sale Price'!$B$3:$I$64,8)","v":0},{"$f":"VLOOKUP(BC13,'Sale Price'!$B$3:$I$64,8)","v":0},{"$f":"VLOOKUP(BD13,'Sale Price'!$B$3:$I$64,8)","v":0},{"$f":"VLOOKUP(BE13,'Sale Price'!$B$3:$I$64,8)","v":0},{"$f":"VLOOKUP(BF13,'Sale Price'!$B$3:$I$64,8)","v":0},{"$f":"VLOOKUP(BG13,'Sale Price'!$B$3:$I$64,8)","v":0},{"$f":"VLOOKUP(BH13,'Sale Price'!$B$3:$I$64,8)","v":0},{"$f":"VLOOKUP(BI13,'Sale Price'!$B$3:$I$64,8)","v":0},{"$f":"VLOOKUP(BJ13,'Sale Price'!$B$3:$I$64,8)","v":0},"Total Bill Rs."]
[null,"Item",{"$f":"VLOOKUP('Day1'!C13,'Sale Price'!$B$5:$I$64,3)","v":"Nendrn"},{"$f":"VLOOKUP('Day1'!D13,'Sale Price'!$B$5:$I$64,3)","v":"Ban G"},{"$f":"VLOOKUP('Day1'!E13,'Sale Price'!$B$5:$I$64,3)","v":"Palaya"},{"$f":"VLOOKUP('Day1'!F13,'Sale Price'!$B$5:$I$64,3)","v":"Puvan"},{"$f":"VLOOKUP('Day1'!G13,'Sale Price'!$B$5:$I$64,3)","v":"RasaK"},{"$f":"VLOOKUP('Day1'!H13,'Sale Price'!$B$5:$I$64,3)","v":"RedB"},{"$f":"VLOOKUP('Day1'!I13,'Sale Price'!$B$5:$I$64,3)","v":"Robst"},{"$f":"VLOOKUP('Day1'!J13,'Sale Price'!$B$5:$I$64,3)","v":"Peyn"},{"$f":"VLOOKUP('Day1'!K13,'Sale Price'!$B$5:$I$64,3)","v":"Chena"},{"$f":"VLOOKUP('Day1'!L13,'Sale Price'!$B$5:$I$64,3)","v":"Beans"},{"$f":"VLOOKUP('Day1'!M13,'Sale Price'!$B$5:$I$64,3)","v":"Amara"},{"$f":"VLOOKUP('Day1'!N13,'Sale Price'!$B$5:$I$64,3)","v":"Carot"},{"$f":"VLOOKUP('Day1'!O13,'Sale Price'!$B$5:$I$64,3)","v":"BeetR"},{"$f":"VLOOKUP('Day1'!P13,'Sale Price'!$B$5:$I$64,3)","v":"Cabag"},{"$f":"VLOOKUP('Day1'!Q13,'Sale Price'!$B$5:$I$64,3)","v":"CauliF"},{"$f":"VLOOKUP('Day1'!R13,'Sale Price'!$B$5:$I$64,3)","v":"Capsic"},{"$f":"VLOOKUP('Day1'!S13,'Sale Price'!$B$5:$I$64,3)","v":"Tomat"},{"$f":"VLOOKUP('Day1'!T13,'Sale Price'!$B$5:$I$64,3)","v":"ChillS"},{"$f":"VLOOKUP('Day1'!U13,'Sale Price'!$B$5:$I$64,3)","v":"ChillB"},{"$f":"VLOOKUP('Day1'!V13,'Sale Price'!$B$5:$I$64,3)","v":"BittrG"},{"$f":"VLOOKUP('Day1'!W13,'Sale Price'!$B$5:$I$64,3)","v":"BottG"},{"$f":"VLOOKUP('Day1'!X13,'Sale Price'!$B$5:$I$64,3)","v":"SnakG"},{"$f":"VLOOKUP('Day1'!Y13,'Sale Price'!$B$5:$I$64,3)","v":"BrinjR"},{"$f":"VLOOKUP('Day1'!Z13,'Sale Price'!$B$5:$I$64,3)","v":"Vazhut"},{"$f":"VLOOKUP('Day1'!AA13,'Sale Price'!$B$5:$I$64,3)","v":"Pumpk"},{"$f":"VLOOKUP('Day1'!AB13,'Sale Price'!$B$5:$I$64,3)","v":"Savala"},{"$f":"VLOOKUP('Day1'!AC13,'Sale Price'!$B$5:$I$64,3)","v":"Ulli"},{"$f":"VLOOKUP('Day1'!AD13,'Sale Price'!$B$5:$I$64,3)","v":"Garlc"},{"$f":"VLOOKUP('Day1'!AE13,'Sale Price'!$B$5:$I$64,3)","v":"Ginger"},{"$f":"VLOOKUP('Day1'!AF13,'Sale Price'!$B$5:$I$64,3)","v":"Cucum"},{"$f":"VLOOKUP('Day1'!AG13,'Sale Price'!$B$5:$I$64,3)","v":"Chemb"},{"$f":"VLOOKUP('Day1'!AH13,'Sale Price'!$B$5:$I$64,3)","v":"Cowp"},{"$f":"VLOOKUP('Day1'!AI13,'Sale Price'!$B$5:$I$64,3)","v":"AshG"},{"$f":"VLOOKUP('Day1'!AJ13,'Sale Price'!$B$5:$I$64,3)","v":"Venda"},{"$f":"VLOOKUP('Day1'!AK13,'Sale Price'!$B$5:$I$64,3)","v":"Drumst"},{"$f":"VLOOKUP('Day1'!AL13,'Sale Price'!$B$5:$I$64,3)","v":"Koval"},{"$f":"VLOOKUP('Day1'!AM13,'Sale Price'!$B$5:$I$64,3)","v":"CryLef"},{"$f":"VLOOKUP('Day1'!AN13,'Sale Price'!$B$5:$I$64,3)","v":"MntLf"},{"$f":"VLOOKUP('Day1'!AO13,'Sale Price'!$B$5:$I$64,3)","v":"CorLf"},{"$f":"VLOOKUP('Day1'!AP13,'Sale Price'!$B$5:$I$64,3)","v":"Cheera"},{"$f":"VLOOKUP('Day1'!AQ13,'Sale Price'!$B$5:$I$64,3)","v":"LemnB"},{"$f":"VLOOKUP('Day1'!AR13,'Sale Price'!$B$5:$I$64,3)","v":"LemnS"},{"$f":"VLOOKUP('Day1'!AS13,'Sale Price'!$B$5:$I$64,3)","v":"Mango"},{"$f":"VLOOKUP('Day1'!AT13,'Sale Price'!$B$5:$I$64,3)","v":"PineA"},{"$f":"VLOOKUP('Day1'!AU13,'Sale Price'!$B$5:$I$64,3)","v":"Potat"},{"$f":"VLOOKUP('Day1'!AV13,'Sale Price'!$B$5:$I$64,3)","v":"Amla"},{"$f":"VLOOKUP('Day1'!AW13,'Sale Price'!$B$5:$I$64,3)","v":"Tap"},{"$f":"VLOOKUP('Day1'!AX13,'Sale Price'!$B$5:$I$64,3)","v":0},{"$f":"VLOOKUP('Day1'!AY13,'Sale Price'!$B$5:$I$64,3)","v":0},{"$f":"VLOOKUP('Day1'!AZ13,'Sale Price'!$B$5:$I$64,3)","v":0},{"$f":"VLOOKUP('Day1'!BA13,'Sale Price'!$B$5:$I$64,3)","v":0},{"$f":"VLOOKUP('Day1'!BB13,'Sale Price'!$B$5:$I$64,3)","v":0},{"$f":"VLOOKUP('Day1'!BC13,'Sale Price'!$B$5:$I$64,3)","v":0},{"$f":"VLOOKUP('Day1'!BD13,'Sale Price'!$B$5:$I$64,3)","v":0},{"$f":"VLOOKUP('Day1'!BE13,'Sale Price'!$B$5:$I$64,3)","v":0},{"$f":"VLOOKUP('Day1'!BF13,'Sale Price'!$B$5:$I$64,3)","v":0},{"$f":"VLOOKUP('Day1'!BG13,'Sale Price'!$B$5:$I$64,3)","v":0},{"$f":"VLOOKUP('Day1'!BH13,'Sale Price'!$B$5:$I$64,3)","v":0},{"$f":"VLOOKUP('Day1'!BI13,'Sale Price'!$B$5:$I$64,3)","v":0},{"$f":"VLOOKUP('Day1'!BJ13,'Sale Price'!$B$5:$I$64,3)","v":0}]
[null,"Code",1,2,3,4,5,6,7,8,9,10,11,12,13,14,15,16,17,18,19,20,21,22,23,24,25,26,27,28,29,30,31,32,33,34,35,36,37,38,39,40,41,42,43,44,45,46,47,48,49,50,51,52,53,54,55,56,57,58,59,60]
[null,null,null,null,null,null,null,null,null,null,null,null,null,null,null,null,null,null,null,null,null,null,null,null,null,null,null,null,null,null,null,null,null,null,null,null,null,null,null,null,null,null,null,null,null,null,null,null,null,null,null,null,null,null,null,null,null,null,null,null,null,null,{"$f":"C14*$C$11+D14*$D$11+E14*$E$11+F14*$F$11+G14*$G$11+H14*$H$11+I14*$I$11+J14*$J$11+K14*$K$11+L14*$L$11+M14*$M$11+N14*$N$11+O14*$O$11+P14*$P$11+Q14*$Q$11+R14*$R$11+S14*$S$11+T14*$T$11+U14*$U$11+V14*$V$11+W14*$W$11+X14*$X$11+Y14*$Y$11+Z14*$Z$11+AA14*$AA$11+AB14*$AB$11+AC14*$AC$11+AD14*$AD$11+AE14*$AE$11+AF14*$AF$11+AG14*$AG$11+AH14*$AH$11+AI14*$AI$11+AJ14*$AJ$11+AK14*$AK$11+AL14*$AL$11+AM14*$AM$11+AN14*$AN$11+AO14*$AO$11+AP14*$AP$11+AQ14*$AQ$11+AR14*$AR$11+AS14*$AS$11+AT14*$AT$11+AU14*$AU$11+AV14*$AV$11+AW14*$AW$11+AX14*$AX$11+AY14*$AY$11+AZ14*$AZ$11+BA14*$BA$11+BB14*$BB$11+BC14*$BC$11+BD14*$BD$11+BE14*$BE$11+BF14*$BF$11+BG14*$BG$11+BH14*$BH$11+BI14*$BI$11+BJ14*$BJ$11","v":0}]
[null,null,null,null,null,null,null,null,null,null,null,null,null,null,null,null,null,null,null,null,null,null,null,null,null,null,null,null,null,null,null,null,null,null,null,null,null,null,null,null,null,null,null,null,null,null,null,null,null,null,null,null,null,null,null,null,null,null,null,null,null,null,{"$f":"C15*$C$11+D15*$D$11+E15*$E$11+F15*$F$11+G15*$G$11+H15*$H$11+I15*$I$11+J15*$J$11+K15*$K$11+L15*$L$11+M15*$M$11+N15*$N$11+O15*$O$11+P15*$P$11+Q15*$Q$11+R15*$R$11+S15*$S$11+T15*$T$11+U15*$U$11+V15*$V$11+W15*$W$11+X15*$X$11+Y15*$Y$11+Z15*$Z$11+AA15*$AA$11+AB15*$AB$11+AC15*$AC$11+AD15*$AD$11+AE15*$AE$11+AF15*$AF$11+AG15*$AG$11+AH15*$AH$11+AI15*$AI$11+AJ15*$AJ$11+AK15*$AK$11+AL15*$AL$11+AM15*$AM$11+AN15*$AN$11+AO15*$AO$11+AP15*$AP$11+AQ15*$AQ$11+AR15*$AR$11+AS15*$AS$11+AT15*$AT$11+AU15*$AU$11+AV15*$AV$11+AW15*$AW$11+AX15*$AX$11+AY15*$AY$11+AZ15*$AZ$11+BA15*$BA$11+BB15*$BB$11+BC15*$BC$11+BD15*$BD$11+BE15*$BE$11+BF15*$BF$11+BG15*$BG$11+BH15*$BH$11+BI15*$BI$11+BJ15*$BJ$11","v":0}]
[null,null,null,null,null,null,null,null,null,null,null,null,null,null,null,null,null,null,null,null,null,null,null,null,null,null,null,null,null,null,null,null,null,null,null,null,null,null,null,null,null,null,null,null,null,null,null,null,null,null,null,null,null,null,null,null,null,null,null,null,null,null,0]
[null,null,null,null,null,null,null,null,null,null,null,null,null,null,null,null,null,null,null,null,null,null,null,null,null,null,null,null,null,null,null,null,null,null,null,null,null,null,null,null,null,null,null,null,null,null,null,null,null,null,null,null,null,null,null,null,null,null,null,null,null,null,0]
[null,null,null,null,null,null,null,null,null,null,null,null,null,null,null,null,null,null,null,null,null,null,null,null,null,null,null,null,null,null,null,null,null,null,null,null,null,null,null,null,null,null,null,null,null,null,null,null,null,null,null,null,null,null,null,null,null,null,null,null,null,null,0]
[null,null,null,null,null,null,null,null,null,null,null,null,null,null,null,null,null,null,null,null,null,null,null,null,null,null,null,null,null,null,null,null,null,null,null,null,null,null,null,null,null,null,null,null,null,null,null,null,null,null,null,null,null,null,null,null,null,null,null,null,null,null,0]
[null,null,null,null,null,null,null,null,null,null,null,null,null,null,null,null,null,null,null,null,null,null,null,null,null,null,null,null,null,null,null,null,null,null,null,null,null,null,null,null,null,null,null,null,null,null,null,null,null,null,null,null,null,null,null,null,null,null,null,null,null,null,0]
[null,null,null,null,null,null,null,null,null,null,null,null,null,null,null,null,null,null,null,null,null,null,null,null,null,null,null,null,null,null,null,null,null,null,null,null,null,null,null,null,null,null,null,null,null,null,null,null,null,null,null,null,null,null,null,null,null,null,null,null,null,null,0]
[null,null,null,null,null,null,null,null,null,null,null,null,null,null,null,null,null,null,null,null,null,null,null,null,null,null,null,null,null,null,null,null,null,null,null,null,null,null,null,null,null,null,null,null,null,null,null,null,null,null,null,null,null,null,null,null,null,null,null,null,null,null,0]
[null,null,null,null,null,null,null,null,null,null,null,null,null,null,null,null,null,null,null,null,null,null,null,null,null,null,null,null,null,null,null,null,null,null,null,null,null,null,null,null,null,null,null,null,null,null,null,null,null,null,null,null,null,null,null,null,null,null,null,null,null,null,0]
[null,null,null,null,null,null,null,null,null,null,null,null,null,null,null,null,null,null,null,null,null,null,null,null,null,null,null,null,null,null,null,null,null,null,null,null,null,null,null,null,null,null,null,null,null,null,null,null,null,null,null,null,null,null,null,null,null,null,null,null,null,null,0]
[null,null,null,null,null,null,null,null,null,null,null,null,null,null,null,null,null,null,null,null,null,null,null,null,null,null,null,null,null,null,null,null,null,null,null,null,null,null,null,null,null,null,null,null,null,null,null,null,null,null,null,null,null,null,null,null,null,null,null,null,null,null,0]
[null,null,null,null,null,null,null,null,null,null,null,null,null,null,null,null,null,null,null,null,null,null,null,null,null,null,null,null,null,null,null,null,null,null,null,null,null,null,null,null,null,null,null,null,null,null,null,null,null,null,null,null,null,null,null,null,null,null,null,null,null,null,0]
[null,null,null,null,null,null,null,null,null,null,null,null,null,null,null,null,null,null,null,null,null,null,null,null,null,null,null,null,null,null,null,null,null,null,null,null,null,null,null,null,null,null,null,null,null,null,null,null,null,null,null,null,null,null,null,null,null,null,null,null,null,null,0]
[null,null,null,null,null,null,null,null,null,null,null,null,null,null,null,null,null,null,null,null,null,null,null,null,null,null,null,null,null,null,null,null,null,null,null,null,null,null,null,null,null,null,null,null,null,null,null,null,null,null,null,null,null,null,null,null,null,null,null,null,null,null,0]
[null,null,null,null,null,null,null,null,null,null,null,null,null,null,null,null,null,null,null,null,null,null,null,null,null,null,null,null,null,null,null,null,null,null,null,null,null,null,null,null,null,null,null,null,null,null,null,null,null,null,null,null,null,null,null,null,null,null,null,null,null,null,0]
[null,null,null,null,null,null,null,null,null,null,null,null,null,null,null,null,null,null,null,null,null,null,null,null,null,null,null,null,null,null,null,null,null,null,null,null,null,null,null,null,null,null,null,null,null,null,null,null,null,null,null,null,null,null,null,null,null,null,null,null,null,null,0]
[null,null,null,null,null,null,null,null,null,null,null,null,null,null,null,null,null,null,null,null,null,null,null,null,null,null,null,null,null,null,null,null,null,null,null,null,null,null,null,null,null,null,null,null,null,null,null,null,null,null,null,null,null,null,null,null,null,null,null,null,null,null,0]
[null,null,null,null,null,null,null,null,null,null,null,null,null,null,null,null,null,null,null,null,null,null,null,null,null,null,null,null,null,null,null,null,null,null,null,null,null,null,null,null,null,null,null,null,null,null,null,null,null,null,null,null,null,null,null,null,null,null,null,null,null,null,0]
[null,null,null,null,null,null,null,null,null,null,null,null,null,null,null,null,null,null,null,null,null,null,null,null,null,null,null,null,null,null,null,null,null,null,null,null,null,null,null,null,null,null,null,null,null,null,null,null,null,null,null,null,null,null,null,null,null,null,null,null,null,null,0]
[null,null,null,null,null,null,null,null,null,null,null,null,null,null,null,null,null,null,null,null,null,null,null,null,null,null,null,null,null,null,null,null,null,null,null,null,null,null,null,null,null,null,null,null,null,null,null,null,null,null,null,null,null,null,null,null,null,null,null,null,null,null,0]
[null,null,null,null,null,null,null,null,null,null,null,null,null,null,null,null,null,null,null,null,null,null,null,null,null,null,null,null,null,null,null,null,null,null,null,null,null,null,null,null,null,null,null,null,null,null,null,null,null,null,null,null,null,null,null,null,null,null,null,null,null,null,0]
[null,null,null,null,null,null,null,null,null,null,null,null,null,null,null,null,null,null,null,null,null,null,null,null,null,null,null,null,null,null,null,null,null,null,null,null,null,null,null,null,null,null,null,null,null,null,null,null,null,null,null,null,null,null,null,null,null,null,null,null,null,null,0]
[null,null,null,null,null,null,null,null,null,null,null,null,null,null,null,null,null,null,null,null,null,null,null,null,null,null,null,null,null,null,null,null,null,null,null,null,null,null,null,null,null,null,null,null,null,null,null,null,null,null,null,null,null,null,null,null,null,null,null,null,null,null,0]
[null,null,null,null,null,null,null,null,null,null,null,null,null,null,null,null,null,null,null,null,null,null,null,null,null,null,null,null,null,null,null,null,null,null,null,null,null,null,null,null,null,null,null,null,null,null,null,null,null,null,null,null,null,null,null,null,null,null,null,null,null,null,0]
[null,null,null,null,null,null,null,null,null,null,null,null,null,null,null,null,null,null,null,null,null,null,null,null,null,null,null,null,null,null,null,null,null,null,null,null,null,null,null,null,null,null,null,null,null,null,null,null,null,null,null,null,null,null,null,null,null,null,null,null,null,null,0]
[null,null,null,null,null,null,null,null,null,null,null,null,null,null,null,null,null,null,null,null,null,null,null,null,null,null,null,null,null,null,null,null,null,null,null,null,null,null,null,null,null,null,null,null,null,null,null,null,null,null,null,null,null,null,null,null,null,null,null,null,null,null,0]
[null,null,null,null,null,null,null,null,null,null,null,null,null,null,null,null,null,null,null,null,null,null,null,null,null,null,null,null,null,null,null,null,null,null,null,null,null,null,null,null,null,null,null,null,null,null,null,null,null,null,null,null,null,null,null,null,null,null,null,null,null,null,0]
[null,null,null,null,null,null,null,null,null,null,null,null,null,null,null,null,null,null,null,null,null,null,null,null,null,null,null,null,null,null,null,null,null,null,null,null,null,null,null,null,null,null,null,null,null,null,null,null,null,null,null,null,null,null,null,null,null,null,null,null,null,null,0]
[null,null,null,null,null,null,null,null,null,null,null,null,null,null,null,null,null,null,null,null,null,null,null,null,null,null,null,null,null,null,null,null,null,null,null,null,null,null,null,null,null,null,null,null,null,null,null,null,null,null,null,null,null,null,null,null,null,null,null,null,null,null,0]
[null,null,null,null,null,null,null,null,null,null,null,null,null,null,null,null,null,null,null,null,null,null,null,null,null,null,null,null,null,null,null,null,null,null,null,null,null,null,null,null,null,null,null,null,null,null,null,null,null,null,null,null,null,null,null,null,null,null,null,null,null,null,0]
[null,null,null,null,null,null,null,null,null,null,null,null,null,null,null,null,null,null,null,null,null,null,null,null,null,null,null,null,null,null,null,null,null,null,null,null,null,null,null,null,null,null,null,null,null,null,null,null,null,null,null,null,null,null,null,null,null,null,null,null,null,null,0]
[null,null,null,null,null,null,null,null,null,null,null,null,null,null,null,null,null,null,null,null,null,null,null,null,null,null,null,null,null,null,null,null,null,null,null,null,null,null,null,null,null,null,null,null,null,null,null,null,null,null,null,null,null,null,null,null,null,null,null,null,null,null,0]
[null,null,null,null,null,null,null,null,null,null,null,null,null,null,null,null,null,null,null,null,null,null,null,null,null,null,null,null,null,null,null,null,null,null,null,null,null,null,null,null,null,null,null,null,null,null,null,null,null,null,null,null,null,null,null,null,null,null,null,null,null,null,0]
[null,null,null,null,null,null,null,null,null,null,null,null,null,null,null,null,null,null,null,null,null,null,null,null,null,null,null,null,null,null,null,null,null,null,null,null,null,null,null,null,null,null,null,null,null,null,null,null,null,null,null,null,null,null,null,null,null,null,null,null,null,null,0]
[null,null,null,null,null,null,null,null,null,null,null,null,null,null,null,null,null,null,null,null,null,null,null,null,null,null,null,null,null,null,null,null,null,null,null,null,null,null,null,null,null,null,null,null,null,null,null,null,null,null,null,null,null,null,null,null,null,null,null,null,null,null,0]
[null,null,null,null,null,null,null,null,null,null,null,null,null,null,null,null,null,null,null,null,null,null,null,null,null,null,null,null,null,null,null,null,null,null,null,null,null,null,null,null,null,null,null,null,null,null,null,null,null,null,null,null,null,null,null,null,null,null,null,null,null,null,0]
[null,null,null,null,null,null,null,null,null,null,null,null,null,null,null,null,null,null,null,null,null,null,null,null,null,null,null,null,null,null,null,null,null,null,null,null,null,null,null,null,null,null,null,null,null,null,null,null,null,null,null,null,null,null,null,null,null,null,null,null,null,null,0]
[null,null,null,null,null,null,null,null,null,null,null,null,null,null,null,null,null,null,null,null,null,null,null,null,null,null,null,null,null,null,null,null,null,null,null,null,null,null,null,null,null,null,null,null,null,null,null,null,null,null,null,null,null,null,null,null,null,null,null,null,null,null,0]
[null,null,null,null,null,null,null,null,null,null,null,null,null,null,null,null,null,null,null,null,null,null,null,null,null,null,null,null,null,null,null,null,null,null,null,null,null,null,null,null,null,null,null,null,null,null,null,null,null,null,null,null,null,null,null,null,null,null,null,null,null,null,0]
[null,null,null,null,null,null,null,null,null,null,null,null,null,null,null,null,null,null,null,null,null,null,null,null,null,null,null,null,null,null,null,null,null,null,null,null,null,null,null,null,null,null,null,null,null,null,null,null,null,null,null,null,null,null,null,null,null,null,null,null,null,null,0]
[null,null,null,null,null,null,null,null,null,null,null,null,null,null,null,null,null,null,null,null,null,null,null,null,null,null,null,null,null,null,null,null,null,null,null,null,null,null,null,null,null,null,null,null,null,null,null,null,null,null,null,null,null,null,null,null,null,null,null,null,null,null,0]
[null,null,null,null,null,null,null,null,null,null,null,null,null,null,null,null,null,null,null,null,null,null,null,null,null,null,null,null,null,null,null,null,null,null,null,null,null,null,null,null,null,null,null,null,null,null,null,null,null,null,null,null,null,null,null,null,null,null,null,null,null,null,0]
[null,null,null,null,null,null,null,null,null,null,null,null,null,null,null,null,null,null,null,null,null,null,null,null,null,null,null,null,null,null,null,null,null,null,null,null,null,null,null,null,null,null,null,null,null,null,null,null,null,null,null,null,null,null,null,null,null,null,null,null,null,null,0]
[null,null,null,null,null,null,null,null,null,null,null,null,null,null,null,null,null,null,null,null,null,null,null,null,null,null,null,null,null,null,null,null,null,null,null,null,null,null,null,null,null,null,null,null,null,null,null,null,null,null,null,null,null,null,null,null,null,null,null,null,null,null,0]
[null,null,null,null,null,null,null,null,null,null,null,null,null,null,null,null,null,null,null,null,null,null,null,null,null,null,null,null,null,null,null,null,null,null,null,null,null,null,null,null,null,null,null,null,null,null,null,null,null,null,null,null,null,null,null,null,null,null,null,null,null,null,0]
[null,null,null,null,null,null,null,null,null,null,null,null,null,null,null,null,null,null,null,null,null,null,null,null,null,null,null,null,null,null,null,null,null,null,null,null,null,null,null,null,null,null,null,null,null,null,null,null,null,null,null,null,null,null,null,null,null,null,null,null,null,null,0]
[null,null,null,null,null,null,null,null,null,null,null,null,null,null,null,null,null,null,null,null,null,null,null,null,null,null,null,null,null,null,null,null,null,null,null,null,null,null,null,null,null,null,null,null,null,null,null,null,null,null,null,null,null,null,null,null,null,null,null,null,null,null,0]
[null,null,null,null,null,null,null,null,null,null,null,null,null,null,null,null,null,null,null,null,null,null,null,null,null,null,null,null,null,null,null,null,null,null,null,null,null,null,null,null,null,null,null,null,null,null,null,null,null,null,null,null,null,null,null,null,null,null,null,null,null,null,0]
[null,null,null,null,null,null,null,null,null,null,null,null,null,null,null,null,null,null,null,null,null,null,null,null,null,null,null,null,null,null,null,null,null,null,null,null,null,null,null,null,null,null,null,null,null,null,null,null,null,null,null,null,null,null,null,null,null,null,null,null,null,null,0]
[null,null,null,null,null,null,null,null,null,null,null,null,null,null,null,null,null,null,null,null,null,null,null,null,null,null,null,null,null,null,null,null,null,null,null,null,null,null,null,null,null,null,null,null,null,null,null,null,null,null,null,null,null,null,null,null,null,null,null,null,null,null,0]
[null,null,null,null,null,null,null,null,null,null,null,null,null,null,null,null,null,null,null,null,null,null,null,null,null,null,null,null,null,null,null,null,null,null,null,null,null,null,null,null,null,null,null,null,null,null,null,null,null,null,null,null,null,null,null,null,null,null,null,null,null,null,0]
[null,null,null,null,null,null,null,null,null,null,null,null,null,null,null,null,null,null,null,null,null,null,null,null,null,null,null,null,null,null,null,null,null,null,null,null,null,null,null,null,null,null,null,null,null,null,null,null,null,null,null,null,null,null,null,null,null,null,null,null,null,null,0]
[null,null,null,null,null,null,null,null,null,null,null,null,null,null,null,null,null,null,null,null,null,null,null,null,null,null,null,null,null,null,null,null,null,null,null,null,null,null,null,null,null,null,null,null,null,null,null,null,null,null,null,null,null,null,null,null,null,null,null,null,null,null,0]
[null,null,null,null,null,null,null,null,null,null,null,null,null,null,null,null,null,null,null,null,null,null,null,null,null,null,null,null,null,null,null,null,null,null,null,null,null,null,null,null,null,null,null,null,null,null,null,null,null,null,null,null,null,null,null,null,null,null,null,null,null,null,0]
[null,null,null,null,null,null,null,null,null,null,null,null,null,null,null,null,null,null,null,null,null,null,null,null,null,null,null,null,null,null,null,null,null,null,null,null,null,null,null,null,null,null,null,null,null,null,null,null,null,null,null,null,null,null,null,null,null,null,null,null,null,null,0]
[null,null,null,null,null,null,null,null,null,null,null,null,null,null,null,null,null,null,null,null,null,null,null,null,null,null,null,null,null,null,null,null,null,null,null,null,null,null,null,null,null,null,null,null,null,null,null,null,null,null,null,null,null,null,null,null,null,null,null,null,null,null,0]
[null,null,null,null,null,null,null,null,null,null,null,null,null,null,null,null,null,null,null,null,null,null,null,null,null,null,null,null,null,null,null,null,null,null,null,null,null,null,null,null,null,null,null,null,null,null,null,null,null,null,null,null,null,null,null,null,null,null,null,null,null,null,0]
[null,null,null,null,null,null,null,null,null,null,null,null,null,null,null,null,null,null,null,null,null,null,null,null,null,null,null,null,null,null,null,null,null,null,null,null,null,null,null,null,null,null,null,null,null,null,null,null,null,null,null,null,null,null,null,null,null,null,null,null,null,null,0]
[null,null,null,null,null,null,null,null,null,null,null,null,null,null,null,null,null,null,null,null,null,null,null,null,null,null,null,null,null,null,null,null,null,null,null,null,null,null,null,null,null,null,null,null,null,null,null,null,null,null,null,null,null,null,null,null,null,null,null,null,null,null,0]
[null,null,null,null,null,null,null,null,null,null,null,null,null,null,null,null,null,null,null,null,null,null,null,null,null,null,null,null,null,null,null,null,null,null,null,null,null,null,null,null,null,null,null,null,null,null,null,null,null,null,null,null,null,null,null,null,null,null,null,null,null,null,0]
[null,null,null,null,null,null,null,null,null,null,null,null,null,null,null,null,null,null,null,null,null,null,null,null,null,null,null,null,null,null,null,null,null,null,null,null,null,null,null,null,null,null,null,null,null,null,null,null,null,null,null,null,null,null,null,null,null,null,null,null,null,null,0]
[null,null,null,null,null,null,null,null,null,null,null,null,null,null,null,null,null,null,null,null,null,null,null,null,null,null,null,null,null,null,null,null,null,null,null,null,null,null,null,null,null,null,null,null,null,null,null,null,null,null,null,null,null,null,null,null,null,null,null,null,null,null,0]
[null,null,null,null,null,null,null,null,null,null,null,null,null,null,null,null,null,null,null,null,null,null,null,null,null,null,null,null,null,null,null,null,null,null,null,null,null,null,null,null,null,null,null,null,null,null,null,null,null,null,null,null,null,null,null,null,null,null,null,null,null,null,0]
[null,null,null,null,null,null,null,null,null,null,null,null,null,null,null,null,null,null,null,null,null,null,null,null,null,null,null,null,null,null,null,null,null,null,null,null,null,null,null,null,null,null,null,null,null,null,null,null,null,null,null,null,null,null,null,null,null,null,null,null,null,null,0]
[null,null,null,null,null,null,null,null,null,null,null,null,null,null,null,null,null,null,null,null,null,null,null,null,null,null,null,null,null,null,null,null,null,null,null,null,null,null,null,null,null,null,null,null,null,null,null,null,null,null,null,null,null,null,null,null,null,null,null,null,null,null,{"$f":"C79*$C$11+D79*$D$11+E79*$E$11+F79*$F$11+G79*$G$11+H79*$H$11+I79*$I$11+J79*$J$11+K79*$K$11+L79*$L$11+M79*$M$11+N79*$N$11+O79*$O$11+P79*$P$11+Q79*$Q$11+R79*$R$11+S79*$S$11+T79*$T$11+U79*$U$11+V79*$V$11+W79*$W$11+X79*$X$11+Y79*$Y$11+Z79*$Z$11+AA79*$AA$11+AB79*$AB$11+AC79*$AC$11+AD79*$AD$11+AE79*$AE$11+AF79*$AF$11+AG79*$AG$11+AH79*$AH$11+AI79*$AI$11+AJ79*$AJ$11+AK79*$AK$11+AL79*$AL$11+AM79*$AM$11+AN79*$AN$11+AO79*$AO$11+AP79*$AP$11+AQ79*$AQ$11+AR79*$AR$11+AS79*$AS$11+AT79*$AT$11+AU79*$AU$11+AV79*$AV$11+AW79*$AW$11+AX79*$AX$11+AY79*$AY$11+AZ79*$AZ$11+BA79*$BA$11+BB79*$BB$11+BC79*$BC$11+BD79*$BD$11+BE79*$BE$11+BF79*$BF$11+BG79*$BG$11+BH79*$BH$11+BI79*$BI$11+BJ79*$BJ$11","v":0}]
[null,null,null,null,null,null,null,null,null,null,null,null,null,null,null,null,null,null,null,null,null,null,null,null,null,null,null,null,null,null,null,null,null,null,null,null,null,null,null,null,null,null,null,null,null,null,null,null,null,null,null,null,null,null,null,null,null,null,null,null,null,null,0]
[null,null,null,null,null,null,null,null,null,null,null,null,null,null,null,null,null,null,null,null,null,null,null,null,null,null,null,null,null,null,null,null,null,null,null,null,null,null,null,null,null,null,null,null,null,null,null,null,null,null,null,null,null,null,null,null,null,null,null,null,null,null,0]
[null,null,null,null,null,null,null,null,null,null,null,null,null,null,null,null,null,null,null,null,null,null,null,null,null,null,null,null,null,null,null,null,null,null,null,null,null,null,null,null,null,null,null,null,null,null,null,null,null,null,null,null,null,null,null,null,null,null,null,null,null,null,0]
[null,null,null,null,null,null,null,null,null,null,null,null,null,null,null,null,null,null,null,null,null,null,null,null,null,null,null,null,null,null,null,null,null,null,null,null,null,null,null,null,null,null,null,null,null,null,null,null,null,null,null,null,null,null,null,null,null,null,null,null,null,null,0]
[null,null,null,null,null,null,null,null,null,null,null,null,null,null,null,null,null,null,null,null,null,null,null,null,null,null,null,null,null,null,null,null,null,null,null,null,null,null,null,null,null,null,null,null,null,null,null,null,null,null,null,null,null,null,null,null,null,null,null,null,null,null,0]
[null,null,null,null,null,null,null,null,null,null,null,null,null,null,null,null,null,null,null,null,null,null,null,null,null,null,null,null,null,null,null,null,null,null,null,null,null,null,null,null,null,null,null,null,null,null,null,null,null,null,null,null,null,null,null,null,null,null,null,null,null,null,0]
[null,null,null,null,null,null,null,null,null,null,null,null,null,null,null,null,null,null,null,null,null,null,null,null,null,null,null,null,null,null,null,null,null,null,null,null,null,null,null,null,null,null,null,null,null,null,null,null,null,null,null,null,null,null,null,null,null,null,null,null,null,null,0]
[null,null,null,null,null,null,null,null,null,null,null,null,null,null,null,null,null,null,null,null,null,null,null,null,null,null,null,null,null,null,null,null,null,null,null,null,null,null,null,null,null,null,null,null,null,null,null,null,null,null,null,null,null,null,null,null,null,null,null,null,null,null,0]
[null,null,null,null,null,null,null,null,null,null,null,null,null,null,null,null,null,null,null,null,null,null,null,null,null,null,null,null,null,null,null,null,null,null,null,null,null,null,null,null,null,null,null,null,null,null,null,null,null,null,null,null,null,null,null,null,null,null,null,null,null,null,0]
[null,null,null,null,null,null,null,null,null,null,null,null,null,null,null,null,null,null,null,null,null,null,null,null,null,null,null,null,null,null,null,null,null,null,null,null,null,null,null,null,null,null,null,null,null,null,null,null,null,null,null,null,null,null,null,null,null,null,null,null,null,null,0]
[null,null,null,null,null,null,null,null,null,null,null,null,null,null,null,null,null,null,null,null,null,null,null,null,null,null,null,null,null,null,null,null,null,null,null,null,null,null,null,null,null,null,null,null,null,null,null,null,null,null,null,null,null,null,null,null,null,null,null,null,null,null,0]
[null,null,null,null,null,null,null,null,null,null,null,null,null,null,null,null,null,null,null,null,null,null,null,null,null,null,null,null,null,null,null,null,null,null,null,null,null,null,null,null,null,null,null,null,null,null,null,null,null,null,null,null,null,null,null,null,null,null,null,null,null,null,0]
[null,null,null,null,null,null,null,null,null,null,null,null,null,null,null,null,null,null,null,null,null,null,null,null,null,null,null,null,null,null,null,null,null,null,null,null,null,null,null,null,null,null,null,null,null,null,null,null,null,null,null,null,null,null,null,null,null,null,null,null,null,null,0]
[null,null,null,null,null,null,null,null,null,null,null,null,null,null,null,null,null,null,null,null,null,null,null,null,null,null,null,null,null,null,null,null,null,null,null,null,null,null,null,null,null,null,null,null,null,null,null,null,null,null,null,null,null,null,null,null,null,null,null,null,null,null,0]
[null,null,null,null,null,null,null,null,null,null,null,null,null,null,null,null,null,null,null,null,null,null,null,null,null,null,null,null,null,null,null,null,null,null,null,null,null,null,null,null,null,null,null,null,null,null,null,null,null,null,null,null,null,null,null,null,null,null,null,null,null,null,0]
[null,null,null,null,null,null,null,null,null,null,null,null,null,null,null,null,null,null,null,null,null,null,null,null,null,null,null,null,null,null,null,null,null,null,null,null,null,null,null,null,null,null,null,null,null,null,null,null,null,null,null,null,null,null,null,null,null,null,null,null,null,null,0]
[null,null,null,null,null,null,null,null,null,null,null,null,null,null,null,null,null,null,null,null,null,null,null,null,null,null,null,null,null,null,null,null,null,null,null,null,null,null,null,null,null,null,null,null,null,null,null,null,null,null,null,null,null,null,null,null,null,null,null,null,null,null,0]
[null,null,null,null,null,null,null,null,null,null,null,null,null,null,null,null,null,null,null,null,null,null,null,null,null,null,null,null,null,null,null,null,null,null,null,null,null,null,null,null,null,null,null,null,null,null,null,null,null,null,null,null,null,null,null,null,null,null,null,null,null,null,0]
[null,null,null,null,null,null,null,null,null,null,null,null,null,null,null,null,null,null,null,null,null,null,null,null,null,null,null,null,null,null,null,null,null,null,null,null,null,null,null,null,null,null,null,null,null,null,null,null,null,null,null,null,null,null,null,null,null,null,null,null,null,null,0]
[null,null,null,null,null,null,null,null,null,null,null,null,null,null,null,null,null,null,null,null,null,null,null,null,null,null,null,null,null,null,null,null,null,null,null,null,null,null,null,null,null,null,null,null,null,null,null,null,null,null,null,null,null,null,null,null,null,null,null,null,null,null,0]
[null,null,null,null,null,null,null,null,null,null,null,null,null,null,null,null,null,null,null,null,null,null,null,null,null,null,null,null,null,null,null,null,null,null,null,null,null,null,null,null,null,null,null,null,null,null,null,null,null,null,null,null,null,null,null,null,null,null,null,null,null,null,0]
[null,null,null,null,null,null,null,null,null,null,null,null,null,null,null,null,null,null,null,null,null,null,null,null,null,null,null,null,null,null,null,null,null,null,null,null,null,null,null,null,null,null,null,null,null,null,null,null,null,null,null,null,null,null,null,null,null,null,null,null,null,null,0]
[null,null,null,null,null,null,null,null,null,null,null,null,null,null,null,null,null,null,null,null,null,null,null,null,null,null,null,null,null,null,null,null,null,null,null,null,null,null,null,null,null,null,null,null,null,null,null,null,null,null,null,null,null,null,null,null,null,null,null,null,null,null,0]
[null,null,null,null,null,null,null,null,null,null,null,null,null,null,null,null,null,null,null,null,null,null,null,null,null,null,null,null,null,null,null,null,null,null,null,null,null,null,null,null,null,null,null,null,null,null,null,null,null,null,null,null,null,null,null,null,null,null,null,null,null,null,0]
[null,null,null,null,null,null,null,null,null,null,null,null,null,null,null,null,null,null,null,null,null,null,null,null,null,null,null,null,null,null,null,null,null,null,null,null,null,null,null,null,null,null,null,null,null,null,null,null,null,null,null,null,null,null,null,null,null,null,null,null,null,null,0]
[null,null,null,null,null,null,null,null,null,null,null,null,null,null,null,null,null,null,null,null,null,null,null,null,null,null,null,null,null,null,null,null,null,null,null,null,null,null,null,null,null,null,null,null,null,null,null,null,null,null,null,null,null,null,null,null,null,null,null,null,null,null,0]
[null,null,null,null,null,null,null,null,null,null,null,null,null,null,null,null,null,null,null,null,null,null,null,null,null,null,null,null,null,null,null,null,null,null,null,null,null,null,null,null,null,null,null,null,null,null,null,null,null,null,null,null,null,null,null,null,null,null,null,null,null,null,0]
[null,null,null,null,null,null,null,null,null,null,null,null,null,null,null,null,null,null,null,null,null,null,null,null,null,null,null,null,null,null,null,null,null,null,null,null,null,null,null,null,null,null,null,null,null,null,null,null,null,null,null,null,null,null,null,null,null,null,null,null,null,null,0]
[null,null,null,null,null,null,null,null,null,null,null,null,null,null,null,null,null,null,null,null,null,null,null,null,null,null,null,null,null,null,null,null,null,null,null,null,null,null,null,null,null,null,null,null,null,null,null,null,null,null,null,null,null,null,null,null,null,null,null,null,null,null,0]
[null,null,null,null,null,null,null,null,null,null,null,null,null,null,null,null,null,null,null,null,null,null,null,null,null,null,null,null,null,null,null,null,null,null,null,null,null,null,null,null,null,null,null,null,null,null,null,null,null,null,null,null,null,null,null,null,null,null,null,null,null,null,0]
[null,null,null,null,null,null,null,null,null,null,null,null,null,null,null,null,null,null,null,null,null,null,null,null,null,null,null,null,null,null,null,null,null,null,null,null,null,null,null,null,null,null,null,null,null,null,null,null,null,null,null,null,null,null,null,null,null,null,null,null,null,null,0]
[null,null,null,null,null,null,null,null,null,null,null,null,null,null,null,null,null,null,null,null,null,null,null,null,null,null,null,null,null,null,null,null,null,null,null,null,null,null,null,null,null,null,null,null,null,null,null,null,null,null,null,null,null,null,null,null,null,null,null,null,null,null,0]
[null,null,null,null,null,null,null,null,null,null,null,null,null,null,null,null,null,null,null,null,null,null,null,null,null,null,null,null,null,null,null,null,null,null,null,null,null,null,null,null,null,null,null,null,null,null,null,null,null,null,null,null,null,null,null,null,null,null,null,null,null,null,0]
[null,null,null,null,null,null,null,null,null,null,null,null,null,null,null,null,null,null,null,null,null,null,null,null,null,null,null,null,null,null,null,null,null,null,null,null,null,null,null,null,null,null,null,null,null,null,null,null,null,null,null,null,null,null,null,null,null,null,null,null,null,null,0]
[null,null,null,null,null,null,null,null,null,null,null,null,null,null,null,null,null,null,null,null,null,null,null,null,null,null,null,null,null,null,null,null,null,null,null,null,null,null,null,null,null,null,null,null,null,null,null,null,null,null,null,null,null,null,null,null,null,null,null,null,null,null,0]
[null,null,null,null,null,null,null,null,null,null,null,null,null,null,null,null,null,null,null,null,null,null,null,null,null,null,null,null,null,null,null,null,null,null,null,null,null,null,null,null,null,null,null,null,null,null,null,null,null,null,null,null,null,null,null,null,null,null,null,null,null,null,0]
[null,null,null,null,null,null,null,null,null,null,null,null,null,null,null,null,null,null,null,null,null,null,null,null,null,null,null,null,null,null,null,null,null,null,null,null,null,null,null,null,null,null,null,null,null,null,null,null,null,null,null,null,null,null,null,null,null,null,null,null,null,null,0]
[null,null,null,null,null,null,null,null,null,null,null,null,null,null,null,null,null,null,null,null,null,null,null,null,null,null,null,null,null,null,null,null,null,null,null,null,null,null,null,null,null,null,null,null,null,null,null,null,null,null,null,null,null,null,null,null,null,null,null,null,null,null,0]
[null,null,null,null,null,null,null,null,null,null,null,null,null,null,null,null,null,null,null,null,null,null,null,null,null,null,null,null,null,null,null,null,null,null,null,null,null,null,null,null,null,null,null,null,null,null,null,null,null,null,null,null,null,null,null,null,null,null,null,null,null,null,0]
[null,null,null,null,null,null,null,null,null,null,null,null,null,null,null,null,null,null,null,null,null,null,null,null,null,null,null,null,null,null,null,null,null,null,null,null,null,null,null,null,null,null,null,null,null,null,null,null,null,null,null,null,null,null,null,null,null,null,null,null,null,null,0]
[null,null,null,null,null,null,null,null,null,null,null,null,null,null,null,null,null,null,null,null,null,null,null,null,null,null,null,null,null,null,null,null,null,null,null,null,null,null,null,null,null,null,null,null,null,null,null,null,null,null,null,null,null,null,null,null,null,null,null,null,null,null,0]
[null,null,null,null,null,null,null,null,null,null,null,null,null,null,null,null,null,null,null,null,null,null,null,null,null,null,null,null,null,null,null,null,null,null,null,null,null,null,null,null,null,null,null,null,null,null,null,null,null,null,null,null,null,null,null,null,null,null,null,null,null,null,0]
[null,null,null,null,null,null,null,null,null,null,null,null,null,null,null,null,null,null,null,null,null,null,null,null,null,null,null,null,null,null,null,null,null,null,null,null,null,null,null,null,null,null,null,null,null,null,null,null,null,null,null,null,null,null,null,null,null,null,null,null,null,null,0]
[null,null,null,null,null,null,null,null,null,null,null,null,null,null,null,null,null,null,null,null,null,null,null,null,null,null,null,null,null,null,null,null,null,null,null,null,null,null,null,null,null,null,null,null,null,null,null,null,null,null,null,null,null,null,null,null,null,null,null,null,null,null,0]
[null,null,null,null,null,null,null,null,null,null,null,null,null,null,null,null,null,null,null,null,null,null,null,null,null,null,null,null,null,null,null,null,null,null,null,null,null,null,null,null,null,null,null,null,null,null,null,null,null,null,null,null,null,null,null,null,null,null,null,null,null,null,0]
[null,null,null,null,null,null,null,null,null,null,null,null,null,null,null,null,null,null,null,null,null,null,null,null,null,null,null,null,null,null,null,null,null,null,null,null,null,null,null,null,null,null,null,null,null,null,null,null,null,null,null,null,null,null,null,null,null,null,null,null,null,null,0]
[null,null,null,null,null,null,null,null,null,null,null,null,null,null,null,null,null,null,null,null,null,null,null,null,null,null,null,null,null,null,null,null,null,null,null,null,null,null,null,null,null,null,null,null,null,null,null,null,null,null,null,null,null,null,null,null,null,null,null,null,null,null,0]
[null,null,null,null,null,null,null,null,null,null,null,null,null,null,null,null,null,null,null,null,null,null,null,null,null,null,null,null,null,null,null,null,null,null,null,null,null,null,null,null,null,null,null,null,null,null,null,null,null,null,null,null,null,null,null,null,null,null,null,null,null,null,0]
[null,null,null,null,null,null,null,null,null,null,null,null,null,null,null,null,null,null,null,null,null,null,null,null,null,null,null,null,null,null,null,null,null,null,null,null,null,null,null,null,null,null,null,null,null,null,null,null,null,null,null,null,null,null,null,null,null,null,null,null,null,null,0]
[null,null,null,null,null,null,null,null,null,null,null,null,null,null,null,null,null,null,null,null,null,null,null,null,null,null,null,null,null,null,null,null,null,null,null,null,null,null,null,null,null,null,null,null,null,null,null,null,null,null,null,null,null,null,null,null,null,null,null,null,null,null,0]
[null,null,null,null,null,null,null,null,null,null,null,null,null,null,null,null,null,null,null,null,null,null,null,null,null,null,null,null,null,null,null,null,null,null,null,null,null,null,null,null,null,null,null,null,null,null,null,null,null,null,null,null,null,null,null,null,null,null,null,null,null,null,0]
[null,null,null,null,null,null,null,null,null,null,null,null,null,null,null,null,null,null,null,null,null,null,null,null,null,null,null,null,null,null,null,null,null,null,null,null,null,null,null,null,null,null,null,null,null,null,null,null,null,null,null,null,null,null,null,null,null,null,null,null,null,null,0]
[null,null,null,null,null,null,null,null,null,null,null,null,null,null,null,null,null,null,null,null,null,null,null,null,null,null,null,null,null,null,null,null,null,null,null,null,null,null,null,null,null,null,null,null,null,null,null,null,null,null,null,null,null,null,null,null,null,null,null,null,null,null,0]
[null,null,null,null,null,null,null,null,null,null,null,null,null,null,null,null,null,null,null,null,null,null,null,null,null,null,null,null,null,null,null,null,null,null,null,null,null,null,null,null,null,null,null,null,null,null,null,null,null,null,null,null,null,null,null,null,null,null,null,null,null,null,0]
[null,null,null,null,null,null,null,null,null,null,null,null,null,null,null,null,null,null,null,null,null,null,null,null,null,null,null,null,null,null,null,null,null,null,null,null,null,null,null,null,null,null,null,null,null,null,null,null,null,null,null,null,null,null,null,null,null,null,null,null,null,null,0]
[null,null,null,null,null,null,null,null,null,null,null,null,null,null,null,null,null,null,null,null,null,null,null,null,null,null,null,null,null,null,null,null,null,null,null,null,null,null,null,null,null,null,null,null,null,null,null,null,null,null,null,null,null,null,null,null,null,null,null,null,null,null,0]
[null,null,null,null,null,null,null,null,null,null,null,null,null,null,null,null,null,null,null,null,null,null,null,null,null,null,null,null,null,null,null,null,null,null,null,null,null,null,null,null,null,null,null,null,null,null,null,null,null,null,null,null,null,null,null,null,null,null,null,null,null,null,0]
[null,null,null,null,null,null,null,null,null,null,null,null,null,null,null,null,null,null,null,null,null,null,null,null,null,null,null,null,null,null,null,null,null,null,null,null,null,null,null,null,null,null,null,null,null,null,null,null,null,null,null,null,null,null,null,null,null,null,null,null,null,null,0]
[null,null,null,null,null,null,null,null,null,null,null,null,null,null,null,null,null,null,null,null,null,null,null,null,null,null,null,null,null,null,null,null,null,null,null,null,null,null,null,null,null,null,null,null,null,null,null,null,null,null,null,null,null,null,null,null,null,null,null,null,null,null,0]
[null,null,null,null,null,null,null,null,null,null,null,null,null,null,null,null,null,null,null,null,null,null,null,null,null,null,null,null,null,null,null,null,null,null,null,null,null,null,null,null,null,null,null,null,null,null,null,null,null,null,null,null,null,null,null,null,null,null,null,null,null,null,0]
[null,null,null,null,null,null,null,null,null,null,null,null,null,null,null,null,null,null,null,null,null,null,null,null,null,null,null,null,null,null,null,null,null,null,null,null,null,null,null,null,null,null,null,null,null,null,null,null,null,null,null,null,null,null,null,null,null,null,null,null,null,null,0]
[null,null,null,null,null,null,null,null,null,null,null,null,null,null,null,null,null,null,null,null,null,null,null,null,null,null,null,null,null,null,null,null,null,null,null,null,null,null,null,null,null,null,null,null,null,null,null,null,null,null,null,null,null,null,null,null,null,null,null,null,null,null,0]
[null,null,null,null,null,null,null,null,null,null,null,null,null,null,null,null,null,null,null,null,null,null,null,null,null,null,null,null,null,null,null,null,null,null,null,null,null,null,null,null,null,null,null,null,null,null,null,null,null,null,null,null,null,null,null,null,null,null,null,null,null,null,0]
[null,null,null,null,null,null,null,null,null,null,null,null,null,null,null,null,null,null,null,null,null,null,null,null,null,null,null,null,null,null,null,null,null,null,null,null,null,null,null,null,null,null,null,null,null,null,null,null,null,null,null,null,null,null,null,null,null,null,null,null,null,null,{"$f":"C143*$C$11+D143*$D$11+E143*$E$11+F143*$F$11+G143*$G$11+H143*$H$11+I143*$I$11+J143*$J$11+K143*$K$11+L143*$L$11+M143*$M$11+N143*$N$11+O143*$O$11+P143*$P$11+Q143*$Q$11+R143*$R$11+S143*$S$11+T143*$T$11+U143*$U$11+V143*$V$11+W143*$W$11+X143*$X$11+Y143*$Y$11+Z143*$Z$11+AA143*$AA$11+AB143*$AB$11+AC143*$AC$11+AD143*$AD$11+AE143*$AE$11+AF143*$AF$11+AG143*$AG$11+AH143*$AH$11+AI143*$AI$11+AJ143*$AJ$11+AK143*$AK$11+AL143*$AL$11+AM143*$AM$11+AN143*$AN$11+AO143*$AO$11+AP143*$AP$11+AQ143*$AQ$11+AR143*$AR$11+AS143*$AS$11+AT143*$AT$11+AU143*$AU$11+AV143*$AV$11+AW143*$AW$11+AX143*$AX$11+AY143*$AY$11+AZ143*$AZ$11+BA143*$BA$11+BB143*$BB$11+BC143*$BC$11+BD143*$BD$11+BE143*$BE$11+BF143*$BF$11+BG143*$BG$11+BH143*$BH$11+BI143*$BI$11+BJ143*$BJ$11","v":0}]
[null,null,null,null,null,null,null,null,null,null,null,null,null,null,null,null,null,null,null,null,null,null,null,null,null,null,null,null,null,null,null,null,null,null,null,null,null,null,null,null,null,null,null,null,null,null,null,null,null,null,null,null,null,null,null,null,null,null,null,null,null,null,0]
[null,null,null,null,null,null,null,null,null,null,null,null,null,null,null,null,null,null,null,null,null,null,null,null,null,null,null,null,null,null,null,null,null,null,null,null,null,null,null,null,null,null,null,null,null,null,null,null,null,null,null,null,null,null,null,null,null,null,null,null,null,null,0]
[null,null,null,null,null,null,null,null,null,null,null,null,null,null,null,null,null,null,null,null,null,null,null,null,null,null,null,null,null,null,null,null,null,null,null,null,null,null,null,null,null,null,null,null,null,null,null,null,null,null,null,null,null,null,null,null,null,null,null,null,null,null,0]
[null,null,null,null,null,null,null,null,null,null,null,null,null,null,null,null,null,null,null,null,null,null,null,null,null,null,null,null,null,null,null,null,null,null,null,null,null,null,null,null,null,null,null,null,null,null,null,null,null,null,null,null,null,null,null,null,null,null,null,null,null,null,0]
[null,null,null,null,null,null,null,null,null,null,null,null,null,null,null,null,null,null,null,null,null,null,null,null,null,null,null,null,null,null,null,null,null,null,null,null,null,null,null,null,null,null,null,null,null,null,null,null,null,null,null,null,null,null,null,null,null,null,null,null,null,null,0]
[null,null,null,null,null,null,null,null,null,null,null,null,null,null,null,null,null,null,null,null,null,null,null,null,null,null,null,null,null,null,null,null,null,null,null,null,null,null,null,null,null,null,null,null,null,null,null,null,null,null,null,null,null,null,null,null,null,null,null,null,null,null,0]
[null,null,null,null,null,null,null,null,null,null,null,null,null,null,null,null,null,null,null,null,null,null,null,null,null,null,null,null,null,null,null,null,null,null,null,null,null,null,null,null,null,null,null,null,null,null,null,null,null,null,null,null,null,null,null,null,null,null,null,null,null,null,0]
[null,null,null,null,null,null,null,null,null,null,null,null,null,null,null,null,null,null,null,null,null,null,null,null,null,null,null,null,null,null,null,null,null,null,null,null,null,null,null,null,null,null,null,null,null,null,null,null,null,null,null,null,null,null,null,null,null,null,null,null,null,null,0]
[null,null,null,null,null,null,null,null,null,null,null,null,null,null,null,null,null,null,null,null,null,null,null,null,null,null,null,null,null,null,null,null,null,null,null,null,null,null,null,null,null,null,null,null,null,null,null,null,null,null,null,null,null,null,null,null,null,null,null,null,null,null,0]
[null,null,null,null,null,null,null,null,null,null,null,null,null,null,null,null,null,null,null,null,null,null,null,null,null,null,null,null,null,null,null,null,null,null,null,null,null,null,null,null,null,null,null,null,null,null,null,null,null,null,null,null,null,null,null,null,null,null,null,null,null,null,0]
[null,null,null,null,null,null,null,null,null,null,null,null,null,null,null,null,null,null,null,null,null,null,null,null,null,null,null,null,null,null,null,null,null,null,null,null,null,null,null,null,null,null,null,null,null,null,null,null,null,null,null,null,null,null,null,null,null,null,null,null,null,null,0]
[null,null,null,null,null,null,null,null,null,null,null,null,null,null,null,null,null,null,null,null,null,null,null,null,null,null,null,null,null,null,null,null,null,null,null,null,null,null,null,null,null,null,null,null,null,null,null,null,null,null,null,null,null,null,null,null,null,null,null,null,null,null,0]
[null,null,null,null,null,null,null,null,null,null,null,null,null,null,null,null,null,null,null,null,null,null,null,null,null,null,null,null,null,null,null,null,null,null,null,null,null,null,null,null,null,null,null,null,null,null,null,null,null,null,null,null,null,null,null,null,null,null,null,null,null,null,0]
[null,null,null,null,null,null,null,null,null,null,null,null,null,null,null,null,null,null,null,null,null,null,null,null,null,null,null,null,null,null,null,null,null,null,null,null,null,null,null,null,null,null,null,null,null,null,null,null,null,null,null,null,null,null,null,null,null,null,null,null,null,null,0]
[null,null,null,null,null,null,null,null,null,null,null,null,null,null,null,null,null,null,null,null,null,null,null,null,null,null,null,null,null,null,null,null,null,null,null,null,null,null,null,null,null,null,null,null,null,null,null,null,null,null,null,null,null,null,null,null,null,null,null,null,null,null,0]
[null,null,null,null,null,null,null,null,null,null,null,null,null,null,null,null,null,null,null,null,null,null,null,null,null,null,null,null,null,null,null,null,null,null,null,null,null,null,null,null,null,null,null,null,null,null,null,null,null,null,null,null,null,null,null,null,null,null,null,null,null,null,0]
[null,null,null,null,null,null,null,null,null,null,null,null,null,null,null,null,null,null,null,null,null,null,null,null,null,null,null,null,null,null,null,null,null,null,null,null,null,null,null,null,null,null,null,null,null,null,null,null,null,null,null,null,null,null,null,null,null,null,null,null,null,null,0]
[null,null,null,null,null,null,null,null,null,null,null,null,null,null,null,null,null,null,null,null,null,null,null,null,null,null,null,null,null,null,null,null,null,null,null,null,null,null,null,null,null,null,null,null,null,null,null,null,null,null,null,null,null,null,null,null,null,null,null,null,null,null,0]
[null,null,null,null,null,null,null,null,null,null,null,null,null,null,null,null,null,null,null,null,null,null,null,null,null,null,null,null,null,null,null,null,null,null,null,null,null,null,null,null,null,null,null,null,null,null,null,null,null,null,null,null,null,null,null,null,null,null,null,null,null,null,0]
[null,null,null,null,null,null,null,null,null,null,null,null,null,null,null,null,null,null,null,null,null,null,null,null,null,null,null,null,null,null,null,null,null,null,null,null,null,null,null,null,null,null,null,null,null,null,null,null,null,null,null,null,null,null,null,null,null,null,null,null,null,null,0]
[null,null,null,null,null,null,null,null,null,null,null,null,null,null,null,null,null,null,null,null,null,null,null,null,null,null,null,null,null,null,null,null,null,null,null,null,null,null,null,null,null,null,null,null,null,null,null,null,null,null,null,null,null,null,null,null,null,null,null,null,null,null,0]
[null,null,null,null,null,null,null,null,null,null,null,null,null,null,null,null,null,null,null,null,null,null,null,null,null,null,null,null,null,null,null,null,null,null,null,null,null,null,null,null,null,null,null,null,null,null,null,null,null,null,null,null,null,null,null,null,null,null,null,null,null,null,0]
[null,null,null,null,null,null,null,null,null,null,null,null,null,null,null,null,null,null,null,null,null,null,null,null,null,null,null,null,null,null,null,null,null,null,null,null,null,null,null,null,null,null,null,null,null,null,null,null,null,null,null,null,null,null,null,null,null,null,null,null,null,null,0]
[null,null,null,null,null,null,null,null,null,null,null,null,null,null,null,null,null,null,null,null,null,null,null,null,null,null,null,null,null,null,null,null,null,null,null,null,null,null,null,null,null,null,null,null,null,null,null,null,null,null,null,null,null,null,null,null,null,null,null,null,null,null,0]
[null,null,null,null,null,null,null,null,null,null,null,null,null,null,null,null,null,null,null,null,null,null,null,null,null,null,null,null,null,null,null,null,null,null,null,null,null,null,null,null,null,null,null,null,null,null,null,null,null,null,null,null,null,null,null,null,null,null,null,null,null,null,0]
[null,null,null,null,null,null,null,null,null,null,null,null,null,null,null,null,null,null,null,null,null,null,null,null,null,null,null,null,null,null,null,null,null,null,null,null,null,null,null,null,null,null,null,null,null,null,null,null,null,null,null,null,null,null,null,null,null,null,null,null,null,null,0]
[null,null,null,null,null,null,null,null,null,null,null,null,null,null,null,null,null,null,null,null,null,null,null,null,null,null,null,null,null,null,null,null,null,null,null,null,null,null,null,null,null,null,null,null,null,null,null,null,null,null,null,null,null,null,null,null,null,null,null,null,null,null,0]
[null,null,null,null,null,null,null,null,null,null,null,null,null,null,null,null,null,null,null,null,null,null,null,null,null,null,null,null,null,null,null,null,null,null,null,null,null,null,null,null,null,null,null,null,null,null,null,null,null,null,null,null,null,null,null,null,null,null,null,null,null,null,0]
[null,null,null,null,null,null,null,null,null,null,null,null,null,null,null,null,null,null,null,null,null,null,null,null,null,null,null,null,null,null,null,null,null,null,null,null,null,null,null,null,null,null,null,null,null,null,null,null,null,null,null,null,null,null,null,null,null,null,null,null,null,null,0]
[null,null,null,null,null,null,null,null,null,null,null,null,null,null,null,null,null,null,null,null,null,null,null,null,null,null,null,null,null,null,null,null,null,null,null,null,null,null,null,null,null,null,null,null,null,null,null,null,null,null,null,null,null,null,null,null,null,null,null,null,null,null,0]
[null,null,null,null,null,null,null,null,null,null,null,null,null,null,null,null,null,null,null,null,null,null,null,null,null,null,null,null,null,null,null,null,null,null,null,null,null,null,null,null,null,null,null,null,null,null,null,null,null,null,null,null,null,null,null,null,null,null,null,null,null,null,0]
[null,null,null,null,null,null,null,null,null,null,null,null,null,null,null,null,null,null,null,null,null,null,null,null,null,null,null,null,null,null,null,null,null,null,null,null,null,null,null,null,null,null,null,null,null,null,null,null,null,null,null,null,null,null,null,null,null,null,null,null,null,null,0]
[null,null,null,null,null,null,null,null,null,null,null,null,null,null,null,null,null,null,null,null,null,null,null,null,null,null,null,null,null,null,null,null,null,null,null,null,null,null,null,null,null,null,null,null,null,null,null,null,null,null,null,null,null,null,null,null,null,null,null,null,null,null,0]
[null,null,null,null,null,null,null,null,null,null,null,null,null,null,null,null,null,null,null,null,null,null,null,null,null,null,null,null,null,null,null,null,null,null,null,null,null,null,null,null,null,null,null,null,null,null,null,null,null,null,null,null,null,null,null,null,null,null,null,null,null,null,0]
[null,null,null,null,null,null,null,null,null,null,null,null,null,null,null,null,null,null,null,null,null,null,null,null,null,null,null,null,null,null,null,null,null,null,null,null,null,null,null,null,null,null,null,null,null,null,null,null,null,null,null,null,null,null,null,null,null,null,null,null,null,null,0]
[null,null,null,null,null,null,null,null,null,null,null,null,null,null,null,null,null,null,null,null,null,null,null,null,null,null,null,null,null,null,null,null,null,null,null,null,null,null,null,null,null,null,null,null,null,null,null,null,null,null,null,null,null,null,null,null,null,null,null,null,null,null,0]
[null,null,null,null,null,null,null,null,null,null,null,null,null,null,null,null,null,null,null,null,null,null,null,null,null,null,null,null,null,null,null,null,null,null,null,null,null,null,null,null,null,null,null,null,null,null,null,null,null,null,null,null,null,null,null,null,null,null,null,null,null,null,0]
[null,null,null,null,null,null,null,null,null,null,null,null,null,null,null,null,null,null,null,null,null,null,null,null,null,null,null,null,null,null,null,null,null,null,null,null,null,null,null,null,null,null,null,null,null,null,null,null,null,null,null,null,null,null,null,null,null,null,null,null,null,null,0]
[null,null,null,null,null,null,null,null,null,null,null,null,null,null,null,null,null,null,null,null,null,null,null,null,null,null,null,null,null,null,null,null,null,null,null,null,null,null,null,null,null,null,null,null,null,null,null,null,null,null,null,null,null,null,null,null,null,null,null,null,null,null,0]
[null,null,null,null,null,null,null,null,null,null,null,null,null,null,null,null,null,null,null,null,null,null,null,null,null,null,null,null,null,null,null,null,null,null,null,null,null,null,null,null,null,null,null,null,null,null,null,null,null,null,null,null,null,null,null,null,null,null,null,null,null,null,0]
[null,null,null,null,null,null,null,null,null,null,null,null,null,null,null,null,null,null,null,null,null,null,null,null,null,null,null,null,null,null,null,null,null,null,null,null,null,null,null,null,null,null,null,null,null,null,null,null,null,null,null,null,null,null,null,null,null,null,null,null,null,null,0]
[null,null,null,null,null,null,null,null,null,null,null,null,null,null,null,null,null,null,null,null,null,null,null,null,null,null,null,null,null,null,null,null,null,null,null,null,null,null,null,null,null,null,null,null,null,null,null,null,null,null,null,null,null,null,null,null,null,null,null,null,null,null,0]
[null,null,null,null,null,null,null,null,null,null,null,null,null,null,null,null,null,null,null,null,null,null,null,null,null,null,null,null,null,null,null,null,null,null,null,null,null,null,null,null,null,null,null,null,null,null,null,null,null,null,null,null,null,null,null,null,null,null,null,null,null,null,0]
[null,null,null,null,null,null,null,null,null,null,null,null,null,null,null,null,null,null,null,null,null,null,null,null,null,null,null,null,null,null,null,null,null,null,null,null,null,null,null,null,null,null,null,null,null,null,null,null,null,null,null,null,null,null,null,null,null,null,null,null,null,null,0]
[null,null,null,null,null,null,null,null,null,null,null,null,null,null,null,null,null,null,null,null,null,null,null,null,null,null,null,null,null,null,null,null,null,null,null,null,null,null,null,null,null,null,null,null,null,null,null,null,null,null,null,null,null,null,null,null,null,null,null,null,null,null,0]
[null,null,null,null,null,null,null,null,null,null,null,null,null,null,null,null,null,null,null,null,null,null,null,null,null,null,null,null,null,null,null,null,null,null,null,null,null,null,null,null,null,null,null,null,null,null,null,null,null,null,null,null,null,null,null,null,null,null,null,null,null,null,0]
[null,null,null,null,null,null,null,null,null,null,null,null,null,null,null,null,null,null,null,null,null,null,null,null,null,null,null,null,null,null,null,null,null,null,null,null,null,null,null,null,null,null,null,null,null,null,null,null,null,null,null,null,null,null,null,null,null,null,null,null,null,null,0]
[null,null,null,null,null,null,null,null,null,null,null,null,null,null,null,null,null,null,null,null,null,null,null,null,null,null,null,null,null,null,null,null,null,null,null,null,null,null,null,null,null,null,null,null,null,null,null,null,null,null,null,null,null,null,null,null,null,null,null,null,null,null,0]
[null,null,null,null,null,null,null,null,null,null,null,null,null,null,null,null,null,null,null,null,null,null,null,null,null,null,null,null,null,null,null,null,null,null,null,null,null,null,null,null,null,null,null,null,null,null,null,null,null,null,null,null,null,null,null,null,null,null,null,null,null,null,0]
[null,null,null,null,null,null,null,null,null,null,null,null,null,null,null,null,null,null,null,null,null,null,null,null,null,null,null,null,null,null,null,null,null,null,null,null,null,null,null,null,null,null,null,null,null,null,null,null,null,null,null,null,null,null,null,null,null,null,null,null,null,null,0]
[null,null,null,null,null,null,null,null,null,null,null,null,null,null,null,null,null,null,null,null,null,null,null,null,null,null,null,null,null,null,null,null,null,null,null,null,null,null,null,null,null,null,null,null,null,null,null,null,null,null,null,null,null,null,null,null,null,null,null,null,null,null,0]
[null,null,null,null,null,null,null,null,null,null,null,null,null,null,null,null,null,null,null,null,null,null,null,null,null,null,null,null,null,null,null,null,null,null,null,null,null,null,null,null,null,null,null,null,null,null,null,null,null,null,null,null,null,null,null,null,null,null,null,null,null,null,0]
[null,null,null,null,null,null,null,null,null,null,null,null,null,null,null,null,null,null,null,null,null,null,null,null,null,null,null,null,null,null,null,null,null,null,null,null,null,null,null,null,null,null,null,null,null,null,null,null,null,null,null,null,null,null,null,null,null,null,null,null,null,null,0]
[null,null,null,null,null,null,null,null,null,null,null,null,null,null,null,null,null,null,null,null,null,null,null,null,null,null,null,null,null,null,null,null,null,null,null,null,null,null,null,null,null,null,null,null,null,null,null,null,null,null,null,null,null,null,null,null,null,null,null,null,null,null,0]
[null,null,null,null,null,null,null,null,null,null,null,null,null,null,null,null,null,null,null,null,null,null,null,null,null,null,null,null,null,null,null,null,null,null,null,null,null,null,null,null,null,null,null,null,null,null,null,null,null,null,null,null,null,null,null,null,null,null,null,null,null,null,0]
[null,null,null,null,null,null,null,null,null,null,null,null,null,null,null,null,null,null,null,null,null,null,null,null,null,null,null,null,null,null,null,null,null,null,null,null,null,null,null,null,null,null,null,null,null,null,null,null,null,null,null,null,null,null,null,null,null,null,null,null,null,null,0]
[null,null,null,null,null,null,null,null,null,null,null,null,null,null,null,null,null,null,null,null,null,null,null,null,null,null,null,null,null,null,null,null,null,null,null,null,null,null,null,null,null,null,null,null,null,null,null,null,null,null,null,null,null,null,null,null,null,null,null,null,null,null,0]
[null,null,null,null,null,null,null,null,null,null,null,null,null,null,null,null,null,null,null,null,null,null,null,null,null,null,null,null,null,null,null,null,null,null,null,null,null,null,null,null,null,null,null,null,null,null,null,null,null,null,null,null,null,null,null,null,null,null,null,null,null,null,0]
[null,null,null,null,null,null,null,null,null,null,null,null,null,null,null,null,null,null,null,null,null,null,null,null,null,null,null,null,null,null,null,null,null,null,null,null,null,null,null,null,null,null,null,null,null,null,null,null,null,null,null,null,null,null,null,null,null,null,null,null,null,null,0]
[null,null,null,null,null,null,null,null,null,null,null,null,null,null,null,null,null,null,null,null,null,null,null,null,null,null,null,null,null,null,null,null,null,null,null,null,null,null,null,null,null,null,null,null,null,null,null,null,null,null,null,null,null,null,null,null,null,null,null,null,null,null,0]
[null,null,null,null,null,null,null,null,null,null,null,null,null,null,null,null,null,null,null,null,null,null,null,null,null,null,null,null,null,null,null,null,null,null,null,null,null,null,null,null,null,null,null,null,null,null,null,null,null,null,null,null,null,null,null,null,null,null,null,null,null,null,0]
[null,null,null,null,null,null,null,null,null,null,null,null,null,null,null,null,null,null,null,null,null,null,null,null,null,null,null,null,null,null,null,null,null,null,null,null,null,null,null,null,null,null,null,null,null,null,null,null,null,null,null,null,null,null,null,null,null,null,null,null,null,null,0]
[null,null,null,null,null,null,null,null,null,null,null,null,null,null,null,null,null,null,null,null,null,null,null,null,null,null,null,null,null,null,null,null,null,null,null,null,null,null,null,null,null,null,null,null,null,null,null,null,null,null,null,null,null,null,null,null,null,null,null,null,null,null,0]
[null,null,null,null,null,null,null,null,null,null,null,null,null,null,null,null,null,null,null,null,null,null,null,null,null,null,null,null,null,null,null,null,null,null,null,null,null,null,null,null,null,null,null,null,null,null,null,null,null,null,null,null,null,null,null,null,null,null,null,null,null,null,{"$f":"C207*$C$11+D207*$D$11+E207*$E$11+F207*$F$11+G207*$G$11+H207*$H$11+I207*$I$11+J207*$J$11+K207*$K$11+L207*$L$11+M207*$M$11+N207*$N$11+O207*$O$11+P207*$P$11+Q207*$Q$11+R207*$R$11+S207*$S$11+T207*$T$11+U207*$U$11+V207*$V$11+W207*$W$11+X207*$X$11+Y207*$Y$11+Z207*$Z$11+AA207*$AA$11+AB207*$AB$11+AC207*$AC$11+AD207*$AD$11+AE207*$AE$11+AF207*$AF$11+AG207*$AG$11+AH207*$AH$11+AI207*$AI$11+AJ207*$AJ$11+AK207*$AK$11+AL207*$AL$11+AM207*$AM$11+AN207*$AN$11+AO207*$AO$11+AP207*$AP$11+AQ207*$AQ$11+AR207*$AR$11+AS207*$AS$11+AT207*$AT$11+AU207*$AU$11+AV207*$AV$11+AW207*$AW$11+AX207*$AX$11+AY207*$AY$11+AZ207*$AZ$11+BA207*$BA$11+BB207*$BB$11+BC207*$BC$11+BD207*$BD$11+BE207*$BE$11+BF207*$BF$11+BG207*$BG$11+BH207*$BH$11+BI207*$BI$11+BJ207*$BJ$11","v":0}]
[null,null,null,null,null,null,null,null,null,null,null,null,null,null,null,null,null,null,null,null,null,null,null,null,null,null,null,null,null,null,null,null,null,null,null,null,null,null,null,null,null,null,null,null,null,null,null,null,null,null,null,null,null,null,null,null,null,null,null,null,null,null,0]
[null,null,null,null,null,null,null,null,null,null,null,null,null,null,null,null,null,null,null,null,null,null,null,null,null,null,null,null,null,null,null,null,null,null,null,null,null,null,null,null,null,null,null,null,null,null,null,null,null,null,null,null,null,null,null,null,null,null,null,null,null,null,0]
[null,null,null,null,null,null,null,null,null,null,null,null,null,null,null,null,null,null,null,null,null,null,null,null,null,null,null,null,null,null,null,null,null,null,null,null,null,null,null,null,null,null,null,null,null,null,null,null,null,null,null,null,null,null,null,null,null,null,null,null,null,null,0]
[null,null,null,null,null,null,null,null,null,null,null,null,null,null,null,null,null,null,null,null,null,null,null,null,null,null,null,null,null,null,null,null,null,null,null,null,null,null,null,null,null,null,null,null,null,null,null,null,null,null,null,null,null,null,null,null,null,null,null,null,null,null,0]
[null,null,null,null,null,null,null,null,null,null,null,null,null,null,null,null,null,null,null,null,null,null,null,null,null,null,null,null,null,null,null,null,null,null,null,null,null,null,null,null,null,null,null,null,null,null,null,null,null,null,null,null,null,null,null,null,null,null,null,null,null,null,0]
[null,null,null,null,null,null,null,null,null,null,null,null,null,null,null,null,null,null,null,null,null,null,null,null,null,null,null,null,null,null,null,null,null,null,null,null,null,null,null,null,null,null,null,null,null,null,null,null,null,null,null,null,null,null,null,null,null,null,null,null,null,null,0]
[null,null,null,null,null,null,null,null,null,null,null,null,null,null,null,null,null,null,null,null,null,null,null,null,null,null,null,null,null,null,null,null,null,null,null,null,null,null,null,null,null,null,null,null,null,null,null,null,null,null,null,null,null,null,null,null,null,null,null,null,null,null,0]
[null,null,null,null,null,null,null,null,null,null,null,null,null,null,null,null,null,null,null,null,null,null,null,null,null,null,null,null,null,null,null,null,null,null,null,null,null,null,null,null,null,null,null,null,null,null,null,null,null,null,null,null,null,null,null,null,null,null,null,null,null,null,0]
[null,null,null,null,null,null,null,null,null,null,null,null,null,null,null,null,null,null,null,null,null,null,null,null,null,null,null,null,null,null,null,null,null,null,null,null,null,null,null,null,null,null,null,null,null,null,null,null,null,null,null,null,null,null,null,null,null,null,null,null,null,null,0]
[null,null,null,null,null,null,null,null,null,null,null,null,null,null,null,null,null,null,null,null,null,null,null,null,null,null,null,null,null,null,null,null,null,null,null,null,null,null,null,null,null,null,null,null,null,null,null,null,null,null,null,null,null,null,null,null,null,null,null,null,null,null,0]
[null,null,null,null,null,null,null,null,null,null,null,null,null,null,null,null,null,null,null,null,null,null,null,null,null,null,null,null,null,null,null,null,null,null,null,null,null,null,null,null,null,null,null,null,null,null,null,null,null,null,null,null,null,null,null,null,null,null,null,null,null,null,0]
[null,null,null,null,null,null,null,null,null,null,null,null,null,null,null,null,null,null,null,null,null,null,null,null,null,null,null,null,null,null,null,null,null,null,null,null,null,null,null,null,null,null,null,null,null,null,null,null,null,null,null,null,null,null,null,null,null,null,null,null,null,null,0]
[null,null,null,null,null,null,null,null,null,null,null,null,null,null,null,null,null,null,null,null,null,null,null,null,null,null,null,null,null,null,null,null,null,null,null,null,null,null,null,null,null,null,null,null,null,null,null,null,null,null,null,null,null,null,null,null,null,null,null,null,null,null,0]
[null,null,null,null,null,null,null,null,null,null,null,null,null,null,null,null,null,null,null,null,null,null,null,null,null,null,null,null,null,null,null,null,null,null,null,null,null,null,null,null,null,null,null,null,null,null,null,null,null,null,null,null,null,null,null,null,null,null,null,null,null,null,0]
[null,null,null,null,null,null,null,null,null,null,null,null,null,null,null,null,null,null,null,null,null,null,null,null,null,null,null,null,null,null,null,null,null,null,null,null,null,null,null,null,null,null,null,null,null,null,null,null,null,null,null,null,null,null,null,null,null,null,null,null,null,null,0]
[null,null,null,null,null,null,null,null,null,null,null,null,null,null,null,null,null,null,null,null,null,null,null,null,null,null,null,null,null,null,null,null,null,null,null,null,null,null,null,null,null,null,null,null,null,null,null,null,null,null,null,null,null,null,null,null,null,null,null,null,null,null,0]
[null,null,null,null,null,null,null,null,null,null,null,null,null,null,null,null,null,null,null,null,null,null,null,null,null,null,null,null,null,null,null,null,null,null,null,null,null,null,null,null,null,null,null,null,null,null,null,null,null,null,null,null,null,null,null,null,null,null,null,null,null,null,0]
[null,null,null,null,null,null,null,null,null,null,null,null,null,null,null,null,null,null,null,null,null,null,null,null,null,null,null,null,null,null,null,null,null,null,null,null,null,null,null,null,null,null,null,null,null,null,null,null,null,null,null,null,null,null,null,null,null,null,null,null,null,null,0]
[null,null,null,null,null,null,null,null,null,null,null,null,null,null,null,null,null,null,null,null,null,null,null,null,null,null,null,null,null,null,null,null,null,null,null,null,null,null,null,null,null,null,null,null,null,null,null,null,null,null,null,null,null,null,null,null,null,null,null,null,null,null,0]
[null,null,null,null,null,null,null,null,null,null,null,null,null,null,null,null,null,null,null,null,null,null,null,null,null,null,null,null,null,null,null,null,null,null,null,null,null,null,null,null,null,null,null,null,null,null,null,null,null,null,null,null,null,null,null,null,null,null,null,null,null,null,0]
[null,null,null,null,null,null,null,null,null,null,null,null,null,null,null,null,null,null,null,null,null,null,null,null,null,null,null,null,null,null,null,null,null,null,null,null,null,null,null,null,null,null,null,null,null,null,null,null,null,null,null,null,null,null,null,null,null,null,null,null,null,null,0]
[null,null,null,null,null,null,null,null,null,null,null,null,null,null,null,null,null,null,null,null,null,null,null,null,null,null,null,null,null,null,null,null,null,null,null,null,null,null,null,null,null,null,null,null,null,null,null,null,null,null,null,null,null,null,null,null,null,null,null,null,null,null,0]
[null,null,null,null,null,null,null,null,null,null,null,null,null,null,null,null,null,null,null,null,null,null,null,null,null,null,null,null,null,null,null,null,null,null,null,null,null,null,null,null,null,null,null,null,null,null,null,null,null,null,null,null,null,null,null,null,null,null,null,null,null,null,0]
[null,null,null,null,null,null,null,null,null,null,null,null,null,null,null,null,null,null,null,null,null,null,null,null,null,null,null,null,null,null,null,null,null,null,null,null,null,null,null,null,null,null,null,null,null,null,null,null,null,null,null,null,null,null,null,null,null,null,null,null,null,null,0]
[null,null,null,null,null,null,null,null,null,null,null,null,null,null,null,null,null,null,null,null,null,null,null,null,null,null,null,null,null,null,null,null,null,null,null,null,null,null,null,null,null,null,null,null,null,null,null,null,null,null,null,null,null,null,null,null,null,null,null,null,null,null,0]
[null,null,null,null,null,null,null,null,null,null,null,null,null,null,null,null,null,null,null,null,null,null,null,null,null,null,null,null,null,null,null,null,null,null,null,null,null,null,null,null,null,null,null,null,null,null,null,null,null,null,null,null,null,null,null,null,null,null,null,null,null,null,0]
[null,null,null,null,null,null,null,null,null,null,null,null,null,null,null,null,null,null,null,null,null,null,null,null,null,null,null,null,null,null,null,null,null,null,null,null,null,null,null,null,null,null,null,null,null,null,null,null,null,null,null,null,null,null,null,null,null,null,null,null,null,null,0]
[null,null,null,null,null,null,null,null,null,null,null,null,null,null,null,null,null,null,null,null,null,null,null,null,null,null,null,null,null,null,null,null,null,null,null,null,null,null,null,null,null,null,null,null,null,null,null,null,null,null,null,null,null,null,null,null,null,null,null,null,null,null,0]
[null,null,null,null,null,null,null,null,null,null,null,null,null,null,null,null,null,null,null,null,null,null,null,null,null,null,null,null,null,null,null,null,null,null,null,null,null,null,null,null,null,null,null,null,null,null,null,null,null,null,null,null,null,null,null,null,null,null,null,null,null,null,0]
[null,null,null,null,null,null,null,null,null,null,null,null,null,null,null,null,null,null,null,null,null,null,null,null,null,null,null,null,null,null,null,null,null,null,null,null,null,null,null,null,null,null,null,null,null,null,null,null,null,null,null,null,null,null,null,null,null,null,null,null,null,null,0]
[null,null,null,null,null,null,null,null,null,null,null,null,null,null,null,null,null,null,null,null,null,null,null,null,null,null,null,null,null,null,null,null,null,null,null,null,null,null,null,null,null,null,null,null,null,null,null,null,null,null,null,null,null,null,null,null,null,null,null,null,null,null,0]
[null,null,null,null,null,null,null,null,null,null,null,null,null,null,null,null,null,null,null,null,null,null,null,null,null,null,null,null,null,null,null,null,null,null,null,null,null,null,null,null,null,null,null,null,null,null,null,null,null,null,null,null,null,null,null,null,null,null,null,null,null,null,0]
[null,null,null,null,null,null,null,null,null,null,null,null,null,null,null,null,null,null,null,null,null,null,null,null,null,null,null,null,null,null,null,null,null,null,null,null,null,null,null,null,null,null,null,null,null,null,null,null,null,null,null,null,null,null,null,null,null,null,null,null,null,null,0]
[null,null,null,null,null,null,null,null,null,null,null,null,null,null,null,null,null,null,null,null,null,null,null,null,null,null,null,null,null,null,null,null,null,null,null,null,null,null,null,null,null,null,null,null,null,null,null,null,null,null,null,null,null,null,null,null,null,null,null,null,null,null,0]
[null,null,null,null,null,null,null,null,null,null,null,null,null,null,null,null,null,null,null,null,null,null,null,null,null,null,null,null,null,null,null,null,null,null,null,null,null,null,null,null,null,null,null,null,null,null,null,null,null,null,null,null,null,null,null,null,null,null,null,null,null,null,0]
[null,null,null,null,null,null,null,null,null,null,null,null,null,null,null,null,null,null,null,null,null,null,null,null,null,null,null,null,null,null,null,null,null,null,null,null,null,null,null,null,null,null,null,null,null,null,null,null,null,null,null,null,null,null,null,null,null,null,null,null,null,null,0]
[null,null,null,null,null,null,null,null,null,null,null,null,null,null,null,null,null,null,null,null,null,null,null,null,null,null,null,null,null,null,null,null,null,null,null,null,null,null,null,null,null,null,null,null,null,null,null,null,null,null,null,null,null,null,null,null,null,null,null,null,null,null,0]
[null,null,null,null,null,null,null,null,null,null,null,null,null,null,null,null,null,null,null,null,null,null,null,null,null,null,null,null,null,null,null,null,null,null,null,null,null,null,null,null,null,null,null,null,null,null,null,null,null,null,null,null,null,null,null,null,null,null,null,null,null,null,0]
[null,null,null,null,null,null,null,null,null,null,null,null,null,null,null,null,null,null,null,null,null,null,null,null,null,null,null,null,null,null,null,null,null,null,null,null,null,null,null,null,null,null,null,null,null,null,null,null,null,null,null,null,null,null,null,null,null,null,null,null,null,null,0]
[null,null,null,null,null,null,null,null,null,null,null,null,null,null,null,null,null,null,null,null,null,null,null,null,null,null,null,null,null,null,null,null,null,null,null,null,null,null,null,null,null,null,null,null,null,null,null,null,null,null,null,null,null,null,null,null,null,null,null,null,null,null,0]
[null,null,null,null,null,null,null,null,null,null,null,null,null,null,null,null,null,null,null,null,null,null,null,null,null,null,null,null,null,null,null,null,null,null,null,null,null,null,null,null,null,null,null,null,null,null,null,null,null,null,null,null,null,null,null,null,null,null,null,null,null,null,0]
[null,null,null,null,null,null,null,null,null,null,null,null,null,null,null,null,null,null,null,null,null,null,null,null,null,null,null,null,null,null,null,null,null,null,null,null,null,null,null,null,null,null,null,null,null,null,null,null,null,null,null,null,null,null,null,null,null,null,null,null,null,null,0]
[null,null,null,null,null,null,null,null,null,null,null,null,null,null,null,null,null,null,null,null,null,null,null,null,null,null,null,null,null,null,null,null,null,null,null,null,null,null,null,null,null,null,null,null,null,null,null,null,null,null,null,null,null,null,null,null,null,null,null,null,null,null,0]
[null,null,null,null,null,null,null,null,null,null,null,null,null,null,null,null,null,null,null,null,null,null,null,null,null,null,null,null,null,null,null,null,null,null,null,null,null,null,null,null,null,null,null,null,null,null,null,null,null,null,null,null,null,null,null,null,null,null,null,null,null,null,0]
[null,null,null,null,null,null,null,null,null,null,null,null,null,null,null,null,null,null,null,null,null,null,null,null,null,null,null,null,null,null,null,null,null,null,null,null,null,null,null,null,null,null,null,null,null,null,null,null,null,null,null,null,null,null,null,null,null,null,null,null,null,null,0]
[null,null,null,null,null,null,null,null,null,null,null,null,null,null,null,null,null,null,null,null,null,null,null,null,null,null,null,null,null,null,null,null,null,null,null,null,null,null,null,null,null,null,null,null,null,null,null,null,null,null,null,null,null,null,null,null,null,null,null,null,null,null,0]
[null,null,null,null,null,null,null,null,null,null,null,null,null,null,null,null,null,null,null,null,null,null,null,null,null,null,null,null,null,null,null,null,null,null,null,null,null,null,null,null,null,null,null,null,null,null,null,null,null,null,null,null,null,null,null,null,null,null,null,null,null,null,0]
[null,null,null,null,null,null,null,null,null,null,null,null,null,null,null,null,null,null,null,null,null,null,null,null,null,null,null,null,null,null,null,null,null,null,null,null,null,null,null,null,null,null,null,null,null,null,null,null,null,null,null,null,null,null,null,null,null,null,null,null,null,null,0]
[null,null,null,null,null,null,null,null,null,null,null,null,null,null,null,null,null,null,null,null,null,null,null,null,null,null,null,null,null,null,null,null,null,null,null,null,null,null,null,null,null,null,null,null,null,null,null,null,null,null,null,null,null,null,null,null,null,null,null,null,null,null,0]
[null,null,null,null,null,null,null,null,null,null,null,null,null,null,null,null,null,null,null,null,null,null,null,null,null,null,null,null,null,null,null,null,null,null,null,null,null,null,null,null,null,null,null,null,null,null,null,null,null,null,null,null,null,null,null,null,null,null,null,null,null,null,0]
[null,null,null,null,null,null,null,null,null,null,null,null,null,null,null,null,null,null,null,null,null,null,null,null,null,null,null,null,null,null,null,null,null,null,null,null,null,null,null,null,null,null,null,null,null,null,null,null,null,null,null,null,null,null,null,null,null,null,null,null,null,null,0]
[null,null,null,null,null,null,null,null,null,null,null,null,null,null,null,null,null,null,null,null,null,null,null,null,null,null,null,null,null,null,null,null,null,null,null,null,null,null,null,null,null,null,null,null,null,null,null,null,null,null,null,null,null,null,null,null,null,null,null,null,null,null,0]
[null,null,null,null,null,null,null,null,null,null,null,null,null,null,null,null,null,null,null,null,null,null,null,null,null,null,null,null,null,null,null,null,null,null,null,null,null,null,null,null,null,null,null,null,null,null,null,null,null,null,null,null,null,null,null,null,null,null,null,null,null,null,0]
[null,null,null,null,null,null,null,null,null,null,null,null,null,null,null,null,null,null,null,null,null,null,null,null,null,null,null,null,null,null,null,null,null,null,null,null,null,null,null,null,null,null,null,null,null,null,null,null,null,null,null,null,null,null,null,null,null,null,null,null,null,null,0]
[null,null,null,null,null,null,null,null,null,null,null,null,null,null,null,null,null,null,null,null,null,null,null,null,null,null,null,null,null,null,null,null,null,null,null,null,null,null,null,null,null,null,null,null,null,null,null,null,null,null,null,null,null,null,null,null,null,null,null,null,null,null,0]
[null,null,null,null,null,null,null,null,null,null,null,null,null,null,null,null,null,null,null,null,null,null,null,null,null,null,null,null,null,null,null,null,null,null,null,null,null,null,null,null,null,null,null,null,null,null,null,null,null,null,null,null,null,null,null,null,null,null,null,null,null,null,0]
[null,null,null,null,null,null,null,null,null,null,null,null,null,null,null,null,null,null,null,null,null,null,null,null,null,null,null,null,null,null,null,null,null,null,null,null,null,null,null,null,null,null,null,null,null,null,null,null,null,null,null,null,null,null,null,null,null,null,null,null,null,null,0]
[null,null,null,null,null,null,null,null,null,null,null,null,null,null,null,null,null,null,null,null,null,null,null,null,null,null,null,null,null,null,null,null,null,null,null,null,null,null,null,null,null,null,null,null,null,null,null,null,null,null,null,null,null,null,null,null,null,null,null,null,null,null,0]
[null,null,null,null,null,null,null,null,null,null,null,null,null,null,null,null,null,null,null,null,null,null,null,null,null,null,null,null,null,null,null,null,null,null,null,null,null,null,null,null,null,null,null,null,null,null,null,null,null,null,null,null,null,null,null,null,null,null,null,null,null,null,0]
[null,null,null,null,null,null,null,null,null,null,null,null,null,null,null,null,null,null,null,null,null,null,null,null,null,null,null,null,null,null,null,null,null,null,null,null,null,null,null,null,null,null,null,null,null,null,null,null,null,null,null,null,null,null,null,null,null,null,null,null,null,null,0]
[null,null,null,null,null,null,null,null,null,null,null,null,null,null,null,null,null,null,null,null,null,null,null,null,null,null,null,null,null,null,null,null,null,null,null,null,null,null,null,null,null,null,null,null,null,null,null,null,null,null,null,null,null,null,null,null,null,null,null,null,null,null,0]
[null,null,null,null,null,null,null,null,null,null,null,null,null,null,null,null,null,null,null,null,null,null,null,null,null,null,null,null,null,null,null,null,null,null,null,null,null,null,null,null,null,null,null,null,null,null,null,null,null,null,null,null,null,null,null,null,null,null,null,null,null,null,0]
[null,null,null,null,null,null,null,null,null,null,null,null,null,null,null,null,null,null,null,null,null,null,null,null,null,null,null,null,null,null,null,null,null,null,null,null,null,null,null,null,null,null,null,null,null,null,null,null,null,null,null,null,null,null,null,null,null,null,null,null,null,null,0]
[null,null,null,null,null,null,null,null,null,null,null,null,null,null,null,null,null,null,null,null,null,null,null,null,null,null,null,null,null,null,null,null,null,null,null,null,null,null,null,null,null,null,null,null,null,null,null,null,null,null,null,null,null,null,null,null,null,null,null,null,null,null,{"$f":"C271*$C$11+D271*$D$11+E271*$E$11+F271*$F$11+G271*$G$11+H271*$H$11+I271*$I$11+J271*$J$11+K271*$K$11+L271*$L$11+M271*$M$11+N271*$N$11+O271*$O$11+P271*$P$11+Q271*$Q$11+R271*$R$11+S271*$S$11+T271*$T$11+U271*$U$11+V271*$V$11+W271*$W$11+X271*$X$11+Y271*$Y$11+Z271*$Z$11+AA271*$AA$11+AB271*$AB$11+AC271*$AC$11+AD271*$AD$11+AE271*$AE$11+AF271*$AF$11+AG271*$AG$11+AH271*$AH$11+AI271*$AI$11+AJ271*$AJ$11+AK271*$AK$11+AL271*$AL$11+AM271*$AM$11+AN271*$AN$11+AO271*$AO$11+AP271*$AP$11+AQ271*$AQ$11+AR271*$AR$11+AS271*$AS$11+AT271*$AT$11+AU271*$AU$11+AV271*$AV$11+AW271*$AW$11+AX271*$AX$11+AY271*$AY$11+AZ271*$AZ$11+BA271*$BA$11+BB271*$BB$11+BC271*$BC$11+BD271*$BD$11+BE271*$BE$11+BF271*$BF$11+BG271*$BG$11+BH271*$BH$11+BI271*$BI$11+BJ271*$BJ$11","v":0}]
[null,null,null,null,null,null,null,null,null,null,null,null,null,null,null,null,null,null,null,null,null,null,null,null,null,null,null,null,null,null,null,null,null,null,null,null,null,null,null,null,null,null,null,null,null,null,null,null,null,null,null,null,null,null,null,null,null,null,null,null,null,null,0]
[null,null,null,null,null,null,null,null,null,null,null,null,null,null,null,null,null,null,null,null,null,null,null,null,null,null,null,null,null,null,null,null,null,null,null,null,null,null,null,null,null,null,null,null,null,null,null,null,null,null,null,null,null,null,null,null,null,null,null,null,null,null,0]
[null,null,null,null,null,null,null,null,null,null,null,null,null,null,null,null,null,null,null,null,null,null,null,null,null,null,null,null,null,null,null,null,null,null,null,null,null,null,null,null,null,null,null,null,null,null,null,null,null,null,null,null,null,null,null,null,null,null,null,null,null,null,0]
[null,null,null,null,null,null,null,null,null,null,null,null,null,null,null,null,null,null,null,null,null,null,null,null,null,null,null,null,null,null,null,null,null,null,null,null,null,null,null,null,null,null,null,null,null,null,null,null,null,null,null,null,null,null,null,null,null,null,null,null,null,null,0]
[null,null,null,null,null,null,null,null,null,null,null,null,null,null,null,null,null,null,null,null,null,null,null,null,null,null,null,null,null,null,null,null,null,null,null,null,null,null,null,null,null,null,null,null,null,null,null,null,null,null,null,null,null,null,null,null,null,null,null,null,null,null,0]
[null,null,null,null,null,null,null,null,null,null,null,null,null,null,null,null,null,null,null,null,null,null,null,null,null,null,null,null,null,null,null,null,null,null,null,null,null,null,null,null,null,null,null,null,null,null,null,null,null,null,null,null,null,null,null,null,null,null,null,null,null,null,0]
[null,null,null,null,null,null,null,null,null,null,null,null,null,null,null,null,null,null,null,null,null,null,null,null,null,null,null,null,null,null,null,null,null,null,null,null,null,null,null,null,null,null,null,null,null,null,null,null,null,null,null,null,null,null,null,null,null,null,null,null,null,null,0]
[null,null,null,null,null,null,null,null,null,null,null,null,null,null,null,null,null,null,null,null,null,null,null,null,null,null,null,null,null,null,null,null,null,null,null,null,null,null,null,null,null,null,null,null,null,null,null,null,null,null,null,null,null,null,null,null,null,null,null,null,null,null,0]
[null,null,null,null,null,null,null,null,null,null,null,null,null,null,null,null,null,null,null,null,null,null,null,null,null,null,null,null,null,null,null,null,null,null,null,null,null,null,null,null,null,null,null,null,null,null,null,null,null,null,null,null,null,null,null,null,null,null,null,null,null,null,0]
[null,null,null,null,null,null,null,null,null,null,null,null,null,null,null,null,null,null,null,null,null,null,null,null,null,null,null,null,null,null,null,null,null,null,null,null,null,null,null,null,null,null,null,null,null,null,null,null,null,null,null,null,null,null,null,null,null,null,null,null,null,null,0]
[null,null,null,null,null,null,null,null,null,null,null,null,null,null,null,null,null,null,null,null,null,null,null,null,null,null,null,null,null,null,null,null,null,null,null,null,null,null,null,null,null,null,null,null,null,null,null,null,null,null,null,null,null,null,null,null,null,null,null,null,null,null,0]
[null,null,null,null,null,null,null,null,null,null,null,null,null,null,null,null,null,null,null,null,null,null,null,null,null,null,null,null,null,null,null,null,null,null,null,null,null,null,null,null,null,null,null,null,null,null,null,null,null,null,null,null,null,null,null,null,null,null,null,null,null,null,0]
[null,null,null,null,null,null,null,null,null,null,null,null,null,null,null,null,null,null,null,null,null,null,null,null,null,null,null,null,null,null,null,null,null,null,null,null,null,null,null,null,null,null,null,null,null,null,null,null,null,null,null,null,null,null,null,null,null,null,null,null,null,null,0]
[null,null,null,null,null,null,null,null,null,null,null,null,null,null,null,null,null,null,null,null,null,null,null,null,null,null,null,null,null,null,null,null,null,null,null,null,null,null,null,null,null,null,null,null,null,null,null,null,null,null,null,null,null,null,null,null,null,null,null,null,null,null,0]
[null,null,null,null,null,null,null,null,null,null,null,null,null,null,null,null,null,null,null,null,null,null,null,null,null,null,null,null,null,null,null,null,null,null,null,null,null,null,null,null,null,null,null,null,null,null,null,null,null,null,null,null,null,null,null,null,null,null,null,null,null,null,0]
[null,null,null,null,null,null,null,null,null,null,null,null,null,null,null,null,null,null,null,null,null,null,null,null,null,null,null,null,null,null,null,null,null,null,null,null,null,null,null,null,null,null,null,null,null,null,null,null,null,null,null,null,null,null,null,null,null,null,null,null,null,null,0]
[null,null,null,null,null,null,null,null,null,null,null,null,null,null,null,null,null,null,null,null,null,null,null,null,null,null,null,null,null,null,null,null,null,null,null,null,null,null,null,null,null,null,null,null,null,null,null,null,null,null,null,null,null,null,null,null,null,null,null,null,null,null,0]
[null,null,null,null,null,null,null,null,null,null,null,null,null,null,null,null,null,null,null,null,null,null,null,null,null,null,null,null,null,null,null,null,null,null,null,null,null,null,null,null,null,null,null,null,null,null,null,null,null,null,null,null,null,null,null,null,null,null,null,null,null,null,0]
[null,null,null,null,null,null,null,null,null,null,null,null,null,null,null,null,null,null,null,null,null,null,null,null,null,null,null,null,null,null,null,null,null,null,null,null,null,null,null,null,null,null,null,null,null,null,null,null,null,null,null,null,null,null,null,null,null,null,null,null,null,null,0]
[null,null,null,null,null,null,null,null,null,null,null,null,null,null,null,null,null,null,null,null,null,null,null,null,null,null,null,null,null,null,null,null,null,null,null,null,null,null,null,null,null,null,null,null,null,null,null,null,null,null,null,null,null,null,null,null,null,null,null,null,null,null,0]
[null,null,null,null,null,null,null,null,null,null,null,null,null,null,null,null,null,null,null,null,null,null,null,null,null,null,null,null,null,null,null,null,null,null,null,null,null,null,null,null,null,null,null,null,null,null,null,null,null,null,null,null,null,null,null,null,null,null,null,null,null,null,0]
[null,null,null,null,null,null,null,null,null,null,null,null,null,null,null,null,null,null,null,null,null,null,null,null,null,null,null,null,null,null,null,null,null,null,null,null,null,null,null,null,null,null,null,null,null,null,null,null,null,null,null,null,null,null,null,null,null,null,null,null,null,null,0]
[null,null,null,null,null,null,null,null,null,null,null,null,null,null,null,null,null,null,null,null,null,null,null,null,null,null,null,null,null,null,null,null,null,null,null,null,null,null,null,null,null,null,null,null,null,null,null,null,null,null,null,null,null,null,null,null,null,null,null,null,null,null,0]
[null,null,null,null,null,null,null,null,null,null,null,null,null,null,null,null,null,null,null,null,null,null,null,null,null,null,null,null,null,null,null,null,null,null,null,null,null,null,null,null,null,null,null,null,null,null,null,null,null,null,null,null,null,null,null,null,null,null,null,null,null,null,0]
[null,null,null,null,null,null,null,null,null,null,null,null,null,null,null,null,null,null,null,null,null,null,null,null,null,null,null,null,null,null,null,null,null,null,null,null,null,null,null,null,null,null,null,null,null,null,null,null,null,null,null,null,null,null,null,null,null,null,null,null,null,null,0]
[null,null,null,null,null,null,null,null,null,null,null,null,null,null,null,null,null,null,null,null,null,null,null,null,null,null,null,null,null,null,null,null,null,null,null,null,null,null,null,null,null,null,null,null,null,null,null,null,null,null,null,null,null,null,null,null,null,null,null,null,null,null,0]
[null,null,null,null,null,null,null,null,null,null,null,null,null,null,null,null,null,null,null,null,null,null,null,null,null,null,null,null,null,null,null,null,null,null,null,null,null,null,null,null,null,null,null,null,null,null,null,null,null,null,null,null,null,null,null,null,null,null,null,null,null,null,0]
[null,null,null,null,null,null,null,null,null,null,null,null,null,null,null,null,null,null,null,null,null,null,null,null,null,null,null,null,null,null,null,null,null,null,null,null,null,null,null,null,null,null,null,null,null,null,null,null,null,null,null,null,null,null,null,null,null,null,null,null,null,null,0]
[null,null,null,null,null,null,null,null,null,null,null,null,null,null,null,null,null,null,null,null,null,null,null,null,null,null,null,null,null,null,null,null,null,null,null,null,null,null,null,null,null,null,null,null,null,null,null,null,null,null,null,null,null,null,null,null,null,null,null,null,null,null,0]
[null,null,null,null,null,null,null,null,null,null,null,null,null,null,null,null,null,null,null,null,null,null,null,null,null,null,null,null,null,null,null,null,null,null,null,null,null,null,null,null,null,null,null,null,null,null,null,null,null,null,null,null,null,null,null,null,null,null,null,null,null,null,0]
[null,null,null,null,null,null,null,null,null,null,null,null,null,null,null,null,null,null,null,null,null,null,null,null,null,null,null,null,null,null,null,null,null,null,null,null,null,null,null,null,null,null,null,null,null,null,null,null,null,null,null,null,null,null,null,null,null,null,null,null,null,null,0]
[null,null,null,null,null,null,null,null,null,null,null,null,null,null,null,null,null,null,null,null,null,null,null,null,null,null,null,null,null,null,null,null,null,null,null,null,null,null,null,null,null,null,null,null,null,null,null,null,null,null,null,null,null,null,null,null,null,null,null,null,null,null,0]
[null,null,null,null,null,null,null,null,null,null,null,null,null,null,null,null,null,null,null,null,null,null,null,null,null,null,null,null,null,null,null,null,null,null,null,null,null,null,null,null,null,null,null,null,null,null,null,null,null,null,null,null,null,null,null,null,null,null,null,null,null,null,0]
[null,null,null,null,null,null,null,null,null,null,null,null,null,null,null,null,null,null,null,null,null,null,null,null,null,null,null,null,null,null,null,null,null,null,null,null,null,null,null,null,null,null,null,null,null,null,null,null,null,null,null,null,null,null,null,null,null,null,null,null,null,null,0]
[null,null,null,null,null,null,null,null,null,null,null,null,null,null,null,null,null,null,null,null,null,null,null,null,null,null,null,null,null,null,null,null,null,null,null,null,null,null,null,null,null,null,null,null,null,null,null,null,null,null,null,null,null,null,null,null,null,null,null,null,null,null,0]
[null,null,null,null,null,null,null,null,null,null,null,null,null,null,null,null,null,null,null,null,null,null,null,null,null,null,null,null,null,null,null,null,null,null,null,null,null,null,null,null,null,null,null,null,null,null,null,null,null,null,null,null,null,null,null,null,null,null,null,null,null,null,0]
[null,null,null,null,null,null,null,null,null,null,null,null,null,null,null,null,null,null,null,null,null,null,null,null,null,null,null,null,null,null,null,null,null,null,null,null,null,null,null,null,null,null,null,null,null,null,null,null,null,null,null,null,null,null,null,null,null,null,null,null,null,null,0]
[null,null,null,null,null,null,null,null,null,null,null,null,null,null,null,null,null,null,null,null,null,null,null,null,null,null,null,null,null,null,null,null,null,null,null,null,null,null,null,null,null,null,null,null,null,null,null,null,null,null,null,null,null,null,null,null,null,null,null,null,null,null,0]
[null,null,null,null,null,null,null,null,null,null,null,null,null,null,null,null,null,null,null,null,null,null,null,null,null,null,null,null,null,null,null,null,null,null,null,null,null,null,null,null,null,null,null,null,null,null,null,null,null,null,null,null,null,null,null,null,null,null,null,null,null,null,0]
[null,null,null,null,null,null,null,null,null,null,null,null,null,null,null,null,null,null,null,null,null,null,null,null,null,null,null,null,null,null,null,null,null,null,null,null,null,null,null,null,null,null,null,null,null,null,null,null,null,null,null,null,null,null,null,null,null,null,null,null,null,null,0]
[null,null,null,null,null,null,null,null,null,null,null,null,null,null,null,null,null,null,null,null,null,null,null,null,null,null,null,null,null,null,null,null,null,null,null,null,null,null,null,null,null,null,null,null,null,null,null,null,null,null,null,null,null,null,null,null,null,null,null,null,null,null,0]
[null,null,null,null,null,null,null,null,null,null,null,null,null,null,null,null,null,null,null,null,null,null,null,null,null,null,null,null,null,null,null,null,null,null,null,null,null,null,null,null,null,null,null,null,null,null,null,null,null,null,null,null,null,null,null,null,null,null,null,null,null,null,0]
[null,null,null,null,null,null,null,null,null,null,null,null,null,null,null,null,null,null,null,null,null,null,null,null,null,null,null,null,null,null,null,null,null,null,null,null,null,null,null,null,null,null,null,null,null,null,null,null,null,null,null,null,null,null,null,null,null,null,null,null,null,null,0]
[null,null,null,null,null,null,null,null,null,null,null,null,null,null,null,null,null,null,null,null,null,null,null,null,null,null,null,null,null,null,null,null,null,null,null,null,null,null,null,null,null,null,null,null,null,null,null,null,null,null,null,null,null,null,null,null,null,null,null,null,null,null,0]
[null,null,null,null,null,null,null,null,null,null,null,null,null,null,null,null,null,null,null,null,null,null,null,null,null,null,null,null,null,null,null,null,null,null,null,null,null,null,null,null,null,null,null,null,null,null,null,null,null,null,null,null,null,null,null,null,null,null,null,null,null,null,0]
[null,null,null,null,null,null,null,null,null,null,null,null,null,null,null,null,null,null,null,null,null,null,null,null,null,null,null,null,null,null,null,null,null,null,null,null,null,null,null,null,null,null,null,null,null,null,null,null,null,null,null,null,null,null,null,null,null,null,null,null,null,null,0]
[null,null,null,null,null,null,null,null,null,null,null,null,null,null,null,null,null,null,null,null,null,null,null,null,null,null,null,null,null,null,null,null,null,null,null,null,null,null,null,null,null,null,null,null,null,null,null,null,null,null,null,null,null,null,null,null,null,null,null,null,null,null,0]
[null,null,null,null,null,null,null,null,null,null,null,null,null,null,null,null,null,null,null,null,null,null,null,null,null,null,null,null,null,null,null,null,null,null,null,null,null,null,null,null,null,null,null,null,null,null,null,null,null,null,null,null,null,null,null,null,null,null,null,null,null,null,0]
[null,null,null,null,null,null,null,null,null,null,null,null,null,null,null,null,null,null,null,null,null,null,null,null,null,null,null,null,null,null,null,null,null,null,null,null,null,null,null,null,null,null,null,null,null,null,null,null,null,null,null,null,null,null,null,null,null,null,null,null,null,null,0]
[null,null,null,null,null,null,null,null,null,null,null,null,null,null,null,null,null,null,null,null,null,null,null,null,null,null,null,null,null,null,null,null,null,null,null,null,null,null,null,null,null,null,null,null,null,null,null,null,null,null,null,null,null,null,null,null,null,null,null,null,null,null,0]
[null,null,null,null,null,null,null,null,null,null,null,null,null,null,null,null,null,null,null,null,null,null,null,null,null,null,null,null,null,null,null,null,null,null,null,null,null,null,null,null,null,null,null,null,null,null,null,null,null,null,null,null,null,null,null,null,null,null,null,null,null,null,0]
[null,null,null,null,null,null,null,null,null,null,null,null,null,null,null,null,null,null,null,null,null,null,null,null,null,null,null,null,null,null,null,null,null,null,null,null,null,null,null,null,null,null,null,null,null,null,null,null,null,null,null,null,null,null,null,null,null,null,null,null,null,null,0]
[null,null,null,null,null,null,null,null,null,null,null,null,null,null,null,null,null,null,null,null,null,null,null,null,null,null,null,null,null,null,null,null,null,null,null,null,null,null,null,null,null,null,null,null,null,null,null,null,null,null,null,null,null,null,null,null,null,null,null,null,null,null,0]
[null,null,null,null,null,null,null,null,null,null,null,null,null,null,null,null,null,null,null,null,null,null,null,null,null,null,null,null,null,null,null,null,null,null,null,null,null,null,null,null,null,null,null,null,null,null,null,null,null,null,null,null,null,null,null,null,null,null,null,null,null,null,0]
[null,null,null,null,null,null,null,null,null,null,null,null,null,null,null,null,null,null,null,null,null,null,null,null,null,null,null,null,null,null,null,null,null,null,null,null,null,null,null,null,null,null,null,null,null,null,null,null,null,null,null,null,null,null,null,null,null,null,null,null,null,null,0]
[null,null,null,null,null,null,null,null,null,null,null,null,null,null,null,null,null,null,null,null,null,null,null,null,null,null,null,null,null,null,null,null,null,null,null,null,null,null,null,null,null,null,null,null,null,null,null,null,null,null,null,null,null,null,null,null,null,null,null,null,null,null,0]
[null,null,null,null,null,null,null,null,null,null,null,null,null,null,null,null,null,null,null,null,null,null,null,null,null,null,null,null,null,null,null,null,null,null,null,null,null,null,null,null,null,null,null,null,null,null,null,null,null,null,null,null,null,null,null,null,null,null,null,null,null,null,0]
[null,null,null,null,null,null,null,null,null,null,null,null,null,null,null,null,null,null,null,null,null,null,null,null,null,null,null,null,null,null,null,null,null,null,null,null,null,null,null,null,null,null,null,null,null,null,null,null,null,null,null,null,null,null,null,null,null,null,null,null,null,null,0]
[null,null,null,null,null,null,null,null,null,null,null,null,null,null,null,null,null,null,null,null,null,null,null,null,null,null,null,null,null,null,null,null,null,null,null,null,null,null,null,null,null,null,null,null,null,null,null,null,null,null,null,null,null,null,null,null,null,null,null,null,null,null,0]
[null,null,null,null,null,null,null,null,null,null,null,null,null,null,null,null,null,null,null,null,null,null,null,null,null,null,null,null,null,null,null,null,null,null,null,null,null,null,null,null,null,null,null,null,null,null,null,null,null,null,null,null,null,null,null,null,null,null,null,null,null,null,0]
[null,null,null,null,null,null,null,null,null,null,null,null,null,null,null,null,null,null,null,null,null,null,null,null,null,null,null,null,null,null,null,null,null,null,null,null,null,null,null,null,null,null,null,null,null,null,null,null,null,null,null,null,null,null,null,null,null,null,null,null,null,null,0]
[null,null,null,null,null,null,null,null,null,null,null,null,null,null,null,null,null,null,null,null,null,null,null,null,null,null,null,null,null,null,null,null,null,null,null,null,null,null,null,null,null,null,null,null,null,null,null,null,null,null,null,null,null,null,null,null,null,null,null,null,null,null,0]
[null,null,null,null,null,null,null,null,null,null,null,null,null,null,null,null,null,null,null,null,null,null,null,null,null,null,null,null,null,null,null,null,null,null,null,null,null,null,null,null,null,null,null,null,null,null,null,null,null,null,null,null,null,null,null,null,null,null,null,null,null,null,0]
[null,null,null,null,null,null,null,null,null,null,null,null,null,null,null,null,null,null,null,null,null,null,null,null,null,null,null,null,null,null,null,null,null,null,null,null,null,null,null,null,null,null,null,null,null,null,null,null,null,null,null,null,null,null,null,null,null,null,null,null,null,null,{"$f":"C335*$C$11+D335*$D$11+E335*$E$11+F335*$F$11+G335*$G$11+H335*$H$11+I335*$I$11+J335*$J$11+K335*$K$11+L335*$L$11+M335*$M$11+N335*$N$11+O335*$O$11+P335*$P$11+Q335*$Q$11+R335*$R$11+S335*$S$11+T335*$T$11+U335*$U$11+V335*$V$11+W335*$W$11+X335*$X$11+Y335*$Y$11+Z335*$Z$11+AA335*$AA$11+AB335*$AB$11+AC335*$AC$11+AD335*$AD$11+AE335*$AE$11+AF335*$AF$11+AG335*$AG$11+AH335*$AH$11+AI335*$AI$11+AJ335*$AJ$11+AK335*$AK$11+AL335*$AL$11+AM335*$AM$11+AN335*$AN$11+AO335*$AO$11+AP335*$AP$11+AQ335*$AQ$11+AR335*$AR$11+AS335*$AS$11+AT335*$AT$11+AU335*$AU$11+AV335*$AV$11+AW335*$AW$11+AX335*$AX$11+AY335*$AY$11+AZ335*$AZ$11+BA335*$BA$11+BB335*$BB$11+BC335*$BC$11+BD335*$BD$11+BE335*$BE$11+BF335*$BF$11+BG335*$BG$11+BH335*$BH$11+BI335*$BI$11+BJ335*$BJ$11","v":0}]
[null,null,null,null,null,null,null,null,null,null,null,null,null,null,null,null,null,null,null,null,null,null,null,null,null,null,null,null,null,null,null,null,null,null,null,null,null,null,null,null,null,null,null,null,null,null,null,null,null,null,null,null,null,null,null,null,null,null,null,null,null,null,0]
[null,null,null,null,null,null,null,null,null,null,null,null,null,null,null,null,null,null,null,null,null,null,null,null,null,null,null,null,null,null,null,null,null,null,null,null,null,null,null,null,null,null,null,null,null,null,null,null,null,null,null,null,null,null,null,null,null,null,null,null,null,null,0]
[null,null,null,null,null,null,null,null,null,null,null,null,null,null,null,null,null,null,null,null,null,null,null,null,null,null,null,null,null,null,null,null,null,null,null,null,null,null,null,null,null,null,null,null,null,null,null,null,null,null,null,null,null,null,null,null,null,null,null,null,null,null,0]
[null,null,null,null,null,null,null,null,null,null,null,null,null,null,null,null,null,null,null,null,null,null,null,null,null,null,null,null,null,null,null,null,null,null,null,null,null,null,null,null,null,null,null,null,null,null,null,null,null,null,null,null,null,null,null,null,null,null,null,null,null,null,0]
[null,null,null,null,null,null,null,null,null,null,null,null,null,null,null,null,null,null,null,null,null,null,null,null,null,null,null,null,null,null,null,null,null,null,null,null,null,null,null,null,null,null,null,null,null,null,null,null,null,null,null,null,null,null,null,null,null,null,null,null,null,null,0]
[null,null,null,null,null,null,null,null,null,null,null,null,null,null,null,null,null,null,null,null,null,null,null,null,null,null,null,null,null,null,null,null,null,null,null,null,null,null,null,null,null,null,null,null,null,null,null,null,null,null,null,null,null,null,null,null,null,null,null,null,null,null,0]
[null,null,null,null,null,null,null,null,null,null,null,null,null,null,null,null,null,null,null,null,null,null,null,null,null,null,null,null,null,null,null,null,null,null,null,null,null,null,null,null,null,null,null,null,null,null,null,null,null,null,null,null,null,null,null,null,null,null,null,null,null,null,0]
[null,null,null,null,null,null,null,null,null,null,null,null,null,null,null,null,null,null,null,null,null,null,null,null,null,null,null,null,null,null,null,null,null,null,null,null,null,null,null,null,null,null,null,null,null,null,null,null,null,null,null,null,null,null,null,null,null,null,null,null,null,null,0]
[null,null,null,null,null,null,null,null,null,null,null,null,null,null,null,null,null,null,null,null,null,null,null,null,null,null,null,null,null,null,null,null,null,null,null,null,null,null,null,null,null,null,null,null,null,null,null,null,null,null,null,null,null,null,null,null,null,null,null,null,null,null,0]
[null,null,null,null,null,null,null,null,null,null,null,null,null,null,null,null,null,null,null,null,null,null,null,null,null,null,null,null,null,null,null,null,null,null,null,null,null,null,null,null,null,null,null,null,null,null,null,null,null,null,null,null,null,null,null,null,null,null,null,null,null,null,0]
[null,null,null,null,null,null,null,null,null,null,null,null,null,null,null,null,null,null,null,null,null,null,null,null,null,null,null,null,null,null,null,null,null,null,null,null,null,null,null,null,null,null,null,null,null,null,null,null,null,null,null,null,null,null,null,null,null,null,null,null,null,null,0]
[null,null,null,null,null,null,null,null,null,null,null,null,null,null,null,null,null,null,null,null,null,null,null,null,null,null,null,null,null,null,null,null,null,null,null,null,null,null,null,null,null,null,null,null,null,null,null,null,null,null,null,null,null,null,null,null,null,null,null,null,null,null,0]
[null,null,null,null,null,null,null,null,null,null,null,null,null,null,null,null,null,null,null,null,null,null,null,null,null,null,null,null,null,null,null,null,null,null,null,null,null,null,null,null,null,null,null,null,null,null,null,null,null,null,null,null,null,null,null,null,null,null,null,null,null,null,0]
[null,null,null,null,null,null,null,null,null,null,null,null,null,null,null,null,null,null,null,null,null,null,null,null,null,null,null,null,null,null,null,null,null,null,null,null,null,null,null,null,null,null,null,null,null,null,null,null,null,null,null,null,null,null,null,null,null,null,null,null,null,null,0]
[null,null,null,null,null,null,null,null,null,null,null,null,null,null,null,null,null,null,null,null,null,null,null,null,null,null,null,null,null,null,null,null,null,null,null,null,null,null,null,null,null,null,null,null,null,null,null,null,null,null,null,null,null,null,null,null,null,null,null,null,null,null,0]
[null,null,null,null,null,null,null,null,null,null,null,null,null,null,null,null,null,null,null,null,null,null,null,null,null,null,null,null,null,null,null,null,null,null,null,null,null,null,null,null,null,null,null,null,null,null,null,null,null,null,null,null,null,null,null,null,null,null,null,null,null,null,0]
[null,null,null,null,null,null,null,null,null,null,null,null,null,null,null,null,null,null,null,null,null,null,null,null,null,null,null,null,null,null,null,null,null,null,null,null,null,null,null,null,null,null,null,null,null,null,null,null,null,null,null,null,null,null,null,null,null,null,null,null,null,null,0]
[null,null,null,null,null,null,null,null,null,null,null,null,null,null,null,null,null,null,null,null,null,null,null,null,null,null,null,null,null,null,null,null,null,null,null,null,null,null,null,null,null,null,null,null,null,null,null,null,null,null,null,null,null,null,null,null,null,null,null,null,null,null,0]
[null,null,null,null,null,null,null,null,null,null,null,null,null,null,null,null,null,null,null,null,null,null,null,null,null,null,null,null,null,null,null,null,null,null,null,null,null,null,null,null,null,null,null,null,null,null,null,null,null,null,null,null,null,null,null,null,null,null,null,null,null,null,0]
[null,null,null,null,null,null,null,null,null,null,null,null,null,null,null,null,null,null,null,null,null,null,null,null,null,null,null,null,null,null,null,null,null,null,null,null,null,null,null,null,null,null,null,null,null,null,null,null,null,null,null,null,null,null,null,null,null,null,null,null,null,null,0]
[null,null,null,null,null,null,null,null,null,null,null,null,null,null,null,null,null,null,null,null,null,null,null,null,null,null,null,null,null,null,null,null,null,null,null,null,null,null,null,null,null,null,null,null,null,null,null,null,null,null,null,null,null,null,null,null,null,null,null,null,null,null,0]
[null,null,null,null,null,null,null,null,null,null,null,null,null,null,null,null,null,null,null,null,null,null,null,null,null,null,null,null,null,null,null,null,null,null,null,null,null,null,null,null,null,null,null,null,null,null,null,null,null,null,null,null,null,null,null,null,null,null,null,null,null,null,0]
[null,null,null,null,null,null,null,null,null,null,null,null,null,null,null,null,null,null,null,null,null,null,null,null,null,null,null,null,null,null,null,null,null,null,null,null,null,null,null,null,null,null,null,null,null,null,null,null,null,null,null,null,null,null,null,null,null,null,null,null,null,null,0]
[null,null,null,null,null,null,null,null,null,null,null,null,null,null,null,null,null,null,null,null,null,null,null,null,null,null,null,null,null,null,null,null,null,null,null,null,null,null,null,null,null,null,null,null,null,null,null,null,null,null,null,null,null,null,null,null,null,null,null,null,null,null,0]
[null,null,null,null,null,null,null,null,null,null,null,null,null,null,null,null,null,null,null,null,null,null,null,null,null,null,null,null,null,null,null,null,null,null,null,null,null,null,null,null,null,null,null,null,null,null,null,null,null,null,null,null,null,null,null,null,null,null,null,null,null,null,0]
[null,null,null,null,null,null,null,null,null,null,null,null,null,null,null,null,null,null,null,null,null,null,null,null,null,null,null,null,null,null,null,null,null,null,null,null,null,null,null,null,null,null,null,null,null,null,null,null,null,null,null,null,null,null,null,null,null,null,null,null,null,null,0]
[null,null,null,null,null,null,null,null,null,null,null,null,null,null,null,null,null,null,null,null,null,null,null,null,null,null,null,null,null,null,null,null,null,null,null,null,null,null,null,null,null,null,null,null,null,null,null,null,null,null,null,null,null,null,null,null,null,null,null,null,null,null,0]
[null,null,null,null,null,null,null,null,null,null,null,null,null,null,null,null,null,null,null,null,null,null,null,null,null,null,null,null,null,null,null,null,null,null,null,null,null,null,null,null,null,null,null,null,null,null,null,null,null,null,null,null,null,null,null,null,null,null,null,null,null,null,0]
[null,null,null,null,null,null,null,null,null,null,null,null,null,null,null,null,null,null,null,null,null,null,null,null,null,null,null,null,null,null,null,null,null,null,null,null,null,null,null,null,null,null,null,null,null,null,null,null,null,null,null,null,null,null,null,null,null,null,null,null,null,null,0]
[null,null,null,null,null,null,null,null,null,null,null,null,null,null,null,null,null,null,null,null,null,null,null,null,null,null,null,null,null,null,null,null,null,null,null,null,null,null,null,null,null,null,null,null,null,null,null,null,null,null,null,null,null,null,null,null,null,null,null,null,null,null,0]
[null,null,null,null,null,null,null,null,null,null,null,null,null,null,null,null,null,null,null,null,null,null,null,null,null,null,null,null,null,null,null,null,null,null,null,null,null,null,null,null,null,null,null,null,null,null,null,null,null,null,null,null,null,null,null,null,null,null,null,null,null,null,0]
[null,null,null,null,null,null,null,null,null,null,null,null,null,null,null,null,null,null,null,null,null,null,null,null,null,null,null,null,null,null,null,null,null,null,null,null,null,null,null,null,null,null,null,null,null,null,null,null,null,null,null,null,null,null,null,null,null,null,null,null,null,null,0]
[null,null,null,null,null,null,null,null,null,null,null,null,null,null,null,null,null,null,null,null,null,null,null,null,null,null,null,null,null,null,null,null,null,null,null,null,null,null,null,null,null,null,null,null,null,null,null,null,null,null,null,null,null,null,null,null,null,null,null,null,null,null,0]
[null,null,null,null,null,null,null,null,null,null,null,null,null,null,null,null,null,null,null,null,null,null,null,null,null,null,null,null,null,null,null,null,null,null,null,null,null,null,null,null,null,null,null,null,null,null,null,null,null,null,null,null,null,null,null,null,null,null,null,null,null,null,0]
[null,null,null,null,null,null,null,null,null,null,null,null,null,null,null,null,null,null,null,null,null,null,null,null,null,null,null,null,null,null,null,null,null,null,null,null,null,null,null,null,null,null,null,null,null,null,null,null,null,null,null,null,null,null,null,null,null,null,null,null,null,null,0]
[null,null,null,null,null,null,null,null,null,null,null,null,null,null,null,null,null,null,null,null,null,null,null,null,null,null,null,null,null,null,null,null,null,null,null,null,null,null,null,null,null,null,null,null,null,null,null,null,null,null,null,null,null,null,null,null,null,null,null,null,null,null,0]
[null,null,null,null,null,null,null,null,null,null,null,null,null,null,null,null,null,null,null,null,null,null,null,null,null,null,null,null,null,null,null,null,null,null,null,null,null,null,null,null,null,null,null,null,null,null,null,null,null,null,null,null,null,null,null,null,null,null,null,null,null,null,0]
[null,null,null,null,null,null,null,null,null,null,null,null,null,null,null,null,null,null,null,null,null,null,null,null,null,null,null,null,null,null,null,null,null,null,null,null,null,null,null,null,null,null,null,null,null,null,null,null,null,null,null,null,null,null,null,null,null,null,null,null,null,null,0]
[null,null,null,null,null,null,null,null,null,null,null,null,null,null,null,null,null,null,null,null,null,null,null,null,null,null,null,null,null,null,null,null,null,null,null,null,null,null,null,null,null,null,null,null,null,null,null,null,null,null,null,null,null,null,null,null,null,null,null,null,null,null,0]
[null,null,null,null,null,null,null,null,null,null,null,null,null,null,null,null,null,null,null,null,null,null,null,null,null,null,null,null,null,null,null,null,null,null,null,null,null,null,null,null,null,null,null,null,null,null,null,null,null,null,null,null,null,null,null,null,null,null,null,null,null,null,0]
[null,null,null,null,null,null,null,null,null,null,null,null,null,null,null,null,null,null,null,null,null,null,null,null,null,null,null,null,null,null,null,null,null,null,null,null,null,null,null,null,null,null,null,null,null,null,null,null,null,null,null,null,null,null,null,null,null,null,null,null,null,null,0]
[null,null,null,null,null,null,null,null,null,null,null,null,null,null,null,null,null,null,null,null,null,null,null,null,null,null,null,null,null,null,null,null,null,null,null,null,null,null,null,null,null,null,null,null,null,null,null,null,null,null,null,null,null,null,null,null,null,null,null,null,null,null,0]
[null,null,null,null,null,null,null,null,null,null,null,null,null,null,null,null,null,null,null,null,null,null,null,null,null,null,null,null,null,null,null,null,null,null,null,null,null,null,null,null,null,null,null,null,null,null,null,null,null,null,null,null,null,null,null,null,null,null,null,null,null,null,0]
[null,null,null,null,null,null,null,null,null,null,null,null,null,null,null,null,null,null,null,null,null,null,null,null,null,null,null,null,null,null,null,null,null,null,null,null,null,null,null,null,null,null,null,null,null,null,null,null,null,null,null,null,null,null,null,null,null,null,null,null,null,null,0]
[null,null,null,null,null,null,null,null,null,null,null,null,null,null,null,null,null,null,null,null,null,null,null,null,null,null,null,null,null,null,null,null,null,null,null,null,null,null,null,null,null,null,null,null,null,null,null,null,null,null,null,null,null,null,null,null,null,null,null,null,null,null,0]
[null,null,null,null,null,null,null,null,null,null,null,null,null,null,null,null,null,null,null,null,null,null,null,null,null,null,null,null,null,null,null,null,null,null,null,null,null,null,null,null,null,null,null,null,null,null,null,null,null,null,null,null,null,null,null,null,null,null,null,null,null,null,0]
[null,null,null,null,null,null,null,null,null,null,null,null,null,null,null,null,null,null,null,null,null,null,null,null,null,null,null,null,null,null,null,null,null,null,null,null,null,null,null,null,null,null,null,null,null,null,null,null,null,null,null,null,null,null,null,null,null,null,null,null,null,null,0]
[null,null,null,null,null,null,null,null,null,null,null,null,null,null,null,null,null,null,null,null,null,null,null,null,null,null,null,null,null,null,null,null,null,null,null,null,null,null,null,null,null,null,null,null,null,null,null,null,null,null,null,null,null,null,null,null,null,null,null,null,null,null,0]
[null,null,null,null,null,null,null,null,null,null,null,null,null,null,null,null,null,null,null,null,null,null,null,null,null,null,null,null,null,null,null,null,null,null,null,null,null,null,null,null,null,null,null,null,null,null,null,null,null,null,null,null,null,null,null,null,null,null,null,null,null,null,0]
[null,null,null,null,null,null,null,null,null,null,null,null,null,null,null,null,null,null,null,null,null,null,null,null,null,null,null,null,null,null,null,null,null,null,null,null,null,null,null,null,null,null,null,null,null,null,null,null,null,null,null,null,null,null,null,null,null,null,null,null,null,null,0]
[null,null,null,null,null,null,null,null,null,null,null,null,null,null,null,null,null,null,null,null,null,null,null,null,null,null,null,null,null,null,null,null,null,null,null,null,null,null,null,null,null,null,null,null,null,null,null,null,null,null,null,null,null,null,null,null,null,null,null,null,null,null,0]
[null,null,null,null,null,null,null,null,null,null,null,null,null,null,null,null,null,null,null,null,null,null,null,null,null,null,null,null,null,null,null,null,null,null,null,null,null,null,null,null,null,null,null,null,null,null,null,null,null,null,null,null,null,null,null,null,null,null,null,null,null,null,0]
[null,null,null,null,null,null,null,null,null,null,null,null,null,null,null,null,null,null,null,null,null,null,null,null,null,null,null,null,null,null,null,null,null,null,null,null,null,null,null,null,null,null,null,null,null,null,null,null,null,null,null,null,null,null,null,null,null,null,null,null,null,null,0]
[null,null,null,null,null,null,null,null,null,null,null,null,null,null,null,null,null,null,null,null,null,null,null,null,null,null,null,null,null,null,null,null,null,null,null,null,null,null,null,null,null,null,null,null,null,null,null,null,null,null,null,null,null,null,null,null,null,null,null,null,null,null,0]
[null,null,null,null,null,null,null,null,null,null,null,null,null,null,null,null,null,null,null,null,null,null,null,null,null,null,null,null,null,null,null,null,null,null,null,null,null,null,null,null,null,null,null,null,null,null,null,null,null,null,null,null,null,null,null,null,null,null,null,null,null,null,0]
[null,null,null,null,null,null,null,null,null,null,null,null,null,null,null,null,null,null,null,null,null,null,null,null,null,null,null,null,null,null,null,null,null,null,null,null,null,null,null,null,null,null,null,null,null,null,null,null,null,null,null,null,null,null,null,null,null,null,null,null,null,null,0]
[null,null,null,null,null,null,null,null,null,null,null,null,null,null,null,null,null,null,null,null,null,null,null,null,null,null,null,null,null,null,null,null,null,null,null,null,null,null,null,null,null,null,null,null,null,null,null,null,null,null,null,null,null,null,null,null,null,null,null,null,null,null,0]
[null,null,null,null,null,null,null,null,null,null,null,null,null,null,null,null,null,null,null,null,null,null,null,null,null,null,null,null,null,null,null,null,null,null,null,null,null,null,null,null,null,null,null,null,null,null,null,null,null,null,null,null,null,null,null,null,null,null,null,null,null,null,0]
[null,null,null,null,null,null,null,null,null,null,null,null,null,null,null,null,null,null,null,null,null,null,null,null,null,null,null,null,null,null,null,null,null,null,null,null,null,null,null,null,null,null,null,null,null,null,null,null,null,null,null,null,null,null,null,null,null,null,null,null,null,null,0]
[null,null,null,null,null,null,null,null,null,null,null,null,null,null,null,null,null,null,null,null,null,null,null,null,null,null,null,null,null,null,null,null,null,null,null,null,null,null,null,null,null,null,null,null,null,null,null,null,null,null,null,null,null,null,null,null,null,null,null,null,null,null,0]
[null,null,null,null,null,null,null,null,null,null,null,null,null,null,null,null,null,null,null,null,null,null,null,null,null,null,null,null,null,null,null,null,null,null,null,null,null,null,null,null,null,null,null,null,null,null,null,null,null,null,null,null,null,null,null,null,null,null,null,null,null,null,0]
[null,null,null,null,null,null,null,null,null,null,null,null,null,null,null,null,null,null,null,null,null,null,null,null,null,null,null,null,null,null,null,null,null,null,null,null,null,null,null,null,null,null,null,null,null,null,null,null,null,null,null,null,null,null,null,null,null,null,null,null,null,null,0]
[null,null,null,null,null,null,null,null,null,null,null,null,null,null,null,null,null,null,null,null,null,null,null,null,null,null,null,null,null,null,null,null,null,null,null,null,null,null,null,null,null,null,null,null,null,null,null,null,null,null,null,null,null,null,null,null,null,null,null,null,null,null,0]
[null,null,null,null,null,null,null,null,null,null,null,null,null,null,null,null,null,null,null,null,null,null,null,null,null,null,null,null,null,null,null,null,null,null,null,null,null,null,null,null,null,null,null,null,null,null,null,null,null,null,null,null,null,null,null,null,null,null,null,null,null,null,{"$f":"C399*$C$11+D399*$D$11+E399*$E$11+F399*$F$11+G399*$G$11+H399*$H$11+I399*$I$11+J399*$J$11+K399*$K$11+L399*$L$11+M399*$M$11+N399*$N$11+O399*$O$11+P399*$P$11+Q399*$Q$11+R399*$R$11+S399*$S$11+T399*$T$11+U399*$U$11+V399*$V$11+W399*$W$11+X399*$X$11+Y399*$Y$11+Z399*$Z$11+AA399*$AA$11+AB399*$AB$11+AC399*$AC$11+AD399*$AD$11+AE399*$AE$11+AF399*$AF$11+AG399*$AG$11+AH399*$AH$11+AI399*$AI$11+AJ399*$AJ$11+AK399*$AK$11+AL399*$AL$11+AM399*$AM$11+AN399*$AN$11+AO399*$AO$11+AP399*$AP$11+AQ399*$AQ$11+AR399*$AR$11+AS399*$AS$11+AT399*$AT$11+AU399*$AU$11+AV399*$AV$11+AW399*$AW$11+AX399*$AX$11+AY399*$AY$11+AZ399*$AZ$11+BA399*$BA$11+BB399*$BB$11+BC399*$BC$11+BD399*$BD$11+BE399*$BE$11+BF399*$BF$11+BG399*$BG$11+BH399*$BH$11+BI399*$BI$11+BJ399*$BJ$11","v":0}]
[null,null,null,null,null,null,null,null,null,null,null,null,null,null,null,null,null,null,null,null,null,null,null,null,null,null,null,null,null,null,null,null,null,null,null,null,null,null,null,null,null,null,null,null,null,null,null,null,null,null,null,null,null,null,null,null,null,null,null,null,null,null,0]
[null,null,null,null,null,null,null,null,null,null,null,null,null,null,null,null,null,null,null,null,null,null,null,null,null,null,null,null,null,null,null,null,null,null,null,null,null,null,null,null,null,null,null,null,null,null,null,null,null,null,null,null,null,null,null,null,null,null,null,null,null,null,0]
[null,null,null,null,null,null,null,null,null,null,null,null,null,null,null,null,null,null,null,null,null,null,null,null,null,null,null,null,null,null,null,null,null,null,null,null,null,null,null,null,null,null,null,null,null,null,null,null,null,null,null,null,null,null,null,null,null,null,null,null,null,null,0]
[null,null,null,null,null,null,null,null,null,null,null,null,null,null,null,null,null,null,null,null,null,null,null,null,null,null,null,null,null,null,null,null,null,null,null,null,null,null,null,null,null,null,null,null,null,null,null,null,null,null,null,null,null,null,null,null,null,null,null,null,null,null,0]
[null,null,null,null,null,null,null,null,null,null,null,null,null,null,null,null,null,null,null,null,null,null,null,null,null,null,null,null,null,null,null,null,null,null,null,null,null,null,null,null,null,null,null,null,null,null,null,null,null,null,null,null,null,null,null,null,null,null,null,null,null,null,0]
[null,null,null,null,null,null,null,null,null,null,null,null,null,null,null,null,null,null,null,null,null,null,null,null,null,null,null,null,null,null,null,null,null,null,null,null,null,null,null,null,null,null,null,null,null,null,null,null,null,null,null,null,null,null,null,null,null,null,null,null,null,null,0]
[null,null,null,null,null,null,null,null,null,null,null,null,null,null,null,null,null,null,null,null,null,null,null,null,null,null,null,null,null,null,null,null,null,null,null,null,null,null,null,null,null,null,null,null,null,null,null,null,null,null,null,null,null,null,null,null,null,null,null,null,null,null,0]
[null,null,null,null,null,null,null,null,null,null,null,null,null,null,null,null,null,null,null,null,null,null,null,null,null,null,null,null,null,null,null,null,null,null,null,null,null,null,null,null,null,null,null,null,null,null,null,null,null,null,null,null,null,null,null,null,null,null,null,null,null,null,0]
[null,null,null,null,null,null,null,null,null,null,null,null,null,null,null,null,null,null,null,null,null,null,null,null,null,null,null,null,null,null,null,null,null,null,null,null,null,null,null,null,null,null,null,null,null,null,null,null,null,null,null,null,null,null,null,null,null,null,null,null,null,null,0]
[null,null,null,null,null,null,null,null,null,null,null,null,null,null,null,null,null,null,null,null,null,null,null,null,null,null,null,null,null,null,null,null,null,null,null,null,null,null,null,null,null,null,null,null,null,null,null,null,null,null,null,null,null,null,null,null,null,null,null,null,null,null,0]
[null,null,null,null,null,null,null,null,null,null,null,null,null,null,null,null,null,null,null,null,null,null,null,null,null,null,null,null,null,null,null,null,null,null,null,null,null,null,null,null,null,null,null,null,null,null,null,null,null,null,null,null,null,null,null,null,null,null,null,null,null,null,0]
[null,null,null,null,null,null,null,null,null,null,null,null,null,null,null,null,null,null,null,null,null,null,null,null,null,null,null,null,null,null,null,null,null,null,null,null,null,null,null,null,null,null,null,null,null,null,null,null,null,null,null,null,null,null,null,null,null,null,null,null,null,null,0]
[null,null,null,null,null,null,null,null,null,null,null,null,null,null,null,null,null,null,null,null,null,null,null,null,null,null,null,null,null,null,null,null,null,null,null,null,null,null,null,null,null,null,null,null,null,null,null,null,null,null,null,null,null,null,null,null,null,null,null,null,null,null,0]
[null,null,null,null,null,null,null,null,null,null,null,null,null,null,null,null,null,null,null,null,null,null,null,null,null,null,null,null,null,null,null,null,null,null,null,null,null,null,null,null,null,null,null,null,null,null,null,null,null,null,null,null,null,null,null,null,null,null,null,null,null,null,0]
[null,null,null,null,null,null,null,null,null,null,null,null,null,null,null,null,null,null,null,null,null,null,null,null,null,null,null,null,null,null,null,null,null,null,null,null,null,null,null,null,null,null,null,null,null,null,null,null,null,null,null,null,null,null,null,null,null,null,null,null,null,null,0]
[null,null,null,null,null,null,null,null,null,null,null,null,null,null,null,null,null,null,null,null,null,null,null,null,null,null,null,null,null,null,null,null,null,null,null,null,null,null,null,null,null,null,null,null,null,null,null,null,null,null,null,null,null,null,null,null,null,null,null,null,null,null,0]
[null,null,null,null,null,null,null,null,null,null,null,null,null,null,null,null,null,null,null,null,null,null,null,null,null,null,null,null,null,null,null,null,null,null,null,null,null,null,null,null,null,null,null,null,null,null,null,null,null,null,null,null,null,null,null,null,null,null,null,null,null,null,0]
[null,null,null,null,null,null,null,null,null,null,null,null,null,null,null,null,null,null,null,null,null,null,null,null,null,null,null,null,null,null,null,null,null,null,null,null,null,null,null,null,null,null,null,null,null,null,null,null,null,null,null,null,null,null,null,null,null,null,null,null,null,null,0]
[null,null,null,null,null,null,null,null,null,null,null,null,null,null,null,null,null,null,null,null,null,null,null,null,null,null,null,null,null,null,null,null,null,null,null,null,null,null,null,null,null,null,null,null,null,null,null,null,null,null,null,null,null,null,null,null,null,null,null,null,null,null,0]
[null,null,null,null,null,null,null,null,null,null,null,null,null,null,null,null,null,null,null,null,null,null,null,null,null,null,null,null,null,null,null,null,null,null,null,null,null,null,null,null,null,null,null,null,null,null,null,null,null,null,null,null,null,null,null,null,null,null,null,null,null,null,0]
[null,null,null,null,null,null,null,null,null,null,null,null,null,null,null,null,null,null,null,null,null,null,null,null,null,null,null,null,null,null,null,null,null,null,null,null,null,null,null,null,null,null,null,null,null,null,null,null,null,null,null,null,null,null,null,null,null,null,null,null,null,null,0]
[null,null,null,null,null,null,null,null,null,null,null,null,null,null,null,null,null,null,null,null,null,null,null,null,null,null,null,null,null,null,null,null,null,null,null,null,null,null,null,null,null,null,null,null,null,null,null,null,null,null,null,null,null,null,null,null,null,null,null,null,null,null,0]
[null,null,null,null,null,null,null,null,null,null,null,null,null,null,null,null,null,null,null,null,null,null,null,null,null,null,null,null,null,null,null,null,null,null,null,null,null,null,null,null,null,null,null,null,null,null,null,null,null,null,null,null,null,null,null,null,null,null,null,null,null,null,0]
[null,null,null,null,null,null,null,null,null,null,null,null,null,null,null,null,null,null,null,null,null,null,null,null,null,null,null,null,null,null,null,null,null,null,null,null,null,null,null,null,null,null,null,null,null,null,null,null,null,null,null,null,null,null,null,null,null,null,null,null,null,null,0]
[null,null,null,null,null,null,null,null,null,null,null,null,null,null,null,null,null,null,null,null,null,null,null,null,null,null,null,null,null,null,null,null,null,null,null,null,null,null,null,null,null,null,null,null,null,null,null,null,null,null,null,null,null,null,null,null,null,null,null,null,null,null,0]
[null,null,null,null,null,null,null,null,null,null,null,null,null,null,null,null,null,null,null,null,null,null,null,null,null,null,null,null,null,null,null,null,null,null,null,null,null,null,null,null,null,null,null,null,null,null,null,null,null,null,null,null,null,null,null,null,null,null,null,null,null,null,0]
[null,null,null,null,null,null,null,null,null,null,null,null,null,null,null,null,null,null,null,null,null,null,null,null,null,null,null,null,null,null,null,null,null,null,null,null,null,null,null,null,null,null,null,null,null,null,null,null,null,null,null,null,null,null,null,null,null,null,null,null,null,null,0]
[null,null,null,null,null,null,null,null,null,null,null,null,null,null,null,null,null,null,null,null,null,null,null,null,null,null,null,null,null,null,null,null,null,null,null,null,null,null,null,null,null,null,null,null,null,null,null,null,null,null,null,null,null,null,null,null,null,null,null,null,null,null,0]
[null,null,null,null,null,null,null,null,null,null,null,null,null,null,null,null,null,null,null,null,null,null,null,null,null,null,null,null,null,null,null,null,null,null,null,null,null,null,null,null,null,null,null,null,null,null,null,null,null,null,null,null,null,null,null,null,null,null,null,null,null,null,0]
[null,null,null,null,null,null,null,null,null,null,null,null,null,null,null,null,null,null,null,null,null,null,null,null,null,null,null,null,null,null,null,null,null,null,null,null,null,null,null,null,null,null,null,null,null,null,null,null,null,null,null,null,null,null,null,null,null,null,null,null,null,null,0]
[null,null,null,null,null,null,null,null,null,null,null,null,null,null,null,null,null,null,null,null,null,null,null,null,null,null,null,null,null,null,null,null,null,null,null,null,null,null,null,null,null,null,null,null,null,null,null,null,null,null,null,null,null,null,null,null,null,null,null,null,null,null,0]
[null,null,null,null,null,null,null,null,null,null,null,null,null,null,null,null,null,null,null,null,null,null,null,null,null,null,null,null,null,null,null,null,null,null,null,null,null,null,null,null,null,null,null,null,null,null,null,null,null,null,null,null,null,null,null,null,null,null,null,null,null,null,0]
[null,null,null,null,null,null,null,null,null,null,null,null,null,null,null,null,null,null,null,null,null,null,null,null,null,null,null,null,null,null,null,null,null,null,null,null,null,null,null,null,null,null,null,null,null,null,null,null,null,null,null,null,null,null,null,null,null,null,null,null,null,null,0]
[null,null,null,null,null,null,null,null,null,null,null,null,null,null,null,null,null,null,null,null,null,null,null,null,null,null,null,null,null,null,null,null,null,null,null,null,null,null,null,null,null,null,null,null,null,null,null,null,null,null,null,null,null,null,null,null,null,null,null,null,null,null,0]
[null,null,null,null,null,null,null,null,null,null,null,null,null,null,null,null,null,null,null,null,null,null,null,null,null,null,null,null,null,null,null,null,null,null,null,null,null,null,null,null,null,null,null,null,null,null,null,null,null,null,null,null,null,null,null,null,null,null,null,null,null,null,0]
[null,null,null,null,null,null,null,null,null,null,null,null,null,null,null,null,null,null,null,null,null,null,null,null,null,null,null,null,null,null,null,null,null,null,null,null,null,null,null,null,null,null,null,null,null,null,null,null,null,null,null,null,null,null,null,null,null,null,null,null,null,null,0]
[null,null,null,null,null,null,null,null,null,null,null,null,null,null,null,null,null,null,null,null,null,null,null,null,null,null,null,null,null,null,null,null,null,null,null,null,null,null,null,null,null,null,null,null,null,null,null,null,null,null,null,null,null,null,null,null,null,null,null,null,null,null,0]
[null,null,null,null,null,null,null,null,null,null,null,null,null,null,null,null,null,null,null,null,null,null,null,null,null,null,null,null,null,null,null,null,null,null,null,null,null,null,null,null,null,null,null,null,null,null,null,null,null,null,null,null,null,null,null,null,null,null,null,null,null,null,0]
[null,null,null,null,null,null,null,null,null,null,null,null,null,null,null,null,null,null,null,null,null,null,null,null,null,null,null,null,null,null,null,null,null,null,null,null,null,null,null,null,null,null,null,null,null,null,null,null,null,null,null,null,null,null,null,null,null,null,null,null,null,null,0]
[null,null,null,null,null,null,null,null,null,null,null,null,null,null,null,null,null,null,null,null,null,null,null,null,null,null,null,null,null,null,null,null,null,null,null,null,null,null,null,null,null,null,null,null,null,null,null,null,null,null,null,null,null,null,null,null,null,null,null,null,null,null,0]
[null,null,null,null,null,null,null,null,null,null,null,null,null,null,null,null,null,null,null,null,null,null,null,null,null,null,null,null,null,null,null,null,null,null,null,null,null,null,null,null,null,null,null,null,null,null,null,null,null,null,null,null,null,null,null,null,null,null,null,null,null,null,0]
[null,null,null,null,null,null,null,null,null,null,null,null,null,null,null,null,null,null,null,null,null,null,null,null,null,null,null,null,null,null,null,null,null,null,null,null,null,null,null,null,null,null,null,null,null,null,null,null,null,null,null,null,null,null,null,null,null,null,null,null,null,null,0]
[null,null,null,null,null,null,null,null,null,null,null,null,null,null,null,null,null,null,null,null,null,null,null,null,null,null,null,null,null,null,null,null,null,null,null,null,null,null,null,null,null,null,null,null,null,null,null,null,null,null,null,null,null,null,null,null,null,null,null,null,null,null,0]
[null,null,null,null,null,null,null,null,null,null,null,null,null,null,null,null,null,null,null,null,null,null,null,null,null,null,null,null,null,null,null,null,null,null,null,null,null,null,null,null,null,null,null,null,null,null,null,null,null,null,null,null,null,null,null,null,null,null,null,null,null,null,0]
[null,null,null,null,null,null,null,null,null,null,null,null,null,null,null,null,null,null,null,null,null,null,null,null,null,null,null,null,null,null,null,null,null,null,null,null,null,null,null,null,null,null,null,null,null,null,null,null,null,null,null,null,null,null,null,null,null,null,null,null,null,null,0]
[null,null,null,null,null,null,null,null,null,null,null,null,null,null,null,null,null,null,null,null,null,null,null,null,null,null,null,null,null,null,null,null,null,null,null,null,null,null,null,null,null,null,null,null,null,null,null,null,null,null,null,null,null,null,null,null,null,null,null,null,null,null,0]
[null,null,null,null,null,null,null,null,null,null,null,null,null,null,null,null,null,null,null,null,null,null,null,null,null,null,null,null,null,null,null,null,null,null,null,null,null,null,null,null,null,null,null,null,null,null,null,null,null,null,null,null,null,null,null,null,null,null,null,null,null,null,0]
[null,null,null,null,null,null,null,null,null,null,null,null,null,null,null,null,null,null,null,null,null,null,null,null,null,null,null,null,null,null,null,null,null,null,null,null,null,null,null,null,null,null,null,null,null,null,null,null,null,null,null,null,null,null,null,null,null,null,null,null,null,null,0]
[null,null,null,null,null,null,null,null,null,null,null,null,null,null,null,null,null,null,null,null,null,null,null,null,null,null,null,null,null,null,null,null,null,null,null,null,null,null,null,null,null,null,null,null,null,null,null,null,null,null,null,null,null,null,null,null,null,null,null,null,null,null,0]
[null,null,null,null,null,null,null,null,null,null,null,null,null,null,null,null,null,null,null,null,null,null,null,null,null,null,null,null,null,null,null,null,null,null,null,null,null,null,null,null,null,null,null,null,null,null,null,null,null,null,null,null,null,null,null,null,null,null,null,null,null,null,0]
[null,null,null,null,null,null,null,null,null,null,null,null,null,null,null,null,null,null,null,null,null,null,null,null,null,null,null,null,null,null,null,null,null,null,null,null,null,null,null,null,null,null,null,null,null,null,null,null,null,null,null,null,null,null,null,null,null,null,null,null,null,null,0]
[null,null,null,null,null,null,null,null,null,null,null,null,null,null,null,null,null,null,null,null,null,null,null,null,null,null,null,null,null,null,null,null,null,null,null,null,null,null,null,null,null,null,null,null,null,null,null,null,null,null,null,null,null,null,null,null,null,null,null,null,null,null,0]
[null,null,null,null,null,null,null,null,null,null,null,null,null,null,null,null,null,null,null,null,null,null,null,null,null,null,null,null,null,null,null,null,null,null,null,null,null,null,null,null,null,null,null,null,null,null,null,null,null,null,null,null,null,null,null,null,null,null,null,null,null,null,0]
[null,null,null,null,null,null,null,null,null,null,null,null,null,null,null,null,null,null,null,null,null,null,null,null,null,null,null,null,null,null,null,null,null,null,null,null,null,null,null,null,null,null,null,null,null,null,null,null,null,null,null,null,null,null,null,null,null,null,null,null,null,null,0]
[null,null,null,null,null,null,null,null,null,null,null,null,null,null,null,null,null,null,null,null,null,null,null,null,null,null,null,null,null,null,null,null,null,null,null,null,null,null,null,null,null,null,null,null,null,null,null,null,null,null,null,null,null,null,null,null,null,null,null,null,null,null,0]
[null,null,null,null,null,null,null,null,null,null,null,null,null,null,null,null,null,null,null,null,null,null,null,null,null,null,null,null,null,null,null,null,null,null,null,null,null,null,null,null,null,null,null,null,null,null,null,null,null,null,null,null,null,null,null,null,null,null,null,null,null,null,0]
[null,null,null,null,null,null,null,null,null,null,null,null,null,null,null,null,null,null,null,null,null,null,null,null,null,null,null,null,null,null,null,null,null,null,null,null,null,null,null,null,null,null,null,null,null,null,null,null,null,null,null,null,null,null,null,null,null,null,null,null,null,null,0]
[null,null,null,null,null,null,null,null,null,null,null,null,null,null,null,null,null,null,null,null,null,null,null,null,null,null,null,null,null,null,null,null,null,null,null,null,null,null,null,null,null,null,null,null,null,null,null,null,null,null,null,null,null,null,null,null,null,null,null,null,null,null,0]
[null,null,null,null,null,null,null,null,null,null,null,null,null,null,null,null,null,null,null,null,null,null,null,null,null,null,null,null,null,null,null,null,null,null,null,null,null,null,null,null,null,null,null,null,null,null,null,null,null,null,null,null,null,null,null,null,null,null,null,null,null,null,0]
[null,null,null,null,null,null,null,null,null,null,null,null,null,null,null,null,null,null,null,null,null,null,null,null,null,null,null,null,null,null,null,null,null,null,null,null,null,null,null,null,null,null,null,null,null,null,null,null,null,null,null,null,null,null,null,null,null,null,null,null,null,null,0]
[null,null,null,null,null,null,null,null,null,null,null,null,null,null,null,null,null,null,null,null,null,null,null,null,null,null,null,null,null,null,null,null,null,null,null,null,null,null,null,null,null,null,null,null,null,null,null,null,null,null,null,null,null,null,null,null,null,null,null,null,null,null,0]
[null,null,null,null,null,null,null,null,null,null,null,null,null,null,null,null,null,null,null,null,null,null,null,null,null,null,null,null,null,null,null,null,null,null,null,null,null,null,null,null,null,null,null,null,null,null,null,null,null,null,null,null,null,null,null,null,null,null,null,null,null,null,0]
[null,null,null,null,null,null,null,null,null,null,null,null,null,null,null,null,null,null,null,null,null,null,null,null,null,null,null,null,null,null,null,null,null,null,null,null,null,null,null,null,null,null,null,null,null,null,null,null,null,null,null,null,null,null,null,null,null,null,null,null,null,null,0]
[null,null,null,null,null,null,null,null,null,null,null,null,null,null,null,null,null,null,null,null,null,null,null,null,null,null,null,null,null,null,null,null,null,null,null,null,null,null,null,null,null,null,null,null,null,null,null,null,null,null,null,null,null,null,null,null,null,null,null,null,null,null,{"$f":"C463*$C$11+D463*$D$11+E463*$E$11+F463*$F$11+G463*$G$11+H463*$H$11+I463*$I$11+J463*$J$11+K463*$K$11+L463*$L$11+M463*$M$11+N463*$N$11+O463*$O$11+P463*$P$11+Q463*$Q$11+R463*$R$11+S463*$S$11+T463*$T$11+U463*$U$11+V463*$V$11+W463*$W$11+X463*$X$11+Y463*$Y$11+Z463*$Z$11+AA463*$AA$11+AB463*$AB$11+AC463*$AC$11+AD463*$AD$11+AE463*$AE$11+AF463*$AF$11+AG463*$AG$11+AH463*$AH$11+AI463*$AI$11+AJ463*$AJ$11+AK463*$AK$11+AL463*$AL$11+AM463*$AM$11+AN463*$AN$11+AO463*$AO$11+AP463*$AP$11+AQ463*$AQ$11+AR463*$AR$11+AS463*$AS$11+AT463*$AT$11+AU463*$AU$11+AV463*$AV$11+AW463*$AW$11+AX463*$AX$11+AY463*$AY$11+AZ463*$AZ$11+BA463*$BA$11+BB463*$BB$11+BC463*$BC$11+BD463*$BD$11+BE463*$BE$11+BF463*$BF$11+BG463*$BG$11+BH463*$BH$11+BI463*$BI$11+BJ463*$BJ$11","v":0}]
[null,null,null,null,null,null,null,null,null,null,null,null,null,null,null,null,null,null,null,null,null,null,null,null,null,null,null,null,null,null,null,null,null,null,null,null,null,null,null,null,null,null,null,null,null,null,null,null,null,null,null,null,null,null,null,null,null,null,null,null,null,null,0]
[null,null,null,null,null,null,null,null,null,null,null,null,null,null,null,null,null,null,null,null,null,null,null,null,null,null,null,null,null,null,null,null,null,null,null,null,null,null,null,null,null,null,null,null,null,null,null,null,null,null,null,null,null,null,null,null,null,null,null,null,null,null,0]
[null,null,null,null,null,null,null,null,null,null,null,null,null,null,null,null,null,null,null,null,null,null,null,null,null,null,null,null,null,null,null,null,null,null,null,null,null,null,null,null,null,null,null,null,null,null,null,null,null,null,null,null,null,null,null,null,null,null,null,null,null,null,0]
[null,null,null,null,null,null,null,null,null,null,null,null,null,null,null,null,null,null,null,null,null,null,null,null,null,null,null,null,null,null,null,null,null,null,null,null,null,null,null,null,null,null,null,null,null,null,null,null,null,null,null,null,null,null,null,null,null,null,null,null,null,null,0]
[null,null,null,null,null,null,null,null,null,null,null,null,null,null,null,null,null,null,null,null,null,null,null,null,null,null,null,null,null,null,null,null,null,null,null,null,null,null,null,null,null,null,null,null,null,null,null,null,null,null,null,null,null,null,null,null,null,null,null,null,null,null,0]
[null,null,null,null,null,null,null,null,null,null,null,null,null,null,null,null,null,null,null,null,null,null,null,null,null,null,null,null,null,null,null,null,null,null,null,null,null,null,null,null,null,null,null,null,null,null,null,null,null,null,null,null,null,null,null,null,null,null,null,null,null,null,0]
[null,null,null,null,null,null,null,null,null,null,null,null,null,null,null,null,null,null,null,null,null,null,null,null,null,null,null,null,null,null,null,null,null,null,null,null,null,null,null,null,null,null,null,null,null,null,null,null,null,null,null,null,null,null,null,null,null,null,null,null,null,null,0]
[null,null,null,null,null,null,null,null,null,null,null,null,null,null,null,null,null,null,null,null,null,null,null,null,null,null,null,null,null,null,null,null,null,null,null,null,null,null,null,null,null,null,null,null,null,null,null,null,null,null,null,null,null,null,null,null,null,null,null,null,null,null,0]
[null,null,null,null,null,null,null,null,null,null,null,null,null,null,null,null,null,null,null,null,null,null,null,null,null,null,null,null,null,null,null,null,null,null,null,null,null,null,null,null,null,null,null,null,null,null,null,null,null,null,null,null,null,null,null,null,null,null,null,null,null,null,0]
[null,null,null,null,null,null,null,null,null,null,null,null,null,null,null,null,null,null,null,null,null,null,null,null,null,null,null,null,null,null,null,null,null,null,null,null,null,null,null,null,null,null,null,null,null,null,null,null,null,null,null,null,null,null,null,null,null,null,null,null,null,null,0]
[null,null,null,null,null,null,null,null,null,null,null,null,null,null,null,null,null,null,null,null,null,null,null,null,null,null,null,null,null,null,null,null,null,null,null,null,null,null,null,null,null,null,null,null,null,null,null,null,null,null,null,null,null,null,null,null,null,null,null,null,null,null,0]
[null,null,null,null,null,null,null,null,null,null,null,null,null,null,null,null,null,null,null,null,null,null,null,null,null,null,null,null,null,null,null,null,null,null,null,null,null,null,null,null,null,null,null,null,null,null,null,null,null,null,null,null,null,null,null,null,null,null,null,null,null,null,0]
[null,null,null,null,null,null,null,null,null,null,null,null,null,null,null,null,null,null,null,null,null,null,null,null,null,null,null,null,null,null,null,null,null,null,null,null,null,null,null,null,null,null,null,null,null,null,null,null,null,null,null,null,null,null,null,null,null,null,null,null,null,null,0]
[null,null,null,null,null,null,null,null,null,null,null,null,null,null,null,null,null,null,null,null,null,null,null,null,null,null,null,null,null,null,null,null,null,null,null,null,null,null,null,null,null,null,null,null,null,null,null,null,null,null,null,null,null,null,null,null,null,null,null,null,null,null,0]
[null,null,null,null,null,null,null,null,null,null,null,null,null,null,null,null,null,null,null,null,null,null,null,null,null,null,null,null,null,null,null,null,null,null,null,null,null,null,null,null,null,null,null,null,null,null,null,null,null,null,null,null,null,null,null,null,null,null,null,null,null,null,0]
[null,null,null,null,null,null,null,null,null,null,null,null,null,null,null,null,null,null,null,null,null,null,null,null,null,null,null,null,null,null,null,null,null,null,null,null,null,null,null,null,null,null,null,null,null,null,null,null,null,null,null,null,null,null,null,null,null,null,null,null,null,null,0]
[null,null,null,null,null,null,null,null,null,null,null,null,null,null,null,null,null,null,null,null,null,null,null,null,null,null,null,null,null,null,null,null,null,null,null,null,null,null,null,null,null,null,null,null,null,null,null,null,null,null,null,null,null,null,null,null,null,null,null,null,null,null,0]
[null,null,null,null,null,null,null,null,null,null,null,null,null,null,null,null,null,null,null,null,null,null,null,null,null,null,null,null,null,null,null,null,null,null,null,null,null,null,null,null,null,null,null,null,null,null,null,null,null,null,null,null,null,null,null,null,null,null,null,null,null,null,0]
[null,null,null,null,null,null,null,null,null,null,null,null,null,null,null,null,null,null,null,null,null,null,null,null,null,null,null,null,null,null,null,null,null,null,null,null,null,null,null,null,null,null,null,null,null,null,null,null,null,null,null,null,null,null,null,null,null,null,null,null,null,null,0]
[null,null,null,null,null,null,null,null,null,null,null,null,null,null,null,null,null,null,null,null,null,null,null,null,null,null,null,null,null,null,null,null,null,null,null,null,null,null,null,null,null,null,null,null,null,null,null,null,null,null,null,null,null,null,null,null,null,null,null,null,null,null,0]
[null,null,null,null,null,null,null,null,null,null,null,null,null,null,null,null,null,null,null,null,null,null,null,null,null,null,null,null,null,null,null,null,null,null,null,null,null,null,null,null,null,null,null,null,null,null,null,null,null,null,null,null,null,null,null,null,null,null,null,null,null,null,0]
[null,null,null,null,null,null,null,null,null,null,null,null,null,null,null,null,null,null,null,null,null,null,null,null,null,null,null,null,null,null,null,null,null,null,null,null,null,null,null,null,null,null,null,null,null,null,null,null,null,null,null,null,null,null,null,null,null,null,null,null,null,null,0]
[null,null,null,null,null,null,null,null,null,null,null,null,null,null,null,null,null,null,null,null,null,null,null,null,null,null,null,null,null,null,null,null,null,null,null,null,null,null,null,null,null,null,null,null,null,null,null,null,null,null,null,null,null,null,null,null,null,null,null,null,null,null,0]
[null,null,null,null,null,null,null,null,null,null,null,null,null,null,null,null,null,null,null,null,null,null,null,null,null,null,null,null,null,null,null,null,null,null,null,null,null,null,null,null,null,null,null,null,null,null,null,null,null,null,null,null,null,null,null,null,null,null,null,null,null,null,0]
[null,null,null,null,null,null,null,null,null,null,null,null,null,null,null,null,null,null,null,null,null,null,null,null,null,null,null,null,null,null,null,null,null,null,null,null,null,null,null,null,null,null,null,null,null,null,null,null,null,null,null,null,null,null,null,null,null,null,null,null,null,null,0]
[null,null,null,null,null,null,null,null,null,null,null,null,null,null,null,null,null,null,null,null,null,null,null,null,null,null,null,null,null,null,null,null,null,null,null,null,null,null,null,null,null,null,null,null,null,null,null,null,null,null,null,null,null,null,null,null,null,null,null,null,null,null,0]
[null,null,null,null,null,null,null,null,null,null,null,null,null,null,null,null,null,null,null,null,null,null,null,null,null,null,null,null,null,null,null,null,null,null,null,null,null,null,null,null,null,null,null,null,null,null,null,null,null,null,null,null,null,null,null,null,null,null,null,null,null,null,0]
[null,null,null,null,null,null,null,null,null,null,null,null,null,null,null,null,null,null,null,null,null,null,null,null,null,null,null,null,null,null,null,null,null,null,null,null,null,null,null,null,null,null,null,null,null,null,null,null,null,null,null,null,null,null,null,null,null,null,null,null,null,null,0]
[null,null,null,null,null,null,null,null,null,null,null,null,null,null,null,null,null,null,null,null,null,null,null,null,null,null,null,null,null,null,null,null,null,null,null,null,null,null,null,null,null,null,null,null,null,null,null,null,null,null,null,null,null,null,null,null,null,null,null,null,null,null,0]
[null,null,null,null,null,null,null,null,null,null,null,null,null,null,null,null,null,null,null,null,null,null,null,null,null,null,null,null,null,null,null,null,null,null,null,null,null,null,null,null,null,null,null,null,null,null,null,null,null,null,null,null,null,null,null,null,null,null,null,null,null,null,0]
[null,null,null,null,null,null,null,null,null,null,null,null,null,null,null,null,null,null,null,null,null,null,null,null,null,null,null,null,null,null,null,null,null,null,null,null,null,null,null,null,null,null,null,null,null,null,null,null,null,null,null,null,null,null,null,null,null,null,null,null,null,null,0]
[null,null,null,null,null,null,null,null,null,null,null,null,null,null,null,null,null,null,null,null,null,null,null,null,null,null,null,null,null,null,null,null,null,null,null,null,null,null,null,null,null,null,null,null,null,null,null,null,null,null,null,null,null,null,null,null,null,null,null,null,null,null,0]
[null,null,null,null,null,null,null,null,null,null,null,null,null,null,null,null,null,null,null,null,null,null,null,null,null,null,null,null,null,null,null,null,null,null,null,null,null,null,null,null,null,null,null,null,null,null,null,null,null,null,null,null,null,null,null,null,null,null,null,null,null,null,0]
[null,null,null,null,null,null,null,null,null,null,null,null,null,null,null,null,null,null,null,null,null,null,null,null,null,null,null,null,null,null,null,null,null,null,null,null,null,null,null,null,null,null,null,null,null,null,null,null,null,null,null,null,null,null,null,null,null,null,null,null,null,null,0]
[null,null,null,null,null,null,null,null,null,null,null,null,null,null,null,null,null,null,null,null,null,null,null,null,null,null,null,null,null,null,null,null,null,null,null,null,null,null,null,null,null,null,null,null,null,null,null,null,null,null,null,null,null,null,null,null,null,null,null,null,null,null,0]
[null,null,null,null,null,null,null,null,null,null,null,null,null,null,null,null,null,null,null,null,null,null,null,null,null,null,null,null,null,null,null,null,null,null,null,null,null,null,null,null,null,null,null,null,null,null,null,null,null,null,null,null,null,null,null,null,null,null,null,null,null,null,0]
[null,null,null,null,null,null,null,null,null,null,null,null,null,null,null,null,null,null,null,null,null,null,null,null,null,null,null,null,null,null,null,null,null,null,null,null,null,null,null,null,null,null,null,null,null,null,null,null,null,null,null,null,null,null,null,null,null,null,null,null,null,null,0]
[null,null,null,null,null,null,null,null,null,null,null,null,null,null,null,null,null,null,null,null,null,null,null,null,null,null,null,null,null,null,null,null,null,null,null,null,null,null,null,null,null,null,null,null,null,null,null,null,null,null,null,null,null,null,null,null,null,null,null,null,null,null,0]
[null,null,null,null,null,null,null,null,null,null,null,null,null,null,null,null,null,null,null,null,null,null,null,null,null,null,null,null,null,null,null,null,null,null,null,null,null,null,null,null,null,null,null,null,null,null,null,null,null,null,null,null,null,null,null,null,null,null,null,null,null,null,0]
[null,null,null,null,null,null,null,null,null,null,null,null,null,null,null,null,null,null,null,null,null,null,null,null,null,null,null,null,null,null,null,null,null,null,null,null,null,null,null,null,null,null,null,null,null,null,null,null,null,null,null,null,null,null,null,null,null,null,null,null,null,null,0]
[null,null,null,null,null,null,null,null,null,null,null,null,null,null,null,null,null,null,null,null,null,null,null,null,null,null,null,null,null,null,null,null,null,null,null,null,null,null,null,null,null,null,null,null,null,null,null,null,null,null,null,null,null,null,null,null,null,null,null,null,null,null,0]
[null,null,null,null,null,null,null,null,null,null,null,null,null,null,null,null,null,null,null,null,null,null,null,null,null,null,null,null,null,null,null,null,null,null,null,null,null,null,null,null,null,null,null,null,null,null,null,null,null,null,null,null,null,null,null,null,null,null,null,null,null,null,0]
[null,null,null,null,null,null,null,null,null,null,null,null,null,null,null,null,null,null,null,null,null,null,null,null,null,null,null,null,null,null,null,null,null,null,null,null,null,null,null,null,null,null,null,null,null,null,null,null,null,null,null,null,null,null,null,null,null,null,null,null,null,null,0]
[null,null,null,null,null,null,null,null,null,null,null,null,null,null,null,null,null,null,null,null,null,null,null,null,null,null,null,null,null,null,null,null,null,null,null,null,null,null,null,null,null,null,null,null,null,null,null,null,null,null,null,null,null,null,null,null,null,null,null,null,null,null,0]
[null,null,null,null,null,null,null,null,null,null,null,null,null,null,null,null,null,null,null,null,null,null,null,null,null,null,null,null,null,null,null,null,null,null,null,null,null,null,null,null,null,null,null,null,null,null,null,null,null,null,null,null,null,null,null,null,null,null,null,null,null,null,0]
[null,null,null,null,null,null,null,null,null,null,null,null,null,null,null,null,null,null,null,null,null,null,null,null,null,null,null,null,null,null,null,null,null,null,null,null,null,null,null,null,null,null,null,null,null,null,null,null,null,null,null,null,null,null,null,null,null,null,null,null,null,null,0]
[null,null,null,null,null,null,null,null,null,null,null,null,null,null,null,null,null,null,null,null,null,null,null,null,null,null,null,null,null,null,null,null,null,null,null,null,null,null,null,null,null,null,null,null,null,null,null,null,null,null,null,null,null,null,null,null,null,null,null,null,null,null,0]
[null,null,null,null,null,null,null,null,null,null,null,null,null,null,null,null,null,null,null,null,null,null,null,null,null,null,null,null,null,null,null,null,null,null,null,null,null,null,null,null,null,null,null,null,null,null,null,null,null,null,null,null,null,null,null,null,null,null,null,null,null,null,0]
[null,null,null,null,null,null,null,null,null,null,null,null,null,null,null,null,null,null,null,null,null,null,null,null,null,null,null,null,null,null,null,null,null,null,null,null,null,null,null,null,null,null,null,null,null,null,null,null,null,null,null,null,null,null,null,null,null,null,null,null,null,null,0]
[null,null,null,null,null,null,null,null,null,null,null,null,null,null,null,null,null,null,null,null,null,null,null,null,null,null,null,null,null,null,null,null,null,null,null,null,null,null,null,null,null,null,null,null,null,null,null,null,null,null,null,null,null,null,null,null,null,null,null,null,null,null,0]
[null,null,null,null,null,null,null,null,null,null,null,null,null,null,null,null,null,null,null,null,null,null,null,null,null,null,null,null,null,null,null,null,null,null,null,null,null,null,null,null,null,null,null,null,null,null,null,null,null,null,null,null,null,null,null,null,null,null,null,null,null,null,0]
["TOTALS",null,{"$f":"SUM(C14:C514)","v":0},0,0,0,0,0,0,0,0,0,0,0,0,0,0,0,0,0,0,0,0,0,0,0,0,0,0,0,0,0,0,0,0,0,0,0,0,0,0,0,0,0,0,0,0,0,0,0,0,0,0,0,0,0,0,0,0,0,0,0,{"$f":"SUM(BK14:BK514)","v":0}]

{"sheet":"REPORT1","index":14,"n_rows":70,"n_cols":8,"rows_kept":70,"cut":false,"hidden":false,"merged":[[69,5,69,7],[2,3,2,7],[3,3,3,4],[3,5,3,7],[0,0,0,7],[1,0,1,7],[2,0,4,0],[2,1,4,1],[2,2,4,2]]}
[{"$f":"\"ONAM VEGETABLE MARKET\"&\" KRISHI BHAVAN  \" &REGISTRATION!F13","v":"ONAM VEGETABLE MARKET KRISHI BHAVAN  "}]
["Purchase Cum Sales Report DAY 1"]
["Code","Item","Short code","DAY1"]
[null,null,null,"Purchase",null,"SALES"]
[null,null,null,"QTY Kg","Amount Rs.","QTY Kg","Sale Price","Amount Rs."]
[1,{"$f":"'Sale Price'!C5","v":"Nendran"},{"$f":"'Sale Price'!D5","v":"Nendrn"},{"$f":"VLOOKUP($A6,PURCH1!$B$3:$N$64,12)","v":0},{"$f":"VLOOKUP($A6,PURCH1!$B$3:$N$64,13)","v":0},{"$f":"HLOOKUP($A6,'Day1'!$C$4:$BJ$8,5)","v":0},{"$f":"VLOOKUP($A6,'Sale Price'!$B$3:$E$64,4)","v":0},{"$f":"F6*G6","v":0}]
[2,{"$f":"'Sale Price'!C6","v":"Banana Green"},{"$f":"'Sale Price'!D6","v":"Ban G"},{"$f":"VLOOKUP($A7,PURCH1!$B$3:$N$64,12)","v":0},{"$f":"VLOOKUP($A7,PURCH1!$B$3:$N$64,13)","v":0},{"$f":"HLOOKUP($A7,'Day1'!$C$4:$BJ$8,5)","v":0},{"$f":"VLOOKUP($A7,'Sale Price'!$B$3:$E$64,4)","v":0},{"$f":"F7*G7","v":0}]
[3,{"$f":"'Sale Price'!C7","v":"Palayanthodan"},{"$f":"'Sale Price'!D7","v":"Palaya"},{"$f":"VLOOKUP($A8,PURCH1!$B$3:$N$64,12)","v":0},{"$f":"VLOOKUP($A8,PURCH1!$B$3:$N$64,13)","v":0},{"$f":"HLOOKUP($A8,'Day1'!$C$4:$BJ$8,5)","v":0},{"$f":"VLOOKUP($A8,'Sale Price'!$B$3:$E$64,4)","v":0},0]
[4,{"$f":"'Sale Price'!C8","v":"Poovan"},{"$f":"'Sale Price'!D8","v":"Puvan"},{"$f":"VLOOKUP($A9,PURCH1!$B$3:$N$64,12)","v":0},{"$f":"VLOOKUP($A9,PURCH1!$B$3:$N$64,13)","v":0},{"$f":"HLOOKUP($A9,'Day1'!$C$4:$BJ$8,5)","v":0},{"$f":"VLOOKUP($A9,'Sale Price'!$B$3:$E$64,4)","v":0},0]
[5,{"$f":"'Sale Price'!C9","v":"Rasakadali"},{"$f":"'Sale Price'!D9","v":"RasaK"},{"$f":"VLOOKUP($A10,PURCH1!$B$3:$N$64,12)","v":0},{"$f":"VLOOKUP($A10,PURCH1!$B$3:$N$64,13)","v":0},{"$f":"HLOOKUP($A10,'Day1'!$C$4:$BJ$8,5)","v":0},{"$f":"VLOOKUP($A10,'Sale Price'!$B$3:$E$64,4)","v":0},0]
[6,{"$f":"'Sale Price'!C10","v":"Red banana"},{"$f":"'Sale Price'!D10","v":"RedB"},{"$f":"VLOOKUP($A11,PURCH1!$B$3:$N$64,12)","v":0},{"$f":"VLOOKUP($A11,PURCH1!$B$3:$N$64,13)","v":0},{"$f":"HLOOKUP($A11,'Day1'!$C$4:$BJ$8,5)","v":0},{"$f":"VLOOKUP($A11,'Sale Price'!$B$3:$E$64,4)","v":0},0]
[7,{"$f":"'Sale Price'!C11","v":"Robusta"},{"$f":"'Sale Price'!D11","v":"Robst"},{"$f":"VLOOKUP($A12,PURCH1!$B$3:$N$64,12)","v":0},{"$f":"VLOOKUP($A12,PURCH1!$B$3:$N$64,13)","v":0},{"$f":"HLOOKUP($A12,'Day1'!$C$4:$BJ$8,5)","v":0},{"$f":"VLOOKUP($A12,'Sale Price'!$B$3:$E$64,4)","v":0},0]
[8,{"$f":"'Sale Price'!C12","v":"Peyan/Monthan"},{"$f":"'Sale Price'!D12","v":"Peyn"},{"$f":"VLOOKUP($A13,PURCH1!$B$3:$N$64,12)","v":0},{"$f":"VLOOKUP($A13,PURCH1!$B$3:$N$64,13)","v":0},{"$f":"HLOOKUP($A13,'Day1'!$C$4:$BJ$8,5)","v":0},{"$f":"VLOOKUP($A13,'Sale Price'!$B$3:$E$64,4)","v":0},0]
[9,{"$f":"'Sale Price'!C13","v":"Amorphophallus"},{"$f":"'Sale Price'!D13","v":"Chena"},{"$f":"VLOOKUP($A14,PURCH1!$B$3:$N$64,12)","v":0},{"$f":"VLOOKUP($A14,PURCH1!$B$3:$N$64,13)","v":0},{"$f":"HLOOKUP($A14,'Day1'!$C$4:$BJ$8,5)","v":0},{"$f":"VLOOKUP($A14,'Sale Price'!$B$3:$E$64,4)","v":0},0]
[10,{"$f":"'Sale Price'!C14","v":"Beans"},{"$f":"'Sale Price'!D14","v":"Beans"},{"$f":"VLOOKUP($A15,PURCH1!$B$3:$N$64,12)","v":0},{"$f":"VLOOKUP($A15,PURCH1!$B$3:$N$64,13)","v":0},{"$f":"HLOOKUP($A15,'Day1'!$C$4:$BJ$8,5)","v":0},{"$f":"VLOOKUP($A15,'Sale Price'!$B$3:$E$64,4)","v":0},0]
[11,{"$f":"'Sale Price'!C15","v":"Cluster beans"},{"$f":"'Sale Price'!D15","v":"Amara"},{"$f":"VLOOKUP($A16,PURCH1!$B$3:$N$64,12)","v":0},{"$f":"VLOOKUP($A16,PURCH1!$B$3:$N$64,13)","v":0},{"$f":"HLOOKUP($A16,'Day1'!$C$4:$BJ$8,5)","v":0},{"$f":"VLOOKUP($A16,'Sale Price'!$B$3:$E$64,4)","v":0},0]
[12,{"$f":"'Sale Price'!C16","v":"Carrot"},{"$f":"'Sale Price'!D16","v":"Carot"},{"$f":"VLOOKUP($A17,PURCH1!$B$3:$N$64,12)","v":0},{"$f":"VLOOKUP($A17,PURCH1!$B$3:$N$64,13)","v":0},{"$f":"HLOOKUP($A17,'Day1'!$C$4:$BJ$8,5)","v":0},{"$f":"VLOOKUP($A17,'Sale Price'!$B$3:$E$64,4)","v":0},0]
[13,{"$f":"'Sale Price'!C17","v":"Beetroot"},{"$f":"'Sale Price'!D17","v":"BeetR"},{"$f":"VLOOKUP($A18,PURCH1!$B$3:$N$64,12)","v":0},{"$f":"VLOOKUP($A18,PURCH1!$B$3:$N$64,13)","v":0},{"$f":"HLOOKUP($A18,'Day1'!$C$4:$BJ$8,5)","v":0},{"$f":"VLOOKUP($A18,'Sale Price'!$B$3:$E$64,4)","v":0},0]
[14,{"$f":"'Sale Price'!C18","v":"Cabbage"},{"$f":"'Sale Price'!D18","v":"Cabag"},{"$f":"VLOOKUP($A19,PURCH1!$B$3:$N$64,12)","v":0},{"$f":"VLOOKUP($A19,PURCH1!$B$3:$N$64,13)","v":0},{"$f":"HLOOKUP($A19,'Day1'!$C$4:$BJ$8,5)","v":0},{"$f":"VLOOKUP($A19,'Sale Price'!$B$3:$E$64,4)","v":0},0]
[15,{"$f":"'Sale Price'!C19","v":"Cauliflower"},{"$f":"'Sale Price'!D19","v":"CauliF"},{"$f":"VLOOKUP($A20,PURCH1!$B$3:$N$64,12)","v":0},{"$f":"VLOOKUP($A20,PURCH1!$B$3:$N$64,13)","v":0},{"$f":"HLOOKUP($A20,'Day1'!$C$4:$BJ$8,5)","v":0},{"$f":"VLOOKUP($A20,'Sale Price'!$B$3:$E$64,4)","v":0},0]
[16,{"$f":"'Sale Price'!C20","v":"Capsicum"},{"$f":"'Sale Price'!D20","v":"Capsic"},{"$f":"VLOOKUP($A21,PURCH1!$B$3:$N$64,12)","v":0},{"$f":"VLOOKUP($A21,PURCH1!$B$3:$N$64,13)","v":0},{"$f":"HLOOKUP($A21,'Day1'!$C$4:$BJ$8,5)","v":0},{"$f":"VLOOKUP($A21,'Sale Price'!$B$3:$E$64,4)","v":0},0]
[17,{"$f":"'Sale Price'!C21","v":"Tomato"},{"$f":"'Sale Price'!D21","v":"Tomat"},{"$f":"VLOOKUP($A22,PURCH1!$B$3:$N$64,12)","v":0},{"$f":"VLOOKUP($A22,PURCH1!$B$3:$N$64,13)","v":0},{"$f":"HLOOKUP($A22,'Day1'!$C$4:$BJ$8,5)","v":0},{"$f":"VLOOKUP($A22,'Sale Price'!$B$3:$E$64,4)","v":0},0]
[18,{"$f":"'Sale Price'!C22","v":"Green chillies "},{"$f":"'Sale Price'!D22","v":"ChillS"},{"$f":"VLOOKUP($A23,PURCH1!$B$3:$N$64,12)","v":0},{"$f":"VLOOKUP($A23,PURCH1!$B$3:$N$64,13)","v":0},{"$f":"HLOOKUP($A23,'Day1'!$C$4:$BJ$8,5)","v":0},{"$f":"VLOOKUP($A23,'Sale Price'!$B$3:$E$64,4)","v":0},0]
[19,{"$f":"'Sale Price'!C23","v":"Sambar Mulaku"},{"$f":"'Sale Price'!D23","v":"ChillB"},{"$f":"VLOOKUP($A24,PURCH1!$B$3:$N$64,12)","v":0},{"$f":"VLOOKUP($A24,PURCH1!$B$3:$N$64,13)","v":0},{"$f":"HLOOKUP($A24,'Day1'!$C$4:$BJ$8,5)","v":0},{"$f":"VLOOKUP($A24,'Sale Price'!$B$3:$E$64,4)","v":0},0]
[20,{"$f":"'Sale Price'!C24","v":"Bitter gourd"},{"$f":"'Sale Price'!D24","v":"BittrG"},{"$f":"VLOOKUP($A25,PURCH1!$B$3:$N$64,12)","v":0},{"$f":"VLOOKUP($A25,PURCH1!$B$3:$N$64,13)","v":0},{"$f":"HLOOKUP($A25,'Day1'!$C$4:$BJ$8,5)","v":0},{"$f":"VLOOKUP($A25,'Sale Price'!$B$3:$E$64,4)","v":0},0]
[21,{"$f":"'Sale Price'!C25","v":"Bottle gourd"},{"$f":"'Sale Price'!D25","v":"BottG"},{"$f":"VLOOKUP($A26,PURCH1!$B$3:$N$64,12)","v":0},{"$f":"VLOOKUP($A26,PURCH1!$B$3:$N$64,13)","v":0},{"$f":"HLOOKUP($A26,'Day1'!$C$4:$BJ$8,5)","v":0},{"$f":"VLOOKUP($A26,'Sale Price'!$B$3:$E$64,4)","v":0},0]
[22,{"$f":"'Sale Price'!C26","v":"Snakegourd"},{"$f":"'Sale Price'!D26","v":"SnakG"},{"$f":"VLOOKUP($A27,PURCH1!$B$3:$N$64,12)","v":0},{"$f":"VLOOKUP($A27,PURCH1!$B$3:$N$64,13)","v":0},{"$f":"HLOOKUP($A27,'Day1'!$C$4:$BJ$8,5)","v":0},{"$f":"VLOOKUP($A27,'Sale Price'!$B$3:$E$64,4)","v":0},0]
[23,{"$f":"'Sale Price'!C27","v":"Brinjal kathiri"},{"$f":"'Sale Price'!D27","v":"BrinjR"},{"$f":"VLOOKUP($A28,PURCH1!$B$3:$N$64,12)","v":0},{"$f":"VLOOKUP($A28,PURCH1!$B$3:$N$64,13)","v":0},{"$f":"HLOOKUP($A28,'Day1'!$C$4:$BJ$8,5)","v":0},{"$f":"VLOOKUP($A28,'Sale Price'!$B$3:$E$64,4)","v":0},0]
[24,{"$f":"'Sale Price'!C28","v":"Brinjal Vazhuthana"},{"$f":"'Sale Price'!D28","v":"Vazhut"},{"$f":"VLOOKUP($A29,PURCH1!$B$3:$N$64,12)","v":0},{"$f":"VLOOKUP($A29,PURCH1!$B$3:$N$64,13)","v":0},{"$f":"HLOOKUP($A29,'Day1'!$C$4:$BJ$8,5)","v":0},{"$f":"VLOOKUP($A29,'Sale Price'!$B$3:$E$64,4)","v":0},0]
[25,{"$f":"'Sale Price'!C29","v":"Pumpkin"},{"$f":"'Sale Price'!D29","v":"Pumpk"},{"$f":"VLOOKUP($A30,PURCH1!$B$3:$N$64,12)","v":0},{"$f":"VLOOKUP($A30,PURCH1!$B$3:$N$64,13)","v":0},{"$f":"HLOOKUP($A30,'Day1'!$C$4:$BJ$8,5)","v":0},{"$f":"VLOOKUP($A30,'Sale Price'!$B$3:$E$64,4)","v":0},0]
[26,{"$f":"'Sale Price'!C30","v":"Onion Big"},{"$f":"'Sale Price'!D30","v":"Savala"},{"$f":"VLOOKUP($A31,PURCH1!$B$3:$N$64,12)","v":0},{"$f":"VLOOKUP($A31,PURCH1!$B$3:$N$64,13)","v":0},{"$f":"HLOOKUP($A31,'Day1'!$C$4:$BJ$8,5)","v":0},{"$f":"VLOOKUP($A31,'Sale Price'!$B$3:$E$64,4)","v":0},0]
[27,{"$f":"'Sale Price'!C31","v":"Onion Small"},{"$f":"'Sale Price'!D31","v":"Ulli"},{"$f":"VLOOKUP($A32,PURCH1!$B$3:$N$64,12)","v":0},{"$f":"VLOOKUP($A32,PURCH1!$B$3:$N$64,13)","v":0},{"$f":"HLOOKUP($A32,'Day1'!$C$4:$BJ$8,5)","v":0},{"$f":"VLOOKUP($A32,'Sale Price'!$B$3:$E$64,4)","v":0},0]
[28,{"$f":"'Sale Price'!C32","v":"Garlic"},{"$f":"'Sale Price'!D32","v":"Garlc"},{"$f":"VLOOKUP($A33,PURCH1!$B$3:$N$64,12)","v":0},{"$f":"VLOOKUP($A33,PURCH1!$B$3:$N$64,13)","v":0},{"$f":"HLOOKUP($A33,'Day1'!$C$4:$BJ$8,5)","v":0},{"$f":"VLOOKUP($A33,'Sale Price'!$B$3:$E$64,4)","v":0},0]
[29,{"$f":"'Sale Price'!C33","v":"Ginger"},{"$f":"'Sale Price'!D33","v":"Ginger"},{"$f":"VLOOKUP($A34,PURCH1!$B$3:$N$64,12)","v":0},{"$f":"VLOOKUP($A34,PURCH1!$B$3:$N$64,13)","v":0},{"$f":"HLOOKUP($A34,'Day1'!$C$4:$BJ$8,5)","v":0},{"$f":"VLOOKUP($A34,'Sale Price'!$B$3:$E$64,4)","v":0},0]
[30,{"$f":"'Sale Price'!C34","v":"Cucumber"},{"$f":"'Sale Price'!D34","v":"Cucum"},{"$f":"VLOOKUP($A35,PURCH1!$B$3:$N$64,12)","v":0},{"$f":"VLOOKUP($A35,PURCH1!$B$3:$N$64,13)","v":0},{"$f":"HLOOKUP($A35,'Day1'!$C$4:$BJ$8,5)","v":0},{"$f":"VLOOKUP($A35,'Sale Price'!$B$3:$E$64,4)","v":0},0]
[31,{"$f":"'Sale Price'!C35","v":"Colocaisa"},{"$f":"'Sale Price'!D35","v":"Chemb"},{"$f":"VLOOKUP($A36,PURCH1!$B$3:$N$64,12)","v":0},{"$f":"VLOOKUP($A36,PURCH1!$B$3:$N$64,13)","v":0},{"$f":"HLOOKUP($A36,'Day1'!$C$4:$BJ$8,5)","v":0},{"$f":"VLOOKUP($A36,'Sale Price'!$B$3:$E$64,4)","v":0},0]
[32,{"$f":"'Sale Price'!C36","v":"Cowpea"},{"$f":"'Sale Price'!D36","v":"Cowp"},{"$f":"VLOOKUP($A37,PURCH1!$B$3:$N$64,12)","v":0},{"$f":"VLOOKUP($A37,PURCH1!$B$3:$N$64,13)","v":0},{"$f":"HLOOKUP($A37,'Day1'!$C$4:$BJ$8,5)","v":0},{"$f":"VLOOKUP($A37,'Sale Price'!$B$3:$E$64,4)","v":0},0]
[33,{"$f":"'Sale Price'!C37","v":"Ashgourd/Thadiyan"},{"$f":"'Sale Price'!D37","v":"AshG"},{"$f":"VLOOKUP($A38,PURCH1!$B$3:$N$64,12)","v":0},{"$f":"VLOOKUP($A38,PURCH1!$B$3:$N$64,13)","v":0},{"$f":"HLOOKUP($A38,'Day1'!$C$4:$BJ$8,5)","v":0},{"$f":"VLOOKUP($A38,'Sale Price'!$B$3:$E$64,4)","v":0},0]
[34,{"$f":"'Sale Price'!C38","v":"Ladies finger"},{"$f":"'Sale Price'!D38","v":"Venda"},{"$f":"VLOOKUP($A39,PURCH1!$B$3:$N$64,12)","v":0},{"$f":"VLOOKUP($A39,PURCH1!$B$3:$N$64,13)","v":0},{"$f":"HLOOKUP($A39,'Day1'!$C$4:$BJ$8,5)","v":0},{"$f":"VLOOKUP($A39,'Sale Price'!$B$3:$E$64,4)","v":0},0]
[35,{"$f":"'Sale Price'!C39","v":"Drumstick"},{"$f":"'Sale Price'!D39","v":"Drumst"},{"$f":"VLOOKUP($A40,PURCH1!$B$3:$N$64,12)","v":0},{"$f":"VLOOKUP($A40,PURCH1!$B$3:$N$64,13)","v":0},{"$f":"HLOOKUP($A40,'Day1'!$C$4:$BJ$8,5)","v":0},{"$f":"VLOOKUP($A40,'Sale Price'!$B$3:$E$64,4)","v":0},0]
[36,{"$f":"'Sale Price'!C40","v":"Koval"},{"$f":"'Sale Price'!D40","v":"Koval"},{"$f":"VLOOKUP($A41,PURCH1!$B$3:$N$64,12)","v":0},{"$f":"VLOOKUP($A41,PURCH1!$B$3:$N$64,13)","v":0},{"$f":"HLOOKUP($A41,'Day1'!$C$4:$BJ$8,5)","v":0},{"$f":"VLOOKUP($A41,'Sale Price'!$B$3:$E$64,4)","v":0},0]
[37,{"$f":"'Sale Price'!C41","v":"CurryLeaf"},{"$f":"'Sale Price'!D41","v":"CryLef"},{"$f":"VLOOKUP($A42,PURCH1!$B$3:$N$64,12)","v":0},{"$f":"VLOOKUP($A42,PURCH1!$B$3:$N$64,13)","v":0},{"$f":"HLOOKUP($A42,'Day1'!$C$4:$BJ$8,5)","v":0},{"$f":"VLOOKUP($A42,'Sale Price'!$B$3:$E$64,4)","v":0},0]
[38,{"$f":"'Sale Price'!C42","v":"MintLeaf"},{"$f":"'Sale Price'!D42","v":"MntLf"},{"$f":"VLOOKUP($A43,PURCH1!$B$3:$N$64,12)","v":0},{"$f":"VLOOKUP($A43,PURCH1!$B$3:$N$64,13)","v":0},{"$f":"HLOOKUP($A43,'Day1'!$C$4:$BJ$8,5)","v":0},{"$f":"VLOOKUP($A43,'Sale Price'!$B$3:$E$64,4)","v":0},0]
[39,{"$f":"'Sale Price'!C43","v":"Coriander Leaf"},{"$f":"'Sale Price'!D43","v":"CorLf"},{"$f":"VLOOKUP($A44,PURCH1!$B$3:$N$64,12)","v":0},{"$f":"VLOOKUP($A44,PURCH1!$B$3:$N$64,13)","v":0},{"$f":"HLOOKUP($A44,'Day1'!$C$4:$BJ$8,5)","v":0},{"$f":"VLOOKUP($A44,'Sale Price'!$B$3:$E$64,4)","v":0},0]
[40,{"$f":"'Sale Price'!C44","v":"Amaranthus"},{"$f":"'Sale Price'!D44","v":"Cheera"},{"$f":"VLOOKUP($A45,PURCH1!$B$3:$N$64,12)","v":0},{"$f":"VLOOKUP($A45,PURCH1!$B$3:$N$64,13)","v":0},{"$f":"HLOOKUP($A45,'Day1'!$C$4:$BJ$8,5)","v":0},{"$f":"VLOOKUP($A45,'Sale Price'!$B$3:$E$64,4)","v":0},0]
[41,{"$f":"'Sale Price'!C45","v":"Lemon Big"},{"$f":"'Sale Price'!D45","v":"LemnB"},{"$f":"VLOOKUP($A46,PURCH1!$B$3:$N$64,12)","v":0},{"$f":"VLOOKUP($A46,PURCH1!$B$3:$N$64,13)","v":0},{"$f":"HLOOKUP($A46,'Day1'!$C$4:$BJ$8,5)","v":0},{"$f":"VLOOKUP($A46,'Sale Price'!$B$3:$E$64,4)","v":0},0]
[42,{"$f":"'Sale Price'!C46","v":"Lemon small"},{"$f":"'Sale Price'!D46","v":"LemnS"},{"$f":"VLOOKUP($A47,PURCH1!$B$3:$N$64,12)","v":0},{"$f":"VLOOKUP($A47,PURCH1!$B$3:$N$64,13)","v":0},{"$f":"HLOOKUP($A47,'Day1'!$C$4:$BJ$8,5)","v":0},{"$f":"VLOOKUP($A47,'Sale Price'!$B$3:$E$64,4)","v":0},0]
[43,{"$f":"'Sale Price'!C47","v":"Mango"},{"$f":"'Sale Price'!D47","v":"Mango"},{"$f":"VLOOKUP($A48,PURCH1!$B$3:$N$64,12)","v":0},{"$f":"VLOOKUP($A48,PURCH1!$B$3:$N$64,13)","v":0},{"$f":"HLOOKUP($A48,'Day1'!$C$4:$BJ$8,5)","v":0},{"$f":"VLOOKUP($A48,'Sale Price'!$B$3:$E$64,4)","v":0},0]
[44,{"$f":"'Sale Price'!C48","v":"Pineapple"},{"$f":"'Sale Price'!D48","v":"PineA"},{"$f":"VLOOKUP($A49,PURCH1!$B$3:$N$64,12)","v":0},{"$f":"VLOOKUP($A49,PURCH1!$B$3:$N$64,13)","v":0},{"$f":"HLOOKUP($A49,'Day1'!$C$4:$BJ$8,5)","v":0},{"$f":"VLOOKUP($A49,'Sale Price'!$B$3:$E$64,4)","v":0},0]
[45,{"$f":"'Sale Price'!C49","v":"Potato"},{"$f":"'Sale Price'!D49","v":"Potat"},{"$f":"VLOOKUP($A50,PURCH1!$B$3:$N$64,12)","v":0},{"$f":"VLOOKUP($A50,PURCH1!$B$3:$N$64,13)","v":0},{"$f":"HLOOKUP($A50,'Day1'!$C$4:$BJ$8,5)","v":0},{"$f":"VLOOKUP($A50,'Sale Price'!$B$3:$E$64,4)","v":0},0]
[46,{"$f":"'Sale Price'!C50","v":"Amla"},{"$f":"'Sale Price'!D50","v":"Amla"},{"$f":"VLOOKUP($A51,PURCH1!$B$3:$N$64,12)","v":0},{"$f":"VLOOKUP($A51,PURCH1!$B$3:$N$64,13)","v":0},{"$f":"HLOOKUP($A51,'Day1'!$C$4:$BJ$8,5)","v":0},{"$f":"VLOOKUP($A51,'Sale Price'!$B$3:$E$64,4)","v":0},0]
[47,{"$f":"'Sale Price'!C51","v":"Tapioca"},{"$f":"'Sale Price'!D51","v":"Tap"},{"$f":"VLOOKUP($A52,PURCH1!$B$3:$N$64,12)","v":0},{"$f":"VLOOKUP($A52,PURCH1!$B$3:$N$64,13)","v":0},{"$f":"HLOOKUP($A52,'Day1'!$C$4:$BJ$8,5)","v":0},{"$f":"VLOOKUP($A52,'Sale Price'!$B$3:$E$64,4)","v":0},0]
[48,{"$f":"'Sale Price'!C52","v":0},{"$f":"'Sale Price'!D52","v":0},{"$f":"VLOOKUP($A53,PURCH1!$B$3:$N$64,12)","v":0},{"$f":"VLOOKUP($A53,PURCH1!$B$3:$N$64,13)","v":0},{"$f":"HLOOKUP($A53,'Day1'!$C$4:$BJ$8,5)","v":0},{"$f":"VLOOKUP($A53,'Sale Price'!$B$3:$E$64,4)","v":0},0]
[49,{"$f":"'Sale Price'!C53","v":0},{"$f":"'Sale Price'!D53","v":0},{"$f":"VLOOKUP($A54,PURCH1!$B$3:$N$64,12)","v":0},{"$f":"VLOOKUP($A54,PURCH1!$B$3:$N$64,13)","v":0},{"$f":"HLOOKUP($A54,'Day1'!$C$4:$BJ$8,5)","v":0},{"$f":"VLOOKUP($A54,'Sale Price'!$B$3:$E$64,4)","v":0},0]
[50,{"$f":"'Sale Price'!C54","v":0},{"$f":"'Sale Price'!D54","v":0},{"$f":"VLOOKUP($A55,PURCH1!$B$3:$N$64,12)","v":0},{"$f":"VLOOKUP($A55,PURCH1!$B$3:$N$64,13)","v":0},{"$f":"HLOOKUP($A55,'Day1'!$C$4:$BJ$8,5)","v":0},{"$f":"VLOOKUP($A55,'Sale Price'!$B$3:$E$64,4)","v":0},0]
[51,{"$f":"'Sale Price'!C55","v":0},{"$f":"'Sale Price'!D55","v":0},{"$f":"VLOOKUP($A56,PURCH1!$B$3:$N$64,12)","v":0},{"$f":"VLOOKUP($A56,PURCH1!$B$3:$N$64,13)","v":0},{"$f":"HLOOKUP($A56,'Day1'!$C$4:$BJ$8,5)","v":0},{"$f":"VLOOKUP($A56,'Sale Price'!$B$3:$E$64,4)","v":0},0]
[52,{"$f":"'Sale Price'!C56","v":0},{"$f":"'Sale Price'!D56","v":0},{"$f":"VLOOKUP($A57,PURCH1!$B$3:$N$64,12)","v":0},{"$f":"VLOOKUP($A57,PURCH1!$B$3:$N$64,13)","v":0},{"$f":"HLOOKUP($A57,'Day1'!$C$4:$BJ$8,5)","v":0},{"$f":"VLOOKUP($A57,'Sale Price'!$B$3:$E$64,4)","v":0},0]
[53,{"$f":"'Sale Price'!C57","v":0},{"$f":"'Sale Price'!D57","v":0},{"$f":"VLOOKUP($A58,PURCH1!$B$3:$N$64,12)","v":0},{"$f":"VLOOKUP($A58,PURCH1!$B$3:$N$64,13)","v":0},{"$f":"HLOOKUP($A58,'Day1'!$C$4:$BJ$8,5)","v":0},{"$f":"VLOOKUP($A58,'Sale Price'!$B$3:$E$64,4)","v":0},0]
[54,{"$f":"'Sale Price'!C58","v":0},{"$f":"'Sale Price'!D58","v":0},{"$f":"VLOOKUP($A59,PURCH1!$B$3:$N$64,12)","v":0},{"$f":"VLOOKUP($A59,PURCH1!$B$3:$N$64,13)","v":0},{"$f":"HLOOKUP($A59,'Day1'!$C$4:$BJ$8,5)","v":0},{"$f":"VLOOKUP($A59,'Sale Price'!$B$3:$E$64,4)","v":0},0]
[55,{"$f":"'Sale Price'!C59","v":0},{"$f":"'Sale Price'!D59","v":0},{"$f":"VLOOKUP($A60,PURCH1!$B$3:$N$64,12)","v":0},{"$f":"VLOOKUP($A60,PURCH1!$B$3:$N$64,13)","v":0},{"$f":"HLOOKUP($A60,'Day1'!$C$4:$BJ$8,5)","v":0},{"$f":"VLOOKUP($A60,'Sale Price'!$B$3:$E$64,4)","v":0},0]
[56,{"$f":"'Sale Price'!C60","v":0},{"$f":"'Sale Price'!D60","v":0},{"$f":"VLOOKUP($A61,PURCH1!$B$3:$N$64,12)","v":0},{"$f":"VLOOKUP($A61,PURCH1!$B$3:$N$64,13)","v":0},{"$f":"HLOOKUP($A61,'Day1'!$C$4:$BJ$8,5)","v":0},{"$f":"VLOOKUP($A61,'Sale Price'!$B$3:$E$64,4)","v":0},0]
[57,{"$f":"'Sale Price'!C61","v":0},{"$f":"'Sale Price'!D61","v":0},{"$f":"VLOOKUP($A62,PURCH1!$B$3:$N$64,12)","v":0},{"$f":"VLOOKUP($A62,PURCH1!$B$3:$N$64,13)","v":0},{"$f":"HLOOKUP($A62,'Day1'!$C$4:$BJ$8,5)","v":0},{"$f":"VLOOKUP($A62,'Sale Price'!$B$3:$E$64,4)","v":0},0]
[58,{"$f":"'Sale Price'!C62","v":0},{"$f":"'Sale Price'!D62","v":0},{"$f":"VLOOKUP($A63,PURCH1!$B$3:$N$64,12)","v":0},{"$f":"VLOOKUP($A63,PURCH1!$B$3:$N$64,13)","v":0},{"$f":"HLOOKUP($A63,'Day1'!$C$4:$BJ$8,5)","v":0},{"$f":"VLOOKUP($A63,'Sale Price'!$B$3:$E$64,4)","v":0},0]
[59,{"$f":"'Sale Price'!C63","v":0},{"$f":"'Sale Price'!D63","v":0},{"$f":"VLOOKUP($A64,PURCH1!$B$3:$N$64,12)","v":0},{"$f":"VLOOKUP($A64,PURCH1!$B$3:$N$64,13)","v":0},{"$f":"HLOOKUP($A64,'Day1'!$C$4:$BJ$8,5)","v":0},{"$f":"VLOOKUP($A64,'Sale Price'!$B$3:$E$64,4)","v":0},0]
[60,{"$f":"'Sale Price'!C64","v":0},{"$f":"'Sale Price'!D64","v":0},{"$f":"VLOOKUP($A65,PURCH1!$B$3:$N$64,12)","v":0},{"$f":"VLOOKUP($A65,PURCH1!$B$3:$N$64,13)","v":0},{"$f":"HLOOKUP($A65,'Day1'!$C$4:$BJ$8,5)","v":0},{"$f":"VLOOKUP($A65,'Sale Price'!$B$3:$E$64,4)","v":0},0]
["Total",null,null,{"$f":"SUM(D6:D65)","v":0},{"$f":"SUM(E6:E65)","v":0},0,null,0]
[]
[]
[null,null,null,null,null,{"$f":"REGISTRATION!F15","v":0}]
[null,null,null,null,null,{"$f":"REGISTRATION!F18","v":0}]

{"sheet":"REPORT2","index":15,"n_rows":70,"n_cols":8,"rows_kept":70,"cut":false,"hidden":false,"merged":[[69,5,69,7],[0,0,0,7],[1,0,1,7],[2,0,4,0],[2,1,4,1],[2,2,4,2],[2,3,2,7],[3,3,3,4],[3,5,3,7]]}
[{"$f":"\"ONAM VEGETABLE MARKET\"&\" KRISHI BHAVAN  \" &REGISTRATION!F13","v":"ONAM VEGETABLE MARKET KRISHI BHAVAN  "}]
["Purchase Cum Sales Report DAY 2"]
["Code","Item","Short code","DAY2"]
[null,null,null,"Purchase",null,"SALES"]
[null,null,null,"QTY Kg","Amount Rs.","QTY Kg","Sale Price","Amount Rs."]
[1,{"$f":"'Sale Price'!C5","v":"Nendran"},{"$f":"'Sale Price'!D5","v":"Nendrn"},{"$f":"VLOOKUP($A6,PURCH2!$B$4:$N$66,12)","v":0},{"$f":"VLOOKUP($A6,PURCH2!$B$4:$N$66,13)","v":0},{"$f":"HLOOKUP($A6,'Day2'!$C$4:$BJ$8,5)","v":0},{"$f":"VLOOKUP($A6,'Sale Price'!$B$3:$I$64,5)","v":0},{"$f":"F6*G6","v":0}]
[2,{"$f":"'Sale Price'!C6","v":"Banana Green"},{"$f":"'Sale Price'!D6","v":"Ban G"},{"$f":"VLOOKUP($A7,PURCH2!$B$4:$N$66,12)","v":0},{"$f":"VLOOKUP($A7,PURCH2!$B$4:$N$66,13)","v":0},{"$f":"HLOOKUP($A7,'Day2'!$C$4:$BJ$8,5)","v":0},{"$f":"VLOOKUP($A7,'Sale Price'!$B$3:$I$64,5)","v":0},{"$f":"F7*G7","v":0}]
[3,{"$f":"'Sale Price'!C7","v":"Palayanthodan"},{"$f":"'Sale Price'!D7","v":"Palaya"},{"$f":"VLOOKUP($A8,PURCH2!$B$4:$N$66,12)","v":0},{"$f":"VLOOKUP($A8,PURCH2!$B$4:$N$66,13)","v":0},{"$f":"HLOOKUP($A8,'Day2'!$C$4:$BJ$8,5)","v":0},{"$f":"VLOOKUP($A8,'Sale Price'!$B$3:$I$64,5)","v":0},0]
[4,{"$f":"'Sale Price'!C8","v":"Poovan"},{"$f":"'Sale Price'!D8","v":"Puvan"},{"$f":"VLOOKUP($A9,PURCH2!$B$4:$N$66,12)","v":0},{"$f":"VLOOKUP($A9,PURCH2!$B$4:$N$66,13)","v":0},{"$f":"HLOOKUP($A9,'Day2'!$C$4:$BJ$8,5)","v":0},{"$f":"VLOOKUP($A9,'Sale Price'!$B$3:$I$64,5)","v":0},0]
[5,{"$f":"'Sale Price'!C9","v":"Rasakadali"},{"$f":"'Sale Price'!D9","v":"RasaK"},{"$f":"VLOOKUP($A10,PURCH2!$B$4:$N$66,12)","v":0},{"$f":"VLOOKUP($A10,PURCH2!$B$4:$N$66,13)","v":0},{"$f":"HLOOKUP($A10,'Day2'!$C$4:$BJ$8,5)","v":0},{"$f":"VLOOKUP($A10,'Sale Price'!$B$3:$I$64,5)","v":0},0]
[6,{"$f":"'Sale Price'!C10","v":"Red banana"},{"$f":"'Sale Price'!D10","v":"RedB"},{"$f":"VLOOKUP($A11,PURCH2!$B$4:$N$66,12)","v":0},{"$f":"VLOOKUP($A11,PURCH2!$B$4:$N$66,13)","v":0},{"$f":"HLOOKUP($A11,'Day2'!$C$4:$BJ$8,5)","v":0},{"$f":"VLOOKUP($A11,'Sale Price'!$B$3:$I$64,5)","v":0},0]
[7,{"$f":"'Sale Price'!C11","v":"Robusta"},{"$f":"'Sale Price'!D11","v":"Robst"},{"$f":"VLOOKUP($A12,PURCH2!$B$4:$N$66,12)","v":0},{"$f":"VLOOKUP($A12,PURCH2!$B$4:$N$66,13)","v":0},{"$f":"HLOOKUP($A12,'Day2'!$C$4:$BJ$8,5)","v":0},{"$f":"VLOOKUP($A12,'Sale Price'!$B$3:$I$64,5)","v":0},0]
[8,{"$f":"'Sale Price'!C12","v":"Peyan/Monthan"},{"$f":"'Sale Price'!D12","v":"Peyn"},{"$f":"VLOOKUP($A13,PURCH2!$B$4:$N$66,12)","v":0},{"$f":"VLOOKUP($A13,PURCH2!$B$4:$N$66,13)","v":0},{"$f":"HLOOKUP($A13,'Day2'!$C$4:$BJ$8,5)","v":0},{"$f":"VLOOKUP($A13,'Sale Price'!$B$3:$I$64,5)","v":0},0]
[9,{"$f":"'Sale Price'!C13","v":"Amorphophallus"},{"$f":"'Sale Price'!D13","v":"Chena"},{"$f":"VLOOKUP($A14,PURCH2!$B$4:$N$66,12)","v":0},{"$f":"VLOOKUP($A14,PURCH2!$B$4:$N$66,13)","v":0},{"$f":"HLOOKUP($A14,'Day2'!$C$4:$BJ$8,5)","v":0},{"$f":"VLOOKUP($A14,'Sale Price'!$B$3:$I$64,5)","v":0},0]
[10,{"$f":"'Sale Price'!C14","v":"Beans"},{"$f":"'Sale Price'!D14","v":"Beans"},{"$f":"VLOOKUP($A15,PURCH2!$B$4:$N$66,12)","v":0},{"$f":"VLOOKUP($A15,PURCH2!$B$4:$N$66,13)","v":0},{"$f":"HLOOKUP($A15,'Day2'!$C$4:$BJ$8,5)","v":0},{"$f":"VLOOKUP($A15,'Sale Price'!$B$3:$I$64,5)","v":0},0]
[11,{"$f":"'Sale Price'!C15","v":"Cluster beans"},{"$f":"'Sale Price'!D15","v":"Amara"},{"$f":"VLOOKUP($A16,PURCH2!$B$4:$N$66,12)","v":0},{"$f":"VLOOKUP($A16,PURCH2!$B$4:$N$66,13)","v":0},{"$f":"HLOOKUP($A16,'Day2'!$C$4:$BJ$8,5)","v":0},{"$f":"VLOOKUP($A16,'Sale Price'!$B$3:$I$64,5)","v":0},0]
[12,{"$f":"'Sale Price'!C16","v":"Carrot"},{"$f":"'Sale Price'!D16","v":"Carot"},{"$f":"VLOOKUP($A17,PURCH2!$B$4:$N$66,12)","v":0},{"$f":"VLOOKUP($A17,PURCH2!$B$4:$N$66,13)","v":0},{"$f":"HLOOKUP($A17,'Day2'!$C$4:$BJ$8,5)","v":0},{"$f":"VLOOKUP($A17,'Sale Price'!$B$3:$I$64,5)","v":0},0]
[13,{"$f":"'Sale Price'!C17","v":"Beetroot"},{"$f":"'Sale Price'!D17","v":"BeetR"},{"$f":"VLOOKUP($A18,PURCH2!$B$4:$N$66,12)","v":0},{"$f":"VLOOKUP($A18,PURCH2!$B$4:$N$66,13)","v":0},{"$f":"HLOOKUP($A18,'Day2'!$C$4:$BJ$8,5)","v":0},{"$f":"VLOOKUP($A18,'Sale Price'!$B$3:$I$64,5)","v":0},0]
[14,{"$f":"'Sale Price'!C18","v":"Cabbage"},{"$f":"'Sale Price'!D18","v":"Cabag"},{"$f":"VLOOKUP($A19,PURCH2!$B$4:$N$66,12)","v":0},{"$f":"VLOOKUP($A19,PURCH2!$B$4:$N$66,13)","v":0},{"$f":"HLOOKUP($A19,'Day2'!$C$4:$BJ$8,5)","v":0},{"$f":"VLOOKUP($A19,'Sale Price'!$B$3:$I$64,5)","v":0},0]
[15,{"$f":"'Sale Price'!C19","v":"Cauliflower"},{"$f":"'Sale Price'!D19","v":"CauliF"},{"$f":"VLOOKUP($A20,PURCH2!$B$4:$N$66,12)","v":0},{"$f":"VLOOKUP($A20,PURCH2!$B$4:$N$66,13)","v":0},{"$f":"HLOOKUP($A20,'Day2'!$C$4:$BJ$8,5)","v":0},{"$f":"VLOOKUP($A20,'Sale Price'!$B$3:$I$64,5)","v":0},0]
[16,{"$f":"'Sale Price'!C20","v":"Capsicum"},{"$f":"'Sale Price'!D20","v":"Capsic"},{"$f":"VLOOKUP($A21,PURCH2!$B$4:$N$66,12)","v":0},{"$f":"VLOOKUP($A21,PURCH2!$B$4:$N$66,13)","v":0},{"$f":"HLOOKUP($A21,'Day2'!$C$4:$BJ$8,5)","v":0},{"$f":"VLOOKUP($A21,'Sale Price'!$B$3:$I$64,5)","v":0},0]
[17,{"$f":"'Sale Price'!C21","v":"Tomato"},{"$f":"'Sale Price'!D21","v":"Tomat"},{"$f":"VLOOKUP($A22,PURCH2!$B$4:$N$66,12)","v":0},{"$f":"VLOOKUP($A22,PURCH2!$B$4:$N$66,13)","v":0},{"$f":"HLOOKUP($A22,'Day2'!$C$4:$BJ$8,5)","v":0},{"$f":"VLOOKUP($A22,'Sale Price'!$B$3:$I$64,5)","v":0},0]
[18,{"$f":"'Sale Price'!C22","v":"Green chillies "},{"$f":"'Sale Price'!D22","v":"ChillS"},{"$f":"VLOOKUP($A23,PURCH2!$B$4:$N$66,12)","v":0},{"$f":"VLOOKUP($A23,PURCH2!$B$4:$N$66,13)","v":0},{"$f":"HLOOKUP($A23,'Day2'!$C$4:$BJ$8,5)","v":0},{"$f":"VLOOKUP($A23,'Sale Price'!$B$3:$I$64,5)","v":0},0]
[19,{"$f":"'Sale Price'!C23","v":"Sambar Mulaku"},{"$f":"'Sale Price'!D23","v":"ChillB"},{"$f":"VLOOKUP($A24,PURCH2!$B$4:$N$66,12)","v":0},{"$f":"VLOOKUP($A24,PURCH2!$B$4:$N$66,13)","v":0},{"$f":"HLOOKUP($A24,'Day2'!$C$4:$BJ$8,5)","v":0},{"$f":"VLOOKUP($A24,'Sale Price'!$B$3:$I$64,5)","v":0},0]
[20,{"$f":"'Sale Price'!C24","v":"Bitter gourd"},{"$f":"'Sale Price'!D24","v":"BittrG"},{"$f":"VLOOKUP($A25,PURCH2!$B$4:$N$66,12)","v":0},{"$f":"VLOOKUP($A25,PURCH2!$B$4:$N$66,13)","v":0},{"$f":"HLOOKUP($A25,'Day2'!$C$4:$BJ$8,5)","v":0},{"$f":"VLOOKUP($A25,'Sale Price'!$B$3:$I$64,5)","v":0},0]
[21,{"$f":"'Sale Price'!C25","v":"Bottle gourd"},{"$f":"'Sale Price'!D25","v":"BottG"},{"$f":"VLOOKUP($A26,PURCH2!$B$4:$N$66,12)","v":0},{"$f":"VLOOKUP($A26,PURCH2!$B$4:$N$66,13)","v":0},{"$f":"HLOOKUP($A26,'Day2'!$C$4:$BJ$8,5)","v":0},{"$f":"VLOOKUP($A26,'Sale Price'!$B$3:$I$64,5)","v":0},0]
[22,{"$f":"'Sale Price'!C26","v":"Snakegourd"},{"$f":"'Sale Price'!D26","v":"SnakG"},{"$f":"VLOOKUP($A27,PURCH2!$B$4:$N$66,12)","v":0},{"$f":"VLOOKUP($A27,PURCH2!$B$4:$N$66,13)","v":0},{"$f":"HLOOKUP($A27,'Day2'!$C$4:$BJ$8,5)","v":0},{"$f":"VLOOKUP($A27,'Sale Price'!$B$3:$I$64,5)","v":0},0]
[23,{"$f":"'Sale Price'!C27","v":"Brinjal kathiri"},{"$f":"'Sale Price'!D27","v":"BrinjR"},{"$f":"VLOOKUP($A28,PURCH2!$B$4:$N$66,12)","v":0},{"$f":"VLOOKUP($A28,PURCH2!$B$4:$N$66,13)","v":0},{"$f":"HLOOKUP($A28,'Day2'!$C$4:$BJ$8,5)","v":0},{"$f":"VLOOKUP($A28,'Sale Price'!$B$3:$I$64,5)","v":0},0]
[24,{"$f":"'Sale Price'!C28","v":"Brinjal Vazhuthana"},{"$f":"'Sale Price'!D28","v":"Vazhut"},{"$f":"VLOOKUP($A29,PURCH2!$B$4:$N$66,12)","v":0},{"$f":"VLOOKUP($A29,PURCH2!$B$4:$N$66,13)","v":0},{"$f":"HLOOKUP($A29,'Day2'!$C$4:$BJ$8,5)","v":0},{"$f":"VLOOKUP($A29,'Sale Price'!$B$3:$I$64,5)","v":0},0]
[25,{"$f":"'Sale Price'!C29","v":"Pumpkin"},{"$f":"'Sale Price'!D29","v":"Pumpk"},{"$f":"VLOOKUP($A30,PURCH2!$B$4:$N$66,12)","v":0},{"$f":"VLOOKUP($A30,PURCH2!$B$4:$N$66,13)","v":0},{"$f":"HLOOKUP($A30,'Day2'!$C$4:$BJ$8,5)","v":0},{"$f":"VLOOKUP($A30,'Sale Price'!$B$3:$I$64,5)","v":0},0]
[26,{"$f":"'Sale Price'!C30","v":"Onion Big"},{"$f":"'Sale Price'!D30","v":"Savala"},{"$f":"VLOOKUP($A31,PURCH2!$B$4:$N$66,12)","v":0},{"$f":"VLOOKUP($A31,PURCH2!$B$4:$N$66,13)","v":0},{"$f":"HLOOKUP($A31,'Day2'!$C$4:$BJ$8,5)","v":0},{"$f":"VLOOKUP($A31,'Sale Price'!$B$3:$I$64,5)","v":0},0]
[27,{"$f":"'Sale Price'!C31","v":"Onion Small"},{"$f":"'Sale Price'!D31","v":"Ulli"},{"$f":"VLOOKUP($A32,PURCH2!$B$4:$N$66,12)","v":0},{"$f":"VLOOKUP($A32,PURCH2!$B$4:$N$66,13)","v":0},{"$f":"HLOOKUP($A32,'Day2'!$C$4:$BJ$8,5)","v":0},{"$f":"VLOOKUP($A32,'Sale Price'!$B$3:$I$64,5)","v":0},0]
[28,{"$f":"'Sale Price'!C32","v":"Garlic"},{"$f":"'Sale Price'!D32","v":"Garlc"},{"$f":"VLOOKUP($A33,PURCH2!$B$4:$N$66,12)","v":0},{"$f":"VLOOKUP($A33,PURCH2!$B$4:$N$66,13)","v":0},{"$f":"HLOOKUP($A33,'Day2'!$C$4:$BJ$8,5)","v":0},{"$f":"VLOOKUP($A33,'Sale Price'!$B$3:$I$64,5)","v":0},0]
[29,{"$f":"'Sale Price'!C33","v":"Ginger"},{"$f":"'Sale Price'!D33","v":"Ginger"},{"$f":"VLOOKUP($A34,PURCH2!$B$4:$N$66,12)","v":0},{"$f":"VLOOKUP($A34,PURCH2!$B$4:$N$66,13)","v":0},{"$f":"HLOOKUP($A34,'Day2'!$C$4:$BJ$8,5)","v":0},{"$f":"VLOOKUP($A34,'Sale Price'!$B$3:$I$64,5)","v":0},0]
[30,{"$f":"'Sale Price'!C34","v":"Cucumber"},{"$f":"'Sale Price'!D34","v":"Cucum"},{"$f":"VLOOKUP($A35,PURCH2!$B$4:$N$66,12)","v":0},{"$f":"VLOOKUP($A35,PURCH2!$B$4:$N$66,13)","v":0},{"$f":"HLOOKUP($A35,'Day2'!$C$4:$BJ$8,5)","v":0},{"$f":"VLOOKUP($A35,'Sale Price'!$B$3:$I$64,5)","v":0},0]
[31,{"$f":"'Sale Price'!C35","v":"Colocaisa"},{"$f":"'Sale Price'!D35","v":"Chemb"},{"$f":"VLOOKUP($A36,PURCH2!$B$4:$N$66,12)","v":0},{"$f":"VLOOKUP($A36,PURCH2!$B$4:$N$66,13)","v":0},{"$f":"HLOOKUP($A36,'Day2'!$C$4:$BJ$8,5)","v":0},{"$f":"VLOOKUP($A36,'Sale Price'!$B$3:$I$64,5)","v":0},0]
[32,{"$f":"'Sale Price'!C36","v":"Cowpea"},{"$f":"'Sale Price'!D36","v":"Cowp"},{"$f":"VLOOKUP($A37,PURCH2!$B$4:$N$66,12)","v":0},{"$f":"VLOOKUP($A37,PURCH2!$B$4:$N$66,13)","v":0},{"$f":"HLOOKUP($A37,'Day2'!$C$4:$BJ$8,5)","v":0},{"$f":"VLOOKUP($A37,'Sale Price'!$B$3:$I$64,5)","v":0},0]
[33,{"$f":"'Sale Price'!C37","v":"Ashgourd/Thadiyan"},{"$f":"'Sale Price'!D37","v":"AshG"},{"$f":"VLOOKUP($A38,PURCH2!$B$4:$N$66,12)","v":0},{"$f":"VLOOKUP($A38,PURCH2!$B$4:$N$66,13)","v":0},{"$f":"HLOOKUP($A38,'Day2'!$C$4:$BJ$8,5)","v":0},{"$f":"VLOOKUP($A38,'Sale Price'!$B$3:$I$64,5)","v":0},0]
[34,{"$f":"'Sale Price'!C38","v":"Ladies finger"},{"$f":"'Sale Price'!D38","v":"Venda"},{"$f":"VLOOKUP($A39,PURCH2!$B$4:$N$66,12)","v":0},{"$f":"VLOOKUP($A39,PURCH2!$B$4:$N$66,13)","v":0},{"$f":"HLOOKUP($A39,'Day2'!$C$4:$BJ$8,5)","v":0},{"$f":"VLOOKUP($A39,'Sale Price'!$B$3:$I$64,5)","v":0},0]
[35,{"$f":"'Sale Price'!C39","v":"Drumstick"},{"$f":"'Sale Price'!D39","v":"Drumst"},{"$f":"VLOOKUP($A40,PURCH2!$B$4:$N$66,12)","v":0},{"$f":"VLOOKUP($A40,PURCH2!$B$4:$N$66,13)","v":0},{"$f":"HLOOKUP($A40,'Day2'!$C$4:$BJ$8,5)","v":0},{"$f":"VLOOKUP($A40,'Sale Price'!$B$3:$I$64,5)","v":0},0]
[36,{"$f":"'Sale Price'!C40","v":"Koval"},{"$f":"'Sale Price'!D40","v":"Koval"},{"$f":"VLOOKUP($A41,PURCH2!$B$4:$N$66,12)","v":0},{"$f":"VLOOKUP($A41,PURCH2!$B$4:$N$66,13)","v":0},{"$f":"HLOOKUP($A41,'Day2'!$C$4:$BJ$8,5)","v":0},{"$f":"VLOOKUP($A41,'Sale Price'!$B$3:$I$64,5)","v":0},0]
[37,{"$f":"'Sale Price'!C41","v":"CurryLeaf"},{"$f":"'Sale Price'!D41","v":"CryLef"},{"$f":"VLOOKUP($A42,PURCH2!$B$4:$N$66,12)","v":0},{"$f":"VLOOKUP($A42,PURCH2!$B$4:$N$66,13)","v":0},{"$f":"HLOOKUP($A42,'Day2'!$C$4:$BJ$8,5)","v":0},{"$f":"VLOOKUP($A42,'Sale Price'!$B$3:$I$64,5)","v":0},0]
[38,{"$f":"'Sale Price'!C42","v":"MintLeaf"},{"$f":"'Sale Price'!D42","v":"MntLf"},{"$f":"VLOOKUP($A43,PURCH2!$B$4:$N$66,12)","v":0},{"$f":"VLOOKUP($A43,PURCH2!$B$4:$N$66,13)","v":0},{"$f":"HLOOKUP($A43,'Day2'!$C$4:$BJ$8,5)","v":0},{"$f":"VLOOKUP($A43,'Sale Price'!$B$3:$I$64,5)","v":0},0]
[39,{"$f":"'Sale Price'!C43","v":"Coriander Leaf"},{"$f":"'Sale Price'!D43","v":"CorLf"},{"$f":"VLOOKUP($A44,PURCH2!$B$4:$N$66,12)","v":0},{"$f":"VLOOKUP($A44,PURCH2!$B$4:$N$66,13)","v":0},{"$f":"HLOOKUP($A44,'Day2'!$C$4:$BJ$8,5)","v":0},{"$f":"VLOOKUP($A44,'Sale Price'!$B$3:$I$64,5)","v":0},0]
[40,{"$f":"'Sale Price'!C44","v":"Amaranthus"},{"$f":"'Sale Price'!D44","v":"Cheera"},{"$f":"VLOOKUP($A45,PURCH2!$B$4:$N$66,12)","v":0},{"$f":"VLOOKUP($A45,PURCH2!$B$4:$N$66,13)","v":0},{"$f":"HLOOKUP($A45,'Day2'!$C$4:$BJ$8,5)","v":0},{"$f":"VLOOKUP($A45,'Sale Price'!$B$3:$I$64,5)","v":0},0]
[41,{"$f":"'Sale Price'!C45","v":"Lemon Big"},{"$f":"'Sale Price'!D45","v":"LemnB"},{"$f":"VLOOKUP($A46,PURCH2!$B$4:$N$66,12)","v":0},{"$f":"VLOOKUP($A46,PURCH2!$B$4:$N$66,13)","v":0},{"$f":"HLOOKUP($A46,'Day2'!$C$4:$BJ$8,5)","v":0},{"$f":"VLOOKUP($A46,'Sale Price'!$B$3:$I$64,5)","v":0},0]
[42,{"$f":"'Sale Price'!C46","v":"Lemon small"},{"$f":"'Sale Price'!D46","v":"LemnS"},{"$f":"VLOOKUP($A47,PURCH2!$B$4:$N$66,12)","v":0},{"$f":"VLOOKUP($A47,PURCH2!$B$4:$N$66,13)","v":0},{"$f":"HLOOKUP($A47,'Day2'!$C$4:$BJ$8,5)","v":0},{"$f":"VLOOKUP($A47,'Sale Price'!$B$3:$I$64,5)","v":0},0]
[43,{"$f":"'Sale Price'!C47","v":"Mango"},{"$f":"'Sale Price'!D47","v":"Mango"},{"$f":"VLOOKUP($A48,PURCH2!$B$4:$N$66,12)","v":0},{"$f":"VLOOKUP($A48,PURCH2!$B$4:$N$66,13)","v":0},{"$f":"HLOOKUP($A48,'Day2'!$C$4:$BJ$8,5)","v":0},{"$f":"VLOOKUP($A48,'Sale Price'!$B$3:$I$64,5)","v":0},0]
[44,{"$f":"'Sale Price'!C48","v":"Pineapple"},{"$f":"'Sale Price'!D48","v":"PineA"},{"$f":"VLOOKUP($A49,PURCH2!$B$4:$N$66,12)","v":0},{"$f":"VLOOKUP($A49,PURCH2!$B$4:$N$66,13)","v":0},{"$f":"HLOOKUP($A49,'Day2'!$C$4:$BJ$8,5)","v":0},{"$f":"VLOOKUP($A49,'Sale Price'!$B$3:$I$64,5)","v":0},0]
[45,{"$f":"'Sale Price'!C49","v":"Potato"},{"$f":"'Sale Price'!D49","v":"Potat"},{"$f":"VLOOKUP($A50,PURCH2!$B$4:$N$66,12)","v":0},{"$f":"VLOOKUP($A50,PURCH2!$B$4:$N$66,13)","v":0},{"$f":"HLOOKUP($A50,'Day2'!$C$4:$BJ$8,5)","v":0},{"$f":"VLOOKUP($A50,'Sale Price'!$B$3:$I$64,5)","v":0},0]
[46,{"$f":"'Sale Price'!C50","v":"Amla"},{"$f":"'Sale Price'!D50","v":"Amla"},{"$f":"VLOOKUP($A51,PURCH2!$B$4:$N$66,12)","v":0},{"$f":"VLOOKUP($A51,PURCH2!$B$4:$N$66,13)","v":0},{"$f":"HLOOKUP($A51,'Day2'!$C$4:$BJ$8,5)","v":0},{"$f":"VLOOKUP($A51,'Sale Price'!$B$3:$I$64,5)","v":0},0]
[47,{"$f":"'Sale Price'!C51","v":"Tapioca"},{"$f":"'Sale Price'!D51","v":"Tap"},{"$f":"VLOOKUP($A52,PURCH2!$B$4:$N$66,12)","v":0},{"$f":"VLOOKUP($A52,PURCH2!$B$4:$N$66,13)","v":0},{"$f":"HLOOKUP($A52,'Day2'!$C$4:$BJ$8,5)","v":0},{"$f":"VLOOKUP($A52,'Sale Price'!$B$3:$I$64,5)","v":0},0]
[48,{"$f":"'Sale Price'!C52","v":0},{"$f":"'Sale Price'!D52","v":0},{"$f":"VLOOKUP($A53,PURCH2!$B$4:$N$66,12)","v":0},{"$f":"VLOOKUP($A53,PURCH2!$B$4:$N$66,13)","v":0},{"$f":"HLOOKUP($A53,'Day2'!$C$4:$BJ$8,5)","v":0},{"$f":"VLOOKUP($A53,'Sale Price'!$B$3:$I$64,5)","v":0},0]
[49,{"$f":"'Sale Price'!C53","v":0},{"$f":"'Sale Price'!D53","v":0},{"$f":"VLOOKUP($A54,PURCH2!$B$4:$N$66,12)","v":0},{"$f":"VLOOKUP($A54,PURCH2!$B$4:$N$66,13)","v":0},{"$f":"HLOOKUP($A54,'Day2'!$C$4:$BJ$8,5)","v":0},{"$f":"VLOOKUP($A54,'Sale Price'!$B$3:$I$64,5)","v":0},0]
[50,{"$f":"'Sale Price'!C54","v":0},{"$f":"'Sale Price'!D54","v":0},{"$f":"VLOOKUP($A55,PURCH2!$B$4:$N$66,12)","v":0},{"$f":"VLOOKUP($A55,PURCH2!$B$4:$N$66,13)","v":0},{"$f":"HLOOKUP($A55,'Day2'!$C$4:$BJ$8,5)","v":0},{"$f":"VLOOKUP($A55,'Sale Price'!$B$3:$I$64,5)","v":0},0]
[51,{"$f":"'Sale Price'!C55","v":0},{"$f":"'Sale Price'!D55","v":0},{"$f":"VLOOKUP($A56,PURCH2!$B$4:$N$66,12)","v":0},{"$f":"VLOOKUP($A56,PURCH2!$B$4:$N$66,13)","v":0},{"$f":"HLOOKUP($A56,'Day2'!$C$4:$BJ$8,5)","v":0},{"$f":"VLOOKUP($A56,'Sale Price'!$B$3:$I$64,5)","v":0},0]
[52,{"$f":"'Sale Price'!C56","v":0},{"$f":"'Sale Price'!D56","v":0},{"$f":"VLOOKUP($A57,PURCH2!$B$4:$N$66,12)","v":0},{"$f":"VLOOKUP($A57,PURCH2!$B$4:$N$66,13)","v":0},{"$f":"HLOOKUP($A57,'Day2'!$C$4:$BJ$8,5)","v":0},{"$f":"VLOOKUP($A57,'Sale Price'!$B$3:$I$64,5)","v":0},0]
[53,{"$f":"'Sale Price'!C57","v":0},{"$f":"'Sale Price'!D57","v":0},{"$f":"VLOOKUP($A58,PURCH2!$B$4:$N$66,12)","v":0},{"$f":"VLOOKUP($A58,PURCH2!$B$4:$N$66,13)","v":0},{"$f":"HLOOKUP($A58,'Day2'!$C$4:$BJ$8,5)","v":0},{"$f":"VLOOKUP($A58,'Sale Price'!$B$3:$I$64,5)","v":0},0]
[54,{"$f":"'Sale Price'!C58","v":0},{"$f":"'Sale Price'!D58","v":0},{"$f":"VLOOKUP($A59,PURCH2!$B$4:$N$66,12)","v":0},{"$f":"VLOOKUP($A59,PURCH2!$B$4:$N$66,13)","v":0},{"$f":"HLOOKUP($A59,'Day2'!$C$4:$BJ$8,5)","v":0},{"$f":"VLOOKUP($A59,'Sale Price'!$B$3:$I$64,5)","v":0},0]
[55,{"$f":"'Sale Price'!C59","v":0},{"$f":"'Sale Price'!D59","v":0},{"$f":"VLOOKUP($A60,PURCH2!$B$4:$N$66,12)","v":0},{"$f":"VLOOKUP($A60,PURCH2!$B$4:$N$66,13)","v":0},{"$f":"HLOOKUP($A60,'Day2'!$C$4:$BJ$8,5)","v":0},{"$f":"VLOOKUP($A60,'Sale Price'!$B$3:$I$64,5)","v":0},0]
[56,{"$f":"'Sale Price'!C60","v":0},{"$f":"'Sale Price'!D60","v":0},{"$f":"VLOOKUP($A61,PURCH2!$B$4:$N$66,12)","v":0},{"$f":"VLOOKUP($A61,PURCH2!$B$4:$N$66,13)","v":0},{"$f":"HLOOKUP($A61,'Day2'!$C$4:$BJ$8,5)","v":0},{"$f":"VLOOKUP($A61,'Sale Price'!$B$3:$I$64,5)","v":0},0]
[57,{"$f":"'Sale Price'!C61","v":0},{"$f":"'Sale Price'!D61","v":0},{"$f":"VLOOKUP($A62,PURCH2!$B$4:$N$66,12)","v":0},{"$f":"VLOOKUP($A62,PURCH2!$B$4:$N$66,13)","v":0},{"$f":"HLOOKUP($A62,'Day2'!$C$4:$BJ$8,5)","v":0},{"$f":"VLOOKUP($A62,'Sale Price'!$B$3:$I$64,5)","v":0},0]
[58,{"$f":"'Sale Price'!C62","v":0},{"$f":"'Sale Price'!D62","v":0},{"$f":"VLOOKUP($A63,PURCH2!$B$4:$N$66,12)","v":0},{"$f":"VLOOKUP($A63,PURCH2!$B$4:$N$66,13)","v":0},{"$f":"HLOOKUP($A63,'Day2'!$C$4:$BJ$8,5)","v":0},{"$f":"VLOOKUP($A63,'Sale Price'!$B$3:$I$64,5)","v":0},0]
[59,{"$f":"'Sale Price'!C63","v":0},{"$f":"'Sale Price'!D63","v":0},{"$f":"VLOOKUP($A64,PURCH2!$B$4:$N$66,12)","v":0},{"$f":"VLOOKUP($A64,PURCH2!$B$4:$N$66,13)","v":0},{"$f":"HLOOKUP($A64,'Day2'!$C$4:$BJ$8,5)","v":0},{"$f":"VLOOKUP($A64,'Sale Price'!$B$3:$I$64,5)","v":0},0]
[60,{"$f":"'Sale Price'!C64","v":0},{"$f":"'Sale Price'!D64","v":0},{"$f":"VLOOKUP($A65,PURCH2!$B$4:$N$66,12)","v":0},{"$f":"VLOOKUP($A65,PURCH2!$B$4:$N$66,13)","v":0},{"$f":"HLOOKUP($A65,'Day2'!$C$4:$BJ$8,5)","v":0},{"$f":"VLOOKUP($A65,'Sale Price'!$B$3:$I$64,5)","v":0},0]
["Total",null,null,{"$f":"SUM(D6:D65)","v":0},{"$f":"SUM(E6:E65)","v":0},0,null,0]
[]
[]
[null,null,null,null,null,{"$f":"REGISTRATION!F15","v":0}]
[null,null,null,null,null,{"$f":"REGISTRATION!F18","v":0}]

{"sheet":"REPORT3","index":16,"n_rows":70,"n_cols":8,"rows_kept":70,"cut":false,"hidden":false,"merged":[[69,4,69,7],[0,0,0,7],[1,0,1,7],[2,0,4,0],[2,1,4,1],[2,2,4,2],[2,3,2,7],[3,3,3,4],[3,5,3,7]]}
[{"$f":"\"ONAM VEGETABLE MARKET\"&\" KRISHI BHAVAN  \" &REGISTRATION!F13","v":"ONAM VEGETABLE MARKET KRISHI BHAVAN  "}]
["Purchase Cum Sales Report DAY3"]
["Code","Item","Short code","DAY3"]
[null,null,null,"Purchase",null,"SALES"]
[null,null,null,"QTY Kg","Amount Rs.","QTY Kg","Sale Price","Amount Rs."]
[1,{"$f":"'Sale Price'!C5","v":"Nendran"},{"$f":"'Sale Price'!D5","v":"Nendrn"},{"$f":"VLOOKUP($A6,PURCH3!$C$4:$O$66,12)","v":0},{"$f":"VLOOKUP($A6,PURCH3!$C$4:$O$66,13)","v":0},{"$f":"HLOOKUP($A6,'Day3'!$C$4:$BJ$8,5)","v":0},{"$f":"VLOOKUP($A6,'Sale Price'!$B$3:$I$64,6)","v":0},{"$f":"F6*G6","v":0}]
[2,{"$f":"'Sale Price'!C6","v":"Banana Green"},{"$f":"'Sale Price'!D6","v":"Ban G"},{"$f":"VLOOKUP($A7,PURCH3!$C$4:$O$66,12)","v":0},{"$f":"VLOOKUP($A7,PURCH3!$C$4:$O$66,13)","v":0},{"$f":"HLOOKUP($A7,'Day3'!$C$4:$BJ$8,5)","v":0},{"$f":"VLOOKUP($A7,'Sale Price'!$B$3:$I$64,6)","v":0},{"$f":"F7*G7","v":0}]
[3,{"$f":"'Sale Price'!C7","v":"Palayanthodan"},{"$f":"'Sale Price'!D7","v":"Palaya"},{"$f":"VLOOKUP($A8,PURCH3!$C$4:$O$66,12)","v":0},{"$f":"VLOOKUP($A8,PURCH3!$C$4:$O$66,13)","v":0},{"$f":"HLOOKUP($A8,'Day3'!$C$4:$BJ$8,5)","v":0},{"$f":"VLOOKUP($A8,'Sale Price'!$B$3:$I$64,6)","v":0},0]
[4,{"$f":"'Sale Price'!C8","v":"Poovan"},{"$f":"'Sale Price'!D8","v":"Puvan"},{"$f":"VLOOKUP($A9,PURCH3!$C$4:$O$66,12)","v":0},{"$f":"VLOOKUP($A9,PURCH3!$C$4:$O$66,13)","v":0},{"$f":"HLOOKUP($A9,'Day3'!$C$4:$BJ$8,5)","v":0},{"$f":"VLOOKUP($A9,'Sale Price'!$B$3:$I$64,6)","v":0},0]
[5,{"$f":"'Sale Price'!C9","v":"Rasakadali"},{"$f":"'Sale Price'!D9","v":"RasaK"},{"$f":"VLOOKUP($A10,PURCH3!$C$4:$O$66,12)","v":0},{"$f":"VLOOKUP($A10,PURCH3!$C$4:$O$66,13)","v":0},{"$f":"HLOOKUP($A10,'Day3'!$C$4:$BJ$8,5)","v":0},{"$f":"VLOOKUP($A10,'Sale Price'!$B$3:$I$64,6)","v":0},0]
[6,{"$f":"'Sale Price'!C10","v":"Red banana"},{"$f":"'Sale Price'!D10","v":"RedB"},{"$f":"VLOOKUP($A11,PURCH3!$C$4:$O$66,12)","v":0},{"$f":"VLOOKUP($A11,PURCH3!$C$4:$O$66,13)","v":0},{"$f":"HLOOKUP($A11,'Day3'!$C$4:$BJ$8,5)","v":0},{"$f":"VLOOKUP($A11,'Sale Price'!$B$3:$I$64,6)","v":0},0]
[7,{"$f":"'Sale Price'!C11","v":"Robusta"},{"$f":"'Sale Price'!D11","v":"Robst"},{"$f":"VLOOKUP($A12,PURCH3!$C$4:$O$66,12)","v":0},{"$f":"VLOOKUP($A12,PURCH3!$C$4:$O$66,13)","v":0},{"$f":"HLOOKUP($A12,'Day3'!$C$4:$BJ$8,5)","v":0},{"$f":"VLOOKUP($A12,'Sale Price'!$B$3:$I$64,6)","v":0},0]
[8,{"$f":"'Sale Price'!C12","v":"Peyan/Monthan"},{"$f":"'Sale Price'!D12","v":"Peyn"},{"$f":"VLOOKUP($A13,PURCH3!$C$4:$O$66,12)","v":0},{"$f":"VLOOKUP($A13,PURCH3!$C$4:$O$66,13)","v":0},{"$f":"HLOOKUP($A13,'Day3'!$C$4:$BJ$8,5)","v":0},{"$f":"VLOOKUP($A13,'Sale Price'!$B$3:$I$64,6)","v":0},0]
[9,{"$f":"'Sale Price'!C13","v":"Amorphophallus"},{"$f":"'Sale Price'!D13","v":"Chena"},{"$f":"VLOOKUP($A14,PURCH3!$C$4:$O$66,12)","v":0},{"$f":"VLOOKUP($A14,PURCH3!$C$4:$O$66,13)","v":0},{"$f":"HLOOKUP($A14,'Day3'!$C$4:$BJ$8,5)","v":0},{"$f":"VLOOKUP($A14,'Sale Price'!$B$3:$I$64,6)","v":0},0]
[10,{"$f":"'Sale Price'!C14","v":"Beans"},{"$f":"'Sale Price'!D14","v":"Beans"},{"$f":"VLOOKUP($A15,PURCH3!$C$4:$O$66,12)","v":0},{"$f":"VLOOKUP($A15,PURCH3!$C$4:$O$66,13)","v":0},{"$f":"HLOOKUP($A15,'Day3'!$C$4:$BJ$8,5)","v":0},{"$f":"VLOOKUP($A15,'Sale Price'!$B$3:$I$64,6)","v":0},0]
[11,{"$f":"'Sale Price'!C15","v":"Cluster beans"},{"$f":"'Sale Price'!D15","v":"Amara"},{"$f":"VLOOKUP($A16,PURCH3!$C$4:$O$66,12)","v":0},{"$f":"VLOOKUP($A16,PURCH3!$C$4:$O$66,13)","v":0},{"$f":"HLOOKUP($A16,'Day3'!$C$4:$BJ$8,5)","v":0},{"$f":"VLOOKUP($A16,'Sale Price'!$B$3:$I$64,6)","v":0},0]
[12,{"$f":"'Sale Price'!C16","v":"Carrot"},{"$f":"'Sale Price'!D16","v":"Carot"},{"$f":"VLOOKUP($A17,PURCH3!$C$4:$O$66,12)","v":0},{"$f":"VLOOKUP($A17,PURCH3!$C$4:$O$66,13)","v":0},{"$f":"HLOOKUP($A17,'Day3'!$C$4:$BJ$8,5)","v":0},{"$f":"VLOOKUP($A17,'Sale Price'!$B$3:$I$64,6)","v":0},0]
[13,{"$f":"'Sale Price'!C17","v":"Beetroot"},{"$f":"'Sale Price'!D17","v":"BeetR"},{"$f":"VLOOKUP($A18,PURCH3!$C$4:$O$66,12)","v":0},{"$f":"VLOOKUP($A18,PURCH3!$C$4:$O$66,13)","v":0},{"$f":"HLOOKUP($A18,'Day3'!$C$4:$BJ$8,5)","v":0},{"$f":"VLOOKUP($A18,'Sale Price'!$B$3:$I$64,6)","v":0},0]
[14,{"$f":"'Sale Price'!C18","v":"Cabbage"},{"$f":"'Sale Price'!D18","v":"Cabag"},{"$f":"VLOOKUP($A19,PURCH3!$C$4:$O$66,12)","v":0},{"$f":"VLOOKUP($A19,PURCH3!$C$4:$O$66,13)","v":0},{"$f":"HLOOKUP($A19,'Day3'!$C$4:$BJ$8,5)","v":0},{"$f":"VLOOKUP($A19,'Sale Price'!$B$3:$I$64,6)","v":0},0]
[15,{"$f":"'Sale Price'!C19","v":"Cauliflower"},{"$f":"'Sale Price'!D19","v":"CauliF"},{"$f":"VLOOKUP($A20,PURCH3!$C$4:$O$66,12)","v":0},{"$f":"VLOOKUP($A20,PURCH3!$C$4:$O$66,13)","v":0},{"$f":"HLOOKUP($A20,'Day3'!$C$4:$BJ$8,5)","v":0},{"$f":"VLOOKUP($A20,'Sale Price'!$B$3:$I$64,6)","v":0},0]
[16,{"$f":"'Sale Price'!C20","v":"Capsicum"},{"$f":"'Sale Price'!D20","v":"Capsic"},{"$f":"VLOOKUP($A21,PURCH3!$C$4:$O$66,12)","v":0},{"$f":"VLOOKUP($A21,PURCH3!$C$4:$O$66,13)","v":0},{"$f":"HLOOKUP($A21,'Day3'!$C$4:$BJ$8,5)","v":0},{"$f":"VLOOKUP($A21,'Sale Price'!$B$3:$I$64,6)","v":0},0]
[17,{"$f":"'Sale Price'!C21","v":"Tomato"},{"$f":"'Sale Price'!D21","v":"Tomat"},{"$f":"VLOOKUP($A22,PURCH3!$C$4:$O$66,12)","v":0},{"$f":"VLOOKUP($A22,PURCH3!$C$4:$O$66,13)","v":0},{"$f":"HLOOKUP($A22,'Day3'!$C$4:$BJ$8,5)","v":0},{"$f":"VLOOKUP($A22,'Sale Price'!$B$3:$I$64,6)","v":0},0]
[18,{"$f":"'Sale Price'!C22","v":"Green chillies "},{"$f":"'Sale Price'!D22","v":"ChillS"},{"$f":"VLOOKUP($A23,PURCH3!$C$4:$O$66,12)","v":0},{"$f":"VLOOKUP($A23,PURCH3!$C$4:$O$66,13)","v":0},{"$f":"HLOOKUP($A23,'Day3'!$C$4:$BJ$8,5)","v":0},{"$f":"VLOOKUP($A23,'Sale Price'!$B$3:$I$64,6)","v":0},0]
[19,{"$f":"'Sale Price'!C23","v":"Sambar Mulaku"},{"$f":"'Sale Price'!D23","v":"ChillB"},{"$f":"VLOOKUP($A24,PURCH3!$C$4:$O$66,12)","v":0},{"$f":"VLOOKUP($A24,PURCH3!$C$4:$O$66,13)","v":0},{"$f":"HLOOKUP($A24,'Day3'!$C$4:$BJ$8,5)","v":0},{"$f":"VLOOKUP($A24,'Sale Price'!$B$3:$I$64,6)","v":0},0]
[20,{"$f":"'Sale Price'!C24","v":"Bitter gourd"},{"$f":"'Sale Price'!D24","v":"BittrG"},{"$f":"VLOOKUP($A25,PURCH3!$C$4:$O$66,12)","v":0},{"$f":"VLOOKUP($A25,PURCH3!$C$4:$O$66,13)","v":0},{"$f":"HLOOKUP($A25,'Day3'!$C$4:$BJ$8,5)","v":0},{"$f":"VLOOKUP($A25,'Sale Price'!$B$3:$I$64,6)","v":0},0]
[21,{"$f":"'Sale Price'!C25","v":"Bottle gourd"},{"$f":"'Sale Price'!D25","v":"BottG"},{"$f":"VLOOKUP($A26,PURCH3!$C$4:$O$66,12)","v":0},{"$f":"VLOOKUP($A26,PURCH3!$C$4:$O$66,13)","v":0},{"$f":"HLOOKUP($A26,'Day3'!$C$4:$BJ$8,5)","v":0},{"$f":"VLOOKUP($A26,'Sale Price'!$B$3:$I$64,6)","v":0},0]
[22,{"$f":"'Sale Price'!C26","v":"Snakegourd"},{"$f":"'Sale Price'!D26","v":"SnakG"},{"$f":"VLOOKUP($A27,PURCH3!$C$4:$O$66,12)","v":0},{"$f":"VLOOKUP($A27,PURCH3!$C$4:$O$66,13)","v":0},{"$f":"HLOOKUP($A27,'Day3'!$C$4:$BJ$8,5)","v":0},{"$f":"VLOOKUP($A27,'Sale Price'!$B$3:$I$64,6)","v":0},0]
[23,{"$f":"'Sale Price'!C27","v":"Brinjal kathiri"},{"$f":"'Sale Price'!D27","v":"BrinjR"},{"$f":"VLOOKUP($A28,PURCH3!$C$4:$O$66,12)","v":0},{"$f":"VLOOKUP($A28,PURCH3!$C$4:$O$66,13)","v":0},{"$f":"HLOOKUP($A28,'Day3'!$C$4:$BJ$8,5)","v":0},{"$f":"VLOOKUP($A28,'Sale Price'!$B$3:$I$64,6)","v":0},0]
[24,{"$f":"'Sale Price'!C28","v":"Brinjal Vazhuthana"},{"$f":"'Sale Price'!D28","v":"Vazhut"},{"$f":"VLOOKUP($A29,PURCH3!$C$4:$O$66,12)","v":0},{"$f":"VLOOKUP($A29,PURCH3!$C$4:$O$66,13)","v":0},{"$f":"HLOOKUP($A29,'Day3'!$C$4:$BJ$8,5)","v":0},{"$f":"VLOOKUP($A29,'Sale Price'!$B$3:$I$64,6)","v":0},0]
[25,{"$f":"'Sale Price'!C29","v":"Pumpkin"},{"$f":"'Sale Price'!D29","v":"Pumpk"},{"$f":"VLOOKUP($A30,PURCH3!$C$4:$O$66,12)","v":0},{"$f":"VLOOKUP($A30,PURCH3!$C$4:$O$66,13)","v":0},{"$f":"HLOOKUP($A30,'Day3'!$C$4:$BJ$8,5)","v":0},{"$f":"VLOOKUP($A30,'Sale Price'!$B$3:$I$64,6)","v":0},0]
[26,{"$f":"'Sale Price'!C30","v":"Onion Big"},{"$f":"'Sale Price'!D30","v":"Savala"},{"$f":"VLOOKUP($A31,PURCH3!$C$4:$O$66,12)","v":0},{"$f":"VLOOKUP($A31,PURCH3!$C$4:$O$66,13)","v":0},{"$f":"HLOOKUP($A31,'Day3'!$C$4:$BJ$8,5)","v":0},{"$f":"VLOOKUP($A31,'Sale Price'!$B$3:$I$64,6)","v":0},0]
[27,{"$f":"'Sale Price'!C31","v":"Onion Small"},{"$f":"'Sale Price'!D31","v":"Ulli"},{"$f":"VLOOKUP($A32,PURCH3!$C$4:$O$66,12)","v":0},{"$f":"VLOOKUP($A32,PURCH3!$C$4:$O$66,13)","v":0},{"$f":"HLOOKUP($A32,'Day3'!$C$4:$BJ$8,5)","v":0},{"$f":"VLOOKUP($A32,'Sale Price'!$B$3:$I$64,6)","v":0},0]
[28,{"$f":"'Sale Price'!C32","v":"Garlic"},{"$f":"'Sale Price'!D32","v":"Garlc"},{"$f":"VLOOKUP($A33,PURCH3!$C$4:$O$66,12)","v":0},{"$f":"VLOOKUP($A33,PURCH3!$C$4:$O$66,13)","v":0},{"$f":"HLOOKUP($A33,'Day3'!$C$4:$BJ$8,5)","v":0},{"$f":"VLOOKUP($A33,'Sale Price'!$B$3:$I$64,6)","v":0},0]
[29,{"$f":"'Sale Price'!C33","v":"Ginger"},{"$f":"'Sale Price'!D33","v":"Ginger"},{"$f":"VLOOKUP($A34,PURCH3!$C$4:$O$66,12)","v":0},{"$f":"VLOOKUP($A34,PURCH3!$C$4:$O$66,13)","v":0},{"$f":"HLOOKUP($A34,'Day3'!$C$4:$BJ$8,5)","v":0},{"$f":"VLOOKUP($A34,'Sale Price'!$B$3:$I$64,6)","v":0},0]
[30,{"$f":"'Sale Price'!C34","v":"Cucumber"},{"$f":"'Sale Price'!D34","v":"Cucum"},{"$f":"VLOOKUP($A35,PURCH3!$C$4:$O$66,12)","v":0},{"$f":"VLOOKUP($A35,PURCH3!$C$4:$O$66,13)","v":0},{"$f":"HLOOKUP($A35,'Day3'!$C$4:$BJ$8,5)","v":0},{"$f":"VLOOKUP($A35,'Sale Price'!$B$3:$I$64,6)","v":0},0]
[31,{"$f":"'Sale Price'!C35","v":"Colocaisa"},{"$f":"'Sale Price'!D35","v":"Chemb"},{"$f":"VLOOKUP($A36,PURCH3!$C$4:$O$66,12)","v":0},{"$f":"VLOOKUP($A36,PURCH3!$C$4:$O$66,13)","v":0},{"$f":"HLOOKUP($A36,'Day3'!$C$4:$BJ$8,5)","v":0},{"$f":"VLOOKUP($A36,'Sale Price'!$B$3:$I$64,6)","v":0},0]
[32,{"$f":"'Sale Price'!C36","v":"Cowpea"},{"$f":"'Sale Price'!D36","v":"Cowp"},{"$f":"VLOOKUP($A37,PURCH3!$C$4:$O$66,12)","v":0},{"$f":"VLOOKUP($A37,PURCH3!$C$4:$O$66,13)","v":0},{"$f":"HLOOKUP($A37,'Day3'!$C$4:$BJ$8,5)","v":0},{"$f":"VLOOKUP($A37,'Sale Price'!$B$3:$I$64,6)","v":0},0]
[33,{"$f":"'Sale Price'!C37","v":"Ashgourd/Thadiyan"},{"$f":"'Sale Price'!D37","v":"AshG"},{"$f":"VLOOKUP($A38,PURCH3!$C$4:$O$66,12)","v":0},{"$f":"VLOOKUP($A38,PURCH3!$C$4:$O$66,13)","v":0},{"$f":"HLOOKUP($A38,'Day3'!$C$4:$BJ$8,5)","v":0},{"$f":"VLOOKUP($A38,'Sale Price'!$B$3:$I$64,6)","v":0},0]
[34,{"$f":"'Sale Price'!C38","v":"Ladies finger"},{"$f":"'Sale Price'!D38","v":"Venda"},{"$f":"VLOOKUP($A39,PURCH3!$C$4:$O$66,12)","v":0},{"$f":"VLOOKUP($A39,PURCH3!$C$4:$O$66,13)","v":0},{"$f":"HLOOKUP($A39,'Day3'!$C$4:$BJ$8,5)","v":0},{"$f":"VLOOKUP($A39,'Sale Price'!$B$3:$I$64,6)","v":0},0]
[35,{"$f":"'Sale Price'!C39","v":"Drumstick"},{"$f":"'Sale Price'!D39","v":"Drumst"},{"$f":"VLOOKUP($A40,PURCH3!$C$4:$O$66,12)","v":0},{"$f":"VLOOKUP($A40,PURCH3!$C$4:$O$66,13)","v":0},{"$f":"HLOOKUP($A40,'Day3'!$C$4:$BJ$8,5)","v":0},{"$f":"VLOOKUP($A40,'Sale Price'!$B$3:$I$64,6)","v":0},0]
[36,{"$f":"'Sale Price'!C40","v":"Koval"},{"$f":"'Sale Price'!D40","v":"Koval"},{"$f":"VLOOKUP($A41,PURCH3!$C$4:$O$66,12)","v":0},{"$f":"VLOOKUP($A41,PURCH3!$C$4:$O$66,13)","v":0},{"$f":"HLOOKUP($A41,'Day3'!$C$4:$BJ$8,5)","v":0},{"$f":"VLOOKUP($A41,'Sale Price'!$B$3:$I$64,6)","v":0},0]
[37,{"$f":"'Sale Price'!C41","v":"CurryLeaf"},{"$f":"'Sale Price'!D41","v":"CryLef"},{"$f":"VLOOKUP($A42,PURCH3!$C$4:$O$66,12)","v":0},{"$f":"VLOOKUP($A42,PURCH3!$C$4:$O$66,13)","v":0},{"$f":"HLOOKUP($A42,'Day3'!$C$4:$BJ$8,5)","v":0},{"$f":"VLOOKUP($A42,'Sale Price'!$B$3:$I$64,6)","v":0},0]
[38,{"$f":"'Sale Price'!C42","v":"MintLeaf"},{"$f":"'Sale Price'!D42","v":"MntLf"},{"$f":"VLOOKUP($A43,PURCH3!$C$4:$O$66,12)","v":0},{"$f":"VLOOKUP($A43,PURCH3!$C$4:$O$66,13)","v":0},{"$f":"HLOOKUP($A43,'Day3'!$C$4:$BJ$8,5)","v":0},{"$f":"VLOOKUP($A43,'Sale Price'!$B$3:$I$64,6)","v":0},0]
[39,{"$f":"'Sale Price'!C43","v":"Coriander Leaf"},{"$f":"'Sale Price'!D43","v":"CorLf"},{"$f":"VLOOKUP($A44,PURCH3!$C$4:$O$66,12)","v":0},{"$f":"VLOOKUP($A44,PURCH3!$C$4:$O$66,13)","v":0},{"$f":"HLOOKUP($A44,'Day3'!$C$4:$BJ$8,5)","v":0},{"$f":"VLOOKUP($A44,'Sale Price'!$B$3:$I$64,6)","v":0},0]
[40,{"$f":"'Sale Price'!C44","v":"Amaranthus"},{"$f":"'Sale Price'!D44","v":"Cheera"},{"$f":"VLOOKUP($A45,PURCH3!$C$4:$O$66,12)","v":0},{"$f":"VLOOKUP($A45,PURCH3!$C$4:$O$66,13)","v":0},{"$f":"HLOOKUP($A45,'Day3'!$C$4:$BJ$8,5)","v":0},{"$f":"VLOOKUP($A45,'Sale Price'!$B$3:$I$64,6)","v":0},0]
[41,{"$f":"'Sale Price'!C45","v":"Lemon Big"},{"$f":"'Sale Price'!D45","v":"LemnB"},{"$f":"VLOOKUP($A46,PURCH3!$C$4:$O$66,12)","v":0},{"$f":"VLOOKUP($A46,PURCH3!$C$4:$O$66,13)","v":0},{"$f":"HLOOKUP($A46,'Day3'!$C$4:$BJ$8,5)","v":0},{"$f":"VLOOKUP($A46,'Sale Price'!$B$3:$I$64,6)","v":0},0]
[42,{"$f":"'Sale Price'!C46","v":"Lemon small"},{"$f":"'Sale Price'!D46","v":"LemnS"},{"$f":"VLOOKUP($A47,PURCH3!$C$4:$O$66,12)","v":0},{"$f":"VLOOKUP($A47,PURCH3!$C$4:$O$66,13)","v":0},{"$f":"HLOOKUP($A47,'Day3'!$C$4:$BJ$8,5)","v":0},{"$f":"VLOOKUP($A47,'Sale Price'!$B$3:$I$64,6)","v":0},0]
[43,{"$f":"'Sale Price'!C47","v":"Mango"},{"$f":"'Sale Price'!D47","v":"Mango"},{"$f":"VLOOKUP($A48,PURCH3!$C$4:$O$66,12)","v":0},{"$f":"VLOOKUP($A48,PURCH3!$C$4:$O$66,13)","v":0},{"$f":"HLOOKUP($A48,'Day3'!$C$4:$BJ$8,5)","v":0},{"$f":"VLOOKUP($A48,'Sale Price'!$B$3:$I$64,6)","v":0},0]
[44,{"$f":"'Sale Price'!C48","v":"Pineapple"},{"$f":"'Sale Price'!D48","v":"PineA"},{"$f":"VLOOKUP($A49,PURCH3!$C$4:$O$66,12)","v":0},{"$f":"VLOOKUP($A49,PURCH3!$C$4:$O$66,13)","v":0},{"$f":"HLOOKUP($A49,'Day3'!$C$4:$BJ$8,5)","v":0},{"$f":"VLOOKUP($A49,'Sale Price'!$B$3:$I$64,6)","v":0},0]
[45,{"$f":"'Sale Price'!C49","v":"Potato"},{"$f":"'Sale Price'!D49","v":"Potat"},{"$f":"VLOOKUP($A50,PURCH3!$C$4:$O$66,12)","v":0},{"$f":"VLOOKUP($A50,PURCH3!$C$4:$O$66,13)","v":0},{"$f":"HLOOKUP($A50,'Day3'!$C$4:$BJ$8,5)","v":0},{"$f":"VLOOKUP($A50,'Sale Price'!$B$3:$I$64,6)","v":0},0]
[46,{"$f":"'Sale Price'!C50","v":"Amla"},{"$f":"'Sale Price'!D50","v":"Amla"},{"$f":"VLOOKUP($A51,PURCH3!$C$4:$O$66,12)","v":0},{"$f":"VLOOKUP($A51,PURCH3!$C$4:$O$66,13)","v":0},{"$f":"HLOOKUP($A51,'Day3'!$C$4:$BJ$8,5)","v":0},{"$f":"VLOOKUP($A51,'Sale Price'!$B$3:$I$64,6)","v":0},0]
[47,{"$f":"'Sale Price'!C51","v":"Tapioca"},{"$f":"'Sale Price'!D51","v":"Tap"},{"$f":"VLOOKUP($A52,PURCH3!$C$4:$O$66,12)","v":0},{"$f":"VLOOKUP($A52,PURCH3!$C$4:$O$66,13)","v":0},{"$f":"HLOOKUP($A52,'Day3'!$C$4:$BJ$8,5)","v":0},{"$f":"VLOOKUP($A52,'Sale Price'!$B$3:$I$64,6)","v":0},0]
[48,{"$f":"'Sale Price'!C52","v":0},{"$f":"'Sale Price'!D52","v":0},{"$f":"VLOOKUP($A53,PURCH3!$C$4:$O$66,12)","v":0},{"$f":"VLOOKUP($A53,PURCH3!$C$4:$O$66,13)","v":0},{"$f":"HLOOKUP($A53,'Day3'!$C$4:$BJ$8,5)","v":0},{"$f":"VLOOKUP($A53,'Sale Price'!$B$3:$I$64,6)","v":0},0]
[49,{"$f":"'Sale Price'!C53","v":0},{"$f":"'Sale Price'!D53","v":0},{"$f":"VLOOKUP($A54,PURCH3!$C$4:$O$66,12)","v":0},{"$f":"VLOOKUP($A54,PURCH3!$C$4:$O$66,13)","v":0},{"$f":"HLOOKUP($A54,'Day3'!$C$4:$BJ$8,5)","v":0},{"$f":"VLOOKUP($A54,'Sale Price'!$B$3:$I$64,6)","v":0},0]
[50,{"$f":"'Sale Price'!C54","v":0},{"$f":"'Sale Price'!D54","v":0},{"$f":"VLOOKUP($A55,PURCH3!$C$4:$O$66,12)","v":0},{"$f":"VLOOKUP($A55,PURCH3!$C$4:$O$66,13)","v":0},{"$f":"HLOOKUP($A55,'Day3'!$C$4:$BJ$8,5)","v":0},{"$f":"VLOOKUP($A55,'Sale Price'!$B$3:$I$64,6)","v":0},0]
[51,{"$f":"'Sale Price'!C55","v":0},{"$f":"'Sale Price'!D55","v":0},{"$f":"VLOOKUP($A56,PURCH3!$C$4:$O$66,12)","v":0},{"$f":"VLOOKUP($A56,PURCH3!$C$4:$O$66,13)","v":0},{"$f":"HLOOKUP($A56,'Day3'!$C$4:$BJ$8,5)","v":0},{"$f":"VLOOKUP($A56,'Sale Price'!$B$3:$I$64,6)","v":0},0]
[52,{"$f":"'Sale Price'!C56","v":0},{"$f":"'Sale Price'!D56","v":0},{"$f":"VLOOKUP($A57,PURCH3!$C$4:$O$66,12)","v":0},{"$f":"VLOOKUP($A57,PURCH3!$C$4:$O$66,13)","v":0},{"$f":"HLOOKUP($A57,'Day3'!$C$4:$BJ$8,5)","v":0},{"$f":"VLOOKUP($A57,'Sale Price'!$B$3:$I$64,6)","v":0},0]
[53,{"$f":"'Sale Price'!C57","v":0},{"$f":"'Sale Price'!D57","v":0},{"$f":"VLOOKUP($A58,PURCH3!$C$4:$O$66,12)","v":0},{"$f":"VLOOKUP($A58,PURCH3!$C$4:$O$66,13)","v":0},{"$f":"HLOOKUP($A58,'Day3'!$C$4:$BJ$8,5)","v":0},{"$f":"VLOOKUP($A58,'Sale Price'!$B$3:$I$64,6)","v":0},0]
[54,{"$f":"'Sale Price'!C58","v":0},{"$f":"'Sale Price'!D58","v":0},{"$f":"VLOOKUP($A59,PURCH3!$C$4:$O$66,12)","v":0},{"$f":"VLOOKUP($A59,PURCH3!$C$4:$O$66,13)","v":0},{"$f":"HLOOKUP($A59,'Day3'!$C$4:$BJ$8,5)","v":0},{"$f":"VLOOKUP($A59,'Sale Price'!$B$3:$I$64,6)","v":0},0]
[55,{"$f":"'Sale Price'!C59","v":0},{"$f":"'Sale Price'!D59","v":0},{"$f":"VLOOKUP($A60,PURCH3!$C$4:$O$66,12)","v":0},{"$f":"VLOOKUP($A60,PURCH3!$C$4:$O$66,13)","v":0},{"$f":"HLOOKUP($A60,'Day3'!$C$4:$BJ$8,5)","v":0},{"$f":"VLOOKUP($A60,'Sale Price'!$B$3:$I$64,6)","v":0},0]
[56,{"$f":"'Sale Price'!C60","v":0},{"$f":"'Sale Price'!D60","v":0},{"$f":"VLOOKUP($A61,PURCH3!$C$4:$O$66,12)","v":0},{"$f":"VLOOKUP($A61,PURCH3!$C$4:$O$66,13)","v":0},{"$f":"HLOOKUP($A61,'Day3'!$C$4:$BJ$8,5)","v":0},{"$f":"VLOOKUP($A61,'Sale Price'!$B$3:$I$64,6)","v":0},0]
[57,{"$f":"'Sale Price'!C61","v":0},{"$f":"'Sale Price'!D61","v":0},{"$f":"VLOOKUP($A62,PURCH3!$C$4:$O$66,12)","v":0},{"$f":"VLOOKUP($A62,PURCH3!$C$4:$O$66,13)","v":0},{"$f":"HLOOKUP($A62,'Day3'!$C$4:$BJ$8,5)","v":0},{"$f":"VLOOKUP($A62,'Sale Price'!$B$3:$I$64,6)","v":0},0]
[58,{"$f":"'Sale Price'!C62","v":0},{"$f":"'Sale Price'!D62","v":0},{"$f":"VLOOKUP($A63,PURCH3!$C$4:$O$66,12)","v":0},{"$f":"VLOOKUP($A63,PURCH3!$C$4:$O$66,13)","v":0},{"$f":"HLOOKUP($A63,'Day3'!$C$4:$BJ$8,5)","v":0},{"$f":"VLOOKUP($A63,'Sale Price'!$B$3:$I$64,6)","v":0},0]
[59,{"$f":"'Sale Price'!C63","v":0},{"$f":"'Sale Price'!D63","v":0},{"$f":"VLOOKUP($A64,PURCH3!$C$4:$O$66,12)","v":0},{"$f":"VLOOKUP($A64,PURCH3!$C$4:$O$66,13)","v":0},{"$f":"HLOOKUP($A64,'Day3'!$C$4:$BJ$8,5)","v":0},{"$f":"VLOOKUP($A64,'Sale Price'!$B$3:$I$64,6)","v":0},0]
[60,{"$f":"'Sale Price'!C64","v":0},{"$f":"'Sale Price'!D64","v":0},{"$f":"VLOOKUP($A65,PURCH3!$C$4:$O$66,12)","v":0},{"$f":"VLOOKUP($A65,PURCH3!$C$4:$O$66,13)","v":0},{"$f":"HLOOKUP($A65,'Day3'!$C$4:$BJ$8,5)","v":0},{"$f":"VLOOKUP($A65,'Sale Price'!$B$3:$I$64,6)","v":0},0]
["Total",null,null,{"$f":"SUM(D6:D65)","v":0},{"$f":"SUM(E6:E65)","v":0},0,null,0]
[]
[]
[null,null,null,null,{"$f":"REGISTRATION!F15","v":0}]
[null,null,null,null,{"$f":"REGISTRATION!F18","v":0}]

{"sheet":"REPORT4","index":17,"n_rows":70,"n_cols":8,"rows_kept":70,"cut":false,"hidden":false,"merged":[[69,4,69,7],[0,0,0,7],[1,0,1,7],[2,0,4,0],[2,1,4,1],[2,2,4,2],[2,3,2,7],[3,3,3,4],[3,5,3,7]]}
[{"$f":"\"ONAM VEGETABLE MARKET\"&\" KRISHI BHAVAN  \" &REGISTRATION!F13","v":"ONAM VEGETABLE MARKET KRISHI BHAVAN  "}]
["Purchase Cum Sales Report DAY 4"]
["Code","Item","Short code","DAY4"]
[null,null,null,"Purchase",null,"SALES"]
[null,null,null,"QTY Kg","Amount Rs.","QTY Kg","Sale Price","Amount Rs."]
[1,{"$f":"'Sale Price'!C5","v":"Nendran"},{"$f":"'Sale Price'!D5","v":"Nendrn"},{"$f":"VLOOKUP($A6,PURCH4!$C$4:$O$66,12)","v":0},{"$f":"VLOOKUP($A6,PURCH4!$C$4:$O$66,13)","v":0},{"$f":"HLOOKUP($A6,'Day4'!$C$4:$BJ$8,5)","v":0},{"$f":"VLOOKUP($A6,'Sale Price'!$B$3:$I$64,7)","v":0},{"$f":"F6*G6","v":0}]
[2,{"$f":"'Sale Price'!C6","v":"Banana Green"},{"$f":"'Sale Price'!D6","v":"Ban G"},{"$f":"VLOOKUP($A7,PURCH4!$C$4:$O$66,12)","v":0},{"$f":"VLOOKUP($A7,PURCH4!$C$4:$O$66,13)","v":0},{"$f":"HLOOKUP($A7,'Day4'!$C$4:$BJ$8,5)","v":0},{"$f":"VLOOKUP($A7,'Sale Price'!$B$3:$I$64,7)","v":0},{"$f":"F7*G7","v":0}]
[3,{"$f":"'Sale Price'!C7","v":"Palayanthodan"},{"$f":"'Sale Price'!D7","v":"Palaya"},{"$f":"VLOOKUP($A8,PURCH4!$C$4:$O$66,12)","v":0},{"$f":"VLOOKUP($A8,PURCH4!$C$4:$O$66,13)","v":0},{"$f":"HLOOKUP($A8,'Day4'!$C$4:$BJ$8,5)","v":0},{"$f":"VLOOKUP($A8,'Sale Price'!$B$3:$I$64,7)","v":0},0]
[4,{"$f":"'Sale Price'!C8","v":"Poovan"},{"$f":"'Sale Price'!D8","v":"Puvan"},{"$f":"VLOOKUP($A9,PURCH4!$C$4:$O$66,12)","v":0},{"$f":"VLOOKUP($A9,PURCH4!$C$4:$O$66,13)","v":0},{"$f":"HLOOKUP($A9,'Day4'!$C$4:$BJ$8,5)","v":0},{"$f":"VLOOKUP($A9,'Sale Price'!$B$3:$I$64,7)","v":0},0]
[5,{"$f":"'Sale Price'!C9","v":"Rasakadali"},{"$f":"'Sale Price'!D9","v":"RasaK"},{"$f":"VLOOKUP($A10,PURCH4!$C$4:$O$66,12)","v":0},{"$f":"VLOOKUP($A10,PURCH4!$C$4:$O$66,13)","v":0},{"$f":"HLOOKUP($A10,'Day4'!$C$4:$BJ$8,5)","v":0},{"$f":"VLOOKUP($A10,'Sale Price'!$B$3:$I$64,7)","v":0},0]
[6,{"$f":"'Sale Price'!C10","v":"Red banana"},{"$f":"'Sale Price'!D10","v":"RedB"},{"$f":"VLOOKUP($A11,PURCH4!$C$4:$O$66,12)","v":0},{"$f":"VLOOKUP($A11,PURCH4!$C$4:$O$66,13)","v":0},{"$f":"HLOOKUP($A11,'Day4'!$C$4:$BJ$8,5)","v":0},{"$f":"VLOOKUP($A11,'Sale Price'!$B$3:$I$64,7)","v":0},0]
[7,{"$f":"'Sale Price'!C11","v":"Robusta"},{"$f":"'Sale Price'!D11","v":"Robst"},{"$f":"VLOOKUP($A12,PURCH4!$C$4:$O$66,12)","v":0},{"$f":"VLOOKUP($A12,PURCH4!$C$4:$O$66,13)","v":0},{"$f":"HLOOKUP($A12,'Day4'!$C$4:$BJ$8,5)","v":0},{"$f":"VLOOKUP($A12,'Sale Price'!$B$3:$I$64,7)","v":0},0]
[8,{"$f":"'Sale Price'!C12","v":"Peyan/Monthan"},{"$f":"'Sale Price'!D12","v":"Peyn"},{"$f":"VLOOKUP($A13,PURCH4!$C$4:$O$66,12)","v":0},{"$f":"VLOOKUP($A13,PURCH4!$C$4:$O$66,13)","v":0},{"$f":"HLOOKUP($A13,'Day4'!$C$4:$BJ$8,5)","v":0},{"$f":"VLOOKUP($A13,'Sale Price'!$B$3:$I$64,7)","v":0},0]
[9,{"$f":"'Sale Price'!C13","v":"Amorphophallus"},{"$f":"'Sale Price'!D13","v":"Chena"},{"$f":"VLOOKUP($A14,PURCH4!$C$4:$O$66,12)","v":0},{"$f":"VLOOKUP($A14,PURCH4!$C$4:$O$66,13)","v":0},{"$f":"HLOOKUP($A14,'Day4'!$C$4:$BJ$8,5)","v":0},{"$f":"VLOOKUP($A14,'Sale Price'!$B$3:$I$64,7)","v":0},0]
[10,{"$f":"'Sale Price'!C14","v":"Beans"},{"$f":"'Sale Price'!D14","v":"Beans"},{"$f":"VLOOKUP($A15,PURCH4!$C$4:$O$66,12)","v":0},{"$f":"VLOOKUP($A15,PURCH4!$C$4:$O$66,13)","v":0},{"$f":"HLOOKUP($A15,'Day4'!$C$4:$BJ$8,5)","v":0},{"$f":"VLOOKUP($A15,'Sale Price'!$B$3:$I$64,7)","v":0},0]
[11,{"$f":"'Sale Price'!C15","v":"Cluster beans"},{"$f":"'Sale Price'!D15","v":"Amara"},{"$f":"VLOOKUP($A16,PURCH4!$C$4:$O$66,12)","v":0},{"$f":"VLOOKUP($A16,PURCH4!$C$4:$O$66,13)","v":0},{"$f":"HLOOKUP($A16,'Day4'!$C$4:$BJ$8,5)","v":0},{"$f":"VLOOKUP($A16,'Sale Price'!$B$3:$I$64,7)","v":0},0]
[12,{"$f":"'Sale Price'!C16","v":"Carrot"},{"$f":"'Sale Price'!D16","v":"Carot"},{"$f":"VLOOKUP($A17,PURCH4!$C$4:$O$66,12)","v":0},{"$f":"VLOOKUP($A17,PURCH4!$C$4:$O$66,13)","v":0},{"$f":"HLOOKUP($A17,'Day4'!$C$4:$BJ$8,5)","v":0},{"$f":"VLOOKUP($A17,'Sale Price'!$B$3:$I$64,7)","v":0},0]
[13,{"$f":"'Sale Price'!C17","v":"Beetroot"},{"$f":"'Sale Price'!D17","v":"BeetR"},{"$f":"VLOOKUP($A18,PURCH4!$C$4:$O$66,12)","v":0},{"$f":"VLOOKUP($A18,PURCH4!$C$4:$O$66,13)","v":0},{"$f":"HLOOKUP($A18,'Day4'!$C$4:$BJ$8,5)","v":0},{"$f":"VLOOKUP($A18,'Sale Price'!$B$3:$I$64,7)","v":0},0]
[14,{"$f":"'Sale Price'!C18","v":"Cabbage"},{"$f":"'Sale Price'!D18","v":"Cabag"},{"$f":"VLOOKUP($A19,PURCH4!$C$4:$O$66,12)","v":0},{"$f":"VLOOKUP($A19,PURCH4!$C$4:$O$66,13)","v":0},{"$f":"HLOOKUP($A19,'Day4'!$C$4:$BJ$8,5)","v":0},{"$f":"VLOOKUP($A19,'Sale Price'!$B$3:$I$64,7)","v":0},0]
[15,{"$f":"'Sale Price'!C19","v":"Cauliflower"},{"$f":"'Sale Price'!D19","v":"CauliF"},{"$f":"VLOOKUP($A20,PURCH4!$C$4:$O$66,12)","v":0},{"$f":"VLOOKUP($A20,PURCH4!$C$4:$O$66,13)","v":0},{"$f":"HLOOKUP($A20,'Day4'!$C$4:$BJ$8,5)","v":0},{"$f":"VLOOKUP($A20,'Sale Price'!$B$3:$I$64,7)","v":0},0]
[16,{"$f":"'Sale Price'!C20","v":"Capsicum"},{"$f":"'Sale Price'!D20","v":"Capsic"},{"$f":"VLOOKUP($A21,PURCH4!$C$4:$O$66,12)","v":0},{"$f":"VLOOKUP($A21,PURCH4!$C$4:$O$66,13)","v":0},{"$f":"HLOOKUP($A21,'Day4'!$C$4:$BJ$8,5)","v":0},{"$f":"VLOOKUP($A21,'Sale Price'!$B$3:$I$64,7)","v":0},0]
[17,{"$f":"'Sale Price'!C21","v":"Tomato"},{"$f":"'Sale Price'!D21","v":"Tomat"},{"$f":"VLOOKUP($A22,PURCH4!$C$4:$O$66,12)","v":0},{"$f":"VLOOKUP($A22,PURCH4!$C$4:$O$66,13)","v":0},{"$f":"HLOOKUP($A22,'Day4'!$C$4:$BJ$8,5)","v":0},{"$f":"VLOOKUP($A22,'Sale Price'!$B$3:$I$64,7)","v":0},0]
[18,{"$f":"'Sale Price'!C22","v":"Green chillies "},{"$f":"'Sale Price'!D22","v":"ChillS"},{"$f":"VLOOKUP($A23,PURCH4!$C$4:$O$66,12)","v":0},{"$f":"VLOOKUP($A23,PURCH4!$C$4:$O$66,13)","v":0},{"$f":"HLOOKUP($A23,'Day4'!$C$4:$BJ$8,5)","v":0},{"$f":"VLOOKUP($A23,'Sale Price'!$B$3:$I$64,7)","v":0},0]
[19,{"$f":"'Sale Price'!C23","v":"Sambar Mulaku"},{"$f":"'Sale Price'!D23","v":"ChillB"},{"$f":"VLOOKUP($A24,PURCH4!$C$4:$O$66,12)","v":0},{"$f":"VLOOKUP($A24,PURCH4!$C$4:$O$66,13)","v":0},{"$f":"HLOOKUP($A24,'Day4'!$C$4:$BJ$8,5)","v":0},{"$f":"VLOOKUP($A24,'Sale Price'!$B$3:$I$64,7)","v":0},0]
[20,{"$f":"'Sale Price'!C24","v":"Bitter gourd"},{"$f":"'Sale Price'!D24","v":"BittrG"},{"$f":"VLOOKUP($A25,PURCH4!$C$4:$O$66,12)","v":0},{"$f":"VLOOKUP($A25,PURCH4!$C$4:$O$66,13)","v":0},{"$f":"HLOOKUP($A25,'Day4'!$C$4:$BJ$8,5)","v":0},{"$f":"VLOOKUP($A25,'Sale Price'!$B$3:$I$64,7)","v":0},0]
[21,{"$f":"'Sale Price'!C25","v":"Bottle gourd"},{"$f":"'Sale Price'!D25","v":"BottG"},{"$f":"VLOOKUP($A26,PURCH4!$C$4:$O$66,12)","v":0},{"$f":"VLOOKUP($A26,PURCH4!$C$4:$O$66,13)","v":0},{"$f":"HLOOKUP($A26,'Day4'!$C$4:$BJ$8,5)","v":0},{"$f":"VLOOKUP($A26,'Sale Price'!$B$3:$I$64,7)","v":0},0]
[22,{"$f":"'Sale Price'!C26","v":"Snakegourd"},{"$f":"'Sale Price'!D26","v":"SnakG"},{"$f":"VLOOKUP($A27,PURCH4!$C$4:$O$66,12)","v":0},{"$f":"VLOOKUP($A27,PURCH4!$C$4:$O$66,13)","v":0},{"$f":"HLOOKUP($A27,'Day4'!$C$4:$BJ$8,5)","v":0},{"$f":"VLOOKUP($A27,'Sale Price'!$B$3:$I$64,7)","v":0},0]
[23,{"$f":"'Sale Price'!C27","v":"Brinjal kathiri"},{"$f":"'Sale Price'!D27","v":"BrinjR"},{"$f":"VLOOKUP($A28,PURCH4!$C$4:$O$66,12)","v":0},{"$f":"VLOOKUP($A28,PURCH4!$C$4:$O$66,13)","v":0},{"$f":"HLOOKUP($A28,'Day4'!$C$4:$BJ$8,5)","v":0},{"$f":"VLOOKUP($A28,'Sale Price'!$B$3:$I$64,7)","v":0},0]
[24,{"$f":"'Sale Price'!C28","v":"Brinjal Vazhuthana"},{"$f":"'Sale Price'!D28","v":"Vazhut"},{"$f":"VLOOKUP($A29,PURCH4!$C$4:$O$66,12)","v":0},{"$f":"VLOOKUP($A29,PURCH4!$C$4:$O$66,13)","v":0},{"$f":"HLOOKUP($A29,'Day4'!$C$4:$BJ$8,5)","v":0},{"$f":"VLOOKUP($A29,'Sale Price'!$B$3:$I$64,7)","v":0},0]
[25,{"$f":"'Sale Price'!C29","v":"Pumpkin"},{"$f":"'Sale Price'!D29","v":"Pumpk"},{"$f":"VLOOKUP($A30,PURCH4!$C$4:$O$66,12)","v":0},{"$f":"VLOOKUP($A30,PURCH4!$C$4:$O$66,13)","v":0},{"$f":"HLOOKUP($A30,'Day4'!$C$4:$BJ$8,5)","v":0},{"$f":"VLOOKUP($A30,'Sale Price'!$B$3:$I$64,7)","v":0},0]
[26,{"$f":"'Sale Price'!C30","v":"Onion Big"},{"$f":"'Sale Price'!D30","v":"Savala"},{"$f":"VLOOKUP($A31,PURCH4!$C$4:$O$66,12)","v":0},{"$f":"VLOOKUP($A31,PURCH4!$C$4:$O$66,13)","v":0},{"$f":"HLOOKUP($A31,'Day4'!$C$4:$BJ$8,5)","v":0},{"$f":"VLOOKUP($A31,'Sale Price'!$B$3:$I$64,7)","v":0},0]
[27,{"$f":"'Sale Price'!C31","v":"Onion Small"},{"$f":"'Sale Price'!D31","v":"Ulli"},{"$f":"VLOOKUP($A32,PURCH4!$C$4:$O$66,12)","v":0},{"$f":"VLOOKUP($A32,PURCH4!$C$4:$O$66,13)","v":0},{"$f":"HLOOKUP($A32,'Day4'!$C$4:$BJ$8,5)","v":0},{"$f":"VLOOKUP($A32,'Sale Price'!$B$3:$I$64,7)","v":0},0]
[28,{"$f":"'Sale Price'!C32","v":"Garlic"},{"$f":"'Sale Price'!D32","v":"Garlc"},{"$f":"VLOOKUP($A33,PURCH4!$C$4:$O$66,12)","v":0},{"$f":"VLOOKUP($A33,PURCH4!$C$4:$O$66,13)","v":0},{"$f":"HLOOKUP($A33,'Day4'!$C$4:$BJ$8,5)","v":0},{"$f":"VLOOKUP($A33,'Sale Price'!$B$3:$I$64,7)","v":0},0]
[29,{"$f":"'Sale Price'!C33","v":"Ginger"},{"$f":"'Sale Price'!D33","v":"Ginger"},{"$f":"VLOOKUP($A34,PURCH4!$C$4:$O$66,12)","v":0},{"$f":"VLOOKUP($A34,PURCH4!$C$4:$O$66,13)","v":0},{"$f":"HLOOKUP($A34,'Day4'!$C$4:$BJ$8,5)","v":0},{"$f":"VLOOKUP($A34,'Sale Price'!$B$3:$I$64,7)","v":0},0]
[30,{"$f":"'Sale Price'!C34","v":"Cucumber"},{"$f":"'Sale Price'!D34","v":"Cucum"},{"$f":"VLOOKUP($A35,PURCH4!$C$4:$O$66,12)","v":0},{"$f":"VLOOKUP($A35,PURCH4!$C$4:$O$66,13)","v":0},{"$f":"HLOOKUP($A35,'Day4'!$C$4:$BJ$8,5)","v":0},{"$f":"VLOOKUP($A35,'Sale Price'!$B$3:$I$64,7)","v":0},0]
[31,{"$f":"'Sale Price'!C35","v":"Colocaisa"},{"$f":"'Sale Price'!D35","v":"Chemb"},{"$f":"VLOOKUP($A36,PURCH4!$C$4:$O$66,12)","v":0},{"$f":"VLOOKUP($A36,PURCH4!$C$4:$O$66,13)","v":0},{"$f":"HLOOKUP($A36,'Day4'!$C$4:$BJ$8,5)","v":0},{"$f":"VLOOKUP($A36,'Sale Price'!$B$3:$I$64,7)","v":0},0]
[32,{"$f":"'Sale Price'!C36","v":"Cowpea"},{"$f":"'Sale Price'!D36","v":"Cowp"},{"$f":"VLOOKUP($A37,PURCH4!$C$4:$O$66,12)","v":0},{"$f":"VLOOKUP($A37,PURCH4!$C$4:$O$66,13)","v":0},{"$f":"HLOOKUP($A37,'Day4'!$C$4:$BJ$8,5)","v":0},{"$f":"VLOOKUP($A37,'Sale Price'!$B$3:$I$64,7)","v":0},0]
[33,{"$f":"'Sale Price'!C37","v":"Ashgourd/Thadiyan"},{"$f":"'Sale Price'!D37","v":"AshG"},{"$f":"VLOOKUP($A38,PURCH4!$C$4:$O$66,12)","v":0},{"$f":"VLOOKUP($A38,PURCH4!$C$4:$O$66,13)","v":0},{"$f":"HLOOKUP($A38,'Day4'!$C$4:$BJ$8,5)","v":0},{"$f":"VLOOKUP($A38,'Sale Price'!$B$3:$I$64,7)","v":0},0]
[34,{"$f":"'Sale Price'!C38","v":"Ladies finger"},{"$f":"'Sale Price'!D38","v":"Venda"},{"$f":"VLOOKUP($A39,PURCH4!$C$4:$O$66,12)","v":0},{"$f":"VLOOKUP($A39,PURCH4!$C$4:$O$66,13)","v":0},{"$f":"HLOOKUP($A39,'Day4'!$C$4:$BJ$8,5)","v":0},{"$f":"VLOOKUP($A39,'Sale Price'!$B$3:$I$64,7)","v":0},0]
[35,{"$f":"'Sale Price'!C39","v":"Drumstick"},{"$f":"'Sale Price'!D39","v":"Drumst"},{"$f":"VLOOKUP($A40,PURCH4!$C$4:$O$66,12)","v":0},{"$f":"VLOOKUP($A40,PURCH4!$C$4:$O$66,13)","v":0},{"$f":"HLOOKUP($A40,'Day4'!$C$4:$BJ$8,5)","v":0},{"$f":"VLOOKUP($A40,'Sale Price'!$B$3:$I$64,7)","v":0},0]
[36,{"$f":"'Sale Price'!C40","v":"Koval"},{"$f":"'Sale Price'!D40","v":"Koval"},{"$f":"VLOOKUP($A41,PURCH4!$C$4:$O$66,12)","v":0},{"$f":"VLOOKUP($A41,PURCH4!$C$4:$O$66,13)","v":0},{"$f":"HLOOKUP($A41,'Day4'!$C$4:$BJ$8,5)","v":0},{"$f":"VLOOKUP($A41,'Sale Price'!$B$3:$I$64,7)","v":0},0]
[37,{"$f":"'Sale Price'!C41","v":"CurryLeaf"},{"$f":"'Sale Price'!D41","v":"CryLef"},{"$f":"VLOOKUP($A42,PURCH4!$C$4:$O$66,12)","v":0},{"$f":"VLOOKUP($A42,PURCH4!$C$4:$O$66,13)","v":0},{"$f":"HLOOKUP($A42,'Day4'!$C$4:$BJ$8,5)","v":0},{"$f":"VLOOKUP($A42,'Sale Price'!$B$3:$I$64,7)","v":0},0]
[38,{"$f":"'Sale Price'!C42","v":"MintLeaf"},{"$f":"'Sale Price'!D42","v":"MntLf"},{"$f":"VLOOKUP($A43,PURCH4!$C$4:$O$66,12)","v":0},{"$f":"VLOOKUP($A43,PURCH4!$C$4:$O$66,13)","v":0},{"$f":"HLOOKUP($A43,'Day4'!$C$4:$BJ$8,5)","v":0},{"$f":"VLOOKUP($A43,'Sale Price'!$B$3:$I$64,7)","v":0},0]
[39,{"$f":"'Sale Price'!C43","v":"Coriander Leaf"},{"$f":"'Sale Price'!D43","v":"CorLf"},{"$f":"VLOOKUP($A44,PURCH4!$C$4:$O$66,12)","v":0},{"$f":"VLOOKUP($A44,PURCH4!$C$4:$O$66,13)","v":0},{"$f":"HLOOKUP($A44,'Day4'!$C$4:$BJ$8,5)","v":0},{"$f":"VLOOKUP($A44,'Sale Price'!$B$3:$I$64,7)","v":0},0]
[40,{"$f":"'Sale Price'!C44","v":"Amaranthus"},{"$f":"'Sale Price'!D44","v":"Cheera"},{"$f":"VLOOKUP($A45,PURCH4!$C$4:$O$66,12)","v":0},{"$f":"VLOOKUP($A45,PURCH4!$C$4:$O$66,13)","v":0},{"$f":"HLOOKUP($A45,'Day4'!$C$4:$BJ$8,5)","v":0},{"$f":"VLOOKUP($A45,'Sale Price'!$B$3:$I$64,7)","v":0},0]
[41,{"$f":"'Sale Price'!C45","v":"Lemon Big"},{"$f":"'Sale Price'!D45","v":"LemnB"},{"$f":"VLOOKUP($A46,PURCH4!$C$4:$O$66,12)","v":0},{"$f":"VLOOKUP($A46,PURCH4!$C$4:$O$66,13)","v":0},{"$f":"HLOOKUP($A46,'Day4'!$C$4:$BJ$8,5)","v":0},{"$f":"VLOOKUP($A46,'Sale Price'!$B$3:$I$64,7)","v":0},0]
[42,{"$f":"'Sale Price'!C46","v":"Lemon small"},{"$f":"'Sale Price'!D46","v":"LemnS"},{"$f":"VLOOKUP($A47,PURCH4!$C$4:$O$66,12)","v":0},{"$f":"VLOOKUP($A47,PURCH4!$C$4:$O$66,13)","v":0},{"$f":"HLOOKUP($A47,'Day4'!$C$4:$BJ$8,5)","v":0},{"$f":"VLOOKUP($A47,'Sale Price'!$B$3:$I$64,7)","v":0},0]
[43,{"$f":"'Sale Price'!C47","v":"Mango"},{"$f":"'Sale Price'!D47","v":"Mango"},{"$f":"VLOOKUP($A48,PURCH4!$C$4:$O$66,12)","v":0},{"$f":"VLOOKUP($A48,PURCH4!$C$4:$O$66,13)","v":0},{"$f":"HLOOKUP($A48,'Day4'!$C$4:$BJ$8,5)","v":0},{"$f":"VLOOKUP($A48,'Sale Price'!$B$3:$I$64,7)","v":0},0]
[44,{"$f":"'Sale Price'!C48","v":"Pineapple"},{"$f":"'Sale Price'!D48","v":"PineA"},{"$f":"VLOOKUP($A49,PURCH4!$C$4:$O$66,12)","v":0},{"$f":"VLOOKUP($A49,PURCH4!$C$4:$O$66,13)","v":0},{"$f":"HLOOKUP($A49,'Day4'!$C$4:$BJ$8,5)","v":0},{"$f":"VLOOKUP($A49,'Sale Price'!$B$3:$I$64,7)","v":0},0]
[45,{"$f":"'Sale Price'!C49","v":"Potato"},{"$f":"'Sale Price'!D49","v":"Potat"},{"$f":"VLOOKUP($A50,PURCH4!$C$4:$O$66,12)","v":0},{"$f":"VLOOKUP($A50,PURCH4!$C$4:$O$66,13)","v":0},{"$f":"HLOOKUP($A50,'Day4'!$C$4:$BJ$8,5)","v":0},{"$f":"VLOOKUP($A50,'Sale Price'!$B$3:$I$64,7)","v":0},0]
[46,{"$f":"'Sale Price'!C50","v":"Amla"},{"$f":"'Sale Price'!D50","v":"Amla"},{"$f":"VLOOKUP($A51,PURCH4!$C$4:$O$66,12)","v":0},{"$f":"VLOOKUP($A51,PURCH4!$C$4:$O$66,13)","v":0},{"$f":"HLOOKUP($A51,'Day4'!$C$4:$BJ$8,5)","v":0},{"$f":"VLOOKUP($A51,'Sale Price'!$B$3:$I$64,7)","v":0},0]
[47,{"$f":"'Sale Price'!C51","v":"Tapioca"},{"$f":"'Sale Price'!D51","v":"Tap"},{"$f":"VLOOKUP($A52,PURCH4!$C$4:$O$66,12)","v":0},{"$f":"VLOOKUP($A52,PURCH4!$C$4:$O$66,13)","v":0},{"$f":"HLOOKUP($A52,'Day4'!$C$4:$BJ$8,5)","v":0},{"$f":"VLOOKUP($A52,'Sale Price'!$B$3:$I$64,7)","v":0},0]
[48,{"$f":"'Sale Price'!C52","v":0},{"$f":"'Sale Price'!D52","v":0},{"$f":"VLOOKUP($A53,PURCH4!$C$4:$O$66,12)","v":0},{"$f":"VLOOKUP($A53,PURCH4!$C$4:$O$66,13)","v":0},{"$f":"HLOOKUP($A53,'Day4'!$C$4:$BJ$8,5)","v":0},{"$f":"VLOOKUP($A53,'Sale Price'!$B$3:$I$64,7)","v":0},0]
[49,{"$f":"'Sale Price'!C53","v":0},{"$f":"'Sale Price'!D53","v":0},{"$f":"VLOOKUP($A54,PURCH4!$C$4:$O$66,12)","v":0},{"$f":"VLOOKUP($A54,PURCH4!$C$4:$O$66,13)","v":0},{"$f":"HLOOKUP($A54,'Day4'!$C$4:$BJ$8,5)","v":0},{"$f":"VLOOKUP($A54,'Sale Price'!$B$3:$I$64,7)","v":0},0]
[50,{"$f":"'Sale Price'!C54","v":0},{"$f":"'Sale Price'!D54","v":0},{"$f":"VLOOKUP($A55,PURCH4!$C$4:$O$66,12)","v":0},{"$f":"VLOOKUP($A55,PURCH4!$C$4:$O$66,13)","v":0},{"$f":"HLOOKUP($A55,'Day4'!$C$4:$BJ$8,5)","v":0},{"$f":"VLOOKUP($A55,'Sale Price'!$B$3:$I$64,7)","v":0},0]
[51,{"$f":"'Sale Price'!C55","v":0},{"$f":"'Sale Price'!D55","v":0},{"$f":"VLOOKUP($A56,PURCH4!$C$4:$O$66,12)","v":0},{"$f":"VLOOKUP($A56,PURCH4!$C$4:$O$66,13)","v":0},{"$f":"HLOOKUP($A56,'Day4'!$C$4:$BJ$8,5)","v":0},{"$f":"VLOOKUP($A56,'Sale Price'!$B$3:$I$64,7)","v":0},0]
[52,{"$f":"'Sale Price'!C56","v":0},{"$f":"'Sale Price'!D56","v":0},{"$f":"VLOOKUP($A57,PURCH4!$C$4:$O$66,12)","v":0},{"$f":"VLOOKUP($A57,PURCH4!$C$4:$O$66,13)","v":0},{"$f":"HLOOKUP($A57,'Day4'!$C$4:$BJ$8,5)","v":0},{"$f":"VLOOKUP($A57,'Sale Price'!$B$3:$I$64,7)","v":0},0]
[53,{"$f":"'Sale Price'!C57","v":0},{"$f":"'Sale Price'!D57","v":0},{"$f":"VLOOKUP($A58,PURCH4!$C$4:$O$66,12)","v":0},{"$f":"VLOOKUP($A58,PURCH4!$C$4:$O$66,13)","v":0},{"$f":"HLOOKUP($A58,'Day4'!$C$4:$BJ$8,5)","v":0},{"$f":"VLOOKUP($A58,'Sale Price'!$B$3:$I$64,7)","v":0},0]
[54,{"$f":"'Sale Price'!C58","v":0},{"$f":"'Sale Price'!D58","v":0},{"$f":"VLOOKUP($A59,PURCH4!$C$4:$O$66,12)","v":0},{"$f":"VLOOKUP($A59,PURCH4!$C$4:$O$66,13)","v":0},{"$f":"HLOOKUP($A59,'Day4'!$C$4:$BJ$8,5)","v":0},{"$f":"VLOOKUP($A59,'Sale Price'!$B$3:$I$64,7)","v":0},0]
[55,{"$f":"'Sale Price'!C59","v":0},{"$f":"'Sale Price'!D59","v":0},{"$f":"VLOOKUP($A60,PURCH4!$C$4:$O$66,12)","v":0},{"$f":"VLOOKUP($A60,PURCH4!$C$4:$O$66,13)","v":0},{"$f":"HLOOKUP($A60,'Day4'!$C$4:$BJ$8,5)","v":0},{"$f":"VLOOKUP($A60,'Sale Price'!$B$3:$I$64,7)","v":0},0]
[56,{"$f":"'Sale Price'!C60","v":0},{"$f":"'Sale Price'!D60","v":0},{"$f":"VLOOKUP($A61,PURCH4!$C$4:$O$66,12)","v":0},{"$f":"VLOOKUP($A61,PURCH4!$C$4:$O$66,13)","v":0},{"$f":"HLOOKUP($A61,'Day4'!$C$4:$BJ$8,5)","v":0},{"$f":"VLOOKUP($A61,'Sale Price'!$B$3:$I$64,7)","v":0},0]
[57,{"$f":"'Sale Price'!C61","v":0},{"$f":"'Sale Price'!D61","v":0},{"$f":"VLOOKUP($A62,PURCH4!$C$4:$O$66,12)","v":0},{"$f":"VLOOKUP($A62,PURCH4!$C$4:$O$66,13)","v":0},{"$f":"HLOOKUP($A62,'Day4'!$C$4:$BJ$8,5)","v":0},{"$f":"VLOOKUP($A62,'Sale Price'!$B$3:$I$64,7)","v":0},0]
[58,{"$f":"'Sale Price'!C62","v":0},{"$f":"'Sale Price'!D62","v":0},{"$f":"VLOOKUP($A63,PURCH4!$C$4:$O$66,12)","v":0},{"$f":"VLOOKUP($A63,PURCH4!$C$4:$O$66,13)","v":0},{"$f":"HLOOKUP($A63,'Day4'!$C$4:$BJ$8,5)","v":0},{"$f":"VLOOKUP($A63,'Sale Price'!$B$3:$I$64,7)","v":0},0]
[59,{"$f":"'Sale Price'!C63","v":0},{"$f":"'Sale Price'!D63","v":0},{"$f":"VLOOKUP($A64,PURCH4!$C$4:$O$66,12)","v":0},{"$f":"VLOOKUP($A64,PURCH4!$C$4:$O$66,13)","v":0},{"$f":"HLOOKUP($A64,'Day4'!$C$4:$BJ$8,5)","v":0},{"$f":"VLOOKUP($A64,'Sale Price'!$B$3:$I$64,7)","v":0},0]
[60,{"$f":"'Sale Price'!C64","v":0},{"$f":"'Sale Price'!D64","v":0},{"$f":"VLOOKUP($A65,PURCH4!$C$4:$O$66,12)","v":0},{"$f":"VLOOKUP($A65,PURCH4!$C$4:$O$66,13)","v":0},{"$f":"HLOOKUP($A65,'Day4'!$C$4:$BJ$8,5)","v":0},{"$f":"VLOOKUP($A65,'Sale Price'!$B$3:$I$64,7)","v":0},0]
["Total",null,null,{"$f":"SUM(D6:D65)","v":0},{"$f":"SUM(E6:E65)","v":0},0,null,0]
[]
[]
[null,null,null,null,{"$f":"REGISTRATION!F15","v":0}]
[null,null,null,null,{"$f":"REGISTRATION!F18","v":0}]

{"sheet":"REPORT5","index":18,"n_rows":70,"n_cols":8,"rows_kept":70,"cut":false,"hidden":false,"merged":[[69,4,69,7],[0,0,0,7],[1,0,1,7],[2,0,4,0],[2,1,4,1],[2,2,4,2],[2,3,2,7],[3,3,3,4],[3,5,3,7]]}
[{"$f":"\"ONAM VEGETABLE MARKET\"&\" KRISHI BHAVAN  \" &REGISTRATION!F13","v":"ONAM VEGETABLE MARKET KRISHI BHAVAN  "}]
["Purchase Cum Sales Report DAY 5"]
["Code","Item","Short code","DAY5"]
[null,null,null,"Purchase",null,"SALES"]
[null,null,null,"QTY Kg","Amount Rs.","QTY Kg","Sale Price","Amount Rs."]
[1,{"$f":"'Sale Price'!C5","v":"Nendran"},{"$f":"'Sale Price'!D5","v":"Nendrn"},{"$f":"VLOOKUP($A6,PURCH5!$C$4:$O$65,12)","v":0},{"$f":"VLOOKUP($A6,PURCH5!$C$4:$O$65,13)","v":0},{"$f":"HLOOKUP($A6,'Day5'!$C$4:$BJ$8,5)","v":0},{"$f":"VLOOKUP($A6,'Sale Price'!$B$3:$I$64,8)","v":0},{"$f":"F6*G6","v":0}]
[2,{"$f":"'Sale Price'!C6","v":"Banana Green"},{"$f":"'Sale Price'!D6","v":"Ban G"},{"$f":"VLOOKUP($A7,PURCH5!$C$4:$O$65,12)","v":0},{"$f":"VLOOKUP($A7,PURCH5!$C$4:$O$65,13)","v":0},{"$f":"HLOOKUP($A7,'Day5'!$C$4:$BJ$8,5)","v":0},{"$f":"VLOOKUP($A7,'Sale Price'!$B$3:$I$64,8)","v":0},{"$f":"F7*G7","v":0}]
[3,{"$f":"'Sale Price'!C7","v":"Palayanthodan"},{"$f":"'Sale Price'!D7","v":"Palaya"},{"$f":"VLOOKUP($A8,PURCH5!$C$4:$O$65,12)","v":0},{"$f":"VLOOKUP($A8,PURCH5!$C$4:$O$65,13)","v":0},{"$f":"HLOOKUP($A8,'Day5'!$C$4:$BJ$8,5)","v":0},{"$f":"VLOOKUP($A8,'Sale Price'!$B$3:$I$64,8)","v":0},0]
[4,{"$f":"'Sale Price'!C8","v":"Poovan"},{"$f":"'Sale Price'!D8","v":"Puvan"},{"$f":"VLOOKUP($A9,PURCH5!$C$4:$O$65,12)","v":0},{"$f":"VLOOKUP($A9,PURCH5!$C$4:$O$65,13)","v":0},{"$f":"HLOOKUP($A9,'Day5'!$C$4:$BJ$8,5)","v":0},{"$f":"VLOOKUP($A9,'Sale Price'!$B$3:$I$64,8)","v":0},0]
[5,{"$f":"'Sale Price'!C9","v":"Rasakadali"},{"$f":"'Sale Price'!D9","v":"RasaK"},{"$f":"VLOOKUP($A10,PURCH5!$C$4:$O$65,12)","v":0},{"$f":"VLOOKUP($A10,PURCH5!$C$4:$O$65,13)","v":0},{"$f":"HLOOKUP($A10,'Day5'!$C$4:$BJ$8,5)","v":0},{"$f":"VLOOKUP($A10,'Sale Price'!$B$3:$I$64,8)","v":0},0]
[6,{"$f":"'Sale Price'!C10","v":"Red banana"},{"$f":"'Sale Price'!D10","v":"RedB"},{"$f":"VLOOKUP($A11,PURCH5!$C$4:$O$65,12)","v":0},{"$f":"VLOOKUP($A11,PURCH5!$C$4:$O$65,13)","v":0},{"$f":"HLOOKUP($A11,'Day5'!$C$4:$BJ$8,5)","v":0},{"$f":"VLOOKUP($A11,'Sale Price'!$B$3:$I$64,8)","v":0},0]
[7,{"$f":"'Sale Price'!C11","v":"Robusta"},{"$f":"'Sale Price'!D11","v":"Robst"},{"$f":"VLOOKUP($A12,PURCH5!$C$4:$O$65,12)","v":0},{"$f":"VLOOKUP($A12,PURCH5!$C$4:$O$65,13)","v":0},{"$f":"HLOOKUP($A12,'Day5'!$C$4:$BJ$8,5)","v":0},{"$f":"VLOOKUP($A12,'Sale Price'!$B$3:$I$64,8)","v":0},0]
[8,{"$f":"'Sale Price'!C12","v":"Peyan/Monthan"},{"$f":"'Sale Price'!D12","v":"Peyn"},{"$f":"VLOOKUP($A13,PURCH5!$C$4:$O$65,12)","v":0},{"$f":"VLOOKUP($A13,PURCH5!$C$4:$O$65,13)","v":0},{"$f":"HLOOKUP($A13,'Day5'!$C$4:$BJ$8,5)","v":0},{"$f":"VLOOKUP($A13,'Sale Price'!$B$3:$I$64,8)","v":0},0]
[9,{"$f":"'Sale Price'!C13","v":"Amorphophallus"},{"$f":"'Sale Price'!D13","v":"Chena"},{"$f":"VLOOKUP($A14,PURCH5!$C$4:$O$65,12)","v":0},{"$f":"VLOOKUP($A14,PURCH5!$C$4:$O$65,13)","v":0},{"$f":"HLOOKUP($A14,'Day5'!$C$4:$BJ$8,5)","v":0},{"$f":"VLOOKUP($A14,'Sale Price'!$B$3:$I$64,8)","v":0},0]
[10,{"$f":"'Sale Price'!C14","v":"Beans"},{"$f":"'Sale Price'!D14","v":"Beans"},{"$f":"VLOOKUP($A15,PURCH5!$C$4:$O$65,12)","v":0},{"$f":"VLOOKUP($A15,PURCH5!$C$4:$O$65,13)","v":0},{"$f":"HLOOKUP($A15,'Day5'!$C$4:$BJ$8,5)","v":0},{"$f":"VLOOKUP($A15,'Sale Price'!$B$3:$I$64,8)","v":0},0]
[11,{"$f":"'Sale Price'!C15","v":"Cluster beans"},{"$f":"'Sale Price'!D15","v":"Amara"},{"$f":"VLOOKUP($A16,PURCH5!$C$4:$O$65,12)","v":0},{"$f":"VLOOKUP($A16,PURCH5!$C$4:$O$65,13)","v":0},{"$f":"HLOOKUP($A16,'Day5'!$C$4:$BJ$8,5)","v":0},{"$f":"VLOOKUP($A16,'Sale Price'!$B$3:$I$64,8)","v":0},0]
[12,{"$f":"'Sale Price'!C16","v":"Carrot"},{"$f":"'Sale Price'!D16","v":"Carot"},{"$f":"VLOOKUP($A17,PURCH5!$C$4:$O$65,12)","v":0},{"$f":"VLOOKUP($A17,PURCH5!$C$4:$O$65,13)","v":0},{"$f":"HLOOKUP($A17,'Day5'!$C$4:$BJ$8,5)","v":0},{"$f":"VLOOKUP($A17,'Sale Price'!$B$3:$I$64,8)","v":0},0]
[13,{"$f":"'Sale Price'!C17","v":"Beetroot"},{"$f":"'Sale Price'!D17","v":"BeetR"},{"$f":"VLOOKUP($A18,PURCH5!$C$4:$O$65,12)","v":0},{"$f":"VLOOKUP($A18,PURCH5!$C$4:$O$65,13)","v":0},{"$f":"HLOOKUP($A18,'Day5'!$C$4:$BJ$8,5)","v":0},{"$f":"VLOOKUP($A18,'Sale Price'!$B$3:$I$64,8)","v":0},0]
[14,{"$f":"'Sale Price'!C18","v":"Cabbage"},{"$f":"'Sale Price'!D18","v":"Cabag"},{"$f":"VLOOKUP($A19,PURCH5!$C$4:$O$65,12)","v":0},{"$f":"VLOOKUP($A19,PURCH5!$C$4:$O$65,13)","v":0},{"$f":"HLOOKUP($A19,'Day5'!$C$4:$BJ$8,5)","v":0},{"$f":"VLOOKUP($A19,'Sale Price'!$B$3:$I$64,8)","v":0},0]
[15,{"$f":"'Sale Price'!C19","v":"Cauliflower"},{"$f":"'Sale Price'!D19","v":"CauliF"},{"$f":"VLOOKUP($A20,PURCH5!$C$4:$O$65,12)","v":0},{"$f":"VLOOKUP($A20,PURCH5!$C$4:$O$65,13)","v":0},{"$f":"HLOOKUP($A20,'Day5'!$C$4:$BJ$8,5)","v":0},{"$f":"VLOOKUP($A20,'Sale Price'!$B$3:$I$64,8)","v":0},0]
[16,{"$f":"'Sale Price'!C20","v":"Capsicum"},{"$f":"'Sale Price'!D20","v":"Capsic"},{"$f":"VLOOKUP($A21,PURCH5!$C$4:$O$65,12)","v":0},{"$f":"VLOOKUP($A21,PURCH5!$C$4:$O$65,13)","v":0},{"$f":"HLOOKUP($A21,'Day5'!$C$4:$BJ$8,5)","v":0},{"$f":"VLOOKUP($A21,'Sale Price'!$B$3:$I$64,8)","v":0},0]
[17,{"$f":"'Sale Price'!C21","v":"Tomato"},{"$f":"'Sale Price'!D21","v":"Tomat"},{"$f":"VLOOKUP($A22,PURCH5!$C$4:$O$65,12)","v":0},{"$f":"VLOOKUP($A22,PURCH5!$C$4:$O$65,13)","v":0},{"$f":"HLOOKUP($A22,'Day5'!$C$4:$BJ$8,5)","v":0},{"$f":"VLOOKUP($A22,'Sale Price'!$B$3:$I$64,8)","v":0},0]
[18,{"$f":"'Sale Price'!C22","v":"Green chillies "},{"$f":"'Sale Price'!D22","v":"ChillS"},{"$f":"VLOOKUP($A23,PURCH5!$C$4:$O$65,12)","v":0},{"$f":"VLOOKUP($A23,PURCH5!$C$4:$O$65,13)","v":0},{"$f":"HLOOKUP($A23,'Day5'!$C$4:$BJ$8,5)","v":0},{"$f":"VLOOKUP($A23,'Sale Price'!$B$3:$I$64,8)","v":0},0]
[19,{"$f":"'Sale Price'!C23","v":"Sambar Mulaku"},{"$f":"'Sale Price'!D23","v":"ChillB"},{"$f":"VLOOKUP($A24,PURCH5!$C$4:$O$65,12)","v":0},{"$f":"VLOOKUP($A24,PURCH5!$C$4:$O$65,13)","v":0},{"$f":"HLOOKUP($A24,'Day5'!$C$4:$BJ$8,5)","v":0},{"$f":"VLOOKUP($A24,'Sale Price'!$B$3:$I$64,8)","v":0},0]
[20,{"$f":"'Sale Price'!C24","v":"Bitter gourd"},{"$f":"'Sale Price'!D24","v":"BittrG"},{"$f":"VLOOKUP($A25,PURCH5!$C$4:$O$65,12)","v":0},{"$f":"VLOOKUP($A25,PURCH5!$C$4:$O$65,13)","v":0},{"$f":"HLOOKUP($A25,'Day5'!$C$4:$BJ$8,5)","v":0},{"$f":"VLOOKUP($A25,'Sale Price'!$B$3:$I$64,8)","v":0},0]
[21,{"$f":"'Sale Price'!C25","v":"Bottle gourd"},{"$f":"'Sale Price'!D25","v":"BottG"},{"$f":"VLOOKUP($A26,PURCH5!$C$4:$O$65,12)","v":0},{"$f":"VLOOKUP($A26,PURCH5!$C$4:$O$65,13)","v":0},{"$f":"HLOOKUP($A26,'Day5'!$C$4:$BJ$8,5)","v":0},{"$f":"VLOOKUP($A26,'Sale Price'!$B$3:$I$64,8)","v":0},0]
[22,{"$f":"'Sale Price'!C26","v":"Snakegourd"},{"$f":"'Sale Price'!D26","v":"SnakG"},{"$f":"VLOOKUP($A27,PURCH5!$C$4:$O$65,12)","v":0},{"$f":"VLOOKUP($A27,PURCH5!$C$4:$O$65,13)","v":0},{"$f":"HLOOKUP($A27,'Day5'!$C$4:$BJ$8,5)","v":0},{"$f":"VLOOKUP($A27,'Sale Price'!$B$3:$I$64,8)","v":0},0]
[23,{"$f":"'Sale Price'!C27","v":"Brinjal kathiri"},{"$f":"'Sale Price'!D27","v":"BrinjR"},{"$f":"VLOOKUP($A28,PURCH5!$C$4:$O$65,12)","v":0},{"$f":"VLOOKUP($A28,PURCH5!$C$4:$O$65,13)","v":0},{"$f":"HLOOKUP($A28,'Day5'!$C$4:$BJ$8,5)","v":0},{"$f":"VLOOKUP($A28,'Sale Price'!$B$3:$I$64,8)","v":0},0]
[24,{"$f":"'Sale Price'!C28","v":"Brinjal Vazhuthana"},{"$f":"'Sale Price'!D28","v":"Vazhut"},{"$f":"VLOOKUP($A29,PURCH5!$C$4:$O$65,12)","v":0},{"$f":"VLOOKUP($A29,PURCH5!$C$4:$O$65,13)","v":0},{"$f":"HLOOKUP($A29,'Day5'!$C$4:$BJ$8,5)","v":0},{"$f":"VLOOKUP($A29,'Sale Price'!$B$3:$I$64,8)","v":0},0]
[25,{"$f":"'Sale Price'!C29","v":"Pumpkin"},{"$f":"'Sale Price'!D29","v":"Pumpk"},{"$f":"VLOOKUP($A30,PURCH5!$C$4:$O$65,12)","v":0},{"$f":"VLOOKUP($A30,PURCH5!$C$4:$O$65,13)","v":0},{"$f":"HLOOKUP($A30,'Day5'!$C$4:$BJ$8,5)","v":0},{"$f":"VLOOKUP($A30,'Sale Price'!$B$3:$I$64,8)","v":0},0]
[26,{"$f":"'Sale Price'!C30","v":"Onion Big"},{"$f":"'Sale Price'!D30","v":"Savala"},{"$f":"VLOOKUP($A31,PURCH5!$C$4:$O$65,12)","v":0},{"$f":"VLOOKUP($A31,PURCH5!$C$4:$O$65,13)","v":0},{"$f":"HLOOKUP($A31,'Day5'!$C$4:$BJ$8,5)","v":0},{"$f":"VLOOKUP($A31,'Sale Price'!$B$3:$I$64,8)","v":0},0]
[27,{"$f":"'Sale Price'!C31","v":"Onion Small"},{"$f":"'Sale Price'!D31","v":"Ulli"},{"$f":"VLOOKUP($A32,PURCH5!$C$4:$O$65,12)","v":0},{"$f":"VLOOKUP($A32,PURCH5!$C$4:$O$65,13)","v":0},{"$f":"HLOOKUP($A32,'Day5'!$C$4:$BJ$8,5)","v":0},{"$f":"VLOOKUP($A32,'Sale Price'!$B$3:$I$64,8)","v":0},0]
[28,{"$f":"'Sale Price'!C32","v":"Garlic"},{"$f":"'Sale Price'!D32","v":"Garlc"},{"$f":"VLOOKUP($A33,PURCH5!$C$4:$O$65,12)","v":0},{"$f":"VLOOKUP($A33,PURCH5!$C$4:$O$65,13)","v":0},{"$f":"HLOOKUP($A33,'Day5'!$C$4:$BJ$8,5)","v":0},{"$f":"VLOOKUP($A33,'Sale Price'!$B$3:$I$64,8)","v":0},0]
[29,{"$f":"'Sale Price'!C33","v":"Ginger"},{"$f":"'Sale Price'!D33","v":"Ginger"},{"$f":"VLOOKUP($A34,PURCH5!$C$4:$O$65,12)","v":0},{"$f":"VLOOKUP($A34,PURCH5!$C$4:$O$65,13)","v":0},{"$f":"HLOOKUP($A34,'Day5'!$C$4:$BJ$8,5)","v":0},{"$f":"VLOOKUP($A34,'Sale Price'!$B$3:$I$64,8)","v":0},0]
[30,{"$f":"'Sale Price'!C34","v":"Cucumber"},{"$f":"'Sale Price'!D34","v":"Cucum"},{"$f":"VLOOKUP($A35,PURCH5!$C$4:$O$65,12)","v":0},{"$f":"VLOOKUP($A35,PURCH5!$C$4:$O$65,13)","v":0},{"$f":"HLOOKUP($A35,'Day5'!$C$4:$BJ$8,5)","v":0},{"$f":"VLOOKUP($A35,'Sale Price'!$B$3:$I$64,8)","v":0},0]
[31,{"$f":"'Sale Price'!C35","v":"Colocaisa"},{"$f":"'Sale Price'!D35","v":"Chemb"},{"$f":"VLOOKUP($A36,PURCH5!$C$4:$O$65,12)","v":0},{"$f":"VLOOKUP($A36,PURCH5!$C$4:$O$65,13)","v":0},{"$f":"HLOOKUP($A36,'Day5'!$C$4:$BJ$8,5)","v":0},{"$f":"VLOOKUP($A36,'Sale Price'!$B$3:$I$64,8)","v":0},0]
[32,{"$f":"'Sale Price'!C36","v":"Cowpea"},{"$f":"'Sale Price'!D36","v":"Cowp"},{"$f":"VLOOKUP($A37,PURCH5!$C$4:$O$65,12)","v":0},{"$f":"VLOOKUP($A37,PURCH5!$C$4:$O$65,13)","v":0},{"$f":"HLOOKUP($A37,'Day5'!$C$4:$BJ$8,5)","v":0},{"$f":"VLOOKUP($A37,'Sale Price'!$B$3:$I$64,8)","v":0},0]
[33,{"$f":"'Sale Price'!C37","v":"Ashgourd/Thadiyan"},{"$f":"'Sale Price'!D37","v":"AshG"},{"$f":"VLOOKUP($A38,PURCH5!$C$4:$O$65,12)","v":0},{"$f":"VLOOKUP($A38,PURCH5!$C$4:$O$65,13)","v":0},{"$f":"HLOOKUP($A38,'Day5'!$C$4:$BJ$8,5)","v":0},{"$f":"VLOOKUP($A38,'Sale Price'!$B$3:$I$64,8)","v":0},0]
[34,{"$f":"'Sale Price'!C38","v":"Ladies finger"},{"$f":"'Sale Price'!D38","v":"Venda"},{"$f":"VLOOKUP($A39,PURCH5!$C$4:$O$65,12)","v":0},{"$f":"VLOOKUP($A39,PURCH5!$C$4:$O$65,13)","v":0},{"$f":"HLOOKUP($A39,'Day5'!$C$4:$BJ$8,5)","v":0},{"$f":"VLOOKUP($A39,'Sale Price'!$B$3:$I$64,8)","v":0},0]
[35,{"$f":"'Sale Price'!C39","v":"Drumstick"},{"$f":"'Sale Price'!D39","v":"Drumst"},{"$f":"VLOOKUP($A40,PURCH5!$C$4:$O$65,12)","v":0},{"$f":"VLOOKUP($A40,PURCH5!$C$4:$O$65,13)","v":0},{"$f":"HLOOKUP($A40,'Day5'!$C$4:$BJ$8,5)","v":0},{"$f":"VLOOKUP($A40,'Sale Price'!$B$3:$I$64,8)","v":0},0]
[36,{"$f":"'Sale Price'!C40","v":"Koval"},{"$f":"'Sale Price'!D40","v":"Koval"},{"$f":"VLOOKUP($A41,PURCH5!$C$4:$O$65,12)","v":0},{"$f":"VLOOKUP($A41,PURCH5!$C$4:$O$65,13)","v":0},{"$f":"HLOOKUP($A41,'Day5'!$C$4:$BJ$8,5)","v":0},{"$f":"VLOOKUP($A41,'Sale Price'!$B$3:$I$64,8)","v":0},0]
[37,{"$f":"'Sale Price'!C41","v":"CurryLeaf"},{"$f":"'Sale Price'!D41","v":"CryLef"},{"$f":"VLOOKUP($A42,PURCH5!$C$4:$O$65,12)","v":0},{"$f":"VLOOKUP($A42,PURCH5!$C$4:$O$65,13)","v":0},{"$f":"HLOOKUP($A42,'Day5'!$C$4:$BJ$8,5)","v":0},{"$f":"VLOOKUP($A42,'Sale Price'!$B$3:$I$64,8)","v":0},0]
[38,{"$f":"'Sale Price'!C42","v":"MintLeaf"},{"$f":"'Sale Price'!D42","v":"MntLf"},{"$f":"VLOOKUP($A43,PURCH5!$C$4:$O$65,12)","v":0},{"$f":"VLOOKUP($A43,PURCH5!$C$4:$O$65,13)","v":0},{"$f":"HLOOKUP($A43,'Day5'!$C$4:$BJ$8,5)","v":0},{"$f":"VLOOKUP($A43,'Sale Price'!$B$3:$I$64,8)","v":0},0]
[39,{"$f":"'Sale Price'!C43","v":"Coriander Leaf"},{"$f":"'Sale Price'!D43","v":"CorLf"},{"$f":"VLOOKUP($A44,PURCH5!$C$4:$O$65,12)","v":0},{"$f":"VLOOKUP($A44,PURCH5!$C$4:$O$65,13)","v":0},{"$f":"HLOOKUP($A44,'Day5'!$C$4:$BJ$8,5)","v":0},{"$f":"VLOOKUP($A44,'Sale Price'!$B$3:$I$64,8)","v":0},0]
[40,{"$f":"'Sale Price'!C44","v":"Amaranthus"},{"$f":"'Sale Price'!D44","v":"Cheera"},{"$f":"VLOOKUP($A45,PURCH5!$C$4:$O$65,12)","v":0},{"$f":"VLOOKUP($A45,PURCH5!$C$4:$O$65,13)","v":0},{"$f":"HLOOKUP($A45,'Day5'!$C$4:$BJ$8,5)","v":0},{"$f":"VLOOKUP($A45,'Sale Price'!$B$3:$I$64,8)","v":0},0]
[41,{"$f":"'Sale Price'!C45","v":"Lemon Big"},{"$f":"'Sale Price'!D45","v":"LemnB"},{"$f":"VLOOKUP($A46,PURCH5!$C$4:$O$65,12)","v":0},{"$f":"VLOOKUP($A46,PURCH5!$C$4:$O$65,13)","v":0},{"$f":"HLOOKUP($A46,'Day5'!$C$4:$BJ$8,5)","v":0},{"$f":"VLOOKUP($A46,'Sale Price'!$B$3:$I$64,8)","v":0},0]
[42,{"$f":"'Sale Price'!C46","v":"Lemon small"},{"$f":"'Sale Price'!D46","v":"LemnS"},{"$f":"VLOOKUP($A47,PURCH5!$C$4:$O$65,12)","v":0},{"$f":"VLOOKUP($A47,PURCH5!$C$4:$O$65,13)","v":0},{"$f":"HLOOKUP($A47,'Day5'!$C$4:$BJ$8,5)","v":0},{"$f":"VLOOKUP($A47,'Sale Price'!$B$3:$I$64,8)","v":0},0]
[43,{"$f":"'Sale Price'!C47","v":"Mango"},{"$f":"'Sale Price'!D47","v":"Mango"},{"$f":"VLOOKUP($A48,PURCH5!$C$4:$O$65,12)","v":0},{"$f":"VLOOKUP($A48,PURCH5!$C$4:$O$65,13)","v":0},{"$f":"HLOOKUP($A48,'Day5'!$C$4:$BJ$8,5)","v":0},{"$f":"VLOOKUP($A48,'Sale Price'!$B$3:$I$64,8)","v":0},0]
[44,{"$f":"'Sale Price'!C48","v":"Pineapple"},{"$f":"'Sale Price'!D48","v":"PineA"},{"$f":"VLOOKUP($A49,PURCH5!$C$4:$O$65,12)","v":0},{"$f":"VLOOKUP($A49,PURCH5!$C$4:$O$65,13)","v":0},{"$f":"HLOOKUP($A49,'Day5'!$C$4:$BJ$8,5)","v":0},{"$f":"VLOOKUP($A49,'Sale Price'!$B$3:$I$64,8)","v":0},0]
[45,{"$f":"'Sale Price'!C49","v":"Potato"},{"$f":"'Sale Price'!D49","v":"Potat"},{"$f":"VLOOKUP($A50,PURCH5!$C$4:$O$65,12)","v":0},{"$f":"VLOOKUP($A50,PURCH5!$C$4:$O$65,13)","v":0},{"$f":"HLOOKUP($A50,'Day5'!$C$4:$BJ$8,5)","v":0},{"$f":"VLOOKUP($A50,'Sale Price'!$B$3:$I$64,8)","v":0},0]
[46,{"$f":"'Sale Price'!C50","v":"Amla"},{"$f":"'Sale Price'!D50","v":"Amla"},{"$f":"VLOOKUP($A51,PURCH5!$C$4:$O$65,12)","v":0},{"$f":"VLOOKUP($A51,PURCH5!$C$4:$O$65,13)","v":0},{"$f":"HLOOKUP($A51,'Day5'!$C$4:$BJ$8,5)","v":0},{"$f":"VLOOKUP($A51,'Sale Price'!$B$3:$I$64,8)","v":0},0]
[47,{"$f":"'Sale Price'!C51","v":"Tapioca"},{"$f":"'Sale Price'!D51","v":"Tap"},{"$f":"VLOOKUP($A52,PURCH5!$C$4:$O$65,12)","v":0},{"$f":"VLOOKUP($A52,PURCH5!$C$4:$O$65,13)","v":0},{"$f":"HLOOKUP($A52,'Day5'!$C$4:$BJ$8,5)","v":0},{"$f":"VLOOKUP($A52,'Sale Price'!$B$3:$I$64,8)","v":0},0]
[48,{"$f":"'Sale Price'!C52","v":0},{"$f":"'Sale Price'!D52","v":0},{"$f":"VLOOKUP($A53,PURCH5!$C$4:$O$65,12)","v":0},{"$f":"VLOOKUP($A53,PURCH5!$C$4:$O$65,13)","v":0},{"$f":"HLOOKUP($A53,'Day5'!$C$4:$BJ$8,5)","v":0},{"$f":"VLOOKUP($A53,'Sale Price'!$B$3:$I$64,8)","v":0},0]
[49,{"$f":"'Sale Price'!C53","v":0},{"$f":"'Sale Price'!D53","v":0},{"$f":"VLOOKUP($A54,PURCH5!$C$4:$O$65,12)","v":0},{"$f":"VLOOKUP($A54,PURCH5!$C$4:$O$65,13)","v":0},{"$f":"HLOOKUP($A54,'Day5'!$C$4:$BJ$8,5)","v":0},{"$f":"VLOOKUP($A54,'Sale Price'!$B$3:$I$64,8)","v":0},0]
[50,{"$f":"'Sale Price'!C54","v":0},{"$f":"'Sale Price'!D54","v":0},{"$f":"VLOOKUP($A55,PURCH5!$C$4:$O$65,12)","v":0},{"$f":"VLOOKUP($A55,PURCH5!$C$4:$O$65,13)","v":0},{"$f":"HLOOKUP($A55,'Day5'!$C$4:$BJ$8,5)","v":0},{"$f":"VLOOKUP($A55,'Sale Price'!$B$3:$I$64,8)","v":0},0]
[51,{"$f":"'Sale Price'!C55","v":0},{"$f":"'Sale Price'!D55","v":0},{"$f":"VLOOKUP($A56,PURCH5!$C$4:$O$65,12)","v":0},{"$f":"VLOOKUP($A56,PURCH5!$C$4:$O$65,13)","v":0},{"$f":"HLOOKUP($A56,'Day5'!$C$4:$BJ$8,5)","v":0},{"$f":"VLOOKUP($A56,'Sale Price'!$B$3:$I$64,8)","v":0},0]
[52,{"$f":"'Sale Price'!C56","v":0},{"$f":"'Sale Price'!D56","v":0},{"$f":"VLOOKUP($A57,PURCH5!$C$4:$O$65,12)","v":0},{"$f":"VLOOKUP($A57,PURCH5!$C$4:$O$65,13)","v":0},{"$f":"HLOOKUP($A57,'Day5'!$C$4:$BJ$8,5)","v":0},{"$f":"VLOOKUP($A57,'Sale Price'!$B$3:$I$64,8)","v":0},0]
[53,{"$f":"'Sale Price'!C57","v":0},{"$f":"'Sale Price'!D57","v":0},{"$f":"VLOOKUP($A58,PURCH5!$C$4:$O$65,12)","v":0},{"$f":"VLOOKUP($A58,PURCH5!$C$4:$O$65,13)","v":0},{"$f":"HLOOKUP($A58,'Day5'!$C$4:$BJ$8,5)","v":0},{"$f":"VLOOKUP($A58,'Sale Price'!$B$3:$I$64,8)","v":0},0]
[54,{"$f":"'Sale Price'!C58","v":0},{"$f":"'Sale Price'!D58","v":0},{"$f":"VLOOKUP($A59,PURCH5!$C$4:$O$65,12)","v":0},{"$f":"VLOOKUP($A59,PURCH5!$C$4:$O$65,13)","v":0},{"$f":"HLOOKUP($A59,'Day5'!$C$4:$BJ$8,5)","v":0},{"$f":"VLOOKUP($A59,'Sale Price'!$B$3:$I$64,8)","v":0},0]
[55,{"$f":"'Sale Price'!C59","v":0},{"$f":"'Sale Price'!D59","v":0},{"$f":"VLOOKUP($A60,PURCH5!$C$4:$O$65,12)","v":0},{"$f":"VLOOKUP($A60,PURCH5!$C$4:$O$65,13)","v":0},{"$f":"HLOOKUP($A60,'Day5'!$C$4:$BJ$8,5)","v":0},{"$f":"VLOOKUP($A60,'Sale Price'!$B$3:$I$64,8)","v":0},0]
[56,{"$f":"'Sale Price'!C60","v":0},{"$f":"'Sale Price'!D60","v":0},{"$f":"VLOOKUP($A61,PURCH5!$C$4:$O$65,12)","v":0},{"$f":"VLOOKUP($A61,PURCH5!$C$4:$O$65,13)","v":0},{"$f":"HLOOKUP($A61,'Day5'!$C$4:$BJ$8,5)","v":0},{"$f":"VLOOKUP($A61,'Sale Price'!$B$3:$I$64,8)","v":0},0]
[57,{"$f":"'Sale Price'!C61","v":0},{"$f":"'Sale Price'!D61","v":0},{"$f":"VLOOKUP($A62,PURCH5!$C$4:$O$65,12)","v":0},{"$f":"VLOOKUP($A62,PURCH5!$C$4:$O$65,13)","v":0},{"$f":"HLOOKUP($A62,'Day5'!$C$4:$BJ$8,5)","v":0},{"$f":"VLOOKUP($A62,'Sale Price'!$B$3:$I$64,8)","v":0},0]
[58,{"$f":"'Sale Price'!C62","v":0},{"$f":"'Sale Price'!D62","v":0},{"$f":"VLOOKUP($A63,PURCH5!$C$4:$O$65,12)","v":0},{"$f":"VLOOKUP($A63,PURCH5!$C$4:$O$65,13)","v":0},{"$f":"HLOOKUP($A63,'Day5'!$C$4:$BJ$8,5)","v":0},{"$f":"VLOOKUP($A63,'Sale Price'!$B$3:$I$64,8)","v":0},0]
[59,{"$f":"'Sale Price'!C63","v":0},{"$f":"'Sale Price'!D63","v":0},{"$f":"VLOOKUP($A64,PURCH5!$C$4:$O$65,12)","v":0},{"$f":"VLOOKUP($A64,PURCH5!$C$4:$O$65,13)","v":0},{"$f":"HLOOKUP($A64,'Day5'!$C$4:$BJ$8,5)","v":0},{"$f":"VLOOKUP($A64,'Sale Price'!$B$3:$I$64,8)","v":0},0]
[60,{"$f":"'Sale Price'!C64","v":0},{"$f":"'Sale Price'!D64","v":0},{"$f":"VLOOKUP($A65,PURCH5!$C$4:$O$65,12)","v":0},{"$f":"VLOOKUP($A65,PURCH5!$C$4:$O$65,13)","v":0},{"$f":"HLOOKUP($A65,'Day5'!$C$4:$BJ$8,5)","v":0},{"$f":"VLOOKUP($A65,'Sale Price'!$B$3:$I$64,8)","v":0},0]
["Total",null,null,{"$f":"SUM(D6:D65)","v":0},{"$f":"SUM(E6:E65)","v":0},0,null,0]
[]
[]
[null,null,null,null,{"$f":"REGISTRATION!F15","v":0}]
[null,null,null,null,{"$f":"REGISTRATION!F18","v":0}]

{"sheet":"Consl_Rpt","index":19,"n_rows":67,"n_cols":29,"rows_kept":67,"cut":false,"hidden":false,"merged":[[1,0,1,28],[0,0,0,28],[2,0,2,28],[4,27,4,28],[4,9,4,10],[4,11,4,12],[4,13,4,14],[3,15,3,26],[4,15,4,16],[4,17,4,18],[4,19,4,20],[4,21,4,22],[4,23,4,24],[4,25,4,26],[3,3,3,14],[4,7,4,8],[3,0,5,0],[3,1,5,1],[3,2,5,2],[4,3,4,4],[4,5,4,6]]}
[{"$f":"\" KRISHI BHAVAN  \"&REGISTRATION!F13","v":" KRISHI BHAVAN  "}]
[{"$f":"REGISTRATION!F7&\"  ONAM VEGETABLE MARKET\"","v":"jj  ONAM VEGETABLE MARKET"}]
["ABSTRACT OF PURCHASE, SALES AND PROFIT/LOSS"]
["Code","Item","Short code","Purchase",null,null,null,null,null,null,null,null,null,null,null,"Sales",null,null,null,null,null,null,null,null,null,null,null,"Damages","Profit loss"]
[null,null,null,"Day1",null,"Day2",null,"Day3",null,"Day4",null,"Day5",null,"Total",null,"Day1",null,"Day2",null,"Day3",null,"Day4",null,"Day5",null,"Total",null,"Total"]
[null,null,null,"QTY","Rs","QTY","Rs","QTY","Rs","QTY","Rs","QTY","Rs","QTY","Rs","QTY","Rs","QTY","Rs","QTY","Rs","QTY","Rs","QTY","Rs","QTY","Rs","QTY","Rs"]
[1,{"$f":"'Sale Price'!C5","v":"Nendran"},{"$f":"'Sale Price'!D5","v":"Nendrn"},{"$f":"PURCH1!M5","v":0},{"$f":"PURCH1!N5","v":0},{"$f":"PURCH2!M6","v":0},{"$f":"PURCH2!N6","v":0},{"$f":"PURCH3!N6","v":0},{"$f":"PURCH3!O6","v":0},{"$f":"PURCH4!N6","v":0},{"$f":"PURCH4!O6","v":0},{"$f":"PURCH5!N6","v":0},{"$f":"PURCH5!O6","v":0},{"$f":"D7+F7+H7+J7+L7","v":0},{"$f":"E7+G7+I7+K7+M7","v":0},{"$f":"REPORT1!F6","v":0},{"$f":"REPORT1!H6","v":0},{"$f":"REPORT2!F6","v":0},{"$f":"REPORT2!H6","v":0},{"$f":"REPORT3!F6","v":0},{"$f":"REPORT3!H6","v":0},{"$f":"REPORT4!F6","v":0},{"$f":"REPORT4!H6","v":0},{"$f":"REPORT5!F6","v":0},{"$f":"REPORT5!H6","v":0},{"$f":"P7+R7+T7+V7+X7","v":0},{"$f":"Q7+S7+U7+W7+Y7","v":0},{"$f":"N7-Z7","v":0},{"$f":"AA7-O7","v":0}]
[2,{"$f":"'Sale Price'!C6","v":"Banana Green"},{"$f":"'Sale Price'!D6","v":"Ban G"},{"$f":"PURCH1!M6","v":0},{"$f":"PURCH1!N6","v":0},{"$f":"PURCH2!M7","v":0},{"$f":"PURCH2!N7","v":0},{"$f":"PURCH3!N7","v":0},{"$f":"PURCH3!O7","v":0},{"$f":"PURCH4!N7","v":0},{"$f":"PURCH4!O7","v":0},{"$f":"PURCH5!N7","v":0},{"$f":"PURCH5!O7","v":0},{"$f":"D8+F8+H8+J8+L8","v":0},{"$f":"E8+G8+I8+K8+M8","v":0},{"$f":"REPORT1!F7","v":0},{"$f":"REPORT1!H7","v":0},{"$f":"REPORT2!F7","v":0},{"$f":"REPORT2!H7","v":0},{"$f":"REPORT3!F7","v":0},{"$f":"REPORT3!H7","v":0},{"$f":"REPORT4!F7","v":0},{"$f":"REPORT4!H7","v":0},{"$f":"REPORT5!F7","v":0},{"$f":"REPORT5!H7","v":0},{"$f":"P8+R8+T8+V8+X8","v":0},{"$f":"Q8+S8+U8+W8+Y8","v":0},{"$f":"N8-Z8","v":0},{"$f":"AA8-O8","v":0}]
[3,{"$f":"'Sale Price'!C7","v":"Palayanthodan"},{"$f":"'Sale Price'!D7","v":"Palaya"},{"$f":"PURCH1!M7","v":0},{"$f":"PURCH1!N7","v":0},{"$f":"PURCH2!M8","v":0},{"$f":"PURCH2!N8","v":0},{"$f":"PURCH3!N8","v":0},{"$f":"PURCH3!O8","v":0},{"$f":"PURCH4!N8","v":0},{"$f":"PURCH4!O8","v":0},{"$f":"PURCH5!N8","v":0},{"$f":"PURCH5!O8","v":0},0,0,{"$f":"REPORT1!F8","v":0},{"$f":"REPORT1!H8","v":0},{"$f":"REPORT2!F8","v":0},{"$f":"REPORT2!H8","v":0},{"$f":"REPORT3!F8","v":0},{"$f":"REPORT3!H8","v":0},{"$f":"REPORT4!F8","v":0},{"$f":"REPORT4!H8","v":0},{"$f":"REPORT5!F8","v":0},{"$f":"REPORT5!H8","v":0},0,0,0,0]
[4,{"$f":"'Sale Price'!C8","v":"Poovan"},{"$f":"'Sale Price'!D8","v":"Puvan"},{"$f":"PURCH1!M8","v":0},{"$f":"PURCH1!N8","v":0},{"$f":"PURCH2!M9","v":0},{"$f":"PURCH2!N9","v":0},{"$f":"PURCH3!N9","v":0},{"$f":"PURCH3!O9","v":0},{"$f":"PURCH4!N9","v":0},{"$f":"PURCH4!O9","v":0},{"$f":"PURCH5!N9","v":0},{"$f":"PURCH5!O9","v":0},0,0,{"$f":"REPORT1!F9","v":0},{"$f":"REPORT1!H9","v":0},{"$f":"REPORT2!F9","v":0},{"$f":"REPORT2!H9","v":0},{"$f":"REPORT3!F9","v":0},{"$f":"REPORT3!H9","v":0},{"$f":"REPORT4!F9","v":0},{"$f":"REPORT4!H9","v":0},{"$f":"REPORT5!F9","v":0},{"$f":"REPORT5!H9","v":0},0,0,0,0]
[5,{"$f":"'Sale Price'!C9","v":"Rasakadali"},{"$f":"'Sale Price'!D9","v":"RasaK"},{"$f":"PURCH1!M9","v":0},{"$f":"PURCH1!N9","v":0},{"$f":"PURCH2!M10","v":0},{"$f":"PURCH2!N10","v":0},{"$f":"PURCH3!N10","v":0},{"$f":"PURCH3!O10","v":0},{"$f":"PURCH4!N10","v":0},{"$f":"PURCH4!O10","v":0},{"$f":"PURCH5!N10","v":0},{"$f":"PURCH5!O10","v":0},0,0,{"$f":"REPORT1!F10","v":0},{"$f":"REPORT1!H10","v":0},{"$f":"REPORT2!F10","v":0},{"$f":"REPORT2!H10","v":0},{"$f":"REPORT3!F10","v":0},{"$f":"REPORT3!H10","v":0},{"$f":"REPORT4!F10","v":0},{"$f":"REPORT4!H10","v":0},{"$f":"REPORT5!F10","v":0},{"$f":"REPORT5!H10","v":0},0,0,0,0]
[6,{"$f":"'Sale Price'!C10","v":"Red banana"},{"$f":"'Sale Price'!D10","v":"RedB"},{"$f":"PURCH1!M10","v":0},{"$f":"PURCH1!N10","v":0},{"$f":"PURCH2!M11","v":0},{"$f":"PURCH2!N11","v":0},{"$f":"PURCH3!N11","v":0},{"$f":"PURCH3!O11","v":0},{"$f":"PURCH4!N11","v":0},{"$f":"PURCH4!O11","v":0},{"$f":"PURCH5!N11","v":0},{"$f":"PURCH5!O11","v":0},0,0,{"$f":"REPORT1!F11","v":0},{"$f":"REPORT1!H11","v":0},{"$f":"REPORT2!F11","v":0},{"$f":"REPORT2!H11","v":0},{"$f":"REPORT3!F11","v":0},{"$f":"REPORT3!H11","v":0},{"$f":"REPORT4!F11","v":0},{"$f":"REPORT4!H11","v":0},{"$f":"REPORT5!F11","v":0},{"$f":"REPORT5!H11","v":0},0,0,0,0]
[7,{"$f":"'Sale Price'!C11","v":"Robusta"},{"$f":"'Sale Price'!D11","v":"Robst"},{"$f":"PURCH1!M11","v":0},{"$f":"PURCH1!N11","v":0},{"$f":"PURCH2!M12","v":0},{"$f":"PURCH2!N12","v":0},{"$f":"PURCH3!N12","v":0},{"$f":"PURCH3!O12","v":0},{"$f":"PURCH4!N12","v":0},{"$f":"PURCH4!O12","v":0},{"$f":"PURCH5!N12","v":0},{"$f":"PURCH5!O12","v":0},0,0,{"$f":"REPORT1!F12","v":0},{"$f":"REPORT1!H12","v":0},{"$f":"REPORT2!F12","v":0},{"$f":"REPORT2!H12","v":0},{"$f":"REPORT3!F12","v":0},{"$f":"REPORT3!H12","v":0},{"$f":"REPORT4!F12","v":0},{"$f":"REPORT4!H12","v":0},{"$f":"REPORT5!F12","v":0},{"$f":"REPORT5!H12","v":0},0,0,0,0]
[8,{"$f":"'Sale Price'!C12","v":"Peyan/Monthan"},{"$f":"'Sale Price'!D12","v":"Peyn"},{"$f":"PURCH1!M12","v":0},{"$f":"PURCH1!N12","v":0},{"$f":"PURCH2!M13","v":0},{"$f":"PURCH2!N13","v":0},{"$f":"PURCH3!N13","v":0},{"$f":"PURCH3!O13","v":0},{"$f":"PURCH4!N13","v":0},{"$f":"PURCH4!O13","v":0},{"$f":"PURCH5!N13","v":0},{"$f":"PURCH5!O13","v":0},0,0,{"$f":"REPORT1!F13","v":0},{"$f":"REPORT1!H13","v":0},{"$f":"REPORT2!F13","v":0},{"$f":"REPORT2!H13","v":0},{"$f":"REPORT3!F13","v":0},{"$f":"REPORT3!H13","v":0},{"$f":"REPORT4!F13","v":0},{"$f":"REPORT4!H13","v":0},{"$f":"REPORT5!F13","v":0},{"$f":"REPORT5!H13","v":0},0,0,0,0]
[9,{"$f":"'Sale Price'!C13","v":"Amorphophallus"},{"$f":"'Sale Price'!D13","v":"Chena"},{"$f":"PURCH1!M13","v":0},{"$f":"PURCH1!N13","v":0},{"$f":"PURCH2!M14","v":0},{"$f":"PURCH2!N14","v":0},{"$f":"PURCH3!N14","v":0},{"$f":"PURCH3!O14","v":0},{"$f":"PURCH4!N14","v":0},{"$f":"PURCH4!O14","v":0},{"$f":"PURCH5!N14","v":0},{"$f":"PURCH5!O14","v":0},0,0,{"$f":"REPORT1!F14","v":0},{"$f":"REPORT1!H14","v":0},{"$f":"REPORT2!F14","v":0},{"$f":"REPORT2!H14","v":0},{"$f":"REPORT3!F14","v":0},{"$f":"REPORT3!H14","v":0},{"$f":"REPORT4!F14","v":0},{"$f":"REPORT4!H14","v":0},{"$f":"REPORT5!F14","v":0},{"$f":"REPORT5!H14","v":0},0,0,0,0]
[10,{"$f":"'Sale Price'!C14","v":"Beans"},{"$f":"'Sale Price'!D14","v":"Beans"},{"$f":"PURCH1!M14","v":0},{"$f":"PURCH1!N14","v":0},{"$f":"PURCH2!M15","v":0},{"$f":"PURCH2!N15","v":0},{"$f":"PURCH3!N15","v":0},{"$f":"PURCH3!O15","v":0},{"$f":"PURCH4!N15","v":0},{"$f":"PURCH4!O15","v":0},{"$f":"PURCH5!N15","v":0},{"$f":"PURCH5!O15","v":0},0,0,{"$f":"REPORT1!F15","v":0},{"$f":"REPORT1!H15","v":0},{"$f":"REPORT2!F15","v":0},{"$f":"REPORT2!H15","v":0},{"$f":"REPORT3!F15","v":0},{"$f":"REPORT3!H15","v":0},{"$f":"REPORT4!F15","v":0},{"$f":"REPORT4!H15","v":0},{"$f":"REPORT5!F15","v":0},{"$f":"REPORT5!H15","v":0},0,0,0,0]
[11,{"$f":"'Sale Price'!C15","v":"Cluster beans"},{"$f":"'Sale Price'!D15","v":"Amara"},{"$f":"PURCH1!M15","v":0},{"$f":"PURCH1!N15","v":0},{"$f":"PURCH2!M16","v":0},{"$f":"PURCH2!N16","v":0},{"$f":"PURCH3!N16","v":0},{"$f":"PURCH3!O16","v":0},{"$f":"PURCH4!N16","v":0},{"$f":"PURCH4!O16","v":0},{"$f":"PURCH5!N16","v":0},{"$f":"PURCH5!O16","v":0},0,0,{"$f":"REPORT1!F16","v":0},{"$f":"REPORT1!H16","v":0},{"$f":"REPORT2!F16","v":0},{"$f":"REPORT2!H16","v":0},{"$f":"REPORT3!F16","v":0},{"$f":"REPORT3!H16","v":0},{"$f":"REPORT4!F16","v":0},{"$f":"REPORT4!H16","v":0},{"$f":"REPORT5!F16","v":0},{"$f":"REPORT5!H16","v":0},0,0,0,0]
[12,{"$f":"'Sale Price'!C16","v":"Carrot"},{"$f":"'Sale Price'!D16","v":"Carot"},{"$f":"PURCH1!M16","v":0},{"$f":"PURCH1!N16","v":0},{"$f":"PURCH2!M17","v":0},{"$f":"PURCH2!N17","v":0},{"$f":"PURCH3!N17","v":0},{"$f":"PURCH3!O17","v":0},{"$f":"PURCH4!N17","v":0},{"$f":"PURCH4!O17","v":0},{"$f":"PURCH5!N17","v":0},{"$f":"PURCH5!O17","v":0},0,0,{"$f":"REPORT1!F17","v":0},{"$f":"REPORT1!H17","v":0},{"$f":"REPORT2!F17","v":0},{"$f":"REPORT2!H17","v":0},{"$f":"REPORT3!F17","v":0},{"$f":"REPORT3!H17","v":0},{"$f":"REPORT4!F17","v":0},{"$f":"REPORT4!H17","v":0},{"$f":"REPORT5!F17","v":0},{"$f":"REPORT5!H17","v":0},0,0,0,0]
[13,{"$f":"'Sale Price'!C17","v":"Beetroot"},{"$f":"'Sale Price'!D17","v":"BeetR"},{"$f":"PURCH1!M17","v":0},{"$f":"PURCH1!N17","v":0},{"$f":"PURCH2!M18","v":0},{"$f":"PURCH2!N18","v":0},{"$f":"PURCH3!N18","v":0},{"$f":"PURCH3!O18","v":0},{"$f":"PURCH4!N18","v":0},{"$f":"PURCH4!O18","v":0},{"$f":"PURCH5!N18","v":0},{"$f":"PURCH5!O18","v":0},0,0,{"$f":"REPORT1!F18","v":0},{"$f":"REPORT1!H18","v":0},{"$f":"REPORT2!F18","v":0},{"$f":"REPORT2!H18","v":0},{"$f":"REPORT3!F18","v":0},{"$f":"REPORT3!H18","v":0},{"$f":"REPORT4!F18","v":0},{"$f":"REPORT4!H18","v":0},{"$f":"REPORT5!F18","v":0},{"$f":"REPORT5!H18","v":0},0,0,0,0]
[14,{"$f":"'Sale Price'!C18","v":"Cabbage"},{"$f":"'Sale Price'!D18","v":"Cabag"},{"$f":"PURCH1!M18","v":0},{"$f":"PURCH1!N18","v":0},{"$f":"PURCH2!M19","v":0},{"$f":"PURCH2!N19","v":0},{"$f":"PURCH3!N19","v":0},{"$f":"PURCH3!O19","v":0},{"$f":"PURCH4!N19","v":0},{"$f":"PURCH4!O19","v":0},{"$f":"PURCH5!N19","v":0},{"$f":"PURCH5!O19","v":0},0,0,{"$f":"REPORT1!F19","v":0},{"$f":"REPORT1!H19","v":0},{"$f":"REPORT2!F19","v":0},{"$f":"REPORT2!H19","v":0},{"$f":"REPORT3!F19","v":0},{"$f":"REPORT3!H19","v":0},{"$f":"REPORT4!F19","v":0},{"$f":"REPORT4!H19","v":0},{"$f":"REPORT5!F19","v":0},{"$f":"REPORT5!H19","v":0},0,0,0,0]
[15,{"$f":"'Sale Price'!C19","v":"Cauliflower"},{"$f":"'Sale Price'!D19","v":"CauliF"},{"$f":"PURCH1!M19","v":0},{"$f":"PURCH1!N19","v":0},{"$f":"PURCH2!M20","v":0},{"$f":"PURCH2!N20","v":0},{"$f":"PURCH3!N20","v":0},{"$f":"PURCH3!O20","v":0},{"$f":"PURCH4!N20","v":0},{"$f":"PURCH4!O20","v":0},{"$f":"PURCH5!N20","v":0},{"$f":"PURCH5!O20","v":0},0,0,{"$f":"REPORT1!F20","v":0},{"$f":"REPORT1!H20","v":0},{"$f":"REPORT2!F20","v":0},{"$f":"REPORT2!H20","v":0},{"$f":"REPORT3!F20","v":0},{"$f":"REPORT3!H20","v":0},{"$f":"REPORT4!F20","v":0},{"$f":"REPORT4!H20","v":0},{"$f":"REPORT5!F20","v":0},{"$f":"REPORT5!H20","v":0},0,0,0,0]
[16,{"$f":"'Sale Price'!C20","v":"Capsicum"},{"$f":"'Sale Price'!D20","v":"Capsic"},{"$f":"PURCH1!M20","v":0},{"$f":"PURCH1!N20","v":0},{"$f":"PURCH2!M21","v":0},{"$f":"PURCH2!N21","v":0},{"$f":"PURCH3!N21","v":0},{"$f":"PURCH3!O21","v":0},{"$f":"PURCH4!N21","v":0},{"$f":"PURCH4!O21","v":0},{"$f":"PURCH5!N21","v":0},{"$f":"PURCH5!O21","v":0},0,0,{"$f":"REPORT1!F21","v":0},{"$f":"REPORT1!H21","v":0},{"$f":"REPORT2!F21","v":0},{"$f":"REPORT2!H21","v":0},{"$f":"REPORT3!F21","v":0},{"$f":"REPORT3!H21","v":0},{"$f":"REPORT4!F21","v":0},{"$f":"REPORT4!H21","v":0},{"$f":"REPORT5!F21","v":0},{"$f":"REPORT5!H21","v":0},0,0,0,0]
[17,{"$f":"'Sale Price'!C21","v":"Tomato"},{"$f":"'Sale Price'!D21","v":"Tomat"},{"$f":"PURCH1!M21","v":0},{"$f":"PURCH1!N21","v":0},{"$f":"PURCH2!M22","v":0},{"$f":"PURCH2!N22","v":0},{"$f":"PURCH3!N22","v":0},{"$f":"PURCH3!O22","v":0},{"$f":"PURCH4!N22","v":0},{"$f":"PURCH4!O22","v":0},{"$f":"PURCH5!N22","v":0},{"$f":"PURCH5!O22","v":0},0,0,{"$f":"REPORT1!F22","v":0},{"$f":"REPORT1!H22","v":0},{"$f":"REPORT2!F22","v":0},{"$f":"REPORT2!H22","v":0},{"$f":"REPORT3!F22","v":0},{"$f":"REPORT3!H22","v":0},{"$f":"REPORT4!F22","v":0},{"$f":"REPORT4!H22","v":0},{"$f":"REPORT5!F22","v":0},{"$f":"REPORT5!H22","v":0},0,0,0,0]
[18,{"$f":"'Sale Price'!C22","v":"Green chillies "},{"$f":"'Sale Price'!D22","v":"ChillS"},{"$f":"PURCH1!M22","v":0},{"$f":"PURCH1!N22","v":0},{"$f":"PURCH2!M23","v":0},{"$f":"PURCH2!N23","v":0},{"$f":"PURCH3!N23","v":0},{"$f":"PURCH3!O23","v":0},{"$f":"PURCH4!N23","v":0},{"$f":"PURCH4!O23","v":0},{"$f":"PURCH5!N23","v":0},{"$f":"PURCH5!O23","v":0},0,0,{"$f":"REPORT1!F23","v":0},{"$f":"REPORT1!H23","v":0},{"$f":"REPORT2!F23","v":0},{"$f":"REPORT2!H23","v":0},{"$f":"REPORT3!F23","v":0},{"$f":"REPORT3!H23","v":0},{"$f":"REPORT4!F23","v":0},{"$f":"REPORT4!H23","v":0},{"$f":"REPORT5!F23","v":0},{"$f":"REPORT5!H23","v":0},0,0,0,0]
[19,{"$f":"'Sale Price'!C23","v":"Sambar Mulaku"},{"$f":"'Sale Price'!D23","v":"ChillB"},{"$f":"PURCH1!M23","v":0},{"$f":"PURCH1!N23","v":0},{"$f":"PURCH2!M24","v":0},{"$f":"PURCH2!N24","v":0},{"$f":"PURCH3!N24","v":0},{"$f":"PURCH3!O24","v":0},{"$f":"PURCH4!N24","v":0},{"$f":"PURCH4!O24","v":0},{"$f":"PURCH5!N24","v":0},{"$f":"PURCH5!O24","v":0},0,0,{"$f":"REPORT1!F24","v":0},{"$f":"REPORT1!H24","v":0},{"$f":"REPORT2!F24","v":0},{"$f":"REPORT2!H24","v":0},{"$f":"REPORT3!F24","v":0},{"$f":"REPORT3!H24","v":0},{"$f":"REPORT4!F24","v":0},{"$f":"REPORT4!H24","v":0},{"$f":"REPORT5!F24","v":0},{"$f":"REPORT5!H24","v":0},0,0,0,0]
[20,{"$f":"'Sale Price'!C24","v":"Bitter gourd"},{"$f":"'Sale Price'!D24","v":"BittrG"},{"$f":"PURCH1!M24","v":0},{"$f":"PURCH1!N24","v":0},{"$f":"PURCH2!M25","v":0},{"$f":"PURCH2!N25","v":0},{"$f":"PURCH3!N25","v":0},{"$f":"PURCH3!O25","v":0},{"$f":"PURCH4!N25","v":0},{"$f":"PURCH4!O25","v":0},{"$f":"PURCH5!N25","v":0},{"$f":"PURCH5!O25","v":0},0,0,{"$f":"REPORT1!F25","v":0},{"$f":"REPORT1!H25","v":0},{"$f":"REPORT2!F25","v":0},{"$f":"REPORT2!H25","v":0},{"$f":"REPORT3!F25","v":0},{"$f":"REPORT3!H25","v":0},{"$f":"REPORT4!F25","v":0},{"$f":"REPORT4!H25","v":0},{"$f":"REPORT5!F25","v":0},{"$f":"REPORT5!H25","v":0},0,0,0,0]
[21,{"$f":"'Sale Price'!C25","v":"Bottle gourd"},{"$f":"'Sale Price'!D25","v":"BottG"},{"$f":"PURCH1!M25","v":0},{"$f":"PURCH1!N25","v":0},{"$f":"PURCH2!M26","v":0},{"$f":"PURCH2!N26","v":0},{"$f":"PURCH3!N26","v":0},{"$f":"PURCH3!O26","v":0},{"$f":"PURCH4!N26","v":0},{"$f":"PURCH4!O26","v":0},{"$f":"PURCH5!N26","v":0},{"$f":"PURCH5!O26","v":0},0,0,{"$f":"REPORT1!F26","v":0},{"$f":"REPORT1!H26","v":0},{"$f":"REPORT2!F26","v":0},{"$f":"REPORT2!H26","v":0},{"$f":"REPORT3!F26","v":0},{"$f":"REPORT3!H26","v":0},{"$f":"REPORT4!F26","v":0},{"$f":"REPORT4!H26","v":0},{"$f":"REPORT5!F26","v":0},{"$f":"REPORT5!H26","v":0},0,0,0,0]
[22,{"$f":"'Sale Price'!C26","v":"Snakegourd"},{"$f":"'Sale Price'!D26","v":"SnakG"},{"$f":"PURCH1!M26","v":0},{"$f":"PURCH1!N26","v":0},{"$f":"PURCH2!M27","v":0},{"$f":"PURCH2!N27","v":0},{"$f":"PURCH3!N27","v":0},{"$f":"PURCH3!O27","v":0},{"$f":"PURCH4!N27","v":0},{"$f":"PURCH4!O27","v":0},{"$f":"PURCH5!N27","v":0},{"$f":"PURCH5!O27","v":0},0,0,{"$f":"REPORT1!F27","v":0},{"$f":"REPORT1!H27","v":0},{"$f":"REPORT2!F27","v":0},{"$f":"REPORT2!H27","v":0},{"$f":"REPORT3!F27","v":0},{"$f":"REPORT3!H27","v":0},{"$f":"REPORT4!F27","v":0},{"$f":"REPORT4!H27","v":0},{"$f":"REPORT5!F27","v":0},{"$f":"REPORT5!H27","v":0},0,0,0,0]
[23,{"$f":"'Sale Price'!C27","v":"Brinjal kathiri"},{"$f":"'Sale Price'!D27","v":"BrinjR"},{"$f":"PURCH1!M27","v":0},{"$f":"PURCH1!N27","v":0},{"$f":"PURCH2!M28","v":0},{"$f":"PURCH2!N28","v":0},{"$f":"PURCH3!N28","v":0},{"$f":"PURCH3!O28","v":0},{"$f":"PURCH4!N28","v":0},{"$f":"PURCH4!O28","v":0},{"$f":"PURCH5!N28","v":0},{"$f":"PURCH5!O28","v":0},0,0,{"$f":"REPORT1!F28","v":0},{"$f":"REPORT1!H28","v":0},{"$f":"REPORT2!F28","v":0},{"$f":"REPORT2!H28","v":0},{"$f":"REPORT3!F28","v":0},{"$f":"REPORT3!H28","v":0},{"$f":"REPORT4!F28","v":0},{"$f":"REPORT4!H28","v":0},{"$f":"REPORT5!F28","v":0},{"$f":"REPORT5!H28","v":0},0,0,0,0]
[24,{"$f":"'Sale Price'!C28","v":"Brinjal Vazhuthana"},{"$f":"'Sale Price'!D28","v":"Vazhut"},{"$f":"PURCH1!M28","v":0},{"$f":"PURCH1!N28","v":0},{"$f":"PURCH2!M29","v":0},{"$f":"PURCH2!N29","v":0},{"$f":"PURCH3!N29","v":0},{"$f":"PURCH3!O29","v":0},{"$f":"PURCH4!N29","v":0},{"$f":"PURCH4!O29","v":0},{"$f":"PURCH5!N29","v":0},{"$f":"PURCH5!O29","v":0},0,0,{"$f":"REPORT1!F29","v":0},{"$f":"REPORT1!H29","v":0},{"$f":"REPORT2!F29","v":0},{"$f":"REPORT2!H29","v":0},{"$f":"REPORT3!F29","v":0},{"$f":"REPORT3!H29","v":0},{"$f":"REPORT4!F29","v":0},{"$f":"REPORT4!H29","v":0},{"$f":"REPORT5!F29","v":0},{"$f":"REPORT5!H29","v":0},0,0,0,0]
[25,{"$f":"'Sale Price'!C29","v":"Pumpkin"},{"$f":"'Sale Price'!D29","v":"Pumpk"},{"$f":"PURCH1!M29","v":0},{"$f":"PURCH1!N29","v":0},{"$f":"PURCH2!M30","v":0},{"$f":"PURCH2!N30","v":0},{"$f":"PURCH3!N30","v":0},{"$f":"PURCH3!O30","v":0},{"$f":"PURCH4!N30","v":0},{"$f":"PURCH4!O30","v":0},{"$f":"PURCH5!N30","v":0},{"$f":"PURCH5!O30","v":0},0,0,{"$f":"REPORT1!F30","v":0},{"$f":"REPORT1!H30","v":0},{"$f":"REPORT2!F30","v":0},{"$f":"REPORT2!H30","v":0},{"$f":"REPORT3!F30","v":0},{"$f":"REPORT3!H30","v":0},{"$f":"REPORT4!F30","v":0},{"$f":"REPORT4!H30","v":0},{"$f":"REPORT5!F30","v":0},{"$f":"REPORT5!H30","v":0},0,0,0,0]
[26,{"$f":"'Sale Price'!C30","v":"Onion Big"},{"$f":"'Sale Price'!D30","v":"Savala"},{"$f":"PURCH1!M30","v":0},{"$f":"PURCH1!N30","v":0},{"$f":"PURCH2!M31","v":0},{"$f":"PURCH2!N31","v":0},{"$f":"PURCH3!N31","v":0},{"$f":"PURCH3!O31","v":0},{"$f":"PURCH4!N31","v":0},{"$f":"PURCH4!O31","v":0},{"$f":"PURCH5!N31","v":0},{"$f":"PURCH5!O31","v":0},0,0,{"$f":"REPORT1!F31","v":0},{"$f":"REPORT1!H31","v":0},{"$f":"REPORT2!F31","v":0},{"$f":"REPORT2!H31","v":0},{"$f":"REPORT3!F31","v":0},{"$f":"REPORT3!H31","v":0},{"$f":"REPORT4!F31","v":0},{"$f":"REPORT4!H31","v":0},{"$f":"REPORT5!F31","v":0},{"$f":"REPORT5!H31","v":0},0,0,0,0]
[27,{"$f":"'Sale Price'!C31","v":"Onion Small"},{"$f":"'Sale Price'!D31","v":"Ulli"},{"$f":"PURCH1!M31","v":0},{"$f":"PURCH1!N31","v":0},{"$f":"PURCH2!M32","v":0},{"$f":"PURCH2!N32","v":0},{"$f":"PURCH3!N32","v":0},{"$f":"PURCH3!O32","v":0},{"$f":"PURCH4!N32","v":0},{"$f":"PURCH4!O32","v":0},{"$f":"PURCH5!N32","v":0},{"$f":"PURCH5!O32","v":0},0,0,{"$f":"REPORT1!F32","v":0},{"$f":"REPORT1!H32","v":0},{"$f":"REPORT2!F32","v":0},{"$f":"REPORT2!H32","v":0},{"$f":"REPORT3!F32","v":0},{"$f":"REPORT3!H32","v":0},{"$f":"REPORT4!F32","v":0},{"$f":"REPORT4!H32","v":0},{"$f":"REPORT5!F32","v":0},{"$f":"REPORT5!H32","v":0},0,0,0,0]
[28,{"$f":"'Sale Price'!C32","v":"Garlic"},{"$f":"'Sale Price'!D32","v":"Garlc"},{"$f":"PURCH1!M32","v":0},{"$f":"PURCH1!N32","v":0},{"$f":"PURCH2!M33","v":0},{"$f":"PURCH2!N33","v":0},{"$f":"PURCH3!N33","v":0},{"$f":"PURCH3!O33","v":0},{"$f":"PURCH4!N33","v":0},{"$f":"PURCH4!O33","v":0},{"$f":"PURCH5!N33","v":0},{"$f":"PURCH5!O33","v":0},0,0,{"$f":"REPORT1!F33","v":0},{"$f":"REPORT1!H33","v":0},{"$f":"REPORT2!F33","v":0},{"$f":"REPORT2!H33","v":0},{"$f":"REPORT3!F33","v":0},{"$f":"REPORT3!H33","v":0},{"$f":"REPORT4!F33","v":0},{"$f":"REPORT4!H33","v":0},{"$f":"REPORT5!F33","v":0},{"$f":"REPORT5!H33","v":0},0,0,0,0]
[29,{"$f":"'Sale Price'!C33","v":"Ginger"},{"$f":"'Sale Price'!D33","v":"Ginger"},{"$f":"PURCH1!M33","v":0},{"$f":"PURCH1!N33","v":0},{"$f":"PURCH2!M34","v":0},{"$f":"PURCH2!N34","v":0},{"$f":"PURCH3!N34","v":0},{"$f":"PURCH3!O34","v":0},{"$f":"PURCH4!N34","v":0},{"$f":"PURCH4!O34","v":0},{"$f":"PURCH5!N34","v":0},{"$f":"PURCH5!O34","v":0},0,0,{"$f":"REPORT1!F34","v":0},{"$f":"REPORT1!H34","v":0},{"$f":"REPORT2!F34","v":0},{"$f":"REPORT2!H34","v":0},{"$f":"REPORT3!F34","v":0},{"$f":"REPORT3!H34","v":0},{"$f":"REPORT4!F34","v":0},{"$f":"REPORT4!H34","v":0},{"$f":"REPORT5!F34","v":0},{"$f":"REPORT5!H34","v":0},0,0,0,0]
[30,{"$f":"'Sale Price'!C34","v":"Cucumber"},{"$f":"'Sale Price'!D34","v":"Cucum"},{"$f":"PURCH1!M34","v":0},{"$f":"PURCH1!N34","v":0},{"$f":"PURCH2!M35","v":0},{"$f":"PURCH2!N35","v":0},{"$f":"PURCH3!N35","v":0},{"$f":"PURCH3!O35","v":0},{"$f":"PURCH4!N35","v":0},{"$f":"PURCH4!O35","v":0},{"$f":"PURCH5!N35","v":0},{"$f":"PURCH5!O35","v":0},0,0,{"$f":"REPORT1!F35","v":0},{"$f":"REPORT1!H35","v":0},{"$f":"REPORT2!F35","v":0},{"$f":"REPORT2!H35","v":0},{"$f":"REPORT3!F35","v":0},{"$f":"REPORT3!H35","v":0},{"$f":"REPORT4!F35","v":0},{"$f":"REPORT4!H35","v":0},{"$f":"REPORT5!F35","v":0},{"$f":"REPORT5!H35","v":0},0,0,0,0]
[31,{"$f":"'Sale Price'!C35","v":"Colocaisa"},{"$f":"'Sale Price'!D35","v":"Chemb"},{"$f":"PURCH1!M35","v":0},{"$f":"PURCH1!N35","v":0},{"$f":"PURCH2!M36","v":0},{"$f":"PURCH2!N36","v":0},{"$f":"PURCH3!N36","v":0},{"$f":"PURCH3!O36","v":0},{"$f":"PURCH4!N36","v":0},{"$f":"PURCH4!O36","v":0},{"$f":"PURCH5!N36","v":0},{"$f":"PURCH5!O36","v":0},0,0,{"$f":"REPORT1!F36","v":0},{"$f":"REPORT1!H36","v":0},{"$f":"REPORT2!F36","v":0},{"$f":"REPORT2!H36","v":0},{"$f":"REPORT3!F36","v":0},{"$f":"REPORT3!H36","v":0},{"$f":"REPORT4!F36","v":0},{"$f":"REPORT4!H36","v":0},{"$f":"REPORT5!F36","v":0},{"$f":"REPORT5!H36","v":0},0,0,0,0]
[32,{"$f":"'Sale Price'!C36","v":"Cowpea"},{"$f":"'Sale Price'!D36","v":"Cowp"},{"$f":"PURCH1!M36","v":0},{"$f":"PURCH1!N36","v":0},{"$f":"PURCH2!M37","v":0},{"$f":"PURCH2!N37","v":0},{"$f":"PURCH3!N37","v":0},{"$f":"PURCH3!O37","v":0},{"$f":"PURCH4!N37","v":0},{"$f":"PURCH4!O37","v":0},{"$f":"PURCH5!N37","v":0},{"$f":"PURCH5!O37","v":0},0,0,{"$f":"REPORT1!F37","v":0},{"$f":"REPORT1!H37","v":0},{"$f":"REPORT2!F37","v":0},{"$f":"REPORT2!H37","v":0},{"$f":"REPORT3!F37","v":0},{"$f":"REPORT3!H37","v":0},{"$f":"REPORT4!F37","v":0},{"$f":"REPORT4!H37","v":0},{"$f":"REPORT5!F37","v":0},{"$f":"REPORT5!H37","v":0},0,0,0,0]
[33,{"$f":"'Sale Price'!C37","v":"Ashgourd/Thadiyan"},{"$f":"'Sale Price'!D37","v":"AshG"},{"$f":"PURCH1!M37","v":0},{"$f":"PURCH1!N37","v":0},{"$f":"PURCH2!M38","v":0},{"$f":"PURCH2!N38","v":0},{"$f":"PURCH3!N38","v":0},{"$f":"PURCH3!O38","v":0},{"$f":"PURCH4!N38","v":0},{"$f":"PURCH4!O38","v":0},{"$f":"PURCH5!N38","v":0},{"$f":"PURCH5!O38","v":0},0,0,{"$f":"REPORT1!F38","v":0},{"$f":"REPORT1!H38","v":0},{"$f":"REPORT2!F38","v":0},{"$f":"REPORT2!H38","v":0},{"$f":"REPORT3!F38","v":0},{"$f":"REPORT3!H38","v":0},{"$f":"REPORT4!F38","v":0},{"$f":"REPORT4!H38","v":0},{"$f":"REPORT5!F38","v":0},{"$f":"REPORT5!H38","v":0},0,0,0,0]
[34,{"$f":"'Sale Price'!C38","v":"Ladies finger"},{"$f":"'Sale Price'!D38","v":"Venda"},{"$f":"PURCH1!M38","v":0},{"$f":"PURCH1!N38","v":0},{"$f":"PURCH2!M39","v":0},{"$f":"PURCH2!N39","v":0},{"$f":"PURCH3!N39","v":0},{"$f":"PURCH3!O39","v":0},{"$f":"PURCH4!N39","v":0},{"$f":"PURCH4!O39","v":0},{"$f":"PURCH5!N39","v":0},{"$f":"PURCH5!O39","v":0},0,0,{"$f":"REPORT1!F39","v":0},{"$f":"REPORT1!H39","v":0},{"$f":"REPORT2!F39","v":0},{"$f":"REPORT2!H39","v":0},{"$f":"REPORT3!F39","v":0},{"$f":"REPORT3!H39","v":0},{"$f":"REPORT4!F39","v":0},{"$f":"REPORT4!H39","v":0},{"$f":"REPORT5!F39","v":0},{"$f":"REPORT5!H39","v":0},0,0,0,0]
[35,{"$f":"'Sale Price'!C39","v":"Drumstick"},{"$f":"'Sale Price'!D39","v":"Drumst"},{"$f":"PURCH1!M39","v":0},{"$f":"PURCH1!N39","v":0},{"$f":"PURCH2!M40","v":0},{"$f":"PURCH2!N40","v":0},{"$f":"PURCH3!N40","v":0},{"$f":"PURCH3!O40","v":0},{"$f":"PURCH4!N40","v":0},{"$f":"PURCH4!O40","v":0},{"$f":"PURCH5!N40","v":0},{"$f":"PURCH5!O40","v":0},0,0,{"$f":"REPORT1!F40","v":0},{"$f":"REPORT1!H40","v":0},{"$f":"REPORT2!F40","v":0},{"$f":"REPORT2!H40","v":0},{"$f":"REPORT3!F40","v":0},{"$f":"REPORT3!H40","v":0},{"$f":"REPORT4!F40","v":0},{"$f":"REPORT4!H40","v":0},{"$f":"REPORT5!F40","v":0},{"$f":"REPORT5!H40","v":0},0,0,0,0]
[36,{"$f":"'Sale Price'!C40","v":"Koval"},{"$f":"'Sale Price'!D40","v":"Koval"},{"$f":"PURCH1!M40","v":0},{"$f":"PURCH1!N40","v":0},{"$f":"PURCH2!M41","v":0},{"$f":"PURCH2!N41","v":0},{"$f":"PURCH3!N41","v":0},{"$f":"PURCH3!O41","v":0},{"$f":"PURCH4!N41","v":0},{"$f":"PURCH4!O41","v":0},{"$f":"PURCH5!N41","v":0},{"$f":"PURCH5!O41","v":0},0,0,{"$f":"REPORT1!F41","v":0},{"$f":"REPORT1!H41","v":0},{"$f":"REPORT2!F41","v":0},{"$f":"REPORT2!H41","v":0},{"$f":"REPORT3!F41","v":0},{"$f":"REPORT3!H41","v":0},{"$f":"REPORT4!F41","v":0},{"$f":"REPORT4!H41","v":0},{"$f":"REPORT5!F41","v":0},{"$f":"REPORT5!H41","v":0},0,0,0,0]
[37,{"$f":"'Sale Price'!C41","v":"CurryLeaf"},{"$f":"'Sale Price'!D41","v":"CryLef"},{"$f":"PURCH1!M41","v":0},{"$f":"PURCH1!N41","v":0},{"$f":"PURCH2!M42","v":0},{"$f":"PURCH2!N42","v":0},{"$f":"PURCH3!N42","v":0},{"$f":"PURCH3!O42","v":0},{"$f":"PURCH4!N42","v":0},{"$f":"PURCH4!O42","v":0},{"$f":"PURCH5!N42","v":0},{"$f":"PURCH5!O42","v":0},0,0,{"$f":"REPORT1!F42","v":0},{"$f":"REPORT1!H42","v":0},{"$f":"REPORT2!F42","v":0},{"$f":"REPORT2!H42","v":0},{"$f":"REPORT3!F42","v":0},{"$f":"REPORT3!H42","v":0},{"$f":"REPORT4!F42","v":0},{"$f":"REPORT4!H42","v":0},{"$f":"REPORT5!F42","v":0},{"$f":"REPORT5!H42","v":0},0,0,0,0]
[38,{"$f":"'Sale Price'!C42","v":"MintLeaf"},{"$f":"'Sale Price'!D42","v":"MntLf"},{"$f":"PURCH1!M42","v":0},{"$f":"PURCH1!N42","v":0},{"$f":"PURCH2!M43","v":0},{"$f":"PURCH2!N43","v":0},{"$f":"PURCH3!N43","v":0},{"$f":"PURCH3!O43","v":0},{"$f":"PURCH4!N43","v":0},{"$f":"PURCH4!O43","v":0},{"$f":"PURCH5!N43","v":0},{"$f":"PURCH5!O43","v":0},0,0,{"$f":"REPORT1!F43","v":0},{"$f":"REPORT1!H43","v":0},{"$f":"REPORT2!F43","v":0},{"$f":"REPORT2!H43","v":0},{"$f":"REPORT3!F43","v":0},{"$f":"REPORT3!H43","v":0},{"$f":"REPORT4!F43","v":0},{"$f":"REPORT4!H43","v":0},{"$f":"REPORT5!F43","v":0},{"$f":"REPORT5!H43","v":0},0,0,0,0]
[39,{"$f":"'Sale Price'!C43","v":"Coriander Leaf"},{"$f":"'Sale Price'!D43","v":"CorLf"},{"$f":"PURCH1!M43","v":0},{"$f":"PURCH1!N43","v":0},{"$f":"PURCH2!M44","v":0},{"$f":"PURCH2!N44","v":0},{"$f":"PURCH3!N44","v":0},{"$f":"PURCH3!O44","v":0},{"$f":"PURCH4!N44","v":0},{"$f":"PURCH4!O44","v":0},{"$f":"PURCH5!N44","v":0},{"$f":"PURCH5!O44","v":0},0,0,{"$f":"REPORT1!F44","v":0},{"$f":"REPORT1!H44","v":0},{"$f":"REPORT2!F44","v":0},{"$f":"REPORT2!H44","v":0},{"$f":"REPORT3!F44","v":0},{"$f":"REPORT3!H44","v":0},{"$f":"REPORT4!F44","v":0},{"$f":"REPORT4!H44","v":0},{"$f":"REPORT5!F44","v":0},{"$f":"REPORT5!H44","v":0},0,0,0,0]
[40,{"$f":"'Sale Price'!C44","v":"Amaranthus"},{"$f":"'Sale Price'!D44","v":"Cheera"},{"$f":"PURCH1!M44","v":0},{"$f":"PURCH1!N44","v":0},{"$f":"PURCH2!M45","v":0},{"$f":"PURCH2!N45","v":0},{"$f":"PURCH3!N45","v":0},{"$f":"PURCH3!O45","v":0},{"$f":"PURCH4!N45","v":0},{"$f":"PURCH4!O45","v":0},{"$f":"PURCH5!N45","v":0},{"$f":"PURCH5!O45","v":0},0,0,{"$f":"REPORT1!F45","v":0},{"$f":"REPORT1!H45","v":0},{"$f":"REPORT2!F45","v":0},{"$f":"REPORT2!H45","v":0},{"$f":"REPORT3!F45","v":0},{"$f":"REPORT3!H45","v":0},{"$f":"REPORT4!F45","v":0},{"$f":"REPORT4!H45","v":0},{"$f":"REPORT5!F45","v":0},{"$f":"REPORT5!H45","v":0},0,0,0,0]
[41,{"$f":"'Sale Price'!C45","v":"Lemon Big"},{"$f":"'Sale Price'!D45","v":"LemnB"},{"$f":"PURCH1!M45","v":0},{"$f":"PURCH1!N45","v":0},{"$f":"PURCH2!M46","v":0},{"$f":"PURCH2!N46","v":0},{"$f":"PURCH3!N46","v":0},{"$f":"PURCH3!O46","v":0},{"$f":"PURCH4!N46","v":0},{"$f":"PURCH4!O46","v":0},{"$f":"PURCH5!N46","v":0},{"$f":"PURCH5!O46","v":0},0,0,{"$f":"REPORT1!F46","v":0},{"$f":"REPORT1!H46","v":0},{"$f":"REPORT2!F46","v":0},{"$f":"REPORT2!H46","v":0},{"$f":"REPORT3!F46","v":0},{"$f":"REPORT3!H46","v":0},{"$f":"REPORT4!F46","v":0},{"$f":"REPORT4!H46","v":0},{"$f":"REPORT5!F46","v":0},{"$f":"REPORT5!H46","v":0},0,0,0,0]
[42,{"$f":"'Sale Price'!C46","v":"Lemon small"},{"$f":"'Sale Price'!D46","v":"LemnS"},{"$f":"PURCH1!M46","v":0},{"$f":"PURCH1!N46","v":0},{"$f":"PURCH2!M47","v":0},{"$f":"PURCH2!N47","v":0},{"$f":"PURCH3!N47","v":0},{"$f":"PURCH3!O47","v":0},{"$f":"PURCH4!N47","v":0},{"$f":"PURCH4!O47","v":0},{"$f":"PURCH5!N47","v":0},{"$f":"PURCH5!O47","v":0},0,0,{"$f":"REPORT1!F47","v":0},{"$f":"REPORT1!H47","v":0},{"$f":"REPORT2!F47","v":0},{"$f":"REPORT2!H47","v":0},{"$f":"REPORT3!F47","v":0},{"$f":"REPORT3!H47","v":0},{"$f":"REPORT4!F47","v":0},{"$f":"REPORT4!H47","v":0},{"$f":"REPORT5!F47","v":0},{"$f":"REPORT5!H47","v":0},0,0,0,0]
[43,{"$f":"'Sale Price'!C47","v":"Mango"},{"$f":"'Sale Price'!D47","v":"Mango"},{"$f":"PURCH1!M47","v":0},{"$f":"PURCH1!N47","v":0},{"$f":"PURCH2!M48","v":0},{"$f":"PURCH2!N48","v":0},{"$f":"PURCH3!N48","v":0},{"$f":"PURCH3!O48","v":0},{"$f":"PURCH4!N48","v":0},{"$f":"PURCH4!O48","v":0},{"$f":"PURCH5!N48","v":0},{"$f":"PURCH5!O48","v":0},0,0,{"$f":"REPORT1!F48","v":0},{"$f":"REPORT1!H48","v":0},{"$f":"REPORT2!F48","v":0},{"$f":"REPORT2!H48","v":0},{"$f":"REPORT3!F48","v":0},{"$f":"REPORT3!H48","v":0},{"$f":"REPORT4!F48","v":0},{"$f":"REPORT4!H48","v":0},{"$f":"REPORT5!F48","v":0},{"$f":"REPORT5!H48","v":0},0,0,0,0]
[44,{"$f":"'Sale Price'!C48","v":"Pineapple"},{"$f":"'Sale Price'!D48","v":"PineA"},{"$f":"PURCH1!M48","v":0},{"$f":"PURCH1!N48","v":0},{"$f":"PURCH2!M49","v":0},{"$f":"PURCH2!N49","v":0},{"$f":"PURCH3!N49","v":0},{"$f":"PURCH3!O49","v":0},{"$f":"PURCH4!N49","v":0},{"$f":"PURCH4!O49","v":0},{"$f":"PURCH5!N49","v":0},{"$f":"PURCH5!O49","v":0},0,0,{"$f":"REPORT1!F49","v":0},{"$f":"REPORT1!H49","v":0},{"$f":"REPORT2!F49","v":0},{"$f":"REPORT2!H49","v":0},{"$f":"REPORT3!F49","v":0},{"$f":"REPORT3!H49","v":0},{"$f":"REPORT4!F49","v":0},{"$f":"REPORT4!H49","v":0},{"$f":"REPORT5!F49","v":0},{"$f":"REPORT5!H49","v":0},0,0,0,0]
[45,{"$f":"'Sale Price'!C49","v":"Potato"},{"$f":"'Sale Price'!D49","v":"Potat"},{"$f":"PURCH1!M49","v":0},{"$f":"PURCH1!N49","v":0},{"$f":"PURCH2!M50","v":0},{"$f":"PURCH2!N50","v":0},{"$f":"PURCH3!N50","v":0},{"$f":"PURCH3!O50","v":0},{"$f":"PURCH4!N50","v":0},{"$f":"PURCH4!O50","v":0},{"$f":"PURCH5!N50","v":0},{"$f":"PURCH5!O50","v":0},0,0,{"$f":"REPORT1!F50","v":0},{"$f":"REPORT1!H50","v":0},{"$f":"REPORT2!F50","v":0},{"$f":"REPORT2!H50","v":0},{"$f":"REPORT3!F50","v":0},{"$f":"REPORT3!H50","v":0},{"$f":"REPORT4!F50","v":0},{"$f":"REPORT4!H50","v":0},{"$f":"REPORT5!F50","v":0},{"$f":"REPORT5!H50","v":0},0,0,0,0]
[46,{"$f":"'Sale Price'!C50","v":"Amla"},{"$f":"'Sale Price'!D50","v":"Amla"},{"$f":"PURCH1!M50","v":0},{"$f":"PURCH1!N50","v":0},{"$f":"PURCH2!M51","v":0},{"$f":"PURCH2!N51","v":0},{"$f":"PURCH3!N51","v":0},{"$f":"PURCH3!O51","v":0},{"$f":"PURCH4!N51","v":0},{"$f":"PURCH4!O51","v":0},{"$f":"PURCH5!N51","v":0},{"$f":"PURCH5!O51","v":0},0,0,{"$f":"REPORT1!F51","v":0},{"$f":"REPORT1!H51","v":0},{"$f":"REPORT2!F51","v":0},{"$f":"REPORT2!H51","v":0},{"$f":"REPORT3!F51","v":0},{"$f":"REPORT3!H51","v":0},{"$f":"REPORT4!F51","v":0},{"$f":"REPORT4!H51","v":0},{"$f":"REPORT5!F51","v":0},{"$f":"REPORT5!H51","v":0},0,0,0,0]
[47,{"$f":"'Sale Price'!C51","v":"Tapioca"},{"$f":"'Sale Price'!D51","v":"Tap"},{"$f":"PURCH1!M51","v":0},{"$f":"PURCH1!N51","v":0},{"$f":"PURCH2!M52","v":0},{"$f":"PURCH2!N52","v":0},{"$f":"PURCH3!N52","v":0},{"$f":"PURCH3!O52","v":0},{"$f":"PURCH4!N52","v":0},{"$f":"PURCH4!O52","v":0},{"$f":"PURCH5!N52","v":0},{"$f":"PURCH5!O52","v":0},0,0,{"$f":"REPORT1!F52","v":0},{"$f":"REPORT1!H52","v":0},{"$f":"REPORT2!F52","v":0},{"$f":"REPORT2!H52","v":0},{"$f":"REPORT3!F52","v":0},{"$f":"REPORT3!H52","v":0},{"$f":"REPORT4!F52","v":0},{"$f":"REPORT4!H52","v":0},{"$f":"REPORT5!F52","v":0},{"$f":"REPORT5!H52","v":0},0,0,0,0]
[48,{"$f":"'Sale Price'!C52","v":0},{"$f":"'Sale Price'!D52","v":0},{"$f":"PURCH1!M52","v":0},{"$f":"PURCH1!N52","v":0},{"$f":"PURCH2!M53","v":0},{"$f":"PURCH2!N53","v":0},{"$f":"PURCH3!N53","v":0},{"$f":"PURCH3!O53","v":0},{"$f":"PURCH4!N53","v":0},{"$f":"PURCH4!O53","v":0},{"$f":"PURCH5!N53","v":0},{"$f":"PURCH5!O53","v":0},0,0,{"$f":"REPORT1!F53","v":0},{"$f":"REPORT1!H53","v":0},{"$f":"REPORT2!F53","v":0},{"$f":"REPORT2!H53","v":0},{"$f":"REPORT3!F53","v":0},{"$f":"REPORT3!H53","v":0},{"$f":"REPORT4!F53","v":0},{"$f":"REPORT4!H53","v":0},{"$f":"REPORT5!F53","v":0},{"$f":"REPORT5!H53","v":0},0,0,0,0]
[49,{"$f":"'Sale Price'!C53","v":0},{"$f":"'Sale Price'!D53","v":0},{"$f":"PURCH1!M53","v":0},{"$f":"PURCH1!N53","v":0},{"$f":"PURCH2!M54","v":0},{"$f":"PURCH2!N54","v":0},{"$f":"PURCH3!N54","v":0},{"$f":"PURCH3!O54","v":0},{"$f":"PURCH4!N54","v":0},{"$f":"PURCH4!O54","v":0},{"$f":"PURCH5!N54","v":0},{"$f":"PURCH5!O54","v":0},0,0,{"$f":"REPORT1!F54","v":0},{"$f":"REPORT1!H54","v":0},{"$f":"REPORT2!F54","v":0},{"$f":"REPORT2!H54","v":0},{"$f":"REPORT3!F54","v":0},{"$f":"REPORT3!H54","v":0},{"$f":"REPORT4!F54","v":0},{"$f":"REPORT4!H54","v":0},{"$f":"REPORT5!F54","v":0},{"$f":"REPORT5!H54","v":0},0,0,0,0]
[50,{"$f":"'Sale Price'!C54","v":0},{"$f":"'Sale Price'!D54","v":0},{"$f":"PURCH1!M54","v":0},{"$f":"PURCH1!N54","v":0},{"$f":"PURCH2!M55","v":0},{"$f":"PURCH2!N55","v":0},{"$f":"PURCH3!N55","v":0},{"$f":"PURCH3!O55","v":0},{"$f":"PURCH4!N55","v":0},{"$f":"PURCH4!O55","v":0},{"$f":"PURCH5!N55","v":0},{"$f":"PURCH5!O55","v":0},0,0,{"$f":"REPORT1!F55","v":0},{"$f":"REPORT1!H55","v":0},{"$f":"REPORT2!F55","v":0},{"$f":"REPORT2!H55","v":0},{"$f":"REPORT3!F55","v":0},{"$f":"REPORT3!H55","v":0},{"$f":"REPORT4!F55","v":0},{"$f":"REPORT4!H55","v":0},{"$f":"REPORT5!F55","v":0},{"$f":"REPORT5!H55","v":0},0,0,0,0]
[51,{"$f":"'Sale Price'!C55","v":0},{"$f":"'Sale Price'!D55","v":0},{"$f":"PURCH1!M55","v":0},{"$f":"PURCH1!N55","v":0},{"$f":"PURCH2!M56","v":0},{"$f":"PURCH2!N56","v":0},{"$f":"PURCH3!N56","v":0},{"$f":"PURCH3!O56","v":0},{"$f":"PURCH4!N56","v":0},{"$f":"PURCH4!O56","v":0},{"$f":"PURCH5!N56","v":0},{"$f":"PURCH5!O56","v":0},0,0,{"$f":"REPORT1!F56","v":0},{"$f":"REPORT1!H56","v":0},{"$f":"REPORT2!F56","v":0},{"$f":"REPORT2!H56","v":0},{"$f":"REPORT3!F56","v":0},{"$f":"REPORT3!H56","v":0},{"$f":"REPORT4!F56","v":0},{"$f":"REPORT4!H56","v":0},{"$f":"REPORT5!F56","v":0},{"$f":"REPORT5!H56","v":0},0,0,0,0]
[52,{"$f":"'Sale Price'!C56","v":0},{"$f":"'Sale Price'!D56","v":0},{"$f":"PURCH1!M56","v":0},{"$f":"PURCH1!N56","v":0},{"$f":"PURCH2!M57","v":0},{"$f":"PURCH2!N57","v":0},{"$f":"PURCH3!N57","v":0},{"$f":"PURCH3!O57","v":0},{"$f":"PURCH4!N57","v":0},{"$f":"PURCH4!O57","v":0},{"$f":"PURCH5!N57","v":0},{"$f":"PURCH5!O57","v":0},0,0,{"$f":"REPORT1!F57","v":0},{"$f":"REPORT1!H57","v":0},{"$f":"REPORT2!F57","v":0},{"$f":"REPORT2!H57","v":0},{"$f":"REPORT3!F57","v":0},{"$f":"REPORT3!H57","v":0},{"$f":"REPORT4!F57","v":0},{"$f":"REPORT4!H57","v":0},{"$f":"REPORT5!F57","v":0},{"$f":"REPORT5!H57","v":0},0,0,0,0]
[53,{"$f":"'Sale Price'!C57","v":0},{"$f":"'Sale Price'!D57","v":0},{"$f":"PURCH1!M57","v":0},{"$f":"PURCH1!N57","v":0},{"$f":"PURCH2!M58","v":0},{"$f":"PURCH2!N58","v":0},{"$f":"PURCH3!N58","v":0},{"$f":"PURCH3!O58","v":0},{"$f":"PURCH4!N58","v":0},{"$f":"PURCH4!O58","v":0},{"$f":"PURCH5!N58","v":0},{"$f":"PURCH5!O58","v":0},0,0,{"$f":"REPORT1!F58","v":0},{"$f":"REPORT1!H58","v":0},{"$f":"REPORT2!F58","v":0},{"$f":"REPORT2!H58","v":0},{"$f":"REPORT3!F58","v":0},{"$f":"REPORT3!H58","v":0},{"$f":"REPORT4!F58","v":0},{"$f":"REPORT4!H58","v":0},{"$f":"REPORT5!F58","v":0},{"$f":"REPORT5!H58","v":0},0,0,0,0]
[54,{"$f":"'Sale Price'!C58","v":0},{"$f":"'Sale Price'!D58","v":0},{"$f":"PURCH1!M58","v":0},{"$f":"PURCH1!N58","v":0},{"$f":"PURCH2!M59","v":0},{"$f":"PURCH2!N59","v":0},{"$f":"PURCH3!N59","v":0},{"$f":"PURCH3!O59","v":0},{"$f":"PURCH4!N59","v":0},{"$f":"PURCH4!O59","v":0},{"$f":"PURCH5!N59","v":0},{"$f":"PURCH5!O59","v":0},0,0,{"$f":"REPORT1!F59","v":0},{"$f":"REPORT1!H59","v":0},{"$f":"REPORT2!F59","v":0},{"$f":"REPORT2!H59","v":0},{"$f":"REPORT3!F59","v":0},{"$f":"REPORT3!H59","v":0},{"$f":"REPORT4!F59","v":0},{"$f":"REPORT4!H59","v":0},{"$f":"REPORT5!F59","v":0},{"$f":"REPORT5!H59","v":0},0,0,0,0]
[55,{"$f":"'Sale Price'!C59","v":0},{"$f":"'Sale Price'!D59","v":0},{"$f":"PURCH1!M59","v":0},{"$f":"PURCH1!N59","v":0},{"$f":"PURCH2!M60","v":0},{"$f":"PURCH2!N60","v":0},{"$f":"PURCH3!N60","v":0},{"$f":"PURCH3!O60","v":0},{"$f":"PURCH4!N60","v":0},{"$f":"PURCH4!O60","v":0},{"$f":"PURCH5!N60","v":0},{"$f":"PURCH5!O60","v":0},0,0,{"$f":"REPORT1!F60","v":0},{"$f":"REPORT1!H60","v":0},{"$f":"REPORT2!F60","v":0},{"$f":"REPORT2!H60","v":0},{"$f":"REPORT3!F60","v":0},{"$f":"REPORT3!H60","v":0},{"$f":"REPORT4!F60","v":0},{"$f":"REPORT4!H60","v":0},{"$f":"REPORT5!F60","v":0},{"$f":"REPORT5!H60","v":0},0,0,0,0]
[56,{"$f":"'Sale Price'!C60","v":0},{"$f":"'Sale Price'!D60","v":0},{"$f":"PURCH1!M60","v":0},{"$f":"PURCH1!N60","v":0},{"$f":"PURCH2!M61","v":0},{"$f":"PURCH2!N61","v":0},{"$f":"PURCH3!N61","v":0},{"$f":"PURCH3!O61","v":0},{"$f":"PURCH4!N61","v":0},{"$f":"PURCH4!O61","v":0},{"$f":"PURCH5!N61","v":0},{"$f":"PURCH5!O61","v":0},0,0,{"$f":"REPORT1!F61","v":0},{"$f":"REPORT1!H61","v":0},{"$f":"REPORT2!F61","v":0},{"$f":"REPORT2!H61","v":0},{"$f":"REPORT3!F61","v":0},{"$f":"REPORT3!H61","v":0},{"$f":"REPORT4!F61","v":0},{"$f":"REPORT4!H61","v":0},{"$f":"REPORT5!F61","v":0},{"$f":"REPORT5!H61","v":0},0,0,0,0]
[57,{"$f":"'Sale Price'!C61","v":0},{"$f":"'Sale Price'!D61","v":0},{"$f":"PURCH1!M61","v":0},{"$f":"PURCH1!N61","v":0},{"$f":"PURCH2!M62","v":0},{"$f":"PURCH2!N62","v":0},{"$f":"PURCH3!N62","v":0},{"$f":"PURCH3!O62","v":0},{"$f":"PURCH4!N62","v":0},{"$f":"PURCH4!O62","v":0},{"$f":"PURCH5!N62","v":0},{"$f":"PURCH5!O62","v":0},0,0,{"$f":"REPORT1!F62","v":0},{"$f":"REPORT1!H62","v":0},{"$f":"REPORT2!F62","v":0},{"$f":"REPORT2!H62","v":0},{"$f":"REPORT3!F62","v":0},{"$f":"REPORT3!H62","v":0},{"$f":"REPORT4!F62","v":0},{"$f":"REPORT4!H62","v":0},{"$f":"REPORT5!F62","v":0},{"$f":"REPORT5!H62","v":0},0,0,0,0]
[58,{"$f":"'Sale Price'!C62","v":0},{"$f":"'Sale Price'!D62","v":0},{"$f":"PURCH1!M62","v":0},{"$f":"PURCH1!N62","v":0},{"$f":"PURCH2!M63","v":0},{"$f":"PURCH2!N63","v":0},{"$f":"PURCH3!N63","v":0},{"$f":"PURCH3!O63","v":0},{"$f":"PURCH4!N63","v":0},{"$f":"PURCH4!O63","v":0},{"$f":"PURCH5!N63","v":0},{"$f":"PURCH5!O63","v":0},0,0,{"$f":"REPORT1!F63","v":0},{"$f":"REPORT1!H63","v":0},{"$f":"REPORT2!F63","v":0},{"$f":"REPORT2!H63","v":0},{"$f":"REPORT3!F63","v":0},{"$f":"REPORT3!H63","v":0},{"$f":"REPORT4!F63","v":0},{"$f":"REPORT4!H63","v":0},{"$f":"REPORT5!F63","v":0},{"$f":"REPORT5!H63","v":0},0,0,0,0]
[59,{"$f":"'Sale Price'!C63","v":0},{"$f":"'Sale Price'!D63","v":0},{"$f":"PURCH1!M63","v":0},{"$f":"PURCH1!N63","v":0},{"$f":"PURCH2!M64","v":0},{"$f":"PURCH2!N64","v":0},{"$f":"PURCH3!N64","v":0},{"$f":"PURCH3!O64","v":0},{"$f":"PURCH4!N64","v":0},{"$f":"PURCH4!O64","v":0},{"$f":"PURCH5!N64","v":0},{"$f":"PURCH5!O64","v":0},0,0,{"$f":"REPORT1!F64","v":0},{"$f":"REPORT1!H64","v":0},{"$f":"REPORT2!F64","v":0},{"$f":"REPORT2!H64","v":0},{"$f":"REPORT3!F64","v":0},{"$f":"REPORT3!H64","v":0},{"$f":"REPORT4!F64","v":0},{"$f":"REPORT4!H64","v":0},{"$f":"REPORT5!F64","v":0},{"$f":"REPORT5!H64","v":0},0,0,0,0]
[60,{"$f":"'Sale Price'!C64","v":0},{"$f":"'Sale Price'!D64","v":0},{"$f":"PURCH1!M64","v":0},{"$f":"PURCH1!N64","v":0},{"$f":"PURCH2!M65","v":0},{"$f":"PURCH2!N65","v":0},{"$f":"PURCH3!N65","v":0},{"$f":"PURCH3!O65","v":0},{"$f":"PURCH4!N65","v":0},{"$f":"PURCH4!O65","v":0},{"$f":"PURCH5!N65","v":0},{"$f":"PURCH5!O65","v":0},0,0,{"$f":"REPORT1!F65","v":0},{"$f":"REPORT1!H65","v":0},{"$f":"REPORT2!F65","v":0},{"$f":"REPORT2!H65","v":0},{"$f":"REPORT3!F65","v":0},{"$f":"REPORT3!H65","v":0},{"$f":"REPORT4!F65","v":0},{"$f":"REPORT4!H65","v":0},{"$f":"REPORT5!F65","v":0},{"$f":"REPORT5!H65","v":0},0,0,0,0]
["Total",null,null,{"$f":"SUM(D7:D66)","v":0},{"$f":"SUM(E7:E66)","v":0},0,0,0,0,0,0,0,0,0,0,{"$f":"SUM(P7:P66)","v":0},{"$f":"SUM(Q7:Q66)","v":0},{"$f":"SUM(R7:R66)","v":0},{"$f":"SUM(S7:S66)","v":0},{"$f":"SUM(T7:T66)","v":0},{"$f":"SUM(U7:U66)","v":0},{"$f":"SUM(V7:V66)","v":0},{"$f":"SUM(W7:W66)","v":0},{"$f":"SUM(X7:X66)","v":0},{"$f":"SUM(Y7:Y66)","v":0},{"$f":"SUM(Z7:Z66)","v":0},{"$f":"SUM(AA7:AA66)","v":0},{"$f":"SUM(AB7:AB66)","v":0},{"$f":"SUM(AC7:AC66)","v":0}]

{"sheet":"HELP","index":20,"n_rows":84,"n_cols":5,"rows_kept":84,"cut":false,"hidden":false,"merged":[[0,0,0,10],[1,0,1,10],[2,0,2,10],[4,0,4,10],[66,1,66,4],[18,1,18,10],[16,1,16,10],[17,1,17,10],[19,1,19,10],[20,1,20,10],[21,1,21,10],[7,1,7,10],[8,1,8,10],[13,1,13,10],[9,1,9,10],[6,1,6,10],[83,1,83,10],[14,1,14,10],[15,1,15,10],[11,1,11,10],[12,1,12,10],[68,1,68,2]]}
["DEPARTMENT OF AGRICULTURE DEVELOPMENT AND FARMERS' WELFARE"]
["ONAM VEGETABLE MARKET"]
[]
[]
["USER MANUAL"]
[]
[null,"DO NOT ADD/DELETE ANY ROW,COLUMN OR CELLS.  IF NEED EDITING, GIVE THE NEW VALUE OR ZERO."]
[null,"DONOT TRY TO CHANGE/MODIFY CELL CONTENTS IN LOCKED AREAS IN ANY SHEETS."]
[null,"IN SUCH CASES THE SYSTEM MAY SHOW ERRORS OR MISBEHAVE. "]
[null,"YOU CAN COPY THE APPLICATION AND USE FOR SEPARATE BILLING LIKE ORGANIC, GAP ETC."]
[]
[null,"ENSURE MS EXCEL VERSION 2007 OR ABOVE."]
[null,"DOWNLOAD APPLICATION AND SAVE IN A FOLDER."]
[null,"YOU MAY DUPLICATE THE APPLICATION AND SAVE IN ALTERNATE LOCATIONS IF REQUIRED \nFOR FUTURE USE OR BACKUP."]
[null,"OPEN THE APPLICATION"]
[null,"ENABLE MACROS"]
[null,"ENABLE EDITING IF ASKED"]
[null,"YOU WILL BE DIRECTED TO THE HOME PAGE"]
[null,"USE BUTTONS FOR NAVIGATION"]
[null,"ALL QUANTITIES ARE IN Kg.  LEAST MEASUREMENT IS 0.01 Kg.     ALL AMOUNTS IN Rs.  "]
[null,"FOR SALES YOU CAN GIVE ACTUAL BILL NUMBER. THE FIELD IS NOT PROTECTED"]
[null,"MAXIMUM NUMBER OF BILLS PER DAY/SHEET IS 600"]
[]
[null,"DAY1"]
[]
[1,"REGISTER YOUR MARKET WITH DETAILS"]
[null,"SAVE","GOTO HOME"]
[]
[2,"UPDATE SALE PRICE FOR THE DAY AS FIXED BY AUTHORITIES"]
[null,"(The sheet is normally protected)"]
[null,"EDIT","GIVE PASSWORD",null,"(will be informed later)"]
[null,"UPDATE SALE PRICE FOR THE DAY"]
[null,"YOU CAN ADD ADDITIONAL ITEMS AND SHORT CODE AS REQUIRED ONLY IN \"SALE PRICE\" SHEET  FROM  48 -"]
[null,"TO 60. THIS VALUE IS AUTOMATICALLY POPULATED IN OTHER SHEETS."]
[null,"SAVE"]
[null,"GO TO HOME"]
[]
[3,"DAY 1 UPDATE PURCHASE"]
[null,"GIVE QUANTITY AND RATE OF PURCHASE"]
[null,"FOR ANOTHER PURCHASE FOR THE SAME DAY USE THE NEXT COLUMNS"]
[null,"SAVE"]
[null,"GO TO HOME"]
[]
[4,"DAY 1 BILLING"]
[null,"GOTO SALES IN DAY1"]
[null,"ENTER BILL NO"]
[null,"ENTER SALES QUANTITY IN KG"]
[null,"GET THE TOTAL BILL AMOUNT FOR EACH BILL AT THE RIGHT END"]
[null,"GET THE CUMULATIVE BILL AMOUNT ON RIGHT TOP SIDE"]
[null,"SAVE"]
[null,"GOTO HOME"]
[]
[5,"DAY 1 REPORT"]
[null,"GOTO REPORT"]
[null,"SEE REPORT WITH PURCHASE AND SALES FOR THE DAY"]
[null,"TOTAL QUANTITY & AMOUNT SPENT FOR PURCHASE "]
[null,"TOTAL QUANTITY SOLD & AMOUNT RECEIVED THROUGH SALE"]
[null,"SEE THAT THE REPORTS TALLY WITH YOUR ENTRIES"]
[null,"CAN PREVIEW",null,"PRESS \"Esc\" Key TO COME BACK"]
[null,"CAN PRINT WITH PRINT DIALOGUE"]
[null,"GO TO HOME"]
[]
[6,"SAVE AND QUIT APPLICATION FOR THE DAY"]
[]
[7,"DAY 2"]
[]
[null,"REPEAT STEPS 2 TO 6 FOR DAY2"]
[]
[8,"DAY 3 TO 5"]
[null,"REPEAT STEPS 2 TO 6 FOR DAY3"]
[null,"REPEAT STEPS 2 TO 6 FOR DAY4"]
[null,"REPEAT STEPS 2 TO 6 FOR DAY5"]
[]
[9,"GOTO CONSOLIDATED REPORT"]
[null,"CAN PREVIEW",null,"PRESS \"Esc\" Key TO COME BACK"]
[null,"CAN PRINT WITH DIALOGUE"]
[null,"USE EXPORT TO COPY THE SHEET TO A NEW WORKBOOK FOR EDITING ONLY IF NEEDED"]
[null,"SAVE THE NEW WORKBOOK WHEN ASKED AND SAVE TO A NEW LOCATION ON CLOSING."]
[null,"GOTO HOME"]
[]
[10,"SAVE AND QUIT APPLICATION"]
[]
[]
[null,"FOR ASSISTANCE CONTACT IT DIVISION: 0471-2303990, 2309122"]